{"text_format":"1","workbook":"xlsx","n_sheets":22,"sheets":["Base","BaseTalentoHumano","BaseNorma","Menu","Infraestructura","Equipamiento","Norma","TalentoHumano","Reportes","Reportes1","EQ_01","EQ_02","EQ_03","EQ_04","EQ_05","EQ_07","EQ_08","EQ_09","EQ_10","EQ_13","EG-01","IG-01"],"not_rendered":{"charts":0,"images":30,"macros":1,"external_links":0,"defined_names":9,"comments":4,"pivot_tables":0},"unopened":[],"bounds":{"document_bytes":16777216,"sheet_cells":100000,"rows_first":2000,"rows_last":500,"rows_between":2000,"halvings":0,"cell_chars":16384,"cell_head_chars":4096},"cells_cut":0,"cells_raw":0,"read":"whole","date_system":"1900"}

{"sheet":"Base","index":0,"n_rows":372,"n_cols":17,"rows_kept":372,"cut":false,"hidden":true,"merged":[[344,10,348,10],[349,0,352,11],[353,0,371,0],[353,1,354,2],[353,3,353,4],[354,3,354,4],[355,1,359,2],[355,3,355,4],[356,3,356,4],[357,3,357,4],[360,1,361,2],[362,1,363,2],[364,1,366,2],[367,1,367,2],[368,1,369,2],[370,1,371,2],[358,3,358,4],[359,3,359,4],[360,3,360,4],[361,3,361,4],[362,3,362,4],[363,3,363,4],[364,3,364,4],[365,3,365,4],[322,8,325,8],[322,9,325,9],[322,10,325,10],[326,4,329,4],[326,5,329,5],[326,6,329,6],[326,7,329,7],[326,8,338,8],[326,9,338,9],[326,10,329,10],[330,4,338,4],[330,5,338,5],[330,6,338,6],[330,7,338,7],[287,10,293,10],[313,8,317,8],[313,9,317,9],[313,10,317,10],[303,8,308,8],[303,9,308,9],[303,10,308,10],[309,4,312,4],[309,5,312,5],[309,6,312,6],[309,7,312,7],[309,8,312,8],[309,9,312,9],[309,10,312,10],[294,8,300,8],[294,9,300,9],[294,10,300,10],[287,4,293,4],[287,5,293,5],[287,6,293,6],[287,7,293,7],[287,8,293,8],[287,9,293,9],[275,3,276,3],[277,10,283,10],[284,4,286,4],[284,5,286,5],[284,6,286,6],[284,7,286,7],[284,8,286,8],[284,9,286,9],[284,10,286,10],[277,8,283,8],[277,9,283,9],[242,3,243,3],[244,0,276,0],[244,1,276,1],[244,2,258,2],[244,3,258,3],[244,4,249,4],[244,5,249,5],[244,6,249,6],[244,7,249,7],[250,4,258,4],[250,5,258,5],[250,6,258,6],[250,7,258,7],[259,2,276,2],[259,3,274,3],[261,4,264,4],[261,5,264,5],[261,6,264,6],[261,7,264,7],[265,4,269,4],[265,5,269,5],[265,6,269,6],[265,7,269,7],[271,4,274,4],[191,3,241,3],[191,4,202,4],[191,5,202,5],[191,6,202,6],[191,7,202,7],[191,8,202,8],[191,9,202,9],[191,10,202,10],[203,4,208,4],[203,5,208,5],[203,6,208,6],[203,7,208,7],[203,8,208,8],[203,9,208,9],[203,10,208,10],[209,4,232,4],[209,5,232,5],[209,6,232,6],[209,7,232,7],[209,8,232,8],[209,9,232,9],[209,10,232,10],[233,4,241,4],[233,5,241,5],[171,2,190,2],[171,3,188,3],[171,4,181,4],[171,5,181,5],[171,6,181,6],[171,7,181,7],[171,8,181,8],[171,9,181,9],[171,10,181,10],[182,4,188,4],[182,5,188,5],[182,6,188,6],[182,7,188,7],[182,8,188,8],[182,9,188,9],[182,10,188,10],[189,3,190,3],[147,3,148,3],[149,2,170,2],[149,3,168,3],[149,4,155,4],[149,5,155,5],[149,6,155,6],[149,7,155,7],[149,8,155,8],[149,9,168,9],[169,3,170,3],[156,4,159,4],[156,5,159,5],[156,6,159,6],[156,7,159,7],[156,8,159,8],[160,4,168,4],[160,5,168,5],[160,6,168,6],[160,7,168,7],[160,8,168,8],[131,5,134,5],[131,6,134,6],[131,7,134,7],[131,8,134,8],[131,9,134,9],[131,10,134,10],[135,4,146,4],[135,5,146,5],[135,6,146,6],[135,7,146,7],[135,8,146,8],[135,9,146,9],[135,10,146,10],[110,16,112,16],[114,4,117,4],[114,5,117,5],[114,6,117,6],[114,7,117,7],[114,8,117,8],[114,9,117,9],[114,10,117,10],[118,4,125,4],[118,5,125,5],[118,6,125,6],[118,7,125,7],[118,8,125,8],[118,9,125,9],[118,10,125,10],[106,8,113,8],[106,9,113,9],[106,10,113,10],[91,8,94,8],[91,9,94,9],[91,10,94,10],[95,4,99,4],[95,5,99,5],[95,6,99,6],[95,7,99,7],[95,8,105,8],[95,9,105,9],[95,10,99,10],[100,4,105,4],[100,5,105,5],[100,6,105,6],[100,7,105,7],[100,10,105,10],[89,3,90,3],[91,0,170,0],[91,1,170,1],[91,2,125,2],[91,3,125,3],[91,4,94,4],[91,5,94,5],[91,6,94,6],[91,7,94,7],[106,4,113,4],[106,5,113,5],[106,6,113,6],[106,7,113,7],[126,2,148,2],[126,3,146,3],[126,4,127,4],[126,5,127,5],[126,6,127,6],[126,7,127,7],[128,4,130,4],[128,5,130,5],[128,6,130,6],[128,7,130,7],[131,4,134,4],[63,7,71,7],[63,8,71,8],[63,9,71,9],[63,10,71,10],[72,4,88,4],[72,5,88,5],[72,6,88,6],[72,7,88,7],[72,8,88,8],[72,9,88,9],[72,10,88,10],[19,2,90,2],[19,3,88,3],[19,4,23,4],[19,5,23,5],[19,6,23,6],[19,7,23,7],[19,8,23,8],[19,9,23,9],[19,10,23,10],[24,4,32,4],[24,5,32,5],[24,6,32,6],[24,7,32,7],[24,8,32,8],[24,9,32,9],[24,10,32,10],[33,4,35,4],[33,5,35,5],[33,6,35,6],[33,7,35,7],[33,8,35,8],[33,9,41,9],[33,10,35,10],[36,4,41,4],[0,0,0,16],[2,0,18,0],[2,1,18,1],[2,2,18,2],[2,3,16,3],[2,4,8,4],[2,5,8,5],[2,6,8,6],[2,7,8,7],[2,8,8,8],[2,9,8,9],[2,10,8,10],[9,4,16,4],[9,5,16,5],[9,6,16,6],[9,7,16,7],[9,8,16,8],[9,9,16,9],[9,10,16,10],[17,3,18,3],[366,3,366,4],[367,3,367,4],[368,3,368,4],[369,3,369,4],[370,3,370,4],[371,3,371,4],[344,2,348,2],[330,10,338,10],[339,2,343,2],[339,3,341,3],[342,3,343,3],[344,3,348,3],[344,4,348,4],[344,5,348,5],[344,6,348,6],[344,7,348,7],[344,8,348,8],[344,9,348,9],[321,2,338,2],[321,3,338,3],[322,4,325,4],[322,5,325,5],[322,6,325,6],[322,7,325,7],[303,0,348,0],[303,1,348,1],[303,2,320,2],[303,3,318,3],[313,4,317,4],[313,5,317,5],[313,6,317,6],[313,7,317,7],[294,4,300,4],[294,5,300,5],[294,6,300,6],[294,7,300,7],[303,4,308,4],[303,5,308,5],[303,6,308,6],[303,7,308,7],[319,3,320,3],[277,1,302,1],[277,2,302,2],[277,3,300,3],[277,4,283,4],[277,5,283,5],[277,6,283,6],[277,7,283,7],[250,10,258,10],[259,9,274,9],[261,8,264,8],[261,10,264,10],[265,8,269,8],[265,10,269,10],[271,5,274,5],[271,6,274,6],[271,7,274,7],[244,9,258,9],[250,8,258,8],[271,8,274,8],[271,10,274,10],[233,6,241,6],[233,7,241,7],[233,8,241,8],[233,9,241,9],[233,10,241,10],[244,10,249,10],[126,8,127,8],[126,9,127,9],[126,10,127,10],[128,8,130,8],[128,9,130,9],[128,10,130,10],[149,10,155,10],[156,10,159,10],[160,10,168,10],[244,8,249,8],[36,5,41,5],[36,6,41,6],[36,7,41,7],[36,8,41,8],[36,10,41,10],[277,0,302,0],[301,3,302,3],[191,0,243,0],[191,1,243,1],[191,2,243,2],[19,0,90,0],[19,1,90,1],[171,0,190,0],[171,1,190,1],[42,4,62,4],[42,5,62,5],[42,6,62,6],[42,7,62,7],[42,8,62,8],[42,9,62,9],[42,10,62,10],[63,4,71,4],[63,5,71,5],[63,6,71,6]]}
["CENTRO ESPECIALIZADO EN TRATAMIENTO A PERSONAS CON CONSUMO PROBLEMÁTICO DE ALCOHOL Y OTRAS DROGAS "]
["TIPO","SERVICIO "," ","GRUPO 03","AMBIENTE","TIPO INFRAESTRUCTURA","Cantidad","ANEXO","Observaciones","M²","TIPO","EQUIPAMIENTO","Cantidad * Esp","TIPO EQUIP","ANEXO","TIPO","Observaciones"]
["ADMINISTRATIVO","ADMISIÓN Y ESTADÍSTICA","Área  Técnica","AMBIENTES","Admisión, Información y Recepción","AMBIENTE",1,null,"Calcular según el número de puestos de atención (2,7 m2) y el número de personas a atender ","-","Requerido","Mostrador / escritorio/Mesa de despacho ",1,"MG","EQ_01"]
[null,null,null,null,null,null,null,null,null,null,null,"Silla ",1,"MG"]
[null,null,null,null,null,null,null,null,null,null,null,"Basurero ",1,"MG",null,null,"Recipiente para desechos comunes"]
[null,null,null,null,null,null,null,null,null,null,null,"Tablero de Avisos",1,"MG",null,null,"Puede ser remplazado cuando hay acceso directo al sistema audiovisual de la sala de espera"]
[null,null,null,null,null,null,null,null,null,null,null,"Armario/Archivador",1,"MG",null,null,"Puede estar incorporado en el Mostrador/escritorio o Mesa de despacho lo que se requiere es que tengan donde almacenar documentos temporalmente"]
[null,null,null,null,null,null,null,null,null,null,null,"Teléfono",1,"EG"]
[null,null,null,null,null,null,null,null,null,null,null,"Computador completo (Portátil o de Escritorio)",1,"EG","EQ_02"]
[null,null,null,null,"Archivo ","AMBIENTE",1,null,"Para construcciones nuevas calcular según la demanda (cantidad y tipo de elementos a archivar)","-","Requerido","Estantería ",1,"MG"]
[null,null,null,null,null,null,null,null,null,null,null,"Armario/Archivador",1,"MG"]
[null,null,null,null,null,null,null,null,null,null,null,"Escalera pata de gallo / Gradilla",1,"MG",null,"Condición","Si es que tiene estanterías altas que no sean accesibles al operador/funcionario/usuario"]
[null,null,null,null,null,null,null,null,null,null,null,"Escritorio/ Mesa de despacho  ",1,"MG","EQ_01","Condición","Se activará cuando el  servicio posea otra zona administrativa responsable del manejo exclusivo del archivo"]
[null,null,null,null,null,null,null,null,null,null,null,"Computador completo (Portátil o de Escritorio)",1,"EG","EQ_02","Condición"]
[null,null,null,null,null,null,null,null,null,null,null,"Silla ",1,"MG",null,"Condición"]
[null,null,null,null,null,null,null,null,null,null,null,"Basurero ",1,"MG",null,null,"Recipiente para desechos comunes"]
[null,null,null,null,null,null,null,null,null,null,null,"Extintor de incendios  portátil  ",1,"EG",null,null,"Se verificará según la normativa y que este accesible para este ambiente aunque este compartido con otro "]
[null,null,null,"INSTALACIONES","Estructura General","INSTALACION",1,"EG-01",null,"-","Requerido"]
[null,null,null,null,"Instalaciones Generales","INSTALACION",1,"IG-01",null,"-","Requerido"]
["ASISTENCIAL","CONSULTA EXTERNA","Área de Atención de Consulta","AMBIENTES","Sala de espera","AMBIENTE",1,null,"Espera de usuarios/as y familiares. Junto a la admisión.","Para construcciones nuevas es deseable 1 m2 por cama de la unidad","Requerido","Banca/Sillas ",1,"MG",null,null,"Mínimo contar con 3 puestos para la sala de espera (bancas en tándem o sillas o sillones)"]
[null,null,null,null,null,null,null,null,null,null,null,"Basurero ",1,"MG",null,null,"Recipiente para desechos comunes"]
[null,null,null,null,null,null,null,null,null,null,null,"Reloj de pared",1,"EG",null,"Deseable"]
[null,null,null,null,null,null,null,null,null,null,null,"Extintor de incendios  portátil  ",1,"EG",null,null,"El mismo que cubrirá toda el servicio de consulta externa/Se verificará según normativa"]
[null,null,null,null,null,null,null,null,null,null,null,"Sistema Audiovisual de información",1,"MG","EQ_03"]
[null,null,null,null,"Baños/Baterías Sanitarias para personas con discapacidad-puede ser un ambiente exclusivo o puede estar incorporado al ambiente general de baños/baterías  sanitarias","AMBIENTE",1,null,null,"Para construcciones nuevas es obligatorio y las existentes deberán adecuar este ambiente funcional para el próximo licenciamiento.  Las construcciones nuevas deben cumplir con la normativa específica para personas con discapacidad","Deseable","Inodoro",1,"MG",null,"Deseable"]
[null,null,null,null,null,null,null,null,null,null,null,"Barras de apoyo",1,"MG",null,"Deseable"]
[null,null,null,null,null,null,null,null,null,null,null,"Dispensador de papel higiénico",1,"MG",null,"Deseable"]
[null,null,null,null,null,null,null,null,null,null,null,"Lavabo",1,"MG",null,"Deseable"]
[null,null,null,null,null,null,null,null,null,null,null,"Dispensador  de jabón",1,"MG",null,"Deseable"]
[null,null,null,null,null,null,null,null,null,null,null,"Dispensador de papel toalla ",1,"MG",null,"Deseable","Se justificará si tiene secador de manos"]
[null,null,null,null,null,null,null,null,null,null,null,"Basurero ",2,"MG",null,"Deseable","Recipientes para desechos peligrosos y comunes. Se justificá el recipiente de desechos comunes si dispone de secador de manos"]
[null,null,null,null,null,null,null,null,null,null,null,"Espejo empotrado",1,"MG",null,"Deseable","Fijo a la pared para evitar roturas que puedan generar riesgo de accidentes"]
[null,null,null,null,null,null,null,null,null,null,null,"Gancho doble",1,"MG",null,"Deseable"]
[null,null,null,null,"Baños/Baterías Sanitarias por puestos","AMBIENTE",1,null,null,"Para construcciones nuevas y existentes diferenciado para hombres y mujeres","Requerido","Inodoro",1,"MG"]
[null,null,null,null,null,null,null,null,null,null,null,"Gancho doble",1,"MG"]
[null,null,null,null,null,null,null,null,null,null,null,"Basurero ",1,"MG",null,null,"Recipiente para desechos peligrosos"]
[null,null,null,null,"Baños/Baterías Sanitarias(compartido)","AMBIENTE",1,null,null,null,"Requerido","Lavabo",1,"MG"]
[null,null,null,null,null,null,null,null,null,null,null,"Dispensador  de jabón",1,"MG"]
[null,null,null,null,null,null,null,null,null,null,null,"Dispensador de papel toalla ",1,"MG",null,null,"Se justificará si tiene secador de manos"]
[null,null,null,null,null,null,null,null,null,null,null,"Dispensador de papel higiénico",1,"MG"]
[null,null,null,null,null,null,null,null,null,null,null,"Espejo empotrado",1,"MG",null,"Deseable","Fijo a la pared para evitar roturas que puedan generar riesgo de accidentes"]
[null,null,null,null,null,null,null,null,null,null,null,"Basurero ",1,"MG",null,null,"Recipiente para desechos comunes. Se justificará el recipiente si dispone de secador de manos"]
[null,null,null,null,"Consultorio polivalente (Psiquiatría/Medicina Interna/Familiar y Comunitaria/General)","AMBIENTE",1,null,"Para exploración y atención de usuarios/as. Será requerida una de las sigiuentes prestaciones: Medicina general o especialista en: Psiquiatría o Medicina Interna o Familiar y Comunitaria, además con conocimientos en drogodependencia.","Para construcciones nuevas deseable 16 m2","Requerido","Escritorio/ Mesa de despacho  ",1,"MG","EQ_01"]
[null,null,null,null,null,null,null,null,null,null,null,"Computador completo (Portátil o de Escritorio)",1,"EG","EQ_02","Deseable"]
[null,null,null,null,null,null,null,null,null,null,null,"Silla ",1,"MG"]
[null,null,null,null,null,null,null,null,null,null,null,"Silla confidente",2,"MG"]
[null,null,null,null,null,null,null,null,null,null,null,"Armario/Vitrina ",1,"MG",null,null,"Puede estar incorporado en el Mostrador/escritorio o Mesa de despacho lo que se requiere es que tengan donde almacenar documentos temporalmente"]
[null,null,null,null,null,null,null,null,null,null,null,"Perchero de pie /Gancho doble",1,"MG",null,"Deseable"]
[null,null,null,null,null,null,null,null,null,null,null,"Camilla de exploración ",1,"MM"]
[null,null,null,null,null,null,null,null,null,null,null,"Escabel",1,"MG",null,"Condición","Será requerido en el caso de que la camila de exploración no sea de altura regulable"]
[null,null,null,null,null,null,null,null,null,null,null,"Lámpara examen rodable",1,"EM"]
[null,null,null,null,null,null,null,null,null,null,null,"Tensiómetro para Adultos",1,"EM"]
[null,null,null,null,null,null,null,null,null,null,null,"Estetoscopio  para Adultos ",1,"EM"]
[null,null,null,null,null,null,null,null,null,null,null,"Tensiómetro pediátrico ",1,"EM",null,"Condición","Será requerido en el caso de ofertar prestación pediátrica/Se justifica cuando el tensiómetro para adultos cuenta con brazaletes para tallas pediátricas"]
[null,null,null,null,null,null,null,null,null,null,null,"Estetoscopio  pediátrico",1,"EM",null,"Condición","Será requerido en el caso de ofertar prestación pediátrica"]
[null,null,null,null,null,null,null,null,null,null,null,"Báscula + Tallímetro ",1,"EM",null,"Condición","Será requerido si no cuenta con Enfermería"]
[null,null,null,null,null,null,null,null,null,null,null,"Set de Diagnóstico ",1,"EM","EQ_10"]
[null,null,null,null,null,null,null,null,null,null,null,"Coche de curaciones ",1,"MM","EQ_08","Condición"]
[null,null,null,null,null,null,null,null,null,null,null,"Dispensador para solución hidroalcohólica",1,"EG"]
[null,null,null,null,null,null,null,null,null,null,null,"Lavabo",1,"MG",null,null,"En el caso de que no este en el ambiente, se justificará la disponibilidad funcional(accesibilidad directa para cumplir con la bioseguridad activa-lavado de manos-)"]
[null,null,null,null,null,null,null,null,null,null,null,"Dispensador  de jabón",1,"MG"]
[null,null,null,null,null,null,null,null,null,null,null,"Dispensador de papel toalla ",1,"MG"]
[null,null,null,null,null,null,null,null,null,null,null,"Set de recipientes para el manejo de desechos peligrosos y no peligrosos. ",1,"MG","EQ_07"]
[null,null,null,null,"Consultorio de psicología","AMBIENTE",1,null,"Terapia para el paciente en seguimiento, familia.","Para construcciones nuevas, mínimo deseable 12 m2","Requerido","Escritorio/Mesa de despacho ",1,"MG","EQ_01"]
[null,null,null,null,null,null,null,null,null,null,null,"Computador completo (Portátil o de Escritorio)",1,"EG","EQ_02"]
[null,null,null,null,null,null,null,null,null,null,null,"Armario/vitrina/Archivador",1,"MG"]
[null,null,null,null,null,null,null,null,null,null,null,"Dispensador para solución hidroalcohólica",1,"MG"]
[null,null,null,null,null,null,null,null,null,null,null,"Basurero ",1,"MG",null,null,"Recipiente para desechos comunes"]
[null,null,null,null,null,null,null,null,null,null,null,"Perchero de pie/Gancho doble",1,"MG",null,"Deseable"]
[null,null,null,null,null,null,null,null,null,null,null,"Espejo empotrado ",1,"MG",null,"condición"]
[null,null,null,null,null,null,null,null,null,null,null,"Silla confidente",2,"MG",null,null,"Puede contar con sofás o sillones, como mínimos 2 puestos"]
[null,null,null,null,null,null,null,null,null,null,null,"Silla",1,"MG"]
[null,null,null,null,"Enfermería","AMBIENTE",1,null,"Realización de mediciones clínicas o somatométricas previas al ingreso en los consultorios polivalentes y para proceder en el caso de curaciones.","Para construcciones nuevas deseable 12 m2","Requerido","Escritorio/Mesa de despacho ",1,"MG","EQ_01"]
[null,null,null,null,null,null,null,null,null,null,null,"Computador completo (Portátil o de Escritorio)",1,"EG","EQ_02"]
[null,null,null,null,null,null,null,null,null,null,null,"Armario /vitrina",1,"MG"]
[null,null,null,null,null,null,null,null,null,null,null,"Báscula + tallímetro",1,"EM"]
[null,null,null,null,null,null,null,null,null,null,null,"Mesa Auxiliar ",1,"EM",null,null,"Donde se ubican porta termómetros y termómetros"]
[null,null,null,null,null,null,null,null,null,null,null,"Dispensador de papel toalla ",1,"EG"]
[null,null,null,null,null,null,null,null,null,null,null,"Dispensador de jabón",1,"EG"]
[null,null,null,null,null,null,null,null,null,null,null,"Lavabo",1,"MG"]
[null,null,null,null,null,null,null,null,null,null,null,"Tensiómetro para adultos",1,"EM"]
[null,null,null,null,null,null,null,null,null,null,null,"Estetoscopio para adultos",1,"EM"]
[null,null,null,null,null,null,null,null,null,null,null,"Tensiómetro pediátrico ",1,"EM",null,"Condición","Será requerido en el caso de ofertar prestación pediátrica/Se justifica cuando el tensiómetro para adultos cuenta con brazaletes para tallas pediátricas"]
[null,null,null,null,null,null,null,null,null,null,null,"Estetoscopio  pediátrico",1,"EM",null,"Condición","Será requerido en el caso de ofertar prestación pediátrica"]
[null,null,null,null,null,null,null,null,null,null,null,"Termómetro",1,"EM",null,null,"Deseable que sea digital"]
[null,null,null,null,null,null,null,null,null,null,null,"Set de recipientes para el manejo de desechos peligrosos y no peligrosos. ",1,"MG","EQ_07"]
[null,null,null,null,null,null,null,null,null,null,null,"Perchero de pie/Gancho doble",1,"MG",null,"Deseable"]
[null,null,null,null,null,null,null,null,null,null,null,"Silla confidente",2,"MG"]
[null,null,null,null,null,null,null,null,null,null,null,"Silla",1,"MG"]
[null,null,null,"INSTALACIONES","Estructura General","INSTALACION",1,"EG-01"," ","-","Requerido",null,1]
[null,null,null,null,"Instalaciones Generales","INSTALACION",1,"IG-01"," ","-","Requerido",null,1]
["ASISTENCIAL","INTERNACIÓN/RESIDENCIA\nEl establecimiento contará con infraestructura, y equipamiento adecuado diferenciado para el tratamiento de adultos, adultas, niños y adolescentes hombres, niñas y adolescentes mujeres. Las instalaciones pueden estar ubicadas en un mismo inmueble, sin embargo cada grupo etario (adultos, adultas), (niños y adolescentes hombres), (niñas y adolescentes mujeres) debe tener independencia y privacidad entre ellos, así como medidas de seguridad estrictas que garanticen la integridad de los pacientes con consumo problemático de alcohol y otras drogas","Área de Internación/Residencia","AMBIENTES \n","Habitación individual/múltiple","AMBIENTE",1,null," Para el licenciamiento máximo hasta 5 camas con un baño completo (lavamanos, inodoro y ducha). Se puede concentrar los baños en una batería sanitaria calculando la cantidad de piezas sanitarias según lo indicado.","Por cada cama mínimo 5 m2, incluye mesita/velador  de 60 cm de ancho por 40 cm de profundidad","Requerido","Cama Básica y colchón",1,"MG","EQ_04"]
[null,null,null,null,null,null,null,null,null,null,null,"Basurero ",1,"MG",null,null,"Puede estar centralizado. Recipiente para desechos comunes"]
[null,null,null,null,null,null,null,null,null,null,null,"Velador",1,"MG"]
[null,null,null,null,null,null,null,null,null,null,null,"Armario",1,"MG",null,null,"Puede compartir "]
[null,null,null,null,"Baño de la habitación por puestos","AMBIENTE",1,null,"Número de piezas sanitarias mínimo: Un inodoro, 1 lavamanos y 1 ducha.","\nSe debe calcular según cantidad de usuarios. Mínimo 3m2. ","Requerido","Inodoro",1,"MG"]
[null,null,null,null,null,null,null,null,null,null,null,"Barras de apoyo",1,"MG",null,"Deseable","Lo importante es que se debe adaptar un baño para personas con Discapacidad"]
[null,null,null,null,null,null,null,null,null,null,null,"Dispensador de papel higiénico",1,"EG"]
[null,null,null,null,null,null,null,null,null,null,null,"Basurero ",1,"MG",null,null,"Recipiente para desechos infecciosos"]
[null,null,null,null,null,null,null,null,null,null,null,"Gancho doble",1,"MG"]
[null,null,null,null,"Baño de la habitación (compartido)","AMBIENTE",1,null,null,null,"Requerido","Lavabo ",1,"MG"]
[null,null,null,null,null,null,null,null,null,null,null,"Dispensador de papel toalla ",1,"EG"]
[null,null,null,null,null,null,null,null,null,null,null,"Dispensador de jabón",1,"EG"]
[null,null,null,null,null,null,null,null,null,null,null,"Espejo empotrado ",1,"MG",null,"Deseable","Fijo a la pared para evitar roturas que puedan generar riesgo de accidentes"]
[null,null,null,null,null,null,null,null,null,null,null,"Basurero ",1,"MG",null,null,"Recipiente para desechos infecciosos"]
[null,null,null,null,null,null,null,null,null,null,null,"Ducha",1,"MG"]
[null,null,null,null,"Estar de personal- Será requerido en caso de no contar con Habitación de personal","AMBIENTE",1,null,null," Dimensionar según demanda funcional","Condición","Mesa ",1,"MG"]
[null,null,null,null,null,null,null,null,null,null,null,"Silla ",4,"MG",null,null,"Puede ser sillón de descanso"]
[null,null,null,null,null,null,null,null,null,null,null,"Refrigerador",1,"EG",null,"condición"]
[null,null,null,null,null,null,null,null,null,null,null,"Microondas",1,"EG",null,"condición"]
[null,null,null,null,null,null,null,null,null,null,null,"Mesón con lavabo ",1,"MG",null,null,"Puede estar en otro ambiente pero se tiene que asegurar la bioseguridad pasiva"]
[null,null,null,null,null,null,null,null,null,null,null,"Dispensador  de jabón",1,"MG"]
[null,null,null,null,null,null,null,null,null,null,null,"Dispensador de papel toalla ",1,"MG"]
[null,null,null,null,null,null,null,null,null,null,null,"Basurero",1,"MG",null,null,"Recipiente para desechos comunes"]
[null,null,null,null,"Habitación del personal - Será requerido en caso de no contar con Estar de personal","AMBIENTE",1,null,"Estancia del personal por 24 horas, para rotación del personal (ubicación focalizada a los dormitorios de los pacientes). Baño con ducha,  1 habitación es para el monitor vivencial y está en cada comunidad; y un residente de psiquiatría por toda la comunidad"," Dimensionar según demanda funcional. Mínimo 9 m2","Condición","Cama Básica y colchón",1,"MG","EQ_04"]
[null,null,null,null,null,null,null,null,null,null,null,"Basurero ",1,"MG",null,null,"Recipiente para desechos comunes"]
[null,null,null,null,null,null,null,null,null,null,null,"velador",1,"MG"]
[null,null,null,null,null,null,null,null,null,null,null,"Armario",1,"MG"]
[null,null,null,null,"Baños para personal","AMBIENTE",1,null," Número de piezas sanitarias mínimo: Un inodoro y 1 lavamanos.","Mínimo 1,7 m2.\nSe debe calcular según cantidad de usuarios ","Requerido","Inodoro",1,"MG"]
[null,null,null,null,null,null,null,null,null,null,null,"Dispensador de papel higiénico",1,"MG"]
[null,null,null,null,null,null,null,null,null,null,null,"Lavabo",1,"MG"]
[null,null,null,null,null,null,null,null,null,null,null,"Dispensador  de jabón",1,"MG"]
[null,null,null,null,null,null,null,null,null,null,null,"Dispensador de papel toalla ",1,"MG"]
[null,null,null,null,null,null,null,null,null,null,null,"Basurero ",1,"MG",null,null,"Recipiente para desechos comunes"]
[null,null,null,null,null,null,null,null,null,null,null,"Gancho doble",1,"MG"]
[null,null,null,null,null,null,null,null,null,null,null,"Espejo empotrado",1,"MG",null,"Deseable","Fijo a la pared para evitar roturas que puedan generar riesgo de accidentes"]
[null,null,"Área de Soporte y suministros","AMBIENTES\n","Lencería","AMBIENTE",1,null,null," Dimensionar según demanda funcional","Requerido","Coche de transporte de ropa limpia ",1,"MG"]
[null,null,null,null,null,null,null,null,null,null,null,"Estantería/Mueble para almacenamiento",1,"MG"]
[null,null,null,null,"Recepción y Clasificación de Ropa Usada","AMBIENTE",1,null,null," Dimensionar según demanda funcional","Requerido","Estantería",1,"MG"]
[null,null,null,null,null,null,null,null,null,null,null,"Coche de transporte de ropa sucia",1,"MG"]
[null,null,null,null,null,null,null,null,null,null,null,"Basurero ",1,"MG",null,null,"Recipiente para desechos comunes"]
[null,null,null,null,"Bodega General","AMBIENTE",1,null,"Dimensionar según demanda funcional",null,"Requerido","Estantería ",1,"MG"]
[null,null,null,null,null,null,null,null,null,null,null,"Escalera pata de gallo/Gradilla",1,"MG",null,"condición"]
[null,null,null,null,null,null,null,null,null,null,null,"Extintor de incendios  portátil  ",1,"EG"]
[null,null,null,null,null,null,null,null,null,null,null,"Pallets",1,"MG"]
[null,null,null,null,"Estación de enfermería","AMBIENTE",1,null,null," Dimensionar según demanda funcional. ","Condición","Mostrador / escritorio/Mesa de despacho ",1,"MG","EQ_01"]
[null,null,null,null,null,null,null,null,null,null,null,"Computador completo (Portátil o de Escritorio)",1,"EG","EQ_02"]
[null,null,null,null,null,null,null,null,null,null,null,"Silla",1,"MG"]
[null,null,null,null,null,null,null,null,null,null,null,"Set de recipientes para el manejo de desechos peligrosos y no peligrosos",1,"MG","EQ_07"]
[null,null,null,null,null,null,null,null,null,null,null,"Tablero de avisos ",1,"MG"]
[null,null,null,null,null,null,null,null,null,null,null,"Extintor de incendios  portátil  ",1,"EG",null,null,"El mismo que cubrirá toda el servicio de internación y será según normativa"]
[null,null,null,null,null,null,null,null,null,null,null,"Teléfono",1,"EG"]
[null,null,null,null,null,null,null,null,null,null,null,"Coche de paro completo y reanimación",1,"EM","EQ_09","condición","si posee este equipamiento, se verificará la existencia de protocolos de manejo; los medicamentos y dispositivos médicos corresponderán a los eventos prevalentes de emergencia de acuerdo al perfil epidemiológicos, la revisión y reposición del contenido del coche de paro será responsabilidad del Farmacéutico. La custodia será responsabilidad del personal de enfermería "]
[null,null,null,null,null,null,null,null,null,null,null,"Armario con seguridad",1,"EM",null,"Condición","Será requerido en el caso que tenga medicamentos que contienen sustancias estupefacientes y/o psicótropicas"]
[null,null,null,null,null,null,null,null,null,null,null,"Dispensador de papel toalla ",1,"EG"]
[null,null,null,null,null,null,null,null,null,null,null,"Dispensador de jabón",1,"EG"]
[null,null,null,null,null,null,null,null,null,null,null,"Lavabo",1,"MG"]
[null,null,null,"INSTALACIONES","Estructura General","INSTALACION",1,"EG-01",null,"-","Requerido"]
[null,null,null,null,"Instalaciones Generales","INSTALACION",1,"IG-01",null,"-","Requerido"]
[null,null,"Área del Personal","AMBIENTES\n","Sala de Uso múltiple","AMBIENTE",1,null,"Actividades terapéuticas: terapia grupal, multifamiliar, cine foro, grupo de auto apoyo (puertas adentro/afuera). Área que permita abrir o cerrar el ambiente. "," Dimensionar según demanda funcional ","Condición","Computador completo (Portátil o de Escritorio)",1,"EG","EQ_02"]
[null,null,null,null,null,null,null,null,null,null,null,"Proyector multimedia/Sistema Audiovisual",1,"EG"]
[null,null,null,null,null,null,null,null,null,null,null,"Pantalla de proyección",1,"MG",null,"condición"]
[null,null,null,null,null,null,null,null,null,null,null,"mesa",1,"MG"]
[null,null,null,null,null,null,null,null,null,null,null,"Silla",8,"MG",null,null,"En función del cronograma de actividades y de cantidad de usuarios"]
[null,null,null,null,null,null,null,null,null,null,null,"Equipo de amplificación con micrófono, consola y caja amplificadora",1,"EG",null,"condición"]
[null,null,null,null,null,null,null,null,null,null,null,"Casilleros/lockers",1,"MG",null,"condición"]
[null,null,null,null,"Vestidores","AMBIENTE",1,null,"Equipamiento mínimo necesario: un casillero (40x40x60 cm) y un banco/silla (40x60x40)",null,"Condición","Casilleros/lockers",1,"MG"]
[null,null,null,null,null,null,null,null,null,null,null,"Banco de vestuario",1,"MG"]
[null,null,null,null,null,null,null,null,null,null,null,"Gancho doble",2,"MG"]
[null,null,null,null,null,null,null,null,null,null,null,"Basurero",1,"MG",null,null,"Recipiente para desechos comunes"]
[null,null,null,null,"Baño de vestidores","AMBIENTE",1,null,"Número de piezas sanitarias mínimo: Un inodoro, 1 lavamanos y 1 ducha.",null,"Condición","Inodoro",1,"MG"]
[null,null,null,null,null,null,null,null,null,null,null,"Dispensador de papel higiénico",1,"MG"]
[null,null,null,null,null,null,null,null,null,null,null,"Lavabo",1,"MG"]
[null,null,null,null,null,null,null,null,null,null,null,"Dispensador  de jabón",1,"MG"]
[null,null,null,null,null,null,null,null,null,null,null,"Dispensador de papel toalla ",1,"MG"]
[null,null,null,null,null,null,null,null,null,null,null,"Basurero ",2,"MG",null,null,"Recipientes para desechos comunes y peligrosos - infecciosos"]
[null,null,null,null,null,null,null,null,null,null,null,"Gancho doble",1,"MG"]
[null,null,null,null,null,null,null,null,null,null,null,"Espejo empotrado",1,"MG",null,"Deseable","Fijo a la pared para evitar roturas que puedan generar riesgo de accidentes"]
[null,null,null,null,null,null,null,null,null,null,null,"Ducha",1,"MG"]
[null,null,null,"INSTALACIONES","Estructura General","INSTALACION",1,"EG-01",null,"-","Condición"]
[null,null,null,null,"Instalaciones Generales","INSTALACION",1,"IG-01",null,"-","Condición"]
["APOYO TERAPÉUTICO","DOTACIÓN DE MEDICAMENTOS Y DISPOSITIVOS MÉDICOS (FARMACIA)\nEn el caso de que el CETAD dependa de un Establecimiento, corresponderá al profesional farmacéutico del mismo, realizar la gestión del suministro de medicamentos y el control de las sustancias psicotrópicas y estupefacientes; caso contrario, cada CETAD deberá disponer de un profesional farmacéutico","Área de Farmacia\n","AMBIENTES ","Dispensación ","AMBIENTE",1,null,null,"Dimensionar según la demanda funcional","Requerido","Mostrador/Escritorio",1,"MG","EQ_01"]
[null,null,null,null,null,null,null,null,null,null,null,"Computador completo (Portátil o de Escritorio)",1,"EG","EQ_02"]
[null,null,null,null,null,null,null,null,null,null,null,"Silla",1,"MG"]
[null,null,null,null,null,null,null,null,null,null,null,"Armario con seguridad",1,"MM",null,"Condición","Será requerido en el caso que tenga medicamentos que contienen sustancias estupefacientes y/o psicótropicas"]
[null,null,null,null,null,null,null,null,null,null,null,"Estantería ",1,"MG"]
[null,null,null,null,null,null,null,null,null,null,null,"Refrigerador con termo higrómetro",1,"EG"]
[null,null,null,null,null,null,null,null,null,null,null,"Termo higrómetro ambiental",1,"EG"]
[null,null,null,null,null,null,null,null,null,null,null,"Basurero",2,"MG",null,null,"Recipientes para desechos no peligrosos - comunes y peligrosos - especiales"]
[null,null,null,null,null,null,null,null,null,null,null,"Lavabo",1,"MG",null,null,"Puede estar en otro ambiente pero se tiene que asegurar la bioseguridad pasiva"]
[null,null,null,null,null,null,null,null,null,null,null,"Dispensador  de jabón",1,"MG"]
[null,null,null,null,null,null,null,null,null,null,null,"Dispensador de papel toalla ",1,"MG"]
[null,null,null,null,"Bodega","AMBIENTE",1,null,null,"Para construcciones nuevas calcular según demanda funcional","Requerido","Estantería ",1,"MG"]
[null,null,null,null,null,null,null,null,null,null,null,"Armario con seguridad",1,"MG",null,"Condición","Será requerido en el caso que tenga medicamentos que contienen sustancias estupefacientes y/o psicótropicas"]
[null,null,null,null,null,null,null,null,null,null,null,"Pallet",1,"MG"]
[null,null,null,null,null,null,null,null,null,null,null,"Refrigerador con termo higrómetro",1,"EG"]
[null,null,null,null,null,null,null,null,null,null,null,"Termo higrómetro ambiental",1,"EG"]
[null,null,null,null,null,null,null,null,null,null,null,"Extintor de incendios  portátil  ",1,"EG",null,null,"La especificación será según normativa"]
[null,null,null,null,null,null,null,null,null,null,null,"Escalera pata de gallo / Gradilla",1,"MG",null,null,"Si es que tiene estanterías altas que no sean accesibles al operador/funcionario/usuario"]
[null,null,null,"INSTALACIONES","Estructura General ","INSTALACION",1,"EG-01",null,"-","Requerido"]
[null,null,null,null,"Instalaciones Generales","INSTALACION",1,"IG-01",null,"-","Requerido"]
["APOYO DIAGNÓSTICO Y TERAPÉUTICO","REHABILITACIÓN","Área de Terapias","AMBIENTES","Taller ocupacional  y de uso múltiple","AMBIENTE",1,null,null,"Dimensionar según la demanda funcional","Requerido","Mesa de trabajo ",1,"MG"]
[null,null,null,null,null,null,null,null,null,null,null,"Computador completo (Portátil o de Escritorio)",1,"EG","EQ_02"]
[null,null,null,null,null,null,null,null,null,null,null,"Proyector multimedia/Sistema Audiovisual",1,"EG"]
[null,null,null,null,null,null,null,null,null,null,null,"Espejo empotrado ",1,"MG"]
[null,null,null,null,null,null,null,null,null,null,null,"Casilleros/lockers",2,"MG",null,"condición"]
[null,null,null,null,null,null,null,null,null,null,null,"Estantería ",1,"MG"]
[null,null,null,null,null,null,null,null,null,null,null,"Silla",8,"MG"]
[null,null,null,null,null,null,null,null,null,null,null,"Lavabo",1,"MG"]
[null,null,null,null,null,null,null,null,null,null,null,"Dispensador de papel toalla ",1,"EG"]
[null,null,null,null,null,null,null,null,null,null,null,"Dispensador de jabón",1,"EG"]
[null,null,null,null,null,null,null,null,null,null,null,"Basurero",1,"MG",null,null,"Recipiente para desechos comunes"]
[null,null,null,null,null,null,null,null,null,null,null,"Set para talleres de  psicoterapia",1,"EM","EQ_13",null," puede brindar una o varios de los talleres de las modalidades indicadas"]
[null,null,null,null,"Gimnasio/Áreas deportivas","AMBIENTE",1," ",null,"Dimensionar según la demanda funcional","Requerido","Espejo empotrado de cuerpo entero",1,"MM"]
[null,null,null,null,null,null,null,null,null,null,null,"Bicicleta estática",1,"EM"]
[null,null,null,null,null,null,null,null,null,null,null,"Juego de mancuernas/pesas autoadhesivas",1,"EM"]
[null,null,null,null,null,null,null,null,null,null,null,"Caminadora eléctrica",1,"EM",null,"condición"]
[null,null,null,null,null,null,null,null,null,null,null,"Equipo de multifuerzas",1,"EM",null,"condición"]
[null,null,null,null,null,null,null,null,null,null,null,"Colchonetas ",1,"EM"]
[null,null,null,null,"Sala de Cinesiterapia","AMBIENTE",1,null,"Para construcciones nuevas calcular según demanda funcional. ","-","Condición","Camilla  ",1,"MM",null,"condición"]
[null,null,null,null,null,null,null,null,null,null,null,"Escabel ",1,"MG",null,"condición"]
[null,null,null,null,null,null,null,null,null,null,null,"Colchoneta ",1,"EM"]
[null,null,null,null,null,null,null,null,null,null,null,"Almohada",2,"EM"]
[null,null,null,null,null,null,null,null,null,null,null,"Juego de Balones terapéuticos",1,"EM",null,"condición"]
[null,null,null,null,null,null,null,null,null,null,null,"Juego de Rodillos",1,"EM",null,"condición"]
[null,null,null,null,null,null,null,null,null,null,null,"Juego de pesas autoadhesivas",1,"EM"]
[null,null,null,null,null,null,null,null,null,null,null,"Mancuernas",1,"EM"]
[null,null,null,null,null,null,null,null,null,null,null,"Juego de Cuñas",1,"EM",null,"Deseable"]
[null,null,null,null,null,null,null,null,null,null,null,"Bicicleta estática",1,"EM"]
[null,null,null,null,null,null,null,null,null,null,null,"Bicicleta elíptica",1,"EM",null,"Condición"]
[null,null,null,null,null,null,null,null,null,null,null,"Caminadora eléctrica",1,"EM"]
[null,null,null,null,null,null,null,null,null,null,null,"Restaurador de tobillo",1,"EM",null,"Condición"]
[null,null,null,null,null,null,null,null,null,null,null,"Multifuerzas",1,"EM",null,"Condición"]
[null,null,null,null,null,null,null,null,null,null,null,"Mesa de cuádriceps",1,"EM",null,"Condición"]
[null,null,null,null,null,null,null,null,null,null,null,"Escalera con rampa",1,"MM"]
[null,null,null,null,null,null,null,null,null,null,null,"Escalera sueca",1,"MM"]
[null,null,null,null,null,null,null,null,null,null,null,"Mesa de Kanavel",1,"EM",null,"Condición"]
[null,null,null,null,null,null,null,null,null,null,null,"Paralelas",1,"MM"]
[null,null,null,null,null,null,null,null,null,null,null,"Poleas",1,"EM",null,"Condición"]
[null,null,null,null,null,null,null,null,null,null,null,"Espejo postural",1,"EG",null,"Deseable"]
[null,null,null,null,null,null,null,null,null,null,null,"Escalera de dedos",1,"EM"]
[null,null,null,null,null,null,null,null,null,null,null,"Rueda de hombro ",1,"EM"]
[null,null,null,null,null,null,null,null,null,null,null,"Estantería/Armario",1,"MG"]
[null,null,null,null,"Baño/Baterías sanitarias-se aceptará en el caso  de que este compartido con otro servicio pero debe tener  acceso directo, pero si no esta accesible será requerido.","AMBIENTE",1,null,"Número de piezas sanitarias mínimo: Un inodoro, 1 lavamanos.","Dimensionar según la demanda funcional","Condición","Inodoro",1,"MG"]
[null,null,null,null,null,null,null,null,null,null,null,"barras de apoyo",1,"MG",null,"condición"]
[null,null,null,null,null,null,null,null,null,null,null,"Dispensador de papel higiénico",1,"MG"]
[null,null,null,null,null,null,null,null,null,null,null,"Lavabo",1,"MG"]
[null,null,null,null,null,null,null,null,null,null,null,"Dispensador  de jabón",1,"MG"]
[null,null,null,null,null,null,null,null,null,null,null,"Dispensador de papel toalla ",1,"MG"]
[null,null,null,null,null,null,null,null,null,null,null,"Basurero ",2,"MG",null,null,"Recipientes para desechos comunes e infecciosos"]
[null,null,null,null,null,null,null,null,null,null,null,"Gancho doble",1,"MG"]
[null,null,null,null,null,null,null,null,null,null,null,"Espejo empotrado",1,"MG",null,"Deseable","Fijo a la pared para evitar roturas que puedan generar riesgo de accidentes"]
[null,null,null,"INSTALACIONES","Estructura General","INSTALACION",1,"EG-01",null,"-","Requerido"]
[null,null,null,null,"Instalaciones Generales","INSTALACION",1,"IG-01",null,"-","Requerido"]
["APOYO TERAPÉUTICO","NUTRICIÓN Y DIETETICA","Área de comedor","AMBIENTES","Comedor","AMBIENTE",1,null," ","Dimensionar según la demanda funcional","Requerido","Mesa ",2,"MG"]
[null,null,null,null,null,null,null,null,null,null,null,"Lavabo ",1,"MG",null,"condición","Es requerido si es que no hay baño accesible/cerca"]
[null,null,null,null,null,null,null,null,null,null,null,"Dispensador de jabón",1,"EG",null,"condición"]
[null,null,null,null,null,null,null,null,null,null,null,"Dispensador de papel toalla ",1,"EG",null,"condición"]
[null,null,null,null,null,null,null,null,null,null,null,"Basurero",1,"MG",null,null,"Recipiente para desechos comunes"]
[null,null,null,null,null,null,null,null,null,null,null,"Silla",8,"MG"]
[null,null,null,null,"Baño- será requerido en el caso que el ambiente no esté accesible","AMBIENTE",1,null,"Para personas con discapacidad y diferenciado; este baño puede ser  asociado al diseño de la batería sanitaria",null,"Condición","Inodoro",1,"MG"]
[null,null,null,null,null,null,null,null,null,null,null,"barras de apoyo",1,"MG",null,"condición"]
[null,null,null,null,null,null,null,null,null,null,null,"Dispensador de papel higiénico",1,"MG"]
[null,null,null,null,null,null,null,null,null,null,null,"Lavabo",1,"MG"]
[null,null,null,null,null,null,null,null,null,null,null,"Dispensador  de jabón",1,"MG"]
[null,null,null,null,null,null,null,null,null,null,null,"Dispensador de papel toalla ",1,"MG"]
[null,null,null,null,null,null,null,null,null,null,null,"Basurero ",2,"MG",null,null,"Para desechos peligrosos y otro para desechos comunes"]
[null,null,null,null,null,null,null,null,null,null,null,"Gancho doble",1,"MG"]
[null,null,null,null,null,null,null,null,null,null,null,"Espejo empotrado",1,"MG",null,"Deseable","Fijo a la pared para evitar roturas que puedan generar riesgo de accidentes"]
[null,null,"Área técnica de cocina","AMBIENTES","Bodega  para Almacenamiento diferenciado  de productos no perecibles, perecibles","AMBIENTE",1,null,null,"Dimensionar según la demanda funcional","Requerido","Estantería",2,"MG"]
[null,null,null,null,"Zona de Refrigeradores y Congeladores - puede estar en la bodega para almacenamiento diferenciado de productos o en la zona preparación de alimentos","AMBIENTE",1," ","Para conservación de verduras y hortalizas y otra refrigeradora para cárnicos y lácteos",null,"Requerido","Refrigerador y congelador",1,"EG",null,null,"Puede ser individualizado el refrigerador y el congelador"]
[null,null,null,null,"Preparación de alimentos y lavado de menaje de cocina","AMBIENTE",1,null,null,null,"Requerido","Balanza",1,"EG"]
[null,null,null,null,null,null,null,null,null,null,null,"Fregadero doble",1,"MG"]
[null,null,null,null,null,null,null,null,null,null,null,"Basurero",2,"MG",null,null,"Recipiente para desechos comunes"]
[null,null,null,null,null,null,null,null,null,null,null,"Mesa de preparación ",1,"MG"]
[null,null,null,null,"Zona de cocción","AMBIENTE",1,null,null,null,"Requerido","Campana extractora ",1,"EG"]
[null,null,null,null,null,null,null,null,null,null,null,"Cocina  se industrial o industrial",1,"MM"]
[null,null,null,null,null,null,null,null,null,null,null,"Estantería ",1,"MG"]
[null,null,null,null,null,null,null,null,null,null,null,"Horno  convencional/ Microondas",1,"EG"]
[null,null,null,null,null,null,null,null,null,null,null,"Licuadora",1,"EG"]
[null,null,null,null,"Bodega/Almacenamiento de menaje","AMBIENTE",1,null,"Guardado de menaje y vajillas",null,"Requerido","Estantería/Mueble para almacenamiento",1,"MG"]
[null,null,null,null,"Cuarto de limpieza","AMBIENTE",1,null,null,null,"Requerido","Coche de limpieza ",1,"MG"]
[null,null,null,null,null,null,null,null,null,null,null,"Stock de insumos de limpieza ",1,"MG"]
[null,null,null,null,null,null,null,null,null,null,null,"Estantería ",1,"MG"]
[null,null,null,null,null,null,null,null,null,null,null,"Lavadero con poza profunda para el preparado y enjuague de los útiles de limpieza",1,"MG"]
[null,null,null,"INSTALACIONES","Estructura General","INSTALACION",1,"EG-01",null,"-","Requerido"]
[null,null,null,null,"Instalaciones Generales","INSTALACION",1,"IG-01",null,"-","Requerido"]
["ADMINISTRATIVO"," ADMINISTRACION TÉCNICA","Área Técnica","AMBIENTES","Despacho del Responsable Técnico- puede compartir con otro ambiente administrativo","AMBIENTE",1,null,null,"Para construcciones nuevas mínimo deseable 10m 2","Requerido","Escritorio/Mesa de despacho ",1,"MG","EQ_01"]
[null,null,null,null,null,null,null,null,null,null,null,"Archivador",1,"MG"]
[null,null,null,null,null,null,null,null,null,null,null,"Computador completo (Portátil o de Escritorio)",1,"EG","EQ_02"]
[null,null,null,null,null,null,null,null,null,null,null,"Basurero ",1,"MG",null,null,"Recipiente para desechos comunes"]
[null,null,null,null,null,null,null,null,null,null,null,"Perchero de pie/Gancho doble",1,"MG"]
[null,null,null,null,null,null,null,null,null,null,null,"Silla confidente ",2,"MG"]
[null,null,null,null,null,null,null,null,null,null,null,"Silla",1,"MG"]
[null,null,null,null,"Sala de espera","AMBIENTE",1,null," ","Para construcciones nuevas es deseable 1 m2 por puesto","Condición","Bancas / sillas",1,"MM",null,null,"Mínimo contar con 3 puestos para la sala de espera (bancas en tándem o sillas o sillones)"]
[null,null,null,null,null,null,null,null,null,null,null,"Basurero",1,"MG",null,null,"Recipiente para desechos comunes"]
[null,null,null,null,null,null,null,null,null,null,null,"Reloj de pared",1,"MG"]
[null,null,null,null,"Unidad Administrativa de Apoyo","AMBIENTE",1,null,null,"Para construcciones nuevas deseable 2,7 m2 por puesto de trabajo","Condición","Mostrador / escritorio/Mesa de despacho ",1,"MG","EQ_01"]
[null,null,null,null,null,null,null,null,null,null,null,"Archivador /Armario",1,"MG"]
[null,null,null,null,null,null,null,null,null,null,null,"Basurero ",1,"MG",null,null,"Recipiente para desechos comunes"]
[null,null,null,null,null,null,null,null,null,null,null,"Perchero de pie/Gancho doble",1,"MG"]
[null,null,null,null,null,null,null,null,null,null,null,"Computador completo (Portátil o de Escritorio)",1,"EG","EQ_02"]
[null,null,null,null,null,null,null,null,null,null,null,"Silla confidente",2,"MG"]
[null,null,null,null,null,null,null,null,null,null,null,"Silla",1,"MG"]
[null,null,null,null,"Oficina de trabajo social - puede compartir con otro ambiente de consulta","AMBIENTE",1,null,null,"Para construcciones nuevas deseable 12 m2","Requerido","Escritorio/Mesa de despacho ",1,"MG","EQ_01"]
[null,null,null,null,null,null,null,null,null,null,null,"Silla confidente",2,"MG"]
[null,null,null,null,null,null,null,null,null,null,null,"Silla",1,"MG"]
[null,null,null,null,null,null,null,null,null,null,null,"Computador completo (Portátil o de Escritorio)",1,"EG","EQ_02"]
[null,null,null,null,null,null,null,null,null,null,null,"Basurero ",1,"MG",null,null,"Recipiente para desechos comunes"]
[null,null,null,null,null,null,null,null,null,null,null,"Perchero de pie/Gancho doble",1,"MG",null,"Deseable"]
[null,null,null,null,null,null,null,null,null,null,null,"Armario/Archivador",1,"MG"]
[null,null,null,"INSTALACIONES","Estructura General","INSTALACION",1,"EG-01",null,"-","Requerido"]
[null,null,null,null,"Instalaciones Generales","INSTALACION",1,"IG-01",null,"-","Requerido"]
["GENERAL","SERVICIOS INTERNOS DE APOYO\n","Lavandería","AMBIENTES","Recepción y Clasificación de Ropa Usada","AMBIENTE",1,null,"Para construcciones nuevas, deseable 6m2","-","Requerido","Mostrador / escritorio/Mesa de despacho ",1,"MG","EQ_01"]
[null,null,null,null,null,null,null,null,null,null,null,"Armario/Archivador",1,"MG"]
[null,null,null,null,null,null,null,null,null,null,null,"Coche de transporte de ropa sucia",1,"MG"]
[null,null,null,null,null,null,null,null,null,null,null,"Computador completo (Portátil o de Escritorio)",1,"EG","EQ_02"]
[null,null,null,null,null,null,null,null,null,null,null,"Basurero ",1,"EG",null,null,"Recipiente para desechos comunes"]
[null,null,null,null,null,null,null,null,null,null,null,"Silla",1,"MG"]
[null,null,null,null,"Lavado","AMBIENTE",1,null,"Para construcciones nuevas calcular según demanda funcional.","-","Requerido","Lavadora",1,"EG"]
[null,null,null,null,null,null,null,null,null,null,null,"Secadora",1,"EG"]
[null,null,null,null,null,null,null,null,null,null,null,"Basurero",1,"EG",null,null,"Recipiente para desechos comunes"]
[null,null,null,null,null,null,null,null,null,null,null,"Estantería",1,"EG"]
[null,null,null,null,"Planchado","AMBIENTE",1,null,"Para construcciones nuevas calcular según demanda funcional. ","-","Requerido","Plancha",1,"EG"]
[null,null,null,null,null,null,null,null,null,null,null,"Silla",1,"EG"]
[null,null,null,null,null,null,null,null,null,null,null,"Estantería/Armario",1,"EG"]
[null,null,null,null,null,null,null,null,null,null,null,"Basurero",1,"EG",null,null,"Recipiente para desechos comunes"]
[null,null,null,null,null,null,null,null,null,null,null,"Mesa de trabajo",1,"EG"]
[null,null,null,null,"Área de lavado manual","AMBIENTE",1,null,"Para lavado a mano. Metodología con base terapéutica",2.5,"Requerido","Puesto de lavado manual/o piedra de lavar",1,"EG"]
[null,null,null,"INSTALACIONES","Estructura General","INSTALACION",1,"EG-01",null,"-","Requerido"]
[null,null,null,null,"Instalaciones Generales","INSTALACION",1,"IG-01",null,"-","Requerido"]
[null,null,"Limpieza","AMBIENTES","Bodega (Puede encontrarse dentro de la bodega general, pero en un área diferenciada)","AMBIENTE",1,null,"Para construcciones nueva 8m2 ","-","Requerido","Estantería",1,"MG"]
[null,null,null,null,"Cuarto de Limpieza (será requerido en el caso de no contar con cuartos de limpieza en los servicios que lo requieran) ","AMBIENTE",1,null,"Para construcciones nuevas deseable 2m2","-","Condición","Coche de limpieza",1,"MG"]
[null,null,null,null,null,null,null,null,null,null,null,"Stock de Insumos de Limpieza",1,"EG","EQ_05"]
[null,null,null,null,null,null,null,null,null,null,null,"Estantería",1,"MG"]
[null,null,null,null,null,null,null,null,null,null,null,"Lavadero con poza profunda para el preparado y enjuague de los útiles de limpieza",1,"MG"]
[null,null,null,null,"Vestidores (Será requerido en el caso de que en el vestidor del área de personal no se ha previsto un espacio exclusivo para el personal de limpieza)","AMBIENTE",1,null,"Para construcciones nuevas deseable con baño, ajustar el 60% de la plantilla, dimensionar 0,5m2 por persona. Mínimo 10m2","-","Condición","Casilleros/Lockers",5,"MG"]
[null,null,null,null,null,null,null,null,null,null,null,"Banco de vestuario",1,"MG"]
[null,null,null,null,null,null,null,null,null,null,null,"Gancho doble",1,"MG"]
[null,null,null,null,null,null,null,null,null,null,null,"Basurero",1,"MG",null,null,"Recipiente para desechos comunes"]
[null,null,null,null,"Baño de vestidores","AMBIENTE",1,null,null,null,"Condición","Dispensador de jabón",1,"MG"]
[null,null,null,null,null,null,null,null,null,null,null,"Dispensador de papel toalla",1,"MG"]
[null,null,null,null,null,null,null,null,null,null,null,"Dispensador de papel higiénico",1,"MG"]
[null,null,null,null,null,null,null,null,null,null,null,"Inodoro",1,"MG"]
[null,null,null,null,null,null,null,null,null,null,null,"Espejo empotrado ",1,"MG"]
[null,null,null,null,null,null,null,null,null,null,null,"Gancho doble",1,"MG"]
[null,null,null,null,null,null,null,null,null,null,null,"Barras de apoyo",1,"MG",null,"Deseable"]
[null,null,null,null,null,null,null,null,null,null,null,"Lavabo ",1,"MG"]
[null,null,null,null,null,null,null,null,null,null,null,"Basurero",1,"MG",null,null,"Recipiente para desechos comunes"]
[null,null,"Almacenamiento final de desechos (puede estar en un solo ambiente con áreas diferenciadas y rotuladas)","AMBIENTES","Área de Almacenamiento de Desechos no peligrosos - Comunes","AMBIENTE",1,null,"Para construcciones nuevas calcular según demanda funcional. (cantidades generadas) ","-","Requerido","Contenedor ",1,"MG"]
[null,null,null,null,"Área de Almacenamiento de Desechos Peligrosos- Infecciosos","AMBIENTE",1,null,"Para construcciones nuevas calcular según demanda funcional. (cantidades generadas) ","-","Requerido","Contenedor ",1,"MG"]
[null,null,null,null,"Área de Desechos Peligrosos- Especiales","AMBIENTE",1,null,"Para construcciones nuevas calcular según demanda funcional. (cantidades generadas) ","-","Requerido","Contenedor ",1,"MG"]
[null,null,null,"INSTALACIONES","Estructura General ","INSTALACION",1,"EG-01",null,"-","Requerido"]
[null,null,null,null,"Instalaciones Generales","INSTALACION",1,"IG-01",null,"-","Requerido"]
[null,null,"Área de apoyo","AMBIENTES","Zona de Guardianía","AMBIENTE",1,null,null,"Dimensionar según demanda funcional","Condición","Mostrador / escritorio/Mesa de despacho ",1,"MG","EQ_01"]
[null,null,null,null,null,null,null,null,null,null,null,"Monitor de vigilancia",1,"EG",null,"condición"]
[null,null,null,null,null,null,null,null,null,null,null,"Basurero",1,"MG",null,null,"Recipiente para desechos comunes"]
[null,null,null,null,null,null,null,null,null,null,null,"Silla",1,"MG"]
[null,null,null,null,null,null,null,null,null,null,null,"Sistema de comunicación",1,"EG"]
["NOTA GENERAL.- Para construcciones nuevas, las áreas se calcularán según el tipo del establecimiento y las demandas funcionales del espacio, respetando las normas nacionales existentes (INEN, Código Ecuatoriano de Construcción, Ordenanzas, etc.) y las internacionales que apliquen cuando las nacionales no son suficientes. Tomar en cuenta equipamiento y personal que lo maneja así como la cantidad de usuarios del espacio en los momentos críticos o de mayor demanda. "]
[]
[]
[]
["INSTALACIONES DEL LOCAL","Estructura General",null,"Cerramiento externo",null,"INSTALACION",1,null,null,"-","Condición"]
[null,null,null,"Áreas adecuadas para el tránsito de sillas de ruedas",null,"INSTALACION",1,null,"Será requerido en el caso de contar con pacientes en sillas de ruedas","-","Condición"]
[null,"Instalaciones eléctricas generales (iluminación y fuerza)",null,"Red de tomas de energía",null,"INSTALACION",1,null,null,"-","Requerido"]
[null,null,null,"Red de instalaciones para iluminación",null,"INSTALACION",1,null,null,"-","Requerido"]
[null,null,null,"Acometidas Eléctricas  (tableros de control - interruptores termomagnéticos-)",null,"INSTALACION",1,null,null,"-","Requerido"]
[null,null,null,"Sistema de soporte de energía eléctrica  de emergencia. (Generación o respaldo de baterías generales o individuales)",null,"INSTALACION",1,null,null,"-","Condición"]
[null,null,null,"Instalaciones de pararrayos",null,"INSTALACION",1,null,"Según estudios de especialista","-","Condición"]
[null,"Instalaciones electrónicas",null,"Sensores y alarmas para incendios",null,"INSTALACION",1,null,null,"-","Requerido"]
[null,null,null,"Sistema de audio centralizado",null,"INSTALACION",1,null,null,"-","Condición"]
[null,"Instalaciones de telecomunicaciones",null,"Instalaciones telefónicas convencionales",null,"INSTALACION",1,null,null,"-","Requerido"]
[null,null,null,"Suministro de Internet ",null,"INSTALACION",1,null,null,"-","Requerido"]
[null,"Instalaciones de abastecimiento de agua",null,"Reservorio y sistema de provisión de agua potable para casos de  emergencia por falta de provisión normal de la misma. Ejem: Cisterna/tanques ",null,"INSTALACION",1,null,null,"-","Requerido"," "]
[null,null,null,"Instalaciones de agua fría",null,"INSTALACION",1,null,null,"-","Requerido"]
[null,null,null,"Instalaciones de agua caliente",null,"INSTALACION",1,null,null,"-","Condición"]
[null,"Instalaciones de desagüe",null,"Red de instalaciones internas de recolección y conducción de aguas servidas.",null,"INSTALACION",1,null,null,"-","Requerido"]
[null,"Instalaciones mecánicas generales",null,"Sistemas centralizados de aire acondicionado. Enfriadores(Chillers)-Unidades manejadoras de aire (UMAS)",null,"INSTALACION",1,null,"Será requerido en áreas geográficas con condiciones ambientales desfavorables ","-","Condición"]
[null,null,null,"Redes de ductos de aire acondicionado y/o ventilación/extracción",null,"INSTALACION",1,null,null,"-","Condición"]
[null,"Instalaciones generales",null,"Instalaciones de ascensores (circulación vertical)",null,"INSTALACION",1,null,"Será requerido en caso de tener más de una planta y se realice atención asistencial o procedimientos a los pacientes desde la  segunda planta arquitectónica","-","Condición"]
[null,null,null,"Señalización externa e interna",null,"INSTALACION",1,null,null,"-","Requerido"]

{"sheet":"BaseTalentoHumano","index":1,"n_rows":20,"n_cols":11,"rows_kept":20,"cut":false,"hidden":true,"merged":[[15,3,17,3],[18,0,19,0],[18,1,19,1],[9,3,10,3],[11,1,12,1],[11,2,12,2],[13,1,14,1],[13,2,14,2],[11,0,12,0],[9,0,10,0],[9,1,10,1],[9,2,10,2],[15,0,17,0],[15,1,17,1],[15,2,17,2],[11,3,12,3],[13,0,14,0],[13,3,14,3],[0,0,0,10],[1,0,1,10],[4,0,6,0],[4,1,6,1],[4,2,6,2],[4,3,6,3],[7,0,8,0],[7,1,8,1],[7,2,8,2],[7,3,8,3]]}
["CENTRO ESPECIALIZADO EN TRATAMIENTO A PERSONAS CON CONSUMO PROBLEMÁTICO DE ALCOHOL Y OTRAS DROGAS "]
["\n (Se verificará el estudio académico del personal por medio del Senescyt y que este inscrito en el Ministerio de Salud Pública)\n y Además es requerido que cuenten con el curso general virtual sobre derechos humanos y salud."]
["GRUPO 00","GRUPO 01","GRUPO 02","GRUPO 03","Personal","Tipo Personal","Cant Mínima","Por Puestos/Camas/Consultorios/Quirófano","ANEXO","Obs","TIPO"]
["Administrativo","ADMISIÓN  Y ESTADISTICA","Recepción, Admisión e Información","Administrativos","Asistente de Admisiones y Estadísticas","ADMINISTRATIVO",1,null,null,"Agenda los pacientes, archiva e ingresa historia clínicas","Requerido"]
["Asistencial","CONSULTA EXTERNA","Área de Atención de Consulta","Operativos","Medico especialista en: Psiquiatría, Medicina Interna, Familiar o General, además con conocimientos en drogodependencia","ASISTENCIAL",1,null,null,"El profesional se encargará de la consulta externa y de las interconsultas de Internación /Residencia- Itinerante","Requerido"]
[null,null,null,null,"Psicólogo clínico","ASISTENCIAL",1,null,null,"El profesional se encargará de la consulta externa, terapias psicológicas , psicorehabilitación y  de las interconsultas de Internación /Residencia","Requerido"]
[null,null,null,null,"Lcda(o). En Enfermería","ASISTENCIAL",1,null,null,null,"Requerido"]
["Asistencial","INTERNACIÓN /RESIDENCIA\nEl establecimiento contará con talento humano adecuado diferenciado para el tratamiento de adultos, adultas, niños y adolescentes hombres, niñas y adolescentes mujeres","Área de Internación/Residencia","Operativos","Lcda(o). En Enfermería","ASISTENCIAL",1,null,null,null,"Requerido"]
[null,null,null,null,"Personal/Monitor Vivencial ","ASISTENCIAL",1,null,null,"Personal que ha atravesado o no un proceso de tratamiento por consumo problemático de alcohol y otras drogas. No es un usuario residente que se encuentra en tratamiento en el establecimiento. Realiza charlas grupales por un máximo de 10 horas a la semana.","Condición"]
["Apoyo Terapéutico","DOTACIÓN DE MEDICAMENTOS Y DISPOSITIVOS MÉDICOS (FARMACIA)","Área de Farmacia","Operativos","Químico o Bioquímico Farmacéutico Responsable de la Gestión del suministro de Medicamentos y Dispositivos Médicos","ASISTENCIAL",1,null,null,"Puede ser permanente o itinerante, debe garantizar que entre sus funciones disponga del horario que le permita el adecuado control de los medicamentos sujetos a fiscalización","Requerido"]
[null,null,null,null,"Auxiliar de Farmacia","ADMINISTRATIVO",1,null,null,"Funciones para ventanilla. Puede realizar esta función un(a) auxiliar de enfermería.","Requerido"]
["Apoyo Diagnóstico y  Terapéutico","REHABILITACIÓN\n","Área de Terapias","Operativos","Terapista Ocupacional","ASISTENCIAL",1,null,null,"1/Servicio - En caso de que en la zona no existan suficientes terapistas ocupacionales, se dispondrá de otras alternativas terapéuticas, según lo establezca el Programa Terapéutico del establecimiento","Requerido"]
[null,null,null,null,"Terapista Físico ","ASISTENCIAL",1,null,null,"1/Servicio","Condición"]
["Apoyo Terapéutico","ALIMENTACION Y DIETÉTICA","Área técnica de cocina","operativos","Nutricionista","ASISTENCIAL",1,null,null,"Profesional que coordina, supervisa y es operativo del servicio y puede ser Itinerante","Requerido"]
[null,null,null,null,"Personal de cocina","ADMINISTRATIVO",1,null,null,null,"Requerido"]
["Administrativo"," ADMINISTRACION \nTECNICA","Área Técnica","Administrativos","Responsable Técnico del Establecimiento (psiquiatra, médico o psicólogo  especialista o con experiencia en drogodependencias)","ADMINISTRATIVO",1,null,null,"En caso de que el Coordinador sea un psiquiatra se justificará el requerido del profesional en la consulta externa","Requerido"]
[null,null,null,null,"Trabajador Social","ASISTENCIAL",1,60,null,"Es para todo los servicios el estándar es 1 profesional por 60 camas","Requerido"]
[null,null,null,null,"Asistente administrativo","ADMINISTRATIVO",1,null,null,null,"Condición"]
["General","SERVICIOS INTERNOS DE APOYO","LAVANDERÍA/LIMPIEZA","Operativos","Auxiliar de Servicios","ADMINISTRATIVO",1,null,null,"Puede estar externalizado","Requerido"]
[null,null,"GUARDIANIA","0perativos","Guardia de Seguridad","ADMINISTRATIVO",1,null,null,"Puede estar externalizado","Condición"]

{"sheet":"BaseNorma","index":2,"n_rows":241,"n_cols":8,"rows_kept":241,"cut":false,"hidden":true,"merged":[[235,0,240,0],[235,1,240,2],[0,0,0,7],[2,0,18,0],[2,1,18,1],[2,2,18,2],[19,0,103,0],[19,1,103,1],[19,2,48,2],[49,2,70,2],[71,2,103,2],[171,0,187,0],[171,1,187,1],[171,2,174,2],[175,2,187,2],[188,0,234,0],[188,1,234,1],[188,2,224,2],[225,2,234,2],[104,0,139,0],[104,1,139,1],[104,2,139,2],[140,0,154,0],[140,1,154,1],[140,2,154,2],[155,0,170,0],[155,1,170,1],[155,2,163,2],[164,2,170,2]]}
["CENTRO ESPECIALIZADO EN TRATAMIENTO A PERSONAS CON CONSUMO PROBLEMÁTICO DE ALCOHOL Y OTRAS DROGAS "]
["Tipo","Servicio","ESPACIO","POLÍTICAS, NORMAS, ACUERDOS, REGLAMENTOS, PROTOCOLOS Y GUÍAS CLÍNICAS ","Cant Mínima","Factor","Obs","TIPO"]
["ADMINISTRATIVO","ADMISIÓN Y ESTADISTICA","Admisión, Información y Recepción","Instructivo para el Llenado del Registro Diario Automatizado de Consultas y Atenciones Ambulatorias (RDACAA). 2013",1,null,"Será requerido para Establecimientos del MSP","Condición"]
[null,null,null,"Manual de Instalación del Tarjetero índice",1,null,"Será requerido para Establecimientos del MSP","Condición"]
[null,null,null,"Manual del Usuario del Tarjetero Indice",1,null,"Será requerido para Establecimientos del MSP","Condición"]
[null,null,null,"Manual de Manejo, Archivo de las Historias Clínicas",1,null,null,"Requerido"]
[null,null,null,"Norma Técnica: Subsistema de Referencia, Derivación, Contrareferencia, Referencia inversa y Transferencia del Sistema Nacional de Salud. 2014",1,null,null,"Requerido"]
[null,null,null,"Políticas Uso de Servicios de Red y Servicios Informáticos del Ministerio de Salud Pública",1,null,"Será requerido para Establecimientos del MSP","Condición"]
[null,null,null,"Modelo de Gestión de requerimientos e inconformidades ciudadanas para mejorar los servicios de salud a nivel nacional",1,null,null,"Requerido"]
[null,null,null,"Registro de visitas a usuarios/pacientes",1,null,null,"Requerido"]
[null,null,null,"Reglamento de Señalización de Seguridad para Establecimientos de Salud",1,null,null,"Requerido"]
[null,null,null,"Acuerdo Ministerial 5212: Tipología Sustitutiva para Homologar los Establecimientos de Salud por Niveles de Atención y Servicios de Apoyo del Sistema Nacional de Salud",1,null,null,"Requerido"]
[null,null,null,"Manual de Normas de Bioseguridad para la Red de Servicios de Salud en el Ecuador",1,null,null,"Requerido"]
[null,null,null,"Norma Técnica: Atención Integral en Violencia de Género. 2014",1,null,null,"Requerido"]
[null,null,null,"Ley Derechos y Amparo al Paciente impreso en formato A0",1,null,null,"Requerido"]
[null,null,null,"Protocolos de Procedimientos de Limpieza",1,null,null,"Requerido"]
[null,null,null,"Registro de limpieza del área funcional del Establecimiento",1,null,null,"Requerido"]
[null,null,null,"Registro de Mantenimiento de Equipos: Preventivo y/o Correctivo",1,null,null,"Requerido"]
[null,null,null,"Acuerdo Ministerial 5186: Reglamento Interministerial para la Gestión Integral de Desechos Sanitarios",1,null,null,"Requerido"]
["Asistencial","CONSULTA EXTERNA","Consultorio polivalente (Psiquiatría/Medicina Interna/Familiar y Comunitaria/General)","Instructivo para el Llenado del Registro Diario Automatizado de Consultas y Atenciones Ambulatorias (RDACAA). 2013",1,null,"Será requerido para Establecimientos del MSP","Condición"]
[null,null,null,"Clasificación Estadística Internacional de Enfermedades y Problemas Relacionados con la Salud. Décima Revisión - CIE10 ",1,null,null,"Requerido"]
[null,null,null,"Reglamento a la Ley Organica de Salud",1,null,null,"Requerido"]
[null,null,null,"Guía para la adecuación cultural de los servicios de salud. 2006",1,null,null,"Requerido"]
[null,null,null,"Manual del modelo de atención integral en salud - MAIS. 2013",1,null,null,"Requerido"]
[null,null,null,"Ley Derechos y Amparo al Paciente",1,null,null,"Requerido"]
[null,null,null,"Ley de sustancias estupefacientes y Psicotrópicas",1,null,null,"Requerido"]
[null,null,null,"Cuadro nacional de medicamentos básicos y registro terapéutico. 9na revisión",1,null,null,"Requerido"]
[null,null,null,"Acuerdo Ministerial 4693: Reforma a la 9na. Revisión del Cuadro Nacional de Medicamentos Básicos y Registro Terapéutico",1,null,null,"Requerido"]
[null,null,null,"Norma Técnica: Subsistema de Referencia, Derivación, Contrareferencia, Referencia inversa y Transferencia del Sistema Nacional de Salud. 2014",1,null,null,"Requerido"]
[null,null,null,"Registro de Evolución de la Atención Médica y Modelo Terapéutico",1,null,null,"Requerido"]
[null,null,null,"Registro de Indicadores para la Satisfacción del Usuario",1,null,null,"Requerido"]
[null,null,null,"Protocolo: Atención integral del consumo nocivo de alcohol, tabaco y otras drogas. 2016",1,null,null,"Requerido"]
[null,null,null,"Guía de atención integral de adultos y Adolescentes con infección por VIH/SIDA. 2012",1,null,"Será requerido en el caso de ofertar la prestación","Condición"]
[null,null,null,"Guía de Práctica Clínica: Prevención, Diagnóstico, Tratamiento y Control de la Tuberculosis. 2015",1,null,null,"Requerido"]
[null,null,null,"Manual de Normas y Procedimientos para el Control de la Tuberculosis en Ecuador. 2010",1,null,null,"Requerido"]
[null,null,null,"Normas y protocolos para la alimentación y nutrición en la atención integral a personas que viven con VIH/SIDA. 2010",1,null,"Será requerido en el caso de ofertar la prestación","Condición"]
[null,null,null,"Normas y protocolos de atención integral de salud de las y los adultos mayores - 1. 2010",1,null,"Será requerido en el caso de ofertar la prestación","Condición"]
[null,null,null,"Normas y protocolos de atención integral de salud de las y los adultos mayores - 2. 2010",1,null,"Será requerido en el caso de ofertar la prestación","Condición"]
[null,null,null,"Normas y protocolos de atención integral de salud de las y los adultos mayores - 3. 2010",1,null,"Será requerido en el caso de ofertar la prestación","Condición"]
[null,null,null,"Normas y procedimientos para la atención integral de salud a adolescentes. 2009",1,null,"Será requerido en el caso de ofertar la prestación","Condición"]
[null,null,null,"Guía de Supervisión: Salud de Adolescentes. 2014",1,null,"Será requerido en el caso de ofertar la prestación","Condición"]
[null,null,null,"Manual de procedimientos de antropometría y determinación de la presión arterial. 2012",1,null,null,"Requerido"]
[null,null,null,"Acuerdo Ministerial 1124: Instructivo para el uso de la Receta Médica. ",1,null,"Será requerido para Establecimientos del MSP","Condición"]
[null,null,null,"Acuerdo Ministerial 4912: Reforma al Reglamento para la Gestión del Suministro de Medicamentos y Control Administrativo Financiero, y el Instructivo  para el uso de la Receta Médica.",1,null,"Será requerido para Establecimientos del MSP","Condición"]
[null,null,null,"Acuerdo Ministerial 5186: Reglamento Interministerial para la Gestión Integral de Desechos Sanitarios",1,null,null,"Requerido"]
[null,null,null,"Manual de Normas de Bioseguridad para la Red de Servicios de Salud en el Ecuador",1,null,null,"Requerido"]
[null,null,null,"Protocolos de Procedimientos de Limpieza y Desinfección",1,null,null,"Requerido"]
[null,null,null,"Registro de limpieza y desinfección del área funcional del Establecimiento",1,null,null,"Requerido"]
[null,null,null,"Registro de Mantenimiento de Equipos: Preventivo y/o Correctivo",1,null,null,"Requerido"]
[null,null,"Consultorio psicología","Instructivo para el Llenado del Registro Diario Automatizado de Consultas y Atenciones Ambulatorias (RDACAA). 2013",1,null,"Será requerido para Establecimientos del MSP","Condición"]
[null,null,null,"Clasificación Estadística Internacional de Enfermedades y Problemas Relacionados con la Salud. Décima Revisión - CIE10 ",1,null,null,"Requerido"]
[null,null,null,"Reglamento a la Ley Organica de Salud",1,null,null,"Requerido"]
[null,null,null,"Guía para la adecuación cultural de los servicios de salud. 2006",1,null,null,"Requerido"]
[null,null,null,"Manual del modelo de atención integral en salud - MAIS. 2013",1,null,null,"Requerido"]
[null,null,null,"Ley Derechos y Amparo al Paciente",1,null,null,"Requerido"]
[null,null,null,"Ley de sustancias estupefacientes y Psicotrópicas",1,null,null,"Requerido"]
[null,null,null,"Cuadro nacional de medicamentos básicos y registro terapéutico. 9na revisión",1,null,null,"Requerido"]
[null,null,null,"Acuerdo Ministerial 4693: Reforma a la 9na. Revisión del Cuadro Nacional de Medicamentos Básicos y Registro Terapéutico",1,null,null,"Requerido"]
[null,null,null,"Norma Técnica: Subsistema de Referencia, Derivación, Contrareferencia, Referencia inversa y Transferencia del Sistema Nacional de Salud. 2014",1,null,null,"Requerido"]
[null,null,null,"Protocolo: Atención integral del consumo nocivo de alcohol, tabaco y otras drogas. 2016",1,null,null,"Requerido"]
[null,null,null,"Fundamentos de la Prevención en Materia de Drogas",1,null,"Será requerido para Establecimientos del MSP","Condición"]
[null,null,null,"Guía de Abordaje del Tabaquismo en Atención Primaria de Salud",1,null,"Será requerido para Establecimientos del MSP","Condición"]
[null,null,null,"Plan Estratégico Nacional de Salud Mental 2015 - 2017",1,null,null,"Requerido"]
[null,null,null,"Modelo de Atención de Salud Mental, en el Marco del Modelo de Atención Integral de Salud (MAIS) - con enfoque familiar, comunitario e intercultural",1,null,null,"Requerido"]
[null,null,null,"Acuerdo Ministerial 1124: Instructivo para el uso de la Receta Médica. ",1,null,"Será requerido para Establecimientos del MSP","Condición"]
[null,null,null,"Acuerdo Ministerial 4912: Reforma al Reglamento para la Gestión del Suministro de Medicamentos y Control Administrativo Financiero, y el Instructivo  para el uso de la Receta Médica.",1,null,"Será requerido para Establecimientos del MSP","Condición"]
[null,null,null,"Acuerdo Ministerial 5186: Reglamento Interministerial para la Gestión Integral de Desechos Sanitarios",1,null,null,"Requerido"]
[null,null,null,"Manual de Normas de Bioseguridad para la Red de Servicios de Salud en el Ecuador",1,null,null,"Requerido"]
[null,null,null,"Protocolos de Procedimientos de Limpieza y Desinfección",1,null,null,"Requerido"]
[null,null,null,"Registro de limpieza y desinfección del área funcional del Establecimiento",1,null,null,"Requerido"]
[null,null,null,"Registro de Mantenimiento de Equipos: Preventivo y/o Correctivo",1,null,null,"Requerido"]
[null,null,"Enfermería","Instructivo para el Llenado del Registro Diario Automatizado de Consultas y Atenciones Ambulatorias (RDACAA). 2013",1,null,"Será requerido para Establecimientos del MSP","Condición"]
[null,null,null,"Clasificación Estadística Internacional de Enfermedades y Problemas Relacionados con la Salud. Décima Revisión - CIE10 ",1,null,null,"Requerido"]
[null,null,null,"Reglamento a la Ley Organica de Salud",1,null,null,"Requerido"]
[null,null,null,"Guía para la adecuación cultural de los servicios de salud. 2006",1,null,null,"Requerido"]
[null,null,null,"Manual del modelo de atención integral en salud - MAIS. 2013",1,null,null,"Requerido"]
[null,null,null,"Ley Derechos y Amparo al Paciente",1,null,null,"Requerido"]
[null,null,null,"Cuadro nacional de medicamentos básicos y registro terapéutico. 9na revisión",1,null,null,"Requerido"]
[null,null,null,"Acuerdo Ministerial 4693: Reforma a la 9na. Revisión del Cuadro Nacional de Medicamentos Básicos y Registro Terapéutico",1,null,null,"Requerido"]
[null,null,null,"Modelo de gestión de aplicación de consentimiento informado en práctica asistencial. 2015",1,null,null,"Requerido"]
[null,null,null,"Guía de Práctica Clínica: Cuidados Paliativos. 2014",1,null,null,"Requerido"]
[null,null,null,"Manual de procedimientos de Enfermería",1,null,null,"Requerido"]
[null,null,null,"Protocolo: Atención integral del consumo nocivo de alcohol, tabaco y otras drogas. 2016",1,null,null,"Requerido"]
[null,null,null,"Guía de Práctica Clínica: Prevención, Diagnóstico, Tratamiento y Control de la Tuberculosis. 2015",1,null,null,"Requerido"]
[null,null,null,"Manual de Normas y Procedimientos para el Control de la Tuberculosis en Ecuador. 2010",1,null,null,"Requerido"]
[null,null,null,"Guía de atención integral de adultos y Adolescentes con infección por VIH/SIDA. 2012",1,null,"Será requerido en el caso de ofertar la prestación","Condición"]
[null,null,null,"Normas y protocolos de atención integral de salud de las y los adultos mayores - 1. 2010",1,null,"Será requerido en el caso de ofertar la prestación","Condición"]
[null,null,null,"Normas y protocolos de atención integral de salud de las y los adultos mayores - 2. 2010",1,null,"Será requerido en el caso de ofertar la prestación","Condición"]
[null,null,null,"Normas y protocolos de atención integral de salud de las y los adultos mayores - 3. 2010",1,null,"Será requerido en el caso de ofertar la prestación","Condición"]
[null,null,null,"Manual para cuidadores de la persona adulta mayor dependiente",1,null,"Será requerido en el caso de ofertar la prestación","Condición"]
[null,null,null,"Normas de atención integral a la niñez. 2011 ",1,null,"Será requerido en el caso de ofertar la prestación","Condición"]
[null,null,null,"Normas y procedimientos para la atención integral de salud a adolescentes. 2009",1,null,"Será requerido en el caso de ofertar la prestación","Condición"]
[null,null,null,"Guía de Supervisión: Salud de Adolescentes. 2014",1,null,"Será requerido en el caso de ofertar la prestación","Condición"]
[null,null,null,"Promoción de la Salud Mental: Manejo del Estrés",1,null,null,"Requerido"]
[null,null,null,"Guía de Abordaje del Tabaquismo en Atención Primaria de Salud",1,null,null,"Requerido"]
[null,null,null,"Manual de procedimientos de antropometría y determinación de la presión arterial. 2012",1,null,null,"Requerido"]
[null,null,null,"Acuerdo Ministerial 1124: Instructivo para el uso de la Receta Médica. ",1,null,"Será requerido para Establecimientos del MSP","Condición"]
[null,null,null,"Acuerdo Ministerial 4912: Reforma al Reglamento para la Gestión del Suministro de Medicamentos y Control Administrativo Financiero, y el Instructivo  para el uso de la Receta Médica.",1,null,"Será requerido para Establecimientos del MSP","Condición"]
[null,null,null,"Acuerdo Ministerial 5186: Reglamento Interministerial para la Gestión Integral de Desechos Sanitarios",1,null,null,"Requerido"]
[null,null,null,"Manual de lencería sanitaria para los establecimientos de salud pertenecientes al MSP. 2014",1,null,"Será requerido para Establecimientos del MSP","Condición"]
[null,null,null,"Manual de Normas de Bioseguridad para la Red de Servicios de Salud en el Ecuador",1,null,null,"Requerido"]
[null,null,null,"Protocolos de Procedimientos de Limpieza y Desinfección",1,null,null,"Requerido"]
[null,null,null,"Registro de limpieza y desinfección del área funcional del Establecimiento",1,null,null,"Requerido"]
[null,null,null,"Registro de Mantenimiento de Equipos: Preventivo y/o Correctivo",1,null,null,"Requerido"]
["Asistencial","INTERNACIÓN/RESIDENCIA","Área de Internación/Residencia","Instructivo para el Llenado del Registro Diario Automatizado de Consultas y Atenciones Ambulatorias (RDACAA). 2013",1,null,"Será requerido para Establecimientos del MSP","Condición"]
[null,null,null,"Clasificación Estadística Internacional de Enfermedades y Problemas Relacionados con la Salud. Décima Revisión - CIE10 ",1,null,null,"Requerido"]
[null,null,null,"Reglamento a la Ley Organica de Salud",1,null,null,"Requerido"]
[null,null,null,"Guía para la adecuación cultural de los servicios de salud. 2006",1,null,null,"Requerido"]
[null,null,null,"Manual del modelo de atención integral en salud - MAIS. 2013",1,null,null,"Requerido"]
[null,null,null,"Ley Derechos y Amparo al Paciente",1,null,null,"Requerido"]
[null,null,null,"Ley de sustancias estupefacientes y Psicotrópicas",1,null,null,"Requerido"]
[null,null,null,"Cuadro nacional de medicamentos básicos y registro terapéutico. 9na revisión",1,null,null,"Requerido"]
[null,null,null,"Acuerdo Ministerial 4693: Reforma a la 9na. Revisión del Cuadro Nacional de Medicamentos Básicos y Registro Terapéutico",1,null,null,"Requerido"]
[null,null,null,"Norma Técnica: Subsistema de Referencia, Derivación, Contrareferencia, Referencia inversa y Transferencia del Sistema Nacional de Salud. 2014",1,null,null,"Requerido"]
[null,null,null,"Manual de Procedimientos del Subsistema Alerta Acción (SIVE) - Alerta. 2014",1,null,null,"Requerido"]
[null,null,null,"Guía de atención integral de adultos y Adolescentes con infección por VIH/SIDA. 2012",1,null,"Será requerido en el caso de ofertar la prestación","Condición"]
[null,null,null,"Protocolo: Atención integral del consumo nocivo de alcohol, tabaco y otras drogas. 2016",1,null,null,"Requerido"]
[null,null,null,"Guía de Práctica Clínica: Prevención, Diagnóstico, Tratamiento y Control de la Tuberculosis. 2015",1,null,null,"Requerido"]
[null,null,null,"Manual de Normas y Procedimientos para el Control de la Tuberculosis en Ecuador. 2010",1,null,null,"Requerido"]
[null,null,null,"Protocolo de atención en intoxicación aguda por opioides y sindrome de abstinencia. 2015",1,null,null,"Requerido"]
[null,null,null,"Normas y protocolos de atención integral de salud de las y los adultos mayores - 1. 2010",1,null,"Será requerido en el caso de ofertar la prestación","Condición"]
[null,null,null,"Normas y protocolos de atención integral de salud de las y los adultos mayores - 2. 2010",1,null,"Será requerido en el caso de ofertar la prestación","Condición"]
[null,null,null,"Normas y protocolos de atención integral de salud de las y los adultos mayores - 3. 2010",1,null,"Será requerido en el caso de ofertar la prestación","Condición"]
[null,null,null,"Carné Socio - Sanitario del Adulto Mayor",1,null,"Será requerido en el caso de ofertar la prestación","Condición"]
[null,null,null,"Normas y procedimientos para la atención integral de salud a adolescentes. 2009",1,null,"Será requerido en el caso de ofertar la prestación","Condición"]
[null,null,null,"Caja de herramientas. Documentos de Apoyo Técnico. Normas y protocolos de Atención Integral a los/las Adolescentes",1,null,"Será requerido en el caso de ofertar la prestación","Condición"]
[null,null,null,"Guía de Supervisión: Salud de Adolescentes. 2014",1,null,"Será requerido en el caso de ofertar la prestación","Condición"]
[null,null,null,"Norma Técnica de Atención Integral en Violencia de Género. 2014",1,null,null,"Requerido"]
[null,null,null,"Norma y protocolos de atención integral a la violencia de género, intrafamiliar y sexual por ciclos de vida. 2011",1,null,null,"Requerido"]
[null,null,null,"Introducción a la Guía de actividad Física dirigido al personal de salud I. 2011",1,null,null,"Requerido"]
[null,null,null,"Guía de actividad Física dirigido al personal de salud II. 2011",1,null,null,"Requerido"]
[null,null,null,"Manual de lencería sanitaria para los establecimientos de salud pertenecientes al MSP. 2014",1,null,"Será requerido para Establecimientos del MSP","Condición"]
[null,null,null,"Manual de procedimientos de antropometría y determinación de la presión arterial. 2012",1,null,null,"Requerido"]
[null,null,null,"Acuerdo Ministerial 1124: Instructivo para el uso de la Receta Médica. ",1,null,"Será requerido para Establecimientos del MSP","Condición"]
[null,null,null,"Acuerdo Ministerial 4912: Reforma al Reglamento para la Gestión del Suministro de Medicamentos y Control Administrativo Financiero, y el Instructivo  para el uso de la Receta Médica.",1,null,"Será requerido para Establecimientos del MSP","Condición"]
[null,null,null,"Acuerdo Ministerial 5186: Reglamento Interministerial para la Gestión Integral de Desechos Sanitarios",1,null,null,"Requerido"]
[null,null,null,"Manual de Normas de Bioseguridad para la Red de Servicios de Salud en el Ecuador",1,null,null,"Requerido"]
[null,null,null,"Protocolos de Procedimientos de Limpieza y Desinfección",1,null,null,"Requerido"]
[null,null,null,"Registro de limpieza y desinfección del área funcional del Establecimiento",1,null,null,"Requerido"]
[null,null,null,"Registro de Mantenimiento de Equipos: Preventivo y/o Correctivo",1,null,null,"Requerido"]
["Apoyo Terapéutico","Dotación de Medicamentos y Dispositivos Médicos\n (Farmacia)"," Área de Farmacia","Guia Recepción de Medicamentos",1,null,null,"Requerido"]
[null,null,null,"Manual de Procesos para la Gestión de Suministros de Medicamentos",1,null,null,"Requerido"]
[null,null,null,"Acuerdo Ministerial 1124: Instructivo para el uso de la Receta Médica. ",1,null,"Será requerido para Establecimientos del MSP","Condición"]
[null,null,null,"Acuerdo Ministerial 4912: Reforma al Reglamento para la Gestión del Suministro de Medicamentos y Control Administrativo Financiero, y el Instructivo  para el uso de la Receta Médica.",1,null,"Será requerido para Establecimientos del MSP","Condición"]
[null,null,null,"Cuadro nacional de medicamentos básicos y registro terapéutico. 9na revisión",1,null,null,"Requerido"]
[null,null,null,"Acuerdo Ministerial 4693: Reforma a la 9na. Revisión del Cuadro Nacional de Medicamentos Básicos y Registro Terapéutico",1,null,null,"Requerido"]
[null,null,null,"Acuerdo Ministerial 205: Reglamento para el registro y control sanitario de dispositivos médicos, reactivos bioquímicos y de diagnóstico; y, productos dentales",1,null,null,"Requerido"]
[null,null,null,"Acuerdo Ministerial 4872: Reglamento de buenas prácticas de almacenamiento, distribución y transporte para establecimientos farmacéuticos",1,null,null,"Requerido"]
[null,null,null,"Registro de Temperatura de los refrigeradores ",1,null,null,"Requerido"]
[null,null,null,"Registro de Temperatura y Humedad ambiental",1,null,null,"Requerido"]
[null,null,null,"Acuerdo Ministerial 5186: Reglamento Interministerial para la Gestión Integral de Desechos Sanitarios",1,null,null,"Requerido"]
[null,null,null,"Manual de Normas de Bioseguridad para la Red de Servicios de Salud en el Ecuador",1,null,null,"Requerido"]
[null,null,null,"Protocolos de Procedimientos de Limpieza y Desinfección",1,null,null,"Requerido"]
[null,null,null,"Registro de limpieza y desinfección del área funcional del Establecimiento",1,null,null,"Requerido"]
[null,null,null,"Registro de Mantenimiento de Equipos: Preventivo y/o Correctivo",1,null,null,"Requerido"]
["Apoyo Diagnóstico y Terapéutico","Rehabilitación","Taller ocupacional  y de uso múltiple","Instructivo para el Llenado del Registro Diario Automatizado de Consultas y Atenciones Ambulatorias (RDACAA). 2013",1,null,"Será requerido para Establecimientos del MSP","Condición"]
[null,null,null,"Ley Derechos y Amparo al Paciente impreso en formato A0",1,null,null,"Requerido"]
[null,null,null,"Acuerdo Ministerial 5186: Reglamento Interministerial para la Gestión Integral de Desechos Sanitarios",1,null,null,"Condición"]
[null,null,null,"Manual de Normas de Bioseguridad para la Red de Servicios de Salud en el Ecuador",1,null,null,"Condición"]
[]
[null,null,null,"Protocolos de Procedimientos de Limpieza y Desinfección",1,null,null,"Condición"]
[null,null,null,"Registro de limpieza y desinfección del área funcional del Establecimiento",1,null,null,"Condición"]
[null,null,null,"Registro de Mantenimiento de Equipos: Preventivo y/o Correctivo",1,null,null,"Condición"]
[null,null,null,"Registro Diario de Terapias ",1,null,null,"Condición"]
[null,null,"Sala de cinesiterapia","Instructivo para el Llenado del Registro Diario Automatizado de Consultas y Atenciones Ambulatorias (RDACAA). 2013",1,null,"Será requerido para Establecimientos del MSP","Condición"]
[null,null,null,"Acuerdo Ministerial 5186: Reglamento Interministerial para la Gestión Integral de Desechos Sanitarios",1,null,null,"Condición"]
[null,null,null,"Manual de Normas de Bioseguridad para la Red de Servicios de Salud en el Ecuador",1,null,null,"Condición"]
[null,null,null,"Protocolos de Procedimientos de Limpieza y Desinfección",1,null,null,"Condición"]
[null,null,null,"Registro de limpieza y desinfección del área funcional del Establecimiento",1,null,null,"Condición"]
[null,null,null,"Registro de Mantenimiento de Equipos: Preventivo y/o Correctivo",1,null,null,"Condición"]
[null,null,null,"Registro Diario de Terapias ",1,null,null,"Condición"]
["Apoyo Terapéutico","NUTRICIÓN Y DIETETICA","Área de comedor","Ley Derechos y Amparo al Paciente impreso en formato A0",1,null,null,"Requerido"]
[null,null,null,"Acuerdo Ministerial 5186: Reglamento Interministerial para la Gestión Integral de Desechos Sanitarios",1,null,null,"Requerido"]
[null,null,null,"Manual de Normas de Bioseguridad para la Red de Servicios de Salud en el Ecuador",1,null,null,"Requerido"]
[null,null,null,"Protocolos de Procedimientos de Limpieza",1,null,null,"Requerido"]
[null,null,"Área técnica de cocina","Ley Derechos y Amparo al Paciente",1,null,null,"Requerido"]
[null,null,null,"Guía para la adecuación cultural de los servicios de salud. 2006",1,null,null,"Requerido"]
[null,null,null,"Manual del modelo de atención integral en salud - MAIS. 2013",1,null,null,"Requerido"]
[null,null,null,"Normas y protocolos para la alimentación y nutrición en la atención integral a personas que viven con VIH/SIDA. 2010",1,null,"Será requerido en el caso de ofertar la prestación","Condición"]
[null,null,null,"Procolo de Atención y Manual de Consejería para el Crecimiento del niño y la niña. 2011",1,null,"Será requerido en el caso de ofertar la prestación","Condición"]
[null,null,null,"Normas de nutrición para la prevención primaria y control del sobrepeso y la obesidad en niñas, niños y adolescentes. 2011",1,null,"Será requerido en el caso de ofertar la prestación","Condición"]
[null,null,null,"Normas de nutrición para la prevención secundaria y control del sobrepeso y la obesidad en niñas, niños y adolescentes. 2011",1,null,"Será requerido en el caso de ofertar la prestación","Condición"]
[null,null,null,"Manual de consejería nutricional para el crecimiento y alimentacion de niños y niñas menores de cinco años y de cinco a nueve años. 2011",1,null,"Será requerido en el caso de ofertar la prestación","Condición"]
[null,null,null,"Acuerdo Ministerial 5186: Reglamento Interministerial para la Gestión Integral de Desechos Sanitarios",1,null,null,"Requerido"]
[null,null,null,"Manual de Normas de Bioseguridad para la Red de Servicios de Salud en el Ecuador",1,null,null,"Requerido"]
[null,null,null,"Protocolos de Procedimientos de Limpieza y Desinfección",1,null,null,"Requerido"]
[null,null,null,"Registro de limpieza y desinfección del área funcional del Establecimiento",1,null,null,"Requerido"]
[null,null,null,"Registro de Mantenimiento de Equipos: Preventivo y/o Correctivo",1,null,null,"Requerido"]
["Administrativo"," ADMINISTRACION TÉCNICA","Despacho del Responsable Técnico","Constitución de la Republica del Ecuador",1,null,null,"Requerido"]
[null,null,null,"Plan Nacional del Buen Vivir 2013-2017",1,null,null,"Requerido"]
[null,null,null,"Agenda Social 2017",1,null,null,"Requerido"]
[null,null,null,"Código Orgánico Integral Penal - COIP",1,null,null,"Requerido"]
[null,null,null,"Ley Orgánica del Servidor Publico - LOSEP",1,null,"Será requerido para Establecimientos del MSP","Condición"]
[null,null,null,"Reglamento a Ley Orgánica del Servidor Publico - LOSEP",1,null,"Será requerido para Establecimientos del MSP","Condición"]
[null,null,null,"Codificación del Código del Trabajo (2005)",1,null,null,"Requerido"]
[null,null,null,"Código Orgánico de Organización Territorial, Autonomia y Descentralización - COOTAD",1,null,null,"Requerido"]
[null,null,null,"Instructivo para el Llenado del Registro Diario Automatizado de Consultas y Atenciones Ambulatorias (RDACAA). 2013",1,null,"Será requerido para Establecimientos del MSP","Condición"]
[null,null,null,"Distribución Zonas Distritos 2011",1,null,null,"Requerido"]
[null,null,null,"Manual del Sistema Organizado de la Red de Servicios de Salud",1,null,null,"Requerido"]
[null,null,null,"Acuerdo Ministerial 80: Normativa Sanitaria para el control y vigilancia de los establecimientos de salud que prestan servicios de tratamiento a personas con consumo problemático de alcohol y otras drogas (ESTAD)",1]
[null,null,null,"Guía para la adecuación cultural de los servicios de salud. 2006",1,null,null,"Requerido"]
[null,null,null,"Norma Técnica: Subsistema de Referencia, Derivación, Contrareferencia, Referencia inversa y Transferencia del Sistema Nacional de Salud. 2014",1,null,null,"Requerido"]
[null,null,null,"Políticas Uso de Servicios de Red y Servicios Informáticos del Ministerio de Salud Pública",1,null,"Será requerido para Establecimientos del MSP","Condición"]
[null,null,null,"Modelo de Gestión de requerimientos e inconformidades ciudadanas para mejorar los servicios de salud a nivel nacional",1,null,null,"Requerido"]
[null,null,null,"Reglamento de Señalización de Seguridad para Establecimientos de Salud",1,null,null,"Requerido"]
[null,null,null,"Registro de Atenciones de Morbilidad y Mortalidad",1,null,null,"Requerido"]
[null,null,null,"Acuerdo Ministerial 5212: Tipología Sustitutiva para Homologar los Establecimientos de Salud por Niveles de Atención y Servicios de Apoyo del Sistema Nacional de Salud",1,null,null,"Requerido"]
[null,null,null,"Registro de Mantenimiento de Equipos: Preventivo o Correctivo ",1,null,null,"Requerido"]
[null,null,null,"Registro Consolidado de mantenimiento de equipos: preventio y/o correctivo",1,null,null,"Requerido"]
[null,null,null,"Protocolo de procedimientos de enfermería",1,null,null,"Requerido"]
[null,null,null,"Plan de Gestión Integral de Desechos Sanitarios",1,null,null,"Requerido"]
[null,null,null,"Protocolos de Limpieza y Desinfección",1,null,null,"Requerido"]
[null,null,null,"Registro Consolidado de limpieza de las áreas funcionales del Establecimiento",1,null,null,"Requerido"]
[null,null,null,"Programa anual de capacitación continua para el personal del Establecimiento",1,null,null,"Requerido"]
[null,null,null,"Registros de asistencias del personal del Establecimiento a capacitaciones",1,null,null,"Requerido"]
[null,null,null,"Programa Terapéutico del Establecimiento",1,null,null,"Requerido"]
[null,null,null,"Registro de Evolución de la Atención Médica y Procedimientos Efectuados",1,null,null,"Requerido"]
[null,null,null,"Reglamento interno",1,null,null,"Requerido"]
[null,null,null,"Organigrama del establecimiento",1,null,null,"Requerido"]
[null,null,null,"Protocolo interno de medidas de seguridad para la protección física e integridad de los usuarios/pacientes",1,null,null,"Requerido"]
[null,null,null,"Bitácora  de las actividades que desarrollan los usuarios/pacientes"]
[null,null,null,"Registro de visitas a usuarios/pacientes",1,null,null,"Requerido"]
[null,null,null,"Manual de Normas de Bioseguridad para la Red de Servicios de Salud en el Ecuador.",1,null,null,"Requerido"]
[null,null,null,"Plan de Gestión Integral de Desechos Sanitarios",1,null,null,"Requerido"]
[null,null,null,"Acuerdo Ministerial 5186: Reglamento Interministerial para la Gestión Integral de Desechos Sanitarios",1,null,null,"Requerido"]
[null,null,"Oficina de Trabajo Social","Reglamento a la Ley Organica de Salud",1,null,null,"Requerido"]
[null,null,null,"Guía para la adecuación cultural de los servicios de salud. 2006",1,null,null,"Requerido"]
[null,null,null,"Manual del modelo de atención integral en salud - MAIS. 2013",1,null,null,"Requerido"]
[null,null,null,"Ley Derechos y Amparo al Paciente",1,null,null,"Requerido"]
[null,null,null,"Cuadro nacional de medicamentos básicos y registro terapéutico. 9na revisión",1,null,null,"Requerido"]
[null,null,null,"Acuerdo Ministerial 5186: Reglamento Interministerial para la Gestión Integral de Desechos Sanitarios",1,null,null,"Requerido"]
[null,null,null,"Manual de Normas de Bioseguridad para la Red de Servicios de Salud en el Ecuador",1,null,null,"Requerido"]
[null,null,null,"Protocolos de Procedimientos de Limpieza, Desinfección y Esterilización",1,null,null,"Requerido"]
[null,null,null,"Registro de limpieza y desinfección del área funcional del Establecimiento",1,null,null,"Requerido"]
[null,null,null,"Registro de Mantenimiento de Equipos: Preventivo y/o Correctivo",1,null,null,"Requerido"]
["General","SERVICIOS INTERNOS DE APOYO",null,"Acuerdo Ministerial 5186: Reglamento Interministerial para la Gestión Integral de Desechos Sanitarios",1,null,null,"Requerido"]
[null,null,null,"Manual de Normas de Bioseguridad para la Red de Servicios de Salud en el Ecuador",1,null,null,"Requerido"]
[null,null,null,"Protocolos de Procedimientos de Limpieza, Desinfección y Esterilización",1,null,null,"Requerido"]
[null,null,null,"Registro de limpieza y desinfección del área funcional del Establecimiento",1,null,null,"Requerido"]
[null,null,null,"Registro de Mantenimiento de Equipos: Preventivo y/o Correctivo",1,null,null,"Requerido"]
[null,null,null,"Acuerdo Ministerial 5186 - Reglamento Interministerial para la Gestión Integral de Desechos Sanitarios Manejo de los Desechos Sanitarios",1,null,null,"Condición"]

{"sheet":"Menu","index":3,"n_rows":22,"n_cols":3,"rows_kept":22,"cut":false,"hidden":false,"merged":[[17,3,17,11],[14,0,14,2],[15,0,15,2],[3,0,3,12],[4,0,5,12],[9,3,9,11],[10,3,10,11],[11,3,11,11],[12,3,12,11],[13,3,13,11],[14,3,14,11],[18,3,18,11],[19,3,19,11],[20,3,20,11],[21,3,21,11],[7,0,7,2],[8,0,8,2],[20,0,20,2],[19,0,19,2],[11,0,11,2],[13,0,13,2],[7,3,7,11],[8,3,8,11],[16,0,16,2],[17,0,17,2],[15,3,15,11],[16,3,16,11]]}
[]
[]
[]
["MATRIZ DE LICENCIAMIENTO:"]
["CENTRO ESPECIALIZADO EN TRATAMIENTO PARA PERSONAS CON CONSUMO PROBLEMÁTICO DE ALCOHOL Y OTRAS DROGAS (CETADS)"]
[]
[]
["ENTIDAD DEL SISTEMA:"]
["NOMBRE UNIDAD OPERATIVA:"]
[null,null,"UNICÓDIGO:"]
[null,null,"REPRESENTANTE LEGAL:"]
["R.U.C:"]
[null,null,"REGIÓN:"]
["PROVINCIA:"]
["CANTÓN:"]
["PARROQUIA:"]
["DISTRIBUCIÓN ZONAL SENPLADES:"]
["ÁREA/DISTRITO:"]
[null,null,"DIRECCIÓN:"]
["TELÉFONO:"]
["CORREO ELECTRÓNICO DEL ESTABLECIMIENTO:"]
[null,null,"FECHA:"]

{"sheet":"Infraestructura","index":4,"n_rows":284,"n_cols":70,"rows_kept":284,"cut":false,"hidden":false,"merged":[[2,40,2,47],[2,48,2,55],[2,56,2,63],[2,32,2,39],[180,58,180,59],[180,62,180,63],[180,40,180,41],[180,42,180,43],[180,46,180,47],[180,48,180,49],[180,50,180,51],[180,54,180,55],[180,56,180,57],[180,52,180,53],[180,60,180,61],[179,40,179,47],[179,48,179,55],[179,56,179,63],[283,0,283,4],[180,0,180,6],[221,0,221,6],[218,0,218,4],[222,0,222,1],[227,32,227,39],[1,34,1,35],[1,38,1,39],[225,32,225,39],[223,24,223,31],[224,24,224,31],[225,24,225,31],[2,24,2,31],[1,28,1,29],[1,36,1,37],[227,24,227,31],[160,0,160,10],[164,0,164,10],[169,0,169,10],[172,0,172,10],[176,0,176,10],[186,0,186,1],[187,0,187,1],[228,32,228,39],[1,24,1,25],[1,26,1,27],[1,30,1,31],[222,32,222,39],[223,32,223,39],[224,32,224,39],[1,32,1,33],[67,0,67,10],[99,0,99,10],[120,0,120,10],[129,0,129,10],[130,0,130,10],[138,0,138,10],[68,0,68,10],[149,0,149,10],[156,0,156,10],[1,0,1,10],[2,0,2,10],[2,16,2,23],[26,0,26,10],[14,0,14,10],[13,0,13,10],[12,0,12,10],[5,0,5,10],[216,0,216,4],[213,0,213,4],[4,0,4,10],[3,0,3,10],[1,16,1,17],[1,18,1,19],[1,22,1,23],[1,20,1,21],[69,0,69,10],[78,0,78,10],[87,0,87,10],[79,0,79,10],[80,0,80,10],[189,0,189,1],[282,0,282,4],[275,0,275,4],[277,0,277,6],[1,40,1,41],[226,32,226,39],[190,0,190,1],[188,0,188,1],[182,0,182,1],[181,0,181,1],[192,0,192,1],[184,0,184,1],[183,0,183,1],[185,0,185,1],[109,0,109,10],[110,0,110,10],[111,0,111,10],[100,0,100,10],[98,0,98,10],[247,0,247,4],[248,0,248,4],[249,0,249,6],[250,0,250,1],[278,0,278,4],[210,0,210,1],[1,42,1,43],[1,44,1,45],[1,46,1,47],[276,0,276,4],[269,0,269,4],[272,0,272,4],[180,44,180,45],[281,0,281,4],[27,0,27,10],[28,0,28,10],[59,0,59,10],[49,0,49,10],[145,0,145,10],[144,0,144,10],[29,0,29,10],[40,0,40,10],[32,3,33,3],[57,0,57,10],[58,0,58,10],[60,0,60,10],[228,24,228,31],[222,24,222,31],[226,24,226,31],[217,0,217,6]]}
["FILTROS:","Anx:","Requerido:","m² Util:","Tipo:","BUENO:","MALO:","Calif:",null,null,"Observaciones:"]
[{"$f":"Menu!$A$5","v":"CENTRO ESPECIALIZADO EN TRATAMIENTO PARA PERSONAS CON CONSUMO PROBLEMÁTICO DE ALCOHOL Y OTRAS DROGAS (CETADS)"},null,null,null,null,null,null,null,null,null,null,null,null,null,null,null,"req",null,"cond +",null,"cond -",null,"des",null,"req",null,"cond+",null,"cond -",null,"des",null,"req",null,"cond+",null,"cond -",null,"des",null,"req",null,"cond+",null,"cond -",null,"des"]
["INFRAESTRUCTURA",null,null,null,null,null,null,null,null,null,null,null,null,null,null,null,"AMBIENTES",null,null,null,null,null,null,null,"INSTALACIONES GENERALES",null,null,null,null,null,null,null,"INSTALACIONES - ESTRUCTURA ",null,null,null,null,null,null,null,"TOTAL AMBIENTES",null,null,null,null,null,null,null,"TOTAL INSTALACIONES GENERALES",null,null,null,null,null,null,null,"TOTAL INSTALACIONES GESTRUCTURA"]
["ADMINISTRATIVO",null,null,null,null,null,null,null,null,null,null,null,null,null,null,null,null,null,null,null,null,null,null,null,null,null,null,null,null,null,null,null,null,null,null,null,null,null,null,null,{"$f":"SUM(Q5:Q12)","v":20},0,0,0,0,0,0,0,10,0,0,0,0,0,0,0,10,0,0,0,0,0,0,0]
["ADMISIÓN Y ESTADÍSTICA",null,null,null,null,null,null,null,null,null,null,null,null,null,null,null,null,null,null,null,null,null,null,null,null,null,null,null,null,null,null,null,null,null,null,null,null,null,null,null,{"$f":"SUM(Q6:Q12)","v":20},0,0,0,0,0,0,0,10,0,0,0,0,0,0,0,10,0,0,0,0,0,0,0]
["ÁREA TÉCNICA",null,null,null,null,null,null,null,null,null,null,null,null,null,null,null,null,null,null,null,null,null,null,null,null,null,null,null,null,null,null,null,null,null,null,null,null,null,null,null,{"$f":"SUM(Q7:Q12)","v":20},0,0,0,0,0,0,0,10,0,0,0,0,0,0,0,10,0,0,0,0,0,0,0]
["AMBIENTES",{"$f":"B1","v":"Anx:"},{"$f":"C$1","v":"Requerido:"},"m² Util:","Tipo:","BUENO:","MALO:",null,null,"Calif:","Observaciones:",null,null,null,null,null,null,null,null,null,null,null,null,null,null,null,null,null,null,null,null,null,null,null,null,null,null,null,null,null,{"$f":"SUM(Q8:Q9)","v":20},0,0,0,0,0,0,0,0,0,0,0,0,0,0,0,0,0,0,0,0,0,0,0]
["Admisión, Información y Recepción",null,1,"-","Requerido",0,0,{"$f":"IF(AND(F8>=C8,F8>0),10,0)","v":0},{"$f":"IF(AND(G8>=C8,C8>0,G8>=1),10,0)","v":0},{"$f":"H8-I8","v":0},null,null,null,null,null,null,{"$f":"IF(UPPER(E8)=\"REQUERIDO\", 10, \"\")","v":10},{"$f":"IF(UPPER(E8)=\"REQUERIDO\", H8, \"\")","v":0}]
["Archivo",null,1,"-","Requerido",0,0,{"$f":"IF(AND(F9>=C9,F9>0),10,0)","v":0},{"$f":"IF(AND(G9>=C9,C9>0,G9>=1),10,0)","v":0},{"$f":"H9-I9","v":0},null,null,null,null,null,null,{"$f":"IF(UPPER(E9)=\"REQUERIDO\", 10, \"\")","v":10},{"$f":"IF(UPPER(E9)=\"REQUERIDO\", H9, \"\")","v":0}]
["INSTALACIONES",{"$f":"B1","v":"Anx:"},{"$f":"C$1","v":"Requerido:"},"m² Util:","Tipo:","BUENO:","MALO:",null,null,"Calif:","Observaciones:",null,null,null,null,null,null,null,null,null,null,null,null,null,null,null,null,null,null,null,null,null,null,null,null,null,null,null,null,null,{"$f":"SUM(Q11:Q12)","v":0},{"$f":"SUM(R11:R12)","v":0},{"$f":"SUM(S11:S12)","v":0},{"$f":"SUM(T11:T12)","v":0},{"$f":"SUM(U11:U12)","v":0},0,0,0,10,0,0,0,0,0,0,0,10,0,0,0,0,0,0,0]
["Estructura General ","EG_01",1,"-","Requerido",0,0,{"$f":"IF(AND(F11>=C11,F11>0),10,0)","v":0},{"$f":"IF(AND(G11>=C11,C11>0,G11>=1),10,0)","v":0},{"$f":"H11-I11","v":0},null,null,null,null,null,null,null,null,null,null,null,null,null,null,null,null,null,null,null,null,null,null,{"$f":"IF(UPPER(E11)=\"REQUERIDO\", 10, \"\")","v":10},{"$f":"IF(UPPER(E11)=\"REQUERIDO\", H11, \"\")","v":0}]
["Instalaciones Generales","IG_01",1,"-","Requerido",0,0,{"$f":"IF(AND(F12>=C12,F12>0),10,0)","v":0},{"$f":"IF(AND(G12>=C12,C12>0,G12>=1),10,0)","v":0},{"$f":"H12-I12","v":0},null,null,null,null,null,null,null,null,null,null,null,null,null,null,{"$f":"IF(UPPER(E12)=\"REQUERIDO\", 10, \"\")","v":10},{"$f":"IF(UPPER(E12)=\"REQUERIDO\", H12, \"\")","v":0}]
["ASISTENCIAL",null,null,null,null,null,null,null,null,null,null,null,null,null,null,null,null,null,null,null,null,null,null,null,null,null,null,null,null,null,null,null,null,null,null,null,null,null,null,null,{"$f":"SUM(Q14:Q26)","v":60},{"$f":"SUM(R14:R26)","v":0},{"$f":"SUM(S14:S26)","v":0},{"$f":"SUM(T14:T26)","v":0},{"$f":"SUM(U14:U26)","v":0},0,10,0,10,0,0,0,0,0,0,0,10,0,0,0,0,0,0,0]
["CONSULTA EXTERNA",null,null,null,null,null,null,null,null,null,null,null,null,null,null,null,null,null,null,null,null,null,null,null,null,null,null,null,null,null,null,null,null,null,null,null,null,null,null,null,{"$f":"SUM(Q15:Q26)","v":60},{"$f":"SUM(R15:R26)","v":0},{"$f":"SUM(S15:S26)","v":0},{"$f":"SUM(T15:T26)","v":0},{"$f":"SUM(U15:U26)","v":0},0,10,0,10,0,0,0,0,0,0,0,10,0,0,0,0,0,0,0]
["ÁREA DE ATENCIÓN DE CONSULTA",null,null,null,null,null,null,null,null,null,null,null,null,null,null,null,null,null,null,null,null,null,null,null,null,null,null,null,null,null,null,null,null,null,null,null,null,null,null,null,{"$f":"SUM(Q16:Q26)","v":60},{"$f":"SUM(R16:R26)","v":0},{"$f":"SUM(S16:S26)","v":0},{"$f":"SUM(T16:T26)","v":0},{"$f":"SUM(U16:U26)","v":0},0,10,0,10,0,0,0,0,0,0,0,10,0,0,0,0,0,0,0]
["AMBIENTES",{"$f":"B1","v":"Anx:"},{"$f":"C$1","v":"Requerido:"},"m² Util:","Tipo:","BUENO:","MALO:",null,null,"Calif:","Observaciones:",null,null,null,null,null,null,null,null,null,null,null,null,null,null,null,null,null,null,null,null,null,null,null,null,null,null,null,null,null,{"$f":"SUM(Q17:Q23)","v":60},{"$f":"SUM(R17:R23)","v":0},{"$f":"SUM(S17:S23)","v":0},{"$f":"SUM(T17:T23)","v":0},{"$f":"SUM(U17:U23)","v":0},0,10,0,0,0,0,0,0,0,0,0,0,0,0,0,0,0,0,0]
["Sala de espera",null,1,"Para construcciones nuevas es deseable 1 m2 por cama de la unidad","Requerido",0,0,{"$f":"IF(AND(F17>=C17,F17>0),10,0)","v":0},{"$f":"IF(AND(G17>=C17,C17>0,G17>=1),10,0)","v":0},{"$f":"H17-I17","v":0},null,null,null,null,null,null,{"$f":"IF(UPPER(E17)=\"REQUERIDO\", 10, \"\")","v":10},{"$f":"IF(UPPER(E17)=\"REQUERIDO\", H17, \"\")","v":0}]
["Baños/Baterías Sanitarias para personas con discapacidad-puede ser un ambiente exclusivo o puede estar incorporado al ambiente general de baños/baterías  sanitarias",null,1,"Para construcciones nuevas es obligatorio y las existentes deberán adecuar este ambiente funcional para el próximo licenciamiento.  Las construcciones nuevas deben cumplir con la normativa específica para personas con discapacidad","Deseable",0,0,0,0,0,null,null,null,null,null,null,null,null,null,null,null,null,{"$f":"IF(UPPER(E18)=\"DESEABLE\", 10, \"\")","v":10},{"$f":"IF(UPPER(E18)=\"DESEABLE\", H18, \"\")","v":0}]
["Baños/Baterías Sanitarias por puestos",null,1,"Para construcciones nuevas y existentes diferenciado para hombres y mujeres","Requerido",0,0,0,0,0,null,null,null,null,null,null,{"$f":"IF(UPPER(E19)=\"REQUERIDO\", 10, 0)","v":10},{"$f":"IF(UPPER(E19)=\"REQUERIDO\", H19, \"\")","v":0}]
["Baños/Baterías Sanitarias(compartido)",null,1,"Para construcciones nuevas y existentes diferenciado para hombres y mujeres","Requerido",0,0,0,0,0,null,null,null,null,null,null,{"$f":"IF(UPPER(E20)=\"REQUERIDO\", 10, \"\")","v":10},{"$f":"IF(UPPER(E20)=\"REQUERIDO\", H20, \"\")","v":0}]
["Consultorio polivalente (Psiquiatría/Medicina Interna/Familiar y Comunitaria/General)",null,1,"Para construcciones nuevas deseable 16 m2","Requerido",0,0,0,0,0,null,null,null,null,null,null,{"$f":"IF(UPPER(E21)=\"REQUERIDO\", 10, \"\")","v":10},{"$f":"IF(UPPER(E21)=\"REQUERIDO\", H21, \"\")","v":0}]
["Consultorio de psicología",null,1,"Para construcciones nuevas, mínimo deseable 12 m2","Requerido",0,0,0,0,0,null,null,null,null,null,null,{"$f":"IF(UPPER(E22)=\"REQUERIDO\", 10, \"\")","v":10},{"$f":"IF(UPPER(E22)=\"REQUERIDO\", H22, \"\")","v":0}]
["Enfermería",null,1,"Realización de mediciones clínicas o somatométricas previas al ingreso en los consultorios polivalentes y para proceder en el caso de curaciones.","Requerido",0,0,0,0,0,null,null,null,null,null,null,{"$f":"IF(UPPER(E23)=\"REQUERIDO\", 10, \"\")","v":10},{"$f":"IF(UPPER(E23)=\"REQUERIDO\", H23, \"\")","v":0}]
["INSTALACIONES",{"$f":"B1","v":"Anx:"},{"$f":"C$1","v":"Requerido:"},"m² Util:","Tipo:","BUENO:","MALO:",null,null,"Calif:","Observaciones:",null,null,null,null,null,null,null,null,null,null,null,null,null,null,null,null,null,null,null,null,null,null,null,null,null,null,null,null,null,{"$f":"SUM(Q25:Q26)","v":0},{"$f":"SUM(R25:R26)","v":0},{"$f":"SUM(S25:S26)","v":0},{"$f":"SUM(T25:T26)","v":0},{"$f":"SUM(U25:U26)","v":0},0,0,0,10,0,0,0,0,0,0,0,10,0,0,0,0,0,0,0]
["Estructura General ","EG_01",1,"-","Requerido",0,0,{"$f":"IF(AND(F25>=C25,F25>0),10,0)","v":0},{"$f":"IF(AND(G25>=C25,C25>0,G25>=1),10,0)","v":0},{"$f":"H25-I25","v":0},null,null,null,null,null,null,null,null,null,null,null,null,null,null,null,null,null,null,null,null,null,null,{"$f":"IF(UPPER(E11)=\"REQUERIDO\", 10, \"\")","v":10},{"$f":"IF(UPPER(E11)=\"REQUERIDO\", H11, \"\")","v":0}]
["Instalaciones Generales","IG_01",1,"-","Requerido",0,0,{"$f":"IF(AND(F26>=C26,F26>0),10,0)","v":0},{"$f":"IF(AND(G26>=C26,C26>0,G26>=1),10,0)","v":0},{"$f":"H26-I26","v":0},null,null,null,null,null,null,null,null,null,null,null,null,null,null,{"$f":"IF(UPPER(E12)=\"REQUERIDO\", 10, \"\")","v":10},{"$f":"IF(UPPER(E12)=\"REQUERIDO\", H12, \"\")","v":0}]
["ASISTENCIAL",null,null,null,null,null,null,null,null,null,null,null,null,null,null,null,null,null,null,null,null,null,null,null,null,null,null,null,null,null,null,null,null,null,null,null,null,null,null,null,{"$f":"SUM(Q28:Q57)","v":70},{"$f":"SUM(R28:R57)","v":0},{"$f":"SUM(S28:S57)","v":60},{"$f":"SUM(T28:T57)","v":0},{"$f":"SUM(U28:U57)","v":60},0,0,0,{"$f":"SUM(Y28:Y57)","v":20},0,10,0,10,0,0,0,{"$f":"SUM(AG28:AG57)","v":20},0,10,0,10,0,0,0]
["INTERNACIÓN / RESIDENCIA",null,null,null,null,null,null,null,null,null,null,null,null,null,null,null,null,null,null,null,null,null,null,null,null,null,null,null,null,null,null,null,null,null,null,null,null,null,null,null,{"$f":"SUM(Q30:Q57)","v":70},{"$f":"SUM(R30:R57)","v":0},{"$f":"SUM(S30:S57)","v":60},{"$f":"SUM(T30:T57)","v":0},{"$f":"SUM(U30:U57)","v":60},0,0,0,20,0,10,0,10,0,0,0,20,0,10,0,10,0,0,0]
["El establecimiento contará con infraestructura, y equipamiento adecuado diferenciado para el tratamiento de adultos, adultas, niños y adolescentes hombres, niñas y adolescentes mujeres. Las instalaciones pueden estar ubicadas en un mismo inmueble, sin embargo cada grupo etario (adultos, adultas), (niños y adolescentes hombres), (niñas y adolescentes mujeres) debe tener independencia y privacidad entre ellos, así como medidas de seguridad estrictas que garanticen la integridad de los pacientes con consumo problemático de alcohol y otras drogas"]
["ÁREA DE INTERNACIÓN/RESIDENCIA",null,null,null,null,null,null,null,null,null,null,null,null,null,null,null,null,null,null,null,null,null,null,null,null,null,null,null,null,null,null,null,null,null,null,null,null,null,null,null,{"$f":"SUM(Q31:Q37)","v":40},{"$f":"SUM(R31:R37)","v":0},{"$f":"SUM(S31:S37)","v":20},{"$f":"SUM(T31:T37)","v":0},{"$f":"SUM(U31:U37)","v":20},0,0,0,0,0,0,0,0,0,0,0,0,0,0,0,0,0,0,0]
["AMBIENTES",{"$f":"B1","v":"Anx:"},{"$f":"C$1","v":"Requerido:"},"m² Util:","Tipo:","BUENO:","MALO:",null,null,"Calif:","Observaciones:",null,null,null,null,null,null,null,null,null,null,null,null,null,null,null,null,null,null,null,null,null,null,null,null,null,null,null,null,null,{"$f":"SUM(Q32:Q37)","v":40},{"$f":"SUM(R32:R37)","v":0},{"$f":"SUM(S32:S37)","v":20},{"$f":"SUM(T32:T37)","v":0},{"$f":"SUM(U32:U37)","v":20},0,0,0,0,0,0,0,0,0,0,0,0,0,0,0,0,0,0,0]
["Habitación individual/múltiple",null,1,"Por cada cama mínimo 5 m2, incluye mesita/velador  de 60 cm de ancho por 40 cm de profundidad","Requerido",0,0,{"$f":"IF(AND(F32>=C32,F32>0),10,0)","v":0},{"$f":"IF(AND(G32>=C32,C32>0,G32>=1),10,0)","v":0},{"$f":"H32-I32","v":0},null,null,null,null,null,null,{"$f":"IF(UPPER(E32)=\"REQUERIDO\", 10, \"\")","v":10},{"$f":"IF(UPPER(E32)=\"REQUERIDO\", H32, \"\")","v":0}]
["Baño de la habitación por puestos",null,1,"Se debe calcular según cantidad de usuarios. Mínimo 3m2. ","Requerido",0,0,0,0,0,null,null,null,null,null,null,{"$f":"IF(UPPER(E33)=\"REQUERIDO\", 10, \"\")","v":10},{"$f":"IF(UPPER(E33)=\"REQUERIDO\", H33, \"\")","v":0}]
["Baño de la habitación (compartido)",null,1,null,"Requerido",0,0,0,0,0,null,null,null,null,null,null,{"$f":"IF(UPPER(E34)=\"REQUERIDO\", 10, 0)","v":10},{"$f":"IF(UPPER(E34)=\"REQUERIDO\", H34, \"\")","v":0}]
["Estar de personal- Será requerido en caso de no contar con Habitación de personal",null,1," Dimensionar según demanda funcional-","Condición",0,0,0,0,0,null,null,null,null,null,null,null,null,{"$f":"IF(UPPER(E35)=\"CONDICIÓN\", 10, 0)","v":10},{"$f":"IF(UPPER(E35)=\"CONDICIÓN\", H35, \"\")","v":0},{"$f":"IF(UPPER(E35)=\"CONDICIÓN\", 10, 0)","v":10},{"$f":"IF(UPPER(E35)=\"CONDICIÓN\", I35, \"\")","v":0},null,null,null,null,null,null,null,null,null,null,null,null,null,null,null,null,null,null,null,null,null,null,null,null,null,null,null,null,null,null,null,null,null,null,null,null,null,null,null,null,null,null,null,null,null,null,null," "]
["Habitación del personal - Será requerido en caso de no contar con Estar de personal",null,1," Dimensionar según demanda funcional. Mínimo 9 m2","Condición",0,0,0,0,0,null,null,null,null,null,null,null,null,{"$f":"IF(UPPER(E36)=\"CONDICIÓN\", 10, 0)","v":10},{"$f":"IF(UPPER(E36)=\"CONDICIÓN\", H36,H36)","v":0},{"$f":"IF(UPPER(E36)=\"CONDICIÓN\", 10, 0)","v":10},{"$f":"IF(UPPER(E36)=\"CONDICIÓN\", I36, \"\")","v":0}]
["Baños para personal",null,1," Número de piezas sanitarias mínimo: Un inodoro y 1 lavamanos.","Requerido",0,0,0,0,0,null,null,null,null,null,null,{"$f":"IF(UPPER(E37)=\"REQUERIDO\", 10, 0)","v":10},{"$f":"IF(UPPER(E37)=\"REQUERIDO\", H37, \"\")","v":0}]
["INSTALACIONES",{"$f":"B1","v":"Anx:"},{"$f":"C$1","v":"Requerido:"},"m² Util:","Tipo:","BUENO:","MALO:",null,null,"Calif:","Observaciones:",null,null,null,null,null,null,null,null,null,null,null,null,null,null,null,null,null,null,null,null,null,null,null,null,null,null,null,null,null,{"$f":"SUM(Q39:Q40)","v":0},{"$f":"SUM(R39:R40)","v":0},{"$f":"SUM(S39:S40)","v":0},{"$f":"SUM(T39:T40)","v":0},{"$f":"SUM(U39:U40)","v":0},0,0,0,10,0,0,0,0,0,0,0,10,0,0,0,0,0,0,0]
["Estructura General ","EG_01",1,"-","Requerido",0,0,{"$f":"IF(AND(F39>=C39,F39>0),10,0)","v":0},{"$f":"IF(AND(G39>=C39,C39>0,G39>=1),10,0)","v":0},{"$f":"H39-I39","v":0},null,null,null,null,null,null,null,null,null,null,null,null,null,null,null,null,null,null,null,null,null,null,{"$f":"IF(UPPER(E39)=\"REQUERIDO\", 10, \"\")","v":10},{"$f":"IF(UPPER(E39)=\"REQUERIDO\", H39, \"\")","v":0}]
["Instalaciones Generales","IG_01",1,"-","Requerido",0,0,{"$f":"IF(AND(F40>=C40,F40>0),10,0)","v":0},{"$f":"IF(AND(G40>=C40,C40>0,G40>=1),10,0)","v":0},{"$f":"H40-I40","v":0},null,null,null,null,null,null,null,null,null,null,null,null,null,null,{"$f":"IF(UPPER(E40)=\"REQUERIDO\", 10, \"\")","v":10},{"$f":"IF(UPPER(E40)=\"REQUERIDO\", H40, \"\")","v":0},null,null,null,null,null,null,{"$f":"IF(UPPER(O40)=\"REQUERIDO\", 10, \"\")","v":""},{"$f":"IF(UPPER(O40)=\"REQUERIDO\", R40, \"\")","v":""}]
["ÁREA DE SOPORTE Y SUMINISTROS",null,null,null,null,null,null,null,null,null,null,null,null,null,null,null,null,null,null,null,null,null,null,null,null,null,null,null,null,null,null,null,null,null,null,null,null,null,null,null,{"$f":"SUM(Q42:Q49)","v":30},{"$f":"SUM(R42:R49)","v":0},{"$f":"SUM(S42:S49)","v":10},{"$f":"SUM(T42:T49)","v":0},{"$f":"SUM(U42:U49)","v":10},0,0,0,10,0,0,0,0,0,0,0,10,0,0,0,0,0,0,0]
["AMBIENTES",{"$f":"B1","v":"Anx:"},{"$f":"C$1","v":"Requerido:"},"m² Util:","Tipo:","BUENO:","MALO:",null,null,"Calif:","Observaciones:",null,null,null,null,null,null,null,null,null,null,null,null,null,null,null,null,null,null,null,null,null,null,null,null,null,null,null,null,null,{"$f":"SUM(Q43:Q45)","v":30},{"$f":"SUM(R43:R45)","v":0},{"$f":"SUM(S43:S45)","v":0},{"$f":"SUM(T43:T45)","v":0},{"$f":"SUM(U43:U45)","v":0},0,0,0,0,0,0,0,0,0,0,0,0,0,0,0,0,0,0,0]
["Lencería",null,1,"-","Requerido",0,0,{"$f":"IF(AND(F43>=C43,F43>0),10,0)","v":0},{"$f":"IF(AND(G43>=C43,C43>0,G43>=1),10,0)","v":0},{"$f":"H43-I43","v":0},null,null,null,null,null,null,{"$f":"IF(UPPER(E43)=\"REQUERIDO\", 10, \"\")","v":10},{"$f":"IF(UPPER(E43)=\"REQUERIDO\", H43, \"\")","v":0}]
["Recepción y Clasificación de Ropa Usada",null,1," Dimensionar según demanda funcional","Requerido",0,0,{"$f":"IF(AND(F44>=C44,F44>0),10,0)","v":0},{"$f":"IF(AND(G44>=C44,C44>0,G44>=1),10,0)","v":0},{"$f":"H44-I44","v":0},null,null,null,null,null,null,{"$f":"IF(UPPER(E44)=\"REQUERIDO\", 10, \"\")","v":10},{"$f":"IF(UPPER(E44)=\"REQUERIDO\", H44, \"\")","v":0}]
["Bodega General",null,1," Dimensionar según demanda funcional. ","Requerido",0,0,{"$f":"IF(AND(F45>=C45,F45>0),10,0)","v":0},{"$f":"IF(AND(G45>=C45,C45>0,G45>=1),10,0)","v":0},{"$f":"H45-I45","v":0},null,null,null,null,null,null,{"$f":"IF(UPPER(E45)=\"REQUERIDO\", 10, \"\")","v":10},{"$f":"IF(UPPER(E45)=\"REQUERIDO\", H45, \"\")","v":0}]
["Estación de enfermería",null,1," Dimensionar según demanda funcional. ","Condición",0,0,{"$f":"IF(AND(F46>=C46,F46>0),10,0)","v":0},{"$f":"IF(AND(G46>=C46,C46>0,G46>=1),10,0)","v":0},{"$f":"H46-I46","v":0},null,null,null,null,null,null,null,null,{"$f":"IF(UPPER(E46)=\"CONDICIÓN\", 10, 0)","v":10},{"$f":"IF(UPPER(E46)=\"CONDICIÓN\", H46, \"\")","v":0},{"$f":"IF(UPPER(E46)=\"CONDICIÓN\", 10, 0)","v":10},{"$f":"IF(UPPER(E46)=\"CONDICIÓN\", I46, \"\")","v":0}]
["INSTALACIONES",{"$f":"B1","v":"Anx:"},{"$f":"C$1","v":"Requerido:"},{"$f":"D$1","v":"m² Util:"},"Tipo:","BUENO:","MALO:",null,null,"Calif:","Observaciones:",null,null,null,null,null,null,null,null,null,null,null,null,null,null,null,null,null,null,null,null,null,null,null,null,null,null,null,null,null,{"$f":"SUM(Q48:Q49)","v":0},{"$f":"SUM(R48:R49)","v":0},{"$f":"SUM(S48:S49)","v":0},{"$f":"SUM(T48:T49)","v":0},{"$f":"SUM(U48:U49)","v":0},0,0,0,10,0,0,0,0,0,0,0,10,0,0,0,0,0,0,0]
["Estructura General ","EG_01",1,"-","Requerido",0,0,{"$f":"IF(AND(F48>=C48,F48>0),10,0)","v":0},{"$f":"IF(AND(G48>=C48,C48>0,G48>=1),10,0)","v":0},{"$f":"H48-I48","v":0},null,null,null,null,null,null,null,null,null,null,null,null,null,null,null,null,null,null,null,null,null,null,{"$f":"IF(UPPER(E48)=\"REQUERIDO\", 10, \"\")","v":10},{"$f":"IF(UPPER(E48)=\"REQUERIDO\", H48, \"\")","v":0}]
["Instalaciones Generales","IG_01",1,"-","Requerido",0,0,{"$f":"IF(AND(F49>=C49,F49>0),10,0)","v":0},{"$f":"IF(AND(G49>=C49,C49>0,G49>=1),10,0)","v":0},{"$f":"H49-I49","v":0},null,null,null,null,null,null,null,null,null,null,null,null,null,null,{"$f":"IF(UPPER(E49)=\"REQUERIDO\", 10, \"\")","v":10},{"$f":"IF(UPPER(E49)=\"REQUERIDO\", H49, \"\")","v":0},null,null,null,null,null,null,{"$f":"IF(UPPER(O49)=\"REQUERIDO\", 10, \"\")","v":""},{"$f":"IF(UPPER(O49)=\"REQUERIDO\", R49, \"\")","v":""}]
["ÁREA DEL PERSONAL",null,null,null,null,null,null,null,null,null,null,null,null,null,null,null,null,null,null,null,null,null,null,null,null,null,null,null,null,null,null,null,null,null,null,null,null,null,null,null,{"$f":"SUM(Q51:Q57)","v":0},{"$f":"SUM(R51:R57)","v":0},{"$f":"SUM(S51:S57)","v":30},{"$f":"SUM(T51:T57)","v":0},{"$f":"SUM(U51:U57)","v":30},0,0,0,0,0,10,0,10,0,0,0,0,0,10,0,10,0,0,0]
["AMBIENTES",{"$f":"B10","v":"Anx:"},{"$f":"C$1","v":"Requerido:"},"m² Util:","Tipo:","BUENO:","MALO:",null,null,"Calif:","Observaciones:",null,null,null,null,null,null,null,null,null,null,null,null,null,null,null,null,null,null,null,null,null,null,null,null,null,null,null,null,null,{"$f":"SUM(Q51:Q57)","v":0},{"$f":"SUM(R51:R57)","v":0},{"$f":"SUM(S51:S57)","v":30},{"$f":"SUM(T51:T57)","v":0},{"$f":"SUM(U51:U57)","v":30},0,0,0,0,0,10,0,10,0,0,0,0,0,10,0,10,0,0,0]
["Sala de Uso múltiple",null,1," Dimensionar según demanda funcional","Condición",0,0,{"$f":"IF(AND(F52>=C52,F52>0),10,0)","v":0},{"$f":"IF(AND(G52>=C52,C52>0,G52>=1),10,0)","v":0},{"$f":"H52-I52","v":0},null,null,null,null,null,null,null,null,{"$f":"IF(UPPER(E52)=\"CONDICIÓN\", 10, 0)","v":10},{"$f":"IF(UPPER(E52)=\"CONDICIÓN\", H52, \"\")","v":0},{"$f":"IF(UPPER(E52)=\"CONDICIÓN\", 10, 0)","v":10},{"$f":"IF(UPPER(E52)=\"CONDICIÓN\", I52, \"\")","v":0}]
["Vestidores",null,1," Dimensionar según demanda funcional","Condición",0,0,{"$f":"IF(AND(F53>=C53,F53>0),10,0)","v":0},{"$f":"IF(AND(G53>=C53,C53>0,G53>=1),10,0)","v":0},{"$f":"H53-I53","v":0},null,null,null,null,null,null,null,null,{"$f":"IF(UPPER(E53)=\"CONDICIÓN\", 10, 0)","v":10},{"$f":"IF(UPPER(E53)=\"CONDICIÓN\", H53, \"\")","v":0},{"$f":"IF(UPPER(E53)=\"CONDICIÓN\", 10, 0)","v":10},{"$f":"IF(UPPER(E53)=\"CONDICIÓN\", I53, \"\")","v":0}]
["Baño de vestidores",null,1,"Dimensionar según demanda funcional ","Condición",0,0,{"$f":"IF(AND(F54>=C54,F54>0),10,0)","v":0},{"$f":"IF(AND(G54>=C54,C54>0,G54>=1),10,0)","v":0},{"$f":"H54-I54","v":0},null,null,null,null,null,null,null,null,{"$f":"IF(UPPER(E54)=\"CONDICIÓN\", 10, 0)","v":10},{"$f":"IF(UPPER(E54)=\"CONDICIÓN\", H54, \"\")","v":0},{"$f":"IF(UPPER(E54)=\"CONDICIÓN\", 10, 0)","v":10},{"$f":"IF(UPPER(E54)=\"CONDICIÓN\", I54, \"\")","v":0}]
["INSTALACIONES",{"$f":"B10","v":"Anx:"},{"$f":"C$1","v":"Requerido:"},"m² Util:","Tipo:","BUENO:","MALO:",null,null,"Calif:","Observaciones:",null,null,null,null,null,null,null,null,null,null,null,null,null,null,null,null,null,null,null,null,null,null,null,null,null,null,null,null,null,{"$f":"SUM(Q56:Q57)","v":0},{"$f":"SUM(R56:R57)","v":0},{"$f":"SUM(S56:S57)","v":0},{"$f":"SUM(T56:T57)","v":0},{"$f":"SUM(U56:U57)","v":0},0,0,0,0,0,10,0,10,0,0,0,0,0,10,0,10,0,0,0]
["Estructura General ","EG_01",1,"-","Condición",0,0,{"$f":"IF(AND(F56>=C56,F56>0),10,0)","v":0},{"$f":"IF(AND(G56>=C56,C56>0,G56>=1),10,0)","v":0},{"$f":"H56-I56","v":0},null,null,null,null,null,null,null,null,null,null,null,null,null,null,null,null,null,null,null,null,null,null,null,null,{"$f":"IF(UPPER(E56)=\"CONDICIÓN\", 10, 0)","v":10},{"$f":"IF(UPPER(E56)=\"CONDICIÓN\", H56, \"\")","v":0},{"$f":"IF(UPPER(E56)=\"CONDICIÓN\", 10, 0)","v":10},{"$f":"IF(UPPER(E56)=\"CONDICIÓN\", I56, \"\")","v":0}]
["Instalaciones Generales","IG_01",1,"-","Condición",0,0,{"$f":"IF(AND(F57>=C57,F57>0),10,0)","v":0},{"$f":"IF(AND(G57>=C57,C57>0,G57>=1),10,0)","v":0},{"$f":"H57-I57","v":0},null,null,null,null,null,null,null,null,null,null,null,null,null,null,null,null,{"$f":"IF(UPPER(E57)=\"CONDICIÓN\", 10, 0)","v":10},{"$f":"IF(UPPER(E57)=\"CONDICIÓN\", H57, \"\")","v":0},{"$f":"IF(UPPER(E57)=\"CONDICIÓN\", 10, 0)","v":10},{"$f":"IF(UPPER(E57)=\"CONDICIÓN\", I57, \"\")","v":0}]
["APOYO TERAPEÚTICO",null,null,null,null,null,null,null,null,null,null,null,null,null,null,null,null,null,null,null,null,null,null,null,null,null,null,null,null,null,null,null,null,null,null,null,null,null,null,null,{"$f":"SUM(Q59:Q67)","v":20},{"$f":"SUM(R59:R67)","v":0},{"$f":"SUM(S59:S67)","v":0},{"$f":"SUM(T59:T67)","v":0},{"$f":"SUM(U59:U67)","v":0},0,0,0,10,0,0,0,0,0,0,0,10,0,0,0,0,0,0,0]
["DOTACIÓN DE MEDICAMENTOS Y DISPOSITIVOS MÉDICOS  (FARMACIA)",null,null,null,null,null,null,null,null,null,null,null,null,null,null,null,null,null,null,null,null,null,null,null,null,null,null,null,null,null,null,null,null,null,null,null,null,null,null,null,{"$f":"SUM(Q61:Q67)","v":20},{"$f":"SUM(R61:R67)","v":0},{"$f":"SUM(S61:S67)","v":0},{"$f":"SUM(T61:T67)","v":0},{"$f":"SUM(U61:U67)","v":0},0,0,0,10,0,0,0,0,0,0,0,10,0,0,0,0,0,0,0]
["En el caso de que el CETAD dependa de un Establecimiento, corresponderá al profesional farmacéutico del mismo, realizar la gestión del suministro de medicamentos y el control de las sustancias psicotrópicas y estupefacientes; caso contrario, cada CETAD deberá disponer de un profesional farmacéutico."]
["ÁREA DE FARMACIA",null,null,null,null,null,null,null,null,null,null,null,null,null,null,null,null,null,null,null,null,null,null,null,null,null,null,null,null,null,null,null,null,null,null,null,null,null,null,null,{"$f":"SUM(Q62:Q67)","v":20},{"$f":"SUM(R62:R67)","v":0},{"$f":"SUM(S62:S67)","v":0},{"$f":"SUM(T62:T67)","v":0},{"$f":"SUM(U62:U67)","v":0},0,0,0,10,0,0,0,0,0,0,0,10,0,0,0,0,0,0,0]
["AMBIENTES",{"$f":"B1","v":"Anx:"},{"$f":"C$1","v":"Requerido:"},"m² Util:","Tipo:","BUENO:","MALO:",null,null,"Calif:","Observaciones:",null,null,null,null,null,null,null,null,null,null,null,null,null,null,null,null,null,null,null,null,null,null,null,null,null,null,null,null,null,{"$f":"SUM(Q63:Q64)","v":20},{"$f":"SUM(R63:R64)","v":0},{"$f":"SUM(S63:S64)","v":0},{"$f":"SUM(T63:T64)","v":0},{"$f":"SUM(U63:U64)","v":0},0,0,0,0,0,0,0,0,0,0,0,0,0,0,0,0,0,0,0]
["Dispensación ",null,1,"Dimensionar según la demanda funcional","Requerido",0,0,{"$f":"IF(AND(F63>=C63,F63>0),10,0)","v":0},{"$f":"IF(AND(G63>=C63,C63>0,G63>=1),10,0)","v":0},{"$f":"H63-I63","v":0},null,null,null,null,null,null,{"$f":"IF(UPPER(E63)=\"REQUERIDO\", 10, \"\")","v":10},{"$f":"IF(UPPER(E63)=\"REQUERIDO\", H63, \"\")","v":0}]
["Bodega ",null,1,"Dimensionar según la demanda funcional","Requerido",0,0,{"$f":"IF(AND(F64>=C64,F64>0),10,0)","v":0},{"$f":"IF(AND(G64>=C64,C64>0,G64>=1),10,0)","v":0},{"$f":"H64-I64","v":0},null,null,null,null,null,null,{"$f":"IF(UPPER(E64)=\"REQUERIDO\", 10, \"\")","v":10},{"$f":"IF(UPPER(E64)=\"REQUERIDO\", H64, \"\")","v":0}]
["INSTALACIONES",{"$f":"B1","v":"Anx:"},{"$f":"C$1","v":"Requerido:"},"m² Util:","Tipo:","BUENO:","MALO:",null,null,"Calif:","Observaciones:",null,null,null,null,null,null,null,null,null,null,null,null,null,null,null,null,null,null,null,null,null,null,null,null,null,null,null,null,null,{"$f":"SUM(Q66:Q67)","v":0},{"$f":"SUM(R66:R67)","v":0},{"$f":"SUM(S66:S67)","v":0},{"$f":"SUM(T66:T67)","v":0},{"$f":"SUM(U66:U67)","v":0},0,0,0,10,0,0,0,0,0,0,0,10,0,0,0,0,0,0,0]
["Estructura General ","EG_01",1,"-","Requerido",0,0,{"$f":"IF(AND(F66>=C66,F66>0),10,0)","v":0},{"$f":"IF(AND(G66>=C66,C66>0,G66>=1),10,0)","v":0},{"$f":"H66-I66","v":0},null,null,null,null,null,null,null,null,null,null,null,null,null,null,null,null,null,null,null,null,null,null,{"$f":"IF(UPPER(E66)=\"REQUERIDO\", 10, \"\")","v":10},{"$f":"IF(UPPER(E66)=\"REQUERIDO\", H66, \"\")","v":0}]
["Instalaciones Generales","IG_01",1,"-","Requerido",0,0,{"$f":"IF(AND(F67>=C67,F67>0),10,0)","v":0},{"$f":"IF(AND(G67>=C67,C67>0,G67>=1),10,0)","v":0},{"$f":"H67-I67","v":0},null,null,null,null,null,null,null,null,null,null,null,null,null,null,{"$f":"IF(UPPER(E67)=\"REQUERIDO\", 10, \"\")","v":10},{"$f":"IF(UPPER(E67)=\"REQUERIDO\", H67, \"\")","v":0}]
["APOYO DIAGNÓSTICO Y TERAPEÚTICO",null,null,null,null,null,null,null,null,null,null,null,null,null,null,null,null,null,null,null,null,null,null,null,null,null,null,null,null,null,null,null,null,null,null,null,null,null,null,null,{"$f":"SUM(Q69:Q78)","v":20},{"$f":"SUM(R69:R78)","v":0},{"$f":"SUM(S69:S78)","v":20},{"$f":"SUM(T69:T78)","v":0},{"$f":"SUM(U69:U78)","v":20},0,0,0,10,0,0,0,0,0,0,0,10,0,0,0,0,0,0,0]
["REHABILITACIÓN",null,null,null,null,null,null,null,null,null,null,null,null,null,null,null,null,null,null,null,null,null,null,null,null,null,null,null,null,null,null,null,null,null,null,null,null,null,null,null,{"$f":"SUM(Q70:Q78)","v":20},{"$f":"SUM(R70:R78)","v":0},{"$f":"SUM(S70:S78)","v":20},{"$f":"SUM(T70:T78)","v":0},{"$f":"SUM(U70:U78)","v":20},0,0,0,10,0,0,0,0,0,0,0,10,0,0,0,0,0,0,0]
["ÁREA DE TERAPIAS",null,null,null,null,null,null,null,null,null,null,null,null,null,null,null,null,null,null,null,null,null,null,null,null,null,null,null,null,null,null,null,null,null,null,null,null,null,null,null,{"$f":"SUM(Q71:Q78)","v":20},{"$f":"SUM(R71:R78)","v":0},{"$f":"SUM(S71:S78)","v":20},{"$f":"SUM(T71:T78)","v":0},{"$f":"SUM(U71:U78)","v":20},0,0,0,10,0,0,0,0,0,0,0,10,0,0,0,0,0,0,0]
["AMBIENTES",{"$f":"B1","v":"Anx:"},{"$f":"C$1","v":"Requerido:"},"m² Util:","Tipo:","BUENO:","MALO:",null,null,"Calif:","Observaciones:",null,null,null,null,null,null,null,null,null,null,null,null,null,null,null,null,null,null,null,null,null,null,null,null,null,null,null,null,null,{"$f":"SUM(Q72:Q75)","v":20},{"$f":"SUM(R72:R75)","v":0},{"$f":"SUM(S72:S75)","v":20},{"$f":"SUM(T72:T75)","v":0},{"$f":"SUM(U72:U75)","v":20},0,0,0,0,0,0,0,0,0,0,0,0,0,0,0,0,0,0,0]
["Taller ocupacional  y de uso múltiple",null,1,"Dimensionar según la demanda funcional","Requerido",0,0,{"$f":"IF(AND(F72>=C72,F72>0),10,0)","v":0},{"$f":"IF(AND(G72>=C72,C72>0,G72>=1),10,0)","v":0},{"$f":"H72-I72","v":0},null,null,null,null,null,null,{"$f":"IF(UPPER(E72)=\"REQUERIDO\", 10, \"\")","v":10},{"$f":"IF(UPPER(E72)=\"REQUERIDO\", H72, \"\")","v":0}]
["Gimnasio/Áreas deportivas",null,1,"Dimensionar según la demanda funcional","Requerido",0,0,{"$f":"IF(AND(F73>=C73,F73>0),10,0)","v":0},{"$f":"IF(AND(G73>=C73,C73>0,G73>=1),10,0)","v":0},{"$f":"H73-I73","v":0},null,null,null,null,null,null,{"$f":"IF(UPPER(E73)=\"REQUERIDO\", 10, \"\")","v":10},{"$f":"IF(UPPER(E73)=\"REQUERIDO\", H73, \"\")","v":0}]
["Sala de Cinesiterapia",null,1,"-","Condición",0,0,{"$f":"IF(AND(F74>=C74,F74>0),10,0)","v":0},{"$f":"IF(AND(G74>=C74,C74>0,G74>=1),10,0)","v":0},{"$f":"H74-I74","v":0},null,null,null,null,null,null,null,null,{"$f":"IF(UPPER(E74)=\"CONDICIÓN\", 10, 0)","v":10},{"$f":"IF(UPPER(E74)=\"CONDICIÓN\", H74, \"\")","v":0},{"$f":"IF(UPPER(E74)=\"CONDICIÓN\", 10, 0)","v":10},{"$f":"IF(UPPER(E74)=\"CONDICIÓN\", I74, \"\")","v":0}]
["Baño/Baterías sanitarias-se aceptará en el caso  de que este compartido con otro servicio pero debe tener  acceso directo pero si no esta accesible será requerido.",null,1,"Dimensionar según la demanda funcional","Condición",0,0,{"$f":"IF(AND(F75>=C75,F75>0),10,0)","v":0},{"$f":"IF(AND(G75>=C75,C75>0,G75>=1),10,0)","v":0},{"$f":"H75-I75","v":0},null,null,null,null,null,null,{"$f":"IF(UPPER(E75)=\"REQUERIDO\", 10, \"\")","v":""},{"$f":"IF(UPPER(E75)=\"REQUERIDO\", H75, \"\")","v":""},{"$f":"IF(UPPER(E75)=\"CONDICIÓN\", 10, 0)","v":10},{"$f":"IF(UPPER(E75)=\"CONDICIÓN\", H75, \"\")","v":0},{"$f":"IF(UPPER(E75)=\"CONDICIÓN\", 10, 0)","v":10},{"$f":"IF(UPPER(E75)=\"CONDICIÓN\", I75, \"\")","v":0}]
["INSTALACIONES",{"$f":"B1","v":"Anx:"},{"$f":"C$1","v":"Requerido:"},"m² Util:","Tipo:","BUENO:","MALO:",null,null,"Calif:","Observaciones:",null,null,null,null,null,null,null,null,null,null,null,null,null,null,null,null,null,null,null,null,null,null,null,null,null,null,null,null,null,{"$f":"SUM(Q77:Q78)","v":0},{"$f":"SUM(R77:R78)","v":0},{"$f":"SUM(S77:S78)","v":0},{"$f":"SUM(T77:T78)","v":0},{"$f":"SUM(U77:U78)","v":0},0,0,0,10,0,0,0,0,0,0,0,10,0,0,0,0,0,0,0]
["Estructura General ","EG_01",1,"-","Requerido",0,0,{"$f":"IF(AND(F77>=C77,F77>0),10,0)","v":0},{"$f":"IF(AND(G77>=C77,C77>0,G77>=1),10,0)","v":0},{"$f":"H77-I77","v":0},null,null,null,null,null,null,null,null,null,null,null,null,null,null,null,null,null,null,null,null,null,null,{"$f":"IF(UPPER(E77)=\"REQUERIDO\", 10, \"\")","v":10},{"$f":"IF(UPPER(E77)=\"REQUERIDO\", H77, \"\")","v":0}]
["Instalaciones Generales","IG_01",1,"-","Requerido",0,0,{"$f":"IF(AND(F78>=C78,F78>0),10,0)","v":0},{"$f":"IF(AND(G78>=C78,C78>0,G78>=1),10,0)","v":0},{"$f":"H78-I78","v":0},null,null,null,null,null,null,null,null,null,null,null,null,null,null,{"$f":"IF(UPPER(E78)=\"REQUERIDO\", 10, \"\")","v":10},{"$f":"IF(UPPER(E78)=\"REQUERIDO\", H78, \"\")","v":0}]
["APOYO TERAPEÚTICO",null,null,null,null,null,null,null,null,null,null,null,null,null,null,null,null,null,null,null,null,null,null,null,null,null,null,null,null,null,null,null,null,null,null,null,null,null,null,null,{"$f":"SUM(Q80:Q98)","v":70},{"$f":"SUM(R80:R98)","v":0},{"$f":"SUM(S80:S98)","v":10},{"$f":"SUM(T80:T98)","v":0},{"$f":"SUM(U80:U98)","v":10},0,0,0,20,0,0,0,0,0,0,0,20,0,0,0,0,0,0,0]
["NUTRICIÓN Y DIETÉTICA",null,null,null,null,null,null,null,null,null,null,null,null,null,null,null,null,null,null,null,null,null,null,null,null,null,null,null,null,null,null,null,null,null,null,null,null,null,null,null,{"$f":"SUM(Q81:Q98)","v":70},{"$f":"SUM(R81:R98)","v":0},{"$f":"SUM(S81:S98)","v":10},{"$f":"SUM(T81:T98)","v":0},{"$f":"SUM(U81:U98)","v":10},0,0,0,20,0,0,0,0,0,0,0,20,0,0,0,0,0,0,0]
["ÁREA DE COMEDOR",null,null,null,null,null,null,null,null,null,null,null,null,null,null,null,null,null,null,null,null,null,null,null,null,null,null,null,null,null,null,null,null,null,null,null,null,null,null,null,{"$f":"SUM(Q82:Q84)","v":10},{"$f":"SUM(R82:R84)","v":0},{"$f":"SUM(S82:S84)","v":10},{"$f":"SUM(T82:T84)","v":0},{"$f":"SUM(U82:U84)","v":10},0,0,0,0,0,0,0,0,0,0,0,0,0,0,0,0,0,0,0]
["AMBIENTES",{"$f":"B1","v":"Anx:"},{"$f":"C$1","v":"Requerido:"},"m² Util:","Tipo:",{"$f":"F$1","v":"BUENO:"},"MALO:",null,null,"Calif:","Observaciones:",null,null,null,null,null,null,null,null,null,null,null,null,null,null,null,null,null,null,null,null,null,null,null,null,null,null,null,null,null,{"$f":"SUM(Q83:Q84)","v":10},{"$f":"SUM(R83:R84)","v":0},{"$f":"SUM(S83:S84)","v":10},{"$f":"SUM(T83:T84)","v":0},{"$f":"SUM(U83:U84)","v":10},0,0,0,0,0,0,0,0,0,0,0,0,0,0,0,0,0,0,0]
["Comedor",null,1,"Dimensionar según la demanda funcional","Requerido",0,0,{"$f":"IF(AND(F83>=C83,F83>0),10,0)","v":0},{"$f":"IF(AND(G83>=C83,C83>0,G83>=1),10,0)","v":0},{"$f":"H83-I83","v":0},null,null,null,null,null,null,{"$f":"IF(UPPER(E83)=\"REQUERIDO\", 10,\"\")","v":10},{"$f":"IF(UPPER(E83)=\"REQUERIDO\", H83, \"\")","v":0}]
["Baño- será requerido en el caso que el ambiente no esté accesible",null,1,"Dimensionar según la demanda funcional","Condición",0,0,{"$f":"IF(AND(F84>=C84,F84>0),10,0)","v":0},{"$f":"IF(AND(G84>=C84,C84>0,G84>=1),10,0)","v":0},{"$f":"H84-I84","v":0},null,null,null,null,null,null,null,null,{"$f":"IF(UPPER(E84)=\"CONDICIÓN\", 10, 0)","v":10},{"$f":"IF(UPPER(E84)=\"CONDICIÓN\", H84, \"\")","v":0},{"$f":"IF(UPPER(E84)=\"CONDICIÓN\", 10, 0)","v":10},{"$f":"IF(UPPER(E84)=\"CONDICIÓN\", I84, \"\")","v":0}]
["INSTALACIONES",{"$f":"B1","v":"Anx:"},{"$f":"C$1","v":"Requerido:"},"m² Util:","Tipo:","BUENO:","MALO:",null,null,"Calif:","Observaciones:",null,null,null,null,null,null,null,null,null,null,null,null,null,null,null,null,null,null,null,null,null,null,null,null,null,null,null,null,null,{"$f":"SUM(Q86:Q87)","v":0},{"$f":"SUM(R86:R87)","v":0},{"$f":"SUM(S86:S87)","v":0},{"$f":"SUM(T86:T87)","v":0},{"$f":"SUM(U86:U87)","v":0},0,0,0,10,0,0,0,0,0,0,0,10,0,0,0,0,0,0,0]
["Estructura General ","EG_01",1,"-","Requerido",0,0,{"$f":"IF(AND(F86>=C86,F86>0),10,0)","v":0},{"$f":"IF(AND(G86>=C86,C86>0,G86>=1),10,0)","v":0},{"$f":"H86-I86","v":0},null,null,null,null,null,null,null,null,null,null,null,null,null,null,null,null,null,null,null,null,null,null,{"$f":"IF(UPPER(E86)=\"REQUERIDO\", 10, \"\")","v":10},{"$f":"IF(UPPER(E86)=\"REQUERIDO\", H86, \"\")","v":0}]
["Instalaciones Generales","IG_01",1,"-","Requerido",0,0,{"$f":"IF(AND(F87>=C87,F87>0),10,0)","v":0},{"$f":"IF(AND(G87>=C87,C87>0,G87>=1),10,0)","v":0},{"$f":"H87-I87","v":0},null,null,null,null,null,null,null,null,null,null,null,null,null,null,{"$f":"IF(UPPER(E87)=\"REQUERIDO\", 10, \"\")","v":10},{"$f":"IF(UPPER(E87)=\"REQUERIDO\", H87, \"\")","v":0},null,null,null,null,null,null,{"$f":"IF(UPPER(O87)=\"REQUERIDO\", 10, \"\")","v":""},{"$f":"IF(UPPER(O87)=\"REQUERIDO\", R87, \"\")","v":""}]
["ÁREA TÉCNICA DE COCINA",null,null,null,null,null,null,null,null,null,null,null,null,null,null,null,null,null,null,null,null,null,null,null,null,null,null,null,null,null,null,null,null,null,null,null,null,null,null,null,{"$f":"SUM(Q89:Q98)","v":60},{"$f":"SUM(R89:R98)","v":0},{"$f":"SUM(S89:S98)","v":0},{"$f":"SUM(T89:T98)","v":0},{"$f":"SUM(U89:U98)","v":0},0,0,0,10,0,0,0,0,0,0,0,10,0,0,0,0,0,0,0]
["AMBIENTES",{"$f":"B1","v":"Anx:"},{"$f":"C$1","v":"Requerido:"},"m² Util:","Tipo:","BUENO:","MALO:",null,null,"Calif:","Observaciones:",null,null,null,null,null,null,null,null,null,null,null,null,null,null,null,null,null,null,null,null,null,null,null,null,null,null,null,null,null,{"$f":"SUM(Q90:Q95)","v":60},{"$f":"SUM(R90:R95)","v":0},{"$f":"SUM(S90:S95)","v":0},{"$f":"SUM(T90:T95)","v":0},{"$f":"SUM(U90:U95)","v":0},0,0,0,0,0,0,0,0,0,0,0,0,0,0,0,0,0,0,0]
["Bodega  para Almacenamiento diferenciado  de productos no perecibles, perecibles",null,1,"Dimensionar según la demanda funcional","Requerido",0,0,{"$f":"IF(AND(F90>=C90,F90>0),10,0)","v":0},{"$f":"IF(AND(G90>=C90,C90>0,G90>=1),10,0)","v":0},{"$f":"H90-I90","v":0},null,null,null,null,null,null,{"$f":"IF(UPPER(E90)=\"REQUERIDO\", 10, \"\")","v":10},{"$f":"IF(UPPER(E90)=\"REQUERIDO\", H90, \"\")","v":0}]
["Zona de Refrigeradores y Congeladores - puede estar en la bodega para almacenamiento diferenciado de productos o en la zona preparación de alimentos",null,1,"Dimensionar según la demanda funcional","Requerido",0,0,0,0,0,null,null,null,null,null,null,10,0]
["Preparación de alimentos y lavado de menaje de cocina",null,1,"Dimensionar según la demanda funcional","Requerido",0,0,0,0,0,null,null,null,null,null,null,10,0]
["Zona de cocción",null,1,"Dimensionar según la demanda funcional","Requerido",0,0,0,0,0,null,null,null,null,null,null,10,0]
["Bodega/Almacenamiento de menaje",null,1,"Dimensionar según la demanda funcional","Requerido",0,0,0,0,0,null,null,null,null,null,null,10,0]
["Cuarto de limpieza",null,1,"Dimensionar según la demanda funcional","Requerido",0,0,0,0,0,null,null,null,null,null,null,10,0]
["INSTALACIONES",{"$f":"B1","v":"Anx:"},{"$f":"C$1","v":"Requerido:"},"m² Util:","Tipo:","BUENO:","MALO:",null,null,"Calif:","Observaciones:",null,null,null,null,null,null,null,null,null,null,null,null,null,null,null,null,null,null,null,null,null,null,null,null,null,null,null,null,null,{"$f":"SUM(Q97:Q98)","v":0},{"$f":"SUM(R97:R98)","v":0},{"$f":"SUM(S97:S98)","v":0},{"$f":"SUM(T97:T98)","v":0},{"$f":"SUM(U97:U98)","v":0},0,0,0,10,0,0,0,0,0,0,0,10,0,0,0,0,0,0,0]
["Estructura General ","EG_01",1,"-","Requerido",0,0,{"$f":"IF(AND(F97>=C97,F97>0),10,0)","v":0},{"$f":"IF(AND(G97>=C97,C97>0,G97>=1),10,0)","v":0},{"$f":"H97-I97","v":0},null,null,null,null,null,null,null,null,null,null,null,null,null,null,null,null,null,null,null,null,null,null,{"$f":"IF(UPPER(E97)=\"REQUERIDO\", 10, \"\")","v":10},{"$f":"IF(UPPER(E97)=\"REQUERIDO\", H97, \"\")","v":0}]
["Instalaciones Generales","IG_01",1,"-","Requerido",0,0,{"$f":"IF(AND(F98>=C98,F98>0),10,0)","v":0},{"$f":"IF(AND(G98>=C98,C98>0,G98>=1),10,0)","v":0},{"$f":"H98-I98","v":0},null,null,null,null,null,null,null,null,null,null,null,null,null,null,{"$f":"IF(UPPER(E98)=\"REQUERIDO\", 10, \"\")","v":10},{"$f":"IF(UPPER(E98)=\"REQUERIDO\", H98, \"\")","v":0},null,null,null,null,null,null,{"$f":"IF(UPPER(O98)=\"REQUERIDO\", 10, \"\")","v":""},{"$f":"IF(UPPER(O98)=\"REQUERIDO\", R98, \"\")","v":""}]
["ADMINISTRATIVO",null,null,null,null,null,null,null,null,null,null,null,null,null,null,null,null,null,null,null,null,null,null,null,null,null,null,null,null,null,null,null,null,null,null,null,null,null,null,null,{"$f":"SUM(Q100:Q109)","v":20},{"$f":"SUM(R100:R109)","v":0},{"$f":"SUM(S100:S109)","v":20},{"$f":"SUM(T100:T109)","v":0},{"$f":"SUM(U100:U109)","v":20},0,0,0,10,0,0,0,0,0,0,0,10,0,0,0,0,0,0,0]
[" ADMINISTRACIÓN TÉCNICA",null,null,null,null,null,null,null,null,null,null,null,null,null,null,null,null,null,null,null,null,null,null,null,null,null,null,null,null,null,null,null,null,null,null,null,null,null,null,null,{"$f":"SUM(Q101:Q109)","v":20},{"$f":"SUM(R101:R109)","v":0},{"$f":"SUM(S101:S109)","v":20},{"$f":"SUM(T101:T109)","v":0},{"$f":"SUM(U101:U109)","v":20},0,0,0,10,0,0,0,0,0,0,0,10,0,0,0,0,0,0,0]
["ÁREA TÉCNICA",null,null,null,null,null,null,null,null,null,null,null,null,null,null,null,null,null,null,null,null,null,null,null,null,null,null,null,null,null,null,null,null,null,null,null,null,null,null,null,{"$f":"SUM(Q102:Q109)","v":20},{"$f":"SUM(R102:R109)","v":0},{"$f":"SUM(S102:S109)","v":20},{"$f":"SUM(T102:T109)","v":0},{"$f":"SUM(U102:U109)","v":20},0,0,0,10,0,0,0,0,0,0,0,10,0,0,0,0,0,0,0]
["AMBIENTES",{"$f":"B1","v":"Anx:"},{"$f":"C$1","v":"Requerido:"},"m² Util:","Tipo:","BUENO:","MALO:",null,null,"Calif:","Observaciones:",null,null,null,null,null,null,null,null,null,null,null,null,null,null,null,null,null,null,null,null,null,null,null,null,null,null,null,null,null,{"$f":"SUM(Q103:Q106)","v":20},{"$f":"SUM(R103:R106)","v":0},{"$f":"SUM(S103:S106)","v":20},{"$f":"SUM(T103:T106)","v":0},{"$f":"SUM(U103:U106)","v":20},0,0,0,0,0,0,0,0,0,0,0,0,0,0,0,0,0,0,0]
["Despacho del Responsable Técnico- puede compartir con otro ambiente administrativo",null,1,"Para construcciones nuevas mínimo deseable 10m 2","Requerido",0,0,{"$f":"IF(AND(F103>=C103,F103>0),10,0)","v":0},{"$f":"IF(AND(G103>=C103,C103>0,G103>=1),10,0)","v":0},{"$f":"H103-I103","v":0},null,null,null,null,null,null,{"$f":"IF(UPPER(E103)=\"REQUERIDO\", 10, \"\")","v":10},{"$f":"IF(UPPER(E103)=\"REQUERIDO\", H103, \"\")","v":0}]
["Sala de espera",null,1,"Para construcciones nuevas es deseable 1 m2 por puesto","Condición",0,0,{"$f":"IF(AND(F104>=C104,F104>0),10,0)","v":0},{"$f":"IF(AND(G104>=C104,C104>0,G104>=1),10,0)","v":0},{"$f":"H104-I104","v":0},null,null,null,null,null,null,null,null,{"$f":"IF(UPPER(E104)=\"CONDICIÓN\", 10, 0)","v":10},{"$f":"IF(UPPER(E104)=\"CONDICIÓN\", H104, \"\")","v":0},{"$f":"IF(UPPER(E104)=\"CONDICIÓN\", 10, 0)","v":10},{"$f":"IF(UPPER(E104)=\"CONDICIÓN\", I104, \"\")","v":0}]
["Unidad Administrativa de Apoyo",null,1,"Para construcciones nuevas deseable 2,7 m2 por puesto de trabajo","Condición",0,0,{"$f":"IF(AND(F105>=C105,F105>0),10,0)","v":0},{"$f":"IF(AND(G105>=C105,C105>0,G105>=1),10,0)","v":0},{"$f":"H105-I105","v":0},null,null,null,null,null,null,null,null,{"$f":"IF(UPPER(E105)=\"CONDICIÓN\", 10, 0)","v":10},{"$f":"IF(UPPER(E105)=\"CONDICIÓN\", H105, \"\")","v":0},{"$f":"IF(UPPER(E105)=\"CONDICIÓN\", 10, 0)","v":10},{"$f":"IF(UPPER(E105)=\"CONDICIÓN\", I105, \"\")","v":0}]
["Oficina de trabajo social - puede compartir con otro ambiente de consulta",null,1,"Para construcciones nuevas deseable 12 m2","Requerido",0,0,{"$f":"IF(AND(F106>=C106,F106>0),10,0)","v":0},{"$f":"IF(AND(G106>=C106,C106>0,G106>=1),10,0)","v":0},{"$f":"H106-I106","v":0},null,null,null,null,null,null,{"$f":"IF(UPPER(E106)=\"REQUERIDO\", 10, \"\")","v":10},{"$f":"IF(UPPER(E106)=\"REQUERIDO\", H106, \"\")","v":0}]
["INSTALACIONES",{"$f":"B1","v":"Anx:"},{"$f":"C$1","v":"Requerido:"},"m² Util:","Tipo:","BUENO:","MALO:",null,null,"Calif:","Observaciones:",null,null,null,null,null,null,null,null,null,null,null,null,null,null,null,null,null,null,null,null,null,null,null,null,null,null,null,null,null,{"$f":"SUM(Q108:Q109)","v":0},{"$f":"SUM(R108:R109)","v":0},{"$f":"SUM(S108:S109)","v":0},{"$f":"SUM(T108:T109)","v":0},{"$f":"SUM(U108:U109)","v":0},0,0,0,10,0,0,0,0,0,0,0,10,0,0,0,0,0,0,0]
["Estructura General ","EG_01",1,"-","Requerido",0,0,{"$f":"IF(AND(F108>=C108,F108>0),10,0)","v":0},{"$f":"IF(AND(G108>=C108,C108>0,G108>=1),10,0)","v":0},{"$f":"H108-I108","v":0},null,null,null,null,null,null,null,null,null,null,null,null,null,null,null,null,null,null,null,null,null,null,{"$f":"IF(UPPER(E108)=\"REQUERIDO\", 10, \"\")","v":10},{"$f":"IF(UPPER(E108)=\"REQUERIDO\", H108, \"\")","v":0}]
["Instalaciones Generales","IG_01",1,"-","Requerido",0,0,{"$f":"IF(AND(F109>=C109,F109>0),10,0)","v":0},{"$f":"IF(AND(G109>=C109,C109>0,G109>=1),10,0)","v":0},{"$f":"H109-I109","v":0},null,null,null,null,null,null,null,null,null,null,null,null,null,null,{"$f":"IF(UPPER(E109)=\"REQUERIDO\", 10, \"\")","v":10},{"$f":"IF(UPPER(E109)=\"REQUERIDO\", H109, \"\")","v":0},null,null,null,null,null,null,{"$f":"IF(UPPER(O109)=\"REQUERIDO\", 10, \"\")","v":""},{"$f":"IF(UPPER(O109)=\"REQUERIDO\", R109, \"\")","v":""}]
["GENERAL",null,null,null,null,null,null,null,null,null,null,null,null,null,null,null,null,null,null,null,null,null,null,null,null,null,null,null,null,null,null,null,null,null,null,null,null,null,null,null,{"$f":"SUM(Q110:Q144)","v":80},{"$f":"SUM(R110:R144)","v":0},{"$f":"SUM(S110:S144)","v":40},{"$f":"SUM(T110:T144)","v":0},{"$f":"SUM(U110:U144)","v":40},0,0,0,30,0,10,0,10,0,0,0,30,0,10,0,10,0,0,0]
["SERVICIOS INTERNOS DE APOYO",null,null,null,null,null,null,null,null,null,null,null,null,null,null,null,null,null,null,null,null,null,null,null,null,null,null,null,null,null,null,null,null,null,null,null,null,null,null,null,{"$f":"SUM(Q112:Q144)","v":80},{"$f":"SUM(R112:R144)","v":0},{"$f":"SUM(S112:S144)","v":40},{"$f":"SUM(T112:T144)","v":0},{"$f":"SUM(U112:U144)","v":40},0,0,0,30,0,10,0,10,0,0,0,30,0,10,0,10,0,0,0]
["LAVANDERÍA",null,null,null,null,null,null,null,null,null,null,null,null,null,null,null,null,null,null,null,null,null,null,null,null,null,null,null,null,null,null,null,null,null,null,null,null,null,null,null,{"$f":"SUM(Q112:Q120)","v":40},{"$f":"SUM(R112:R120)","v":0},{"$f":"SUM(S112:S120)","v":0},{"$f":"SUM(T112:T120)","v":0},{"$f":"SUM(U112:U120)","v":0},0,0,0,10,0,0,0,0,0,0,0,10,0,0,0,0,0,0,0]
["AMBIENTES",{"$f":"B31","v":"Anx:"},{"$f":"C$1","v":"Requerido:"},"m² Util:","Tipo:","BUENO:","MALO:",null,null,"Calif:","Observaciones:",null,null,null,null,null,null,null,null,null,null,null,null,null,null,null,null,null,null,null,null,null,null,null,null,null,null,null,null,null,{"$f":"SUM(Q114:Q117)","v":40},{"$f":"SUM(R114:R117)","v":0},{"$f":"SUM(S114:S117)","v":0},{"$f":"SUM(T114:T117)","v":0},{"$f":"SUM(U114:U117)","v":0},0,0,0,0,0,0,0,0,0,0,0,0,0,0,0,0,0,0,0]
["Recepción y Clasificación de Ropa Usada",null,1,"-","Requerido",0,0,{"$f":"IF(AND(F114>=C114,F114>0),10,0)","v":0},{"$f":"IF(AND(G114>=C114,C114>0,G114>=1),10,0)","v":0},{"$f":"H114-I114","v":0},null,null,null,null,null,null,{"$f":"IF(UPPER(E114)=\"REQUERIDO\", 10, \"\")","v":10},{"$f":"IF(UPPER(E114)=\"REQUERIDO\", H114, \"\")","v":0}]
["Lavado",null,1,"-","Requerido",0,0,{"$f":"IF(AND(F115>=C115,F115>0),10,0)","v":0},{"$f":"IF(AND(G115>=C115,C115>0,G115>=1),10,0)","v":0},{"$f":"H115-I115","v":0},null,null,null,null,null,null,{"$f":"IF(UPPER(E115)=\"REQUERIDO\", 10, \"\")","v":10},{"$f":"IF(UPPER(E115)=\"REQUERIDO\", H115, \"\")","v":0}]
["Planchado",null,1,"-","Requerido",0,0,{"$f":"IF(AND(F116>=C116,F116>0),10,0)","v":0},{"$f":"IF(AND(G116>=C116,C116>0,G116>=1),10,0)","v":0},{"$f":"H116-I116","v":0},null,null,null,null,null,null,{"$f":"IF(UPPER(E116)=\"REQUERIDO\", 10, \"\")","v":10},{"$f":"IF(UPPER(E116)=\"REQUERIDO\", H116, \"\")","v":0}]
["Área de lavado manual",null,1,2.5,"Requerido",0,0,{"$f":"IF(AND(F117>=C117,F117>0),10,0)","v":0},{"$f":"IF(AND(G117>=C117,C117>0,G117>=1),10,0)","v":0},{"$f":"H117-I117","v":0},null,null,null,null,null,null,{"$f":"IF(UPPER(E117)=\"REQUERIDO\", 10, \"\")","v":10},{"$f":"IF(UPPER(E117)=\"REQUERIDO\", H117, \"\")","v":0}]
["INSTALACIONES",{"$f":"B31","v":"Anx:"},{"$f":"C$1","v":"Requerido:"},"m² Util:","Tipo:","BUENO:","MALO:",null,null,"Calif:","Observaciones:",null,null,null,null,null,null,null,null,null,null,null,null,null,null,null,null,null,null,null,null,null,null,null,null,null,null,null,null,null,{"$f":"SUM(Q119:Q120)","v":0},{"$f":"SUM(R119:R120)","v":0},{"$f":"SUM(S119:S120)","v":0},{"$f":"SUM(T119:T120)","v":0},{"$f":"SUM(U119:U120)","v":0},0,0,0,10,0,0,0,0,0,0,0,10,0,0,0,0,0,0,0]
["Estructura General ","EG_01",1,"-","Requerido",0,0,{"$f":"IF(AND(F119>=C119,F119>0),10,0)","v":0},{"$f":"IF(AND(G119>=C119,C119>0,G119>=1),10,0)","v":0},{"$f":"H119-I119","v":0},null,null,null,null,null,null,null,null,null,null,null,null,null,null,null,null,null,null,null,null,null,null,{"$f":"IF(UPPER(E119)=\"REQUERIDO\", 10, \"\")","v":10},{"$f":"IF(UPPER(E119)=\"REQUERIDO\", H119, \"\")","v":0}]
["Instalaciones Generales","IG_01",1,"-","Requerido",0,0,{"$f":"IF(AND(F120>=C120,F120>0),10,0)","v":0},{"$f":"IF(AND(G120>=C120,C120>0,G120>=1),10,0)","v":0},{"$f":"H120-I120","v":0},null,null,null,null,null,null,null,null,null,null,null,null,null,null,{"$f":"IF(UPPER(E120)=\"REQUERIDO\", 10, \"\")","v":10},{"$f":"IF(UPPER(E120)=\"REQUERIDO\", H120, \"\")","v":0}]
["LIMPIEZA",null,null,null,null,null,null,null,null,null,null,null,null,null,null,null,null,null,null,null,null,null,null,null,null,null,null,null,null,null,null,null,null,null,null,null,null,null,null,null,{"$f":"SUM(Q122:Q126)","v":10},{"$f":"SUM(R122:R126)","v":0},{"$f":"SUM(S122:S126)","v":30},{"$f":"SUM(T122:T126)","v":0},{"$f":"SUM(U122:U126)","v":30},0,0,0,0,0,0,0,0,0,0,0,0,0,0,0,0,0,0,0]
["AMBIENTES",{"$f":"B1","v":"Anx:"},{"$f":"C$1","v":"Requerido:"},"m² Util:","Tipo:","BUENO:","MALO:",null,null,"Calif:","Observaciones:",null,null,null,null,null,null,null,null,null,null,null,null,null,null,null,null,null,null,null,null,null,null,null,null,null,null,null,null,null,{"$f":"SUM(Q123:Q126)","v":10},{"$f":"SUM(R123:R126)","v":0},{"$f":"SUM(S123:S126)","v":30},{"$f":"SUM(T123:T126)","v":0},{"$f":"SUM(U123:U126)","v":30},0,0,0,0,0,0,0,0,0,0,0,0,0,0,0,0,0,0,0]
["Bodega (Puede encontrarse dentro de la bodega general, pero en un área diferenciada)",null,1,"-","Requerido",0,0,{"$f":"IF(AND(F123>=C123,F123>0),10,0)","v":0},{"$f":"IF(AND(G123>=C123,C123>0,G123>=1),10,0)","v":0},{"$f":"H123-I123","v":0},null,null,null,null,null,null,{"$f":"IF(UPPER(E123)=\"REQUERIDO\", 10, \"\")","v":10},{"$f":"IF(UPPER(E123)=\"REQUERIDO\", H123, \"\")","v":0}]
["Cuarto de Limpieza (será requerido en el caso de no contar con cuartos de limpieza en los servicios que lo requieran) ",null,1,"-","Condición",0,0,{"$f":"IF(AND(F124>=C124,F124>0),10,0)","v":0},{"$f":"IF(AND(G124>=C124,C124>0,G124>=1),10,0)","v":0},{"$f":"H124-I124","v":0},null,null,null,null,null,null,null,null,{"$f":"IF(UPPER(E124)=\"CONDICIÓN\", 10, 0)","v":10},{"$f":"IF(UPPER(E124)=\"CONDICIÓN\", H124, \"\")","v":0},{"$f":"IF(UPPER(E124)=\"CONDICIÓN\", 10, 0)","v":10},{"$f":"IF(UPPER(E124)=\"CONDICIÓN\", I124, \"\")","v":0}]
["Vestidores (Será requerido en el caso de que en el vestidor del área de personal no se ha previsto un espacio exclusivo para el personal de limpieza)",null,1,"-","Condición",0,0,{"$f":"IF(AND(F125>=C125,F125>0),10,0)","v":0},{"$f":"IF(AND(G125>=C125,C125>0,G125>=1),10,0)","v":0},{"$f":"H125-I125","v":0},null,null,null,null,null,null,null,null,{"$f":"IF(UPPER(E125)=\"CONDICIÓN\", 10, 0)","v":10},{"$f":"IF(UPPER(E125)=\"CONDICIÓN\", H125, \"\")","v":0},{"$f":"IF(UPPER(E125)=\"CONDICIÓN\", 10, 0)","v":10},{"$f":"IF(UPPER(E125)=\"CONDICIÓN\", I125, \"\")","v":0}]
["Baño de vestidores",null,1,"-","Condición",0,0,{"$f":"IF(AND(F126>=C126,F126>0),10,0)","v":0},{"$f":"IF(AND(G126>=C126,C126>0,G126>=1),10,0)","v":0},{"$f":"H126-I126","v":0},null,null,null,null,null,null,null,null,{"$f":"IF(UPPER(E126)=\"CONDICIÓN\", 10, 0)","v":10},{"$f":"IF(UPPER(E126)=\"CONDICIÓN\", H126, \"\")","v":0},{"$f":"IF(UPPER(E126)=\"CONDICIÓN\", 10, 0)","v":10},{"$f":"IF(UPPER(E126)=\"CONDICIÓN\", I126, \"\")","v":0}]
["INSTALACIONES",{"$f":"B1","v":"Anx:"},{"$f":"C$1","v":"Requerido:"},"m² Util:","Tipo:","BUENO:","MALO:",null,null,"Calif:","Observaciones:",null,null,null,null,null,null,null,null,null,null,null,null,null,null,null,null,null,null,null,null,null,null,null,null,null,null,null,null,null,{"$f":"SUM(Q128:Q129)","v":0},{"$f":"SUM(R128:R129)","v":0},{"$f":"SUM(S128:S129)","v":0},{"$f":"SUM(T128:T129)","v":0},{"$f":"SUM(U128:U129)","v":0},0,0,0,10,0,0,0,0,0,0,0,10,0,0,0,0,0,0,0]
["Estructura General ","EG_01",1,"-","Requerido",0,0,{"$f":"IF(AND(F128>=C128,F128>0),10,0)","v":0},{"$f":"IF(AND(G128>=C128,C128>0,G128>=1),10,0)","v":0},{"$f":"H128-I128","v":0},null,null,null,null,null,null,null,null,null,null,null,null,null,null,null,null,null,null,null,null,null,null,{"$f":"IF(UPPER(E128)=\"REQUERIDO\", 10, \"\")","v":10},{"$f":"IF(UPPER(E128)=\"REQUERIDO\", H128, \"\")","v":0}]
["Instalaciones Generales","IG_01",1,"-","Requerido",0,0,{"$f":"IF(AND(F129>=C129,F129>0),10,0)","v":0},{"$f":"IF(AND(G129>=C129,C129>0,G129>=1),10,0)","v":0},{"$f":"H129-I129","v":0},null,null,null,null,null,null,null,null,null,null,null,null,null,null,{"$f":"IF(UPPER(E129)=\"REQUERIDO\", 10, \"\")","v":10},{"$f":"IF(UPPER(E129)=\"REQUERIDO\", H129, \"\")","v":0}]
["ALMACENAMIENTO FINAL DE DESECHOS",null,null,null,null,null,null,null,null,null,null,null,null,null,null,null,null,null,null,null,null,null,null,null,null,null,null,null,null,null,null,null,null,null,null,null,null,null,null,null,{"$f":"SUM(Q132:Q138)","v":30},{"$f":"SUM(R132:R138)","v":0},{"$f":"SUM(S132:S138)","v":0},{"$f":"SUM(T132:T138)","v":0},{"$f":"SUM(U132:U138)","v":0},0,0,0,10,0,0,0,0,0,0,0,10,0,0,0,0,0,0,0]
["Puede estar en un solo ambiente con áreas diferenciadas y rotuladas"]
["AMBIENTES",{"$f":"B1","v":"Anx:"},{"$f":"C$1","v":"Requerido:"},"m² Util:","Tipo:","BUENO:","MALO:",null,null,"Calif:","Observaciones:",null,null,null,null,null,null,null,null,null,null,null,null,null,null,null,null,null,null,null,null,null,null,null,null,null,null,null,null,null,{"$f":"SUM(Q133:Q135)","v":30},{"$f":"SUM(R133:R135)","v":0},{"$f":"SUM(S133:S135)","v":0},{"$f":"SUM(T133:T135)","v":0},{"$f":"SUM(U133:U135)","v":0},0,0,0,0,0,0,0,0,0,0,0,0,0,0,0,0,0,0,0]
["Área de Almacenamiento de Desechos no peligrosos - Comunes",null,1," -","Requerido",0,0,{"$f":"IF(AND(F133>=C133,F133>0),10,0)","v":0},{"$f":"IF(AND(G133>=C133,C133>0,G133>=1),10,0)","v":0},{"$f":"H133-I133","v":0},null,null,null,null,null,null,{"$f":"IF(UPPER(E133)=\"REQUERIDO\", 10, \"\")","v":10},{"$f":"IF(UPPER(E133)=\"REQUERIDO\", H133, \"\")","v":0}]
["Área de Almacenamiento de Desechos Peligrosos- Infecciosos",null,1,"-","Requerido",0,0,{"$f":"IF(AND(F134>=C134,F134>0),10,0)","v":0},{"$f":"IF(AND(G134>=C134,C134>0,G134>=1),10,0)","v":0},{"$f":"H134-I134","v":0},null,null,null,null,null,null,{"$f":"IF(UPPER(E134)=\"REQUERIDO\", 10, \"\")","v":10},{"$f":"IF(UPPER(E134)=\"REQUERIDO\", H134, \"\")","v":0}]
["Área de Desechos Peligrosos- Especiales",null,1,"-","Requerido",0,0,{"$f":"IF(AND(F135>=C135,F135>0),10,0)","v":0},{"$f":"IF(AND(G135>=C135,C135>0,G135>=1),10,0)","v":0},{"$f":"H135-I135","v":0},null,null,null,null,null,null,{"$f":"IF(UPPER(E135)=\"REQUERIDO\", 10, \"\")","v":10},{"$f":"IF(UPPER(E135)=\"REQUERIDO\", H135, \"\")","v":0}]
["INSTALACIONES",{"$f":"B1","v":"Anx:"},{"$f":"C$1","v":"Requerido:"},"m² Util:","Tipo:","BUENO:","MALO:",null,null,"Calif:","Observaciones:",null,null,null,null,null,null,null,null,null,null,null,null,null,null,null,null,null,null,null,null,null,null,null,null,null,null,null,null,null,{"$f":"SUM(Q137:Q138)","v":0},{"$f":"SUM(R137:R138)","v":0},{"$f":"SUM(S137:S138)","v":0},{"$f":"SUM(T137:T138)","v":0},{"$f":"SUM(U137:U138)","v":0},0,0,0,10,0,0,0,0,0,0,0,10,0,0,0,0,0,0,0]
["Estructura General ","EG_01",1,"-","Requerido",0,0,{"$f":"IF(AND(F137>=C137,F137>0),10,0)","v":0},{"$f":"IF(AND(G137>=C137,C137>0,G137>=1),10,0)","v":0},{"$f":"H137-I137","v":0},null,null,null,null,null,null,null,null,null,null,null,null,null,null,null,null,null,null,null,null,null,null,{"$f":"IF(UPPER(E137)=\"REQUERIDO\", 10, \"\")","v":10},{"$f":"IF(UPPER(E137)=\"REQUERIDO\", H137, \"\")","v":0}]
["Instalaciones Generales","IG_01",1,"-","Requerido",0,0,{"$f":"IF(AND(F138>=C138,F138>0),10,0)","v":0},{"$f":"IF(AND(G138>=C138,C138>0,G138>=1),10,0)","v":0},{"$f":"H138-I138","v":0},null,null,null,null,null,null,null,null,null,null,null,null,null,null,{"$f":"IF(UPPER(E138)=\"REQUERIDO\", 10, \"\")","v":10},{"$f":"IF(UPPER(E138)=\"REQUERIDO\", H138, \"\")","v":0}]
["ÁREA DE APOYO",null,null,null,null,null,null,null,null,null,null,null,null,null,null,null,null,null,null,null,null,null,null,null,null,null,null,null,null,null,null,null,null,null,null,null,null,null,null,null,{"$f":"SUM(Q139:Q141)","v":0},{"$f":"SUM(R139:R141)","v":0},{"$f":"SUM(S139:S141)","v":10},{"$f":"SUM(T139:T141)","v":0},{"$f":"SUM(U139:U141)","v":10},0,0,0,0,0,0,0,0,0,0,0,0,0,0,0,0,0,0,0]
["AMBIENTES",{"$f":"B10","v":"Anx:"},{"$f":"C$1","v":"Requerido:"},"m² Util:","Tipo:","BUENO:","MALO:",null,null,"Calif:","Observaciones:",null,null,null,null,null,null,null,null,null,null,null,null,null,null,null,null,null,null,null,null,null,null,null,null,null,null,null,null,null,{"$f":"SUM(Q141)","v":0},{"$f":"SUM(R141)","v":0},{"$f":"SUM(S141)","v":10},{"$f":"SUM(T141)","v":0},{"$f":"SUM(U141)","v":10},0,0,0,0,0,0,0,0,0,0,0,0,0,0,0,0,0,0,0]
["Zona de guardianía",null,1,"Dimensionar según la demanda funcional","Condición",0,0,{"$f":"IF(AND(F141>=C141,F141>0),10,0)","v":0},{"$f":"IF(AND(G141>=C141,C141>0,G141>=1),10,0)","v":0},{"$f":"H141-I141","v":0},null,null,null,null,null,null,{"$f":"IF(UPPER(E141)=\"REQUERIDO\", 10, \"\")","v":""},{"$f":"IF(UPPER(E141)=\"REQUERIDO\", H141, \"\")","v":""},{"$f":"IF(UPPER(E141)=\"CONDICIÓN\",10,0)","v":10},{"$f":"IF(UPPER(E141)=\"CONDICIÓN\", H141, \"\")","v":0},{"$f":"IF(UPPER(E141)=\"CONDICIÓN\", 10, 0)","v":10},{"$f":"IF(UPPER(E141)=\"CONDICIÓN\", I141, \"\")","v":0}]
["INSTALACIONES",{"$f":"B1","v":"Anx:"},{"$f":"C$1","v":"Requerido:"},"m² Util:","Tipo:","BUENO:","MALO:",null,null,"Calif:","Observaciones:",null,null,null,null,null,null,null,null,null,null,null,null,null,null,null,null,null,null,null,null,null,null,null,null,null,null,null,null,null,{"$f":"SUM(Q143:Q144)","v":0},{"$f":"SUM(R143:R144)","v":0},{"$f":"SUM(S143:S144)","v":0},{"$f":"SUM(T143:T144)","v":0},{"$f":"SUM(U143:U144)","v":0},0,0,0,0,0,10,0,10,0,0,0,0,0,10,0,10,0,0,0]
["Estructura General ","EG_01",1,"-","Condición",0,0,{"$f":"IF(AND(F143>=C143,F143>0),10,0)","v":0},{"$f":"IF(AND(G143>=C143,C143>0,G143>=1),10,0)","v":0},{"$f":"H143-I143","v":0},null,null,null,null,null,null,null,null,null,null,null,null,null,null,null,null,null,null,null,null,null,null,null,null,{"$f":"IF(UPPER(E143)=\"CONDICIÓN\", 10, 0)","v":10},{"$f":"IF(UPPER(E143)=\"CONDICIÓN\", H143, \"\")","v":0},{"$f":"IF(UPPER(E143)=\"CONDICIÓN\", 10, 0)","v":10},{"$f":"IF(UPPER(E143)=\"CONDICIÓN\", I143, \"\")","v":0}]
["Instalaciones Generales","IG_01",1,"-","Condición",0,0,{"$f":"IF(AND(F144>=C144,F144>0),10,0)","v":0},{"$f":"IF(AND(G144>=C144,C144>0,G144>=1),10,0)","v":0},{"$f":"H144-I144","v":0},null,null,null,null,null,null,null,null,null,null,null,null,null,null,null,null,{"$f":"IF(UPPER(E144)=\"CONDICIÓN\", 10, 0)","v":10},{"$f":"IF(UPPER(E144)=\"CONDICIÓN\", H144, \"\")","v":0},{"$f":"IF(UPPER(E144)=\"CONDICIÓN\", 10, 0)","v":10},{"$f":"IF(UPPER(E144)=\"CONDICIÓN\", I144, \"\")","v":0}]
["INSTALACIONES DEL LOCAL",null,null,null,null,null,null,null,null,null,null,null,null,null,null,null,null,null,null,null,null,null,null,null,null,null,null,null,null,null,null,null,null,null,null,null,null,null,null,null,{"$f":"SUM(Q145:Q180)","v":0},{"$f":"SUM(R145:R180)","v":0},{"$f":"SUM(S145:S180)","v":0},{"$f":"SUM(T145:T180)","v":0},{"$f":"SUM(U145:U180)","v":0},0,0,0,100,0,80,0,80,{"$f":"SUM(AD145:AD180)","v":0},0,0,0,0,0,0,0,0,0,0]
["Estructura General ",null,null,null,null,null,null,null,null,null,null,null,null,null,null,null,null,null,null,null,null,null,null,null,null,null,null,null,null,null,null,null,null,null,null,null,null,null,null,null,{"$f":"SUM(Q146:Q149)","v":0},{"$f":"SUM(R146:R149)","v":0},{"$f":"SUM(S146:S149)","v":0},{"$f":"SUM(T146:T149)","v":0},{"$f":"SUM(U146:U149)","v":0},0,0,0,0,0,10,0,10,0,0,0,0,0,0,0,0,0,0,0]
["INSTALACIONES",{"$f":"B1","v":"Anx:"},{"$f":"C$1","v":"Requerido:"},"m² Util:","Tipo:","BUENO:","MALO:",null,null,"Calif:","Observaciones:",null,null,null,null,null,null,null,null,null,null,null,null,null,null,null,null,null,null,null,null,null,null,null,null,null,null,null,null,null,{"$f":"SUM(Q148:Q149)","v":0},{"$f":"SUM(R148:R149)","v":0},{"$f":"SUM(S148:S149)","v":0},{"$f":"SUM(T148:T149)","v":0},{"$f":"SUM(U148:U149)","v":0},0,0,0,0,0,10,0,10,0,0,0,0,0,0,0,0,0,0,0]
["Cerramiento externo",null,1,"-","Condición",0,0,{"$f":"IF(AND(F148>=C148,F148>0),10,0)","v":0},{"$f":"IF(AND(G148>=C148,C148>0,G148>=1),10,0)","v":0},{"$f":"H148-I148","v":0}]
["Áreas adecuadas para el tránsito de sillas de ruedas",null,1,"-","Condición",0,0,{"$f":"IF(AND(F149>=C149,F149>0),10,0)","v":0},{"$f":"IF(AND(G149>=C149,C149>0,G149>=1),10,0)","v":0},{"$f":"H149-I149","v":0},null,null,null,null,null,null,null,null,null,null,null,null,null,null,null,null,{"$f":"IF(UPPER(E149)=\"CONDICIÓN\", 10, 0)","v":10},{"$f":"IF(UPPER(E149)=\"CONDICIÓN\", H149, \"\")","v":0},{"$f":"IF(UPPER(E149)=\"CONDICIÓN\", 10, 0)","v":10},{"$f":"IF(UPPER(E149)=\"CONDICIÓN\", I149, \"\")","v":0}]
["INSTALACIONES ELÉCTRICAS GENERALES (ILUMINACIÓN Y FUERZA)",null,null,null,null,null,null,null,null,null,null,null,null,null,null,null,null,null,null,null,null,null,null,null,null,null,null,null,null,null,null,null,null,null,null,null,null,null,null,null,{"$f":"SUM(Q150:Q156)","v":0},{"$f":"SUM(R150:R156)","v":0},{"$f":"SUM(S150:S156)","v":0},{"$f":"SUM(T150:T156)","v":0},{"$f":"SUM(U150:U156)","v":0},0,0,0,30,0,20,0,20,0,0,0,0,0,0,0,0,0,0,0]
["INSTALACIONES",{"$f":"B1","v":"Anx:"},{"$f":"C$1","v":"Requerido:"},"m² Util:","Tipo:","BUENO:","MALO:",null,null,"Calif:","Observaciones:",null,null,null,null,null,null,null,null,null,null,null,null,null,null,null,null,null,null,null,null,null,null,null,null,null,null,null,null,null,{"$f":"SUM(Q152:Q156)","v":0},{"$f":"SUM(R152:R156)","v":0},{"$f":"SUM(S152:S156)","v":0},{"$f":"SUM(T152:T156)","v":0},{"$f":"SUM(U152:U156)","v":0},0,0,0,30,0,20,0,20,0,0,0,0,0,0,0,0,0,0,0]
["Red de tomas de energía",null,1,"-","Requerido",0,0,{"$f":"IF(AND(F152>=C152,F152>0),10,0)","v":0},{"$f":"IF(AND(G152>=C152,C152>0,G152>=1),10,0)","v":0},{"$f":"H152-I152","v":0},null,null,null,null,null,null,null,null,null,null,null,null,null,null,{"$f":"IF(UPPER(E152)=\"REQUERIDO\", 10, \"\")","v":10},{"$f":"IF(UPPER(E152)=\"REQUERIDO\", H152, \"\")","v":0}]
["Red de instalaciones para iluminación",null,1,"-","Requerido",0,0,{"$f":"IF(AND(F153>=C153,F153>0),10,0)","v":0},{"$f":"IF(AND(G153>=C153,C153>0,G153>=1),10,0)","v":0},{"$f":"H153-I153","v":0},null,null,null,null,null,null,null,null,null,null,null,null,null,null,{"$f":"IF(UPPER(E153)=\"REQUERIDO\", 10, \"\")","v":10},{"$f":"IF(UPPER(E153)=\"REQUERIDO\", H153, \"\")","v":0}]
["Acometidas Eléctricas  (tableros de control - interruptores termomagnéticos-)",null,1,"-","Requerido",0,0,{"$f":"IF(AND(F154>=C154,F154>0),10,0)","v":0},{"$f":"IF(AND(G154>=C154,C154>0,G154>=1),10,0)","v":0},{"$f":"H154-I154","v":0},null,null,null,null,null,null,null,null,null,null,null,null,null,null,{"$f":"IF(UPPER(E154)=\"REQUERIDO\", 10, \"\")","v":10},{"$f":"IF(UPPER(E154)=\"REQUERIDO\", H154, \"\")","v":0}]
["Sistema de soporte de energía eléctrica  de emergencia. (Generación o respaldo de baterías generales o individuales)",null,1,"-","Condición",0,0,{"$f":"IF(AND(F155>=C155,F155>0),10,0)","v":0},{"$f":"IF(AND(G155>=C155,C155>0,G155>=1),10,0)","v":0},{"$f":"H155-I155","v":0},null,null,null,null,null,null,null,null,null,null,null,null,null,null,null,null,{"$f":"IF(UPPER(E155)=\"CONDICIÓN\", 10, 0)","v":10},{"$f":"IF(UPPER(E155)=\"CONDICIÓN\", H155, \"\")","v":0},{"$f":"IF(UPPER(E155)=\"CONDICIÓN\", 10, 0)","v":10},{"$f":"IF(UPPER(E155)=\"CONDICIÓN\", I155, \"\")","v":0}]
["Instalación de pararrayos",null,1,"-","Condición",0,0,{"$f":"IF(AND(F156>=C156,F156>0),10,0)","v":0},{"$f":"IF(AND(G156>=C156,C156>0,G156>=1),10,0)","v":0},{"$f":"H156-I156","v":0},null,null,null,null,null,null,null,null,null,null,null,null,null,null,null,null,{"$f":"IF(UPPER(E156)=\"CONDICIÓN\", 10, 0)","v":10},{"$f":"IF(UPPER(E156)=\"CONDICIÓN\", H156, \"\")","v":0},{"$f":"IF(UPPER(E156)=\"CONDICIÓN\", 10, 0)","v":10},{"$f":"IF(UPPER(E156)=\"CONDICIÓN\", I156, \"\")","v":0}]
["INSTALACIONES ELECTRÓNICAS",null,null,null,null,null,null,null,null,null,null,null,null,null,null,null,null,null,null,null,null,null,null,null,null,null,null,null,null,null,null,null,null,null,null,null,null,null,null,null,{"$f":"SUM(Q157:Q160)","v":0},{"$f":"SUM(R157:R160)","v":0},{"$f":"SUM(S157:S160)","v":0},{"$f":"SUM(T157:T160)","v":0},{"$f":"SUM(U157:U160)","v":0},0,0,0,10,0,10,0,10,0,0,0,0,0,0,0,0,0,0,0]
["INSTALACIONES",{"$f":"B1","v":"Anx:"},{"$f":"C$1","v":"Requerido:"},"m² Util:","Tipo:","BUENO:","MALO:",null,null,"Calif:","Observaciones:",null,null,null,null,null,null,null,null,null,null,null,null,null,null,null,null,null,null,null,null,null,null,null,null,null,null,null,null,null,{"$f":"SUM(Q158:Q160)","v":0},{"$f":"SUM(R158:R160)","v":0},{"$f":"SUM(S158:S160)","v":0},{"$f":"SUM(T158:T160)","v":0},{"$f":"SUM(U158:U160)","v":0},0,0,0,10,0,10,0,10,0,0,0,0,0,0,0,0,0,0,0]
["Sensores y alarmas para incendios",null,1,"-","Requerido",0,0,{"$f":"IF(AND(F159>=C159,F159>0),10,0)","v":0},{"$f":"IF(AND(G159>=C159,C159>0,G159>=1),10,0)","v":0},{"$f":"H159-I159","v":0},null,null,null,null,null,null,null,null,null,null,null,null,null,null,{"$f":"IF(UPPER(E159)=\"REQUERIDO\", 10, \"\")","v":10},{"$f":"IF(UPPER(E159)=\"REQUERIDO\", H159, \"\")","v":0}]
["Sistema de audio centralizado",null,1,"-","Condición",0,0,{"$f":"IF(AND(F160>=C160,F160>0),10,0)","v":0},{"$f":"IF(AND(G160>=C160,C160>0,G160>=1),10,0)","v":0},{"$f":"H160-I160","v":0},null,null,null,null,null,null,null,null,null,null,null,null,null,null,null,null,{"$f":"IF(UPPER(E160)=\"CONDICIÓN\", 10, 0)","v":10},{"$f":"IF(UPPER(E160)=\"CONDICIÓN\", H160, \"\")","v":0},{"$f":"IF(UPPER(E160)=\"CONDICIÓN\", 10, 0)","v":10},{"$f":"IF(UPPER(E160)=\"CONDICIÓN\", I160, \"\")","v":0}]
["INSTALACIONES DE TELECOMUNICACIONES",null,null,null,null,null,null,null,null,null,null,null,null,null,null,null,null,null,null,null,null,null,null,null,null,null,null,null,null,null,null,null,null,null,null,null,null,null,null,null,{"$f":"SUM(Q161:Q164)","v":0},{"$f":"SUM(R161:R164)","v":0},{"$f":"SUM(S161:S164)","v":0},{"$f":"SUM(T161:T164)","v":0},{"$f":"SUM(U161:U164)","v":0},0,0,0,20,0,0,0,0,0,0,0,0,0,0,0,0,0,0,0]
["INSTALACIONES",{"$f":"B1","v":"Anx:"},{"$f":"C$1","v":"Requerido:"},"m² Util:","Tipo:","BUENO:","MALO:",null,null,"Calif:","Observaciones:",null,null,null,null,null,null,null,null,null,null,null,null,null,null,null,null,null,null,null,null,null,null,null,null,null,null,null,null,null,{"$f":"SUM(Q162:Q164)","v":0},{"$f":"SUM(R163:R169)","v":0},{"$f":"SUM(S162:S164)","v":0},{"$f":"SUM(T163:T169)","v":0},{"$f":"SUM(U162:U164)","v":0},{"$f":"SUM(V163:V169)","v":0},{"$f":"SUM(W162:W164)","v":0},{"$f":"SUM(X163:X169)","v":0},{"$f":"SUM(Y162:Y164)","v":20},{"$f":"SUM(Z163:Z169)","v":0},{"$f":"SUM(AA162:AA164)","v":0},{"$f":"SUM(AB163:AB169)","v":0},{"$f":"SUM(AC162:AC164)","v":0},{"$f":"SUM(AD163:AD169)","v":0},{"$f":"SUM(AE162:AE164)","v":0},{"$f":"SUM(AF163:AF169)","v":0},{"$f":"SUM(AG162:AG164)","v":0},{"$f":"SUM(AH163:AH169)","v":0},{"$f":"SUM(AI162:AI164)","v":0},{"$f":"SUM(AJ163:AJ169)","v":0},{"$f":"SUM(AK162:AK164)","v":0},{"$f":"SUM(AL163:AL169)","v":0},{"$f":"SUM(AM162:AM164)","v":0},{"$f":"SUM(AN163:AN169)","v":0}]
["Instalaciones telefónicas convencionales",null,1,"-","Requerido",0,0,{"$f":"IF(AND(F163>=C163,F163>0),10,0)","v":0},{"$f":"IF(AND(G163>=C163,C163>0,G163>=1),10,0)","v":0},{"$f":"H163-I163","v":0},null,null,null,null,null,null,null,null,null,null,null,null,null,null,{"$f":"IF(UPPER(E163)=\"REQUERIDO\", 10, \"\")","v":10},{"$f":"IF(UPPER(E163)=\"REQUERIDO\", H163, \"\")","v":0}]
["Suministro de Internet ",null,1,"-","Requerido",0,0,{"$f":"IF(AND(F164>=C164,F164>0),10,0)","v":0},{"$f":"IF(AND(G164>=C164,C164>0,G164>=1),10,0)","v":0},{"$f":"H164-I164","v":0},null,null,null,null,null,null,null,null,null,null,null,null,null,null,{"$f":"IF(UPPER(E164)=\"REQUERIDO\", 10, \"\")","v":10},{"$f":"IF(UPPER(E164)=\"REQUERIDO\", H164, \"\")","v":0}]
["INSTALACIONES DE ABASTECIMIENTO DE AGUA",null,null,null,null,null,null,null,null,null,null,null,null,null,null,null,null,null,null,null,null,null,null,null,null,null,null,null,null,null,null,null,null,null,null,null,null,null,null,null,{"$f":"SUM(Q165:Q169)","v":0},{"$f":"SUM(R165:R169)","v":0},{"$f":"SUM(S165:S169)","v":0},{"$f":"SUM(T165:T169)","v":0},{"$f":"SUM(U165:U169)","v":0},0,0,0,20,0,10,0,10,0,0,0,0,0,0,0,0,0,0,0]
["INSTALACIONES",{"$f":"B16","v":"Anx:"},{"$f":"C$1","v":"Requerido:"},"m² Util:","Tipo:","BUENO:","MALO:",null,null,"Calif:","Observaciones:",null,null,null,null,null,null,null,null,null,null,null,null,null,null,null,null,null,null,null,null,null,null,null,null,null,null,null,null,null,{"$f":"SUM(Q166:Q169)","v":0},{"$f":"SUM(R166:R169)","v":0},{"$f":"SUM(S166:S169)","v":0},{"$f":"SUM(T166:T169)","v":0},{"$f":"SUM(U166:U169)","v":0},0,0,0,20,0,10,0,10,0,0,0,0,0,0,0,0,0,0,0]
["Reservorio y sistema de provisión de agua potable para casos de  emergencia por falta de provisión normal de la misma. Ejem: Cisterna/tanques ",null,1,"-","Requerido",0,0,{"$f":"IF(AND(F167>=C167,F167>0),10,0)","v":0},{"$f":"IF(AND(G167>=C167,C167>0,G167>=1),10,0)","v":0},{"$f":"H167-I167","v":0},null,null,null,null,null,null,null,null,null,null,null,null,null,null,{"$f":"IF(UPPER(E167)=\"REQUERIDO\", 10, \"\")","v":10},{"$f":"IF(UPPER(E167)=\"REQUERIDO\", H167, \"\")","v":0}]
["Instalaciones de agua fría",null,1,"-","Requerido",0,0,{"$f":"IF(AND(F168>=C168,F168>0),10,0)","v":0},{"$f":"IF(AND(G168>=C168,C168>0,G168>=1),10,0)","v":0},{"$f":"H168-I168","v":0},null,null,null,null,null,null,null,null,null,null,null,null,null,null,{"$f":"IF(UPPER(E168)=\"REQUERIDO\", 10, \"\")","v":10},{"$f":"IF(UPPER(E168)=\"REQUERIDO\", H168, \"\")","v":0}]
["Instalaciones de agua caliente",null,1,"-","Condición",0,0,{"$f":"IF(AND(F169>=C169,F169>0),10,0)","v":0},{"$f":"IF(AND(G169>=C169,C169>0,G169>=1),10,0)","v":0},{"$f":"H169-I169","v":0},null,null,null,null,null,null,null,null,null,null,null,null,null,null,null,null,{"$f":"IF(UPPER(E169)=\"CONDICIÓN\", 10, 0)","v":10},{"$f":"IF(UPPER(E169)=\"CONDICIÓN\", H169, \"\")","v":0},{"$f":"IF(UPPER(E169)=\"CONDICIÓN\", 10, 0)","v":10},{"$f":"IF(UPPER(E169)=\"CONDICIÓN\", I169, \"\")","v":0}]
["INSTALACIONES DE DESAGÜE",null,null,null,null,null,null,null,null,null,null,null,null,null,null,null,null,null,null,null,null,null,null,null,null,null,null,null,null,null,null,null,null,null,null,null,null,null,null,null,{"$f":"SUM(Q170:Q172)","v":0},{"$f":"SUM(R170:R172)","v":0},{"$f":"SUM(S170:S172)","v":0},{"$f":"SUM(T170:T172)","v":0},{"$f":"SUM(U170:U172)","v":0},0,0,0,10,0,0,0,0,0,0,0,0,0,0,0,0,0,0,0]
["INSTALACIONES",{"$f":"B1","v":"Anx:"},{"$f":"C$1","v":"Requerido:"},"m² Util:","Tipo:","BUENO:","MALO:",null,null,"Calif:","Observaciones:",null,null,null,null,null,null,null,null,null,null,null,null,null,null,null,null,null,null,null,null,null,null,null,null,null,null,null,null,null,{"$f":"SUM(Q171:Q172)","v":0},{"$f":"SUM(R171:R172)","v":0},{"$f":"SUM(S171:S172)","v":0},{"$f":"SUM(T171:T172)","v":0},{"$f":"SUM(U171:U172)","v":0},0,0,0,10,0,0,0,0,0,0,0,0,0,0,0,0,0,0,0]
["Red de instalaciones internas de recolección y conducción de aguas servidas.",null,1,"-","Requerido",0,0,{"$f":"IF(AND(F172>=C172,F172>0),10,0)","v":0},{"$f":"IF(AND(G172>=C172,C172>0,G172>=1),10,0)","v":0},{"$f":"H172-I172","v":0},null,null,null,null,null,null,null,null,null,null,null,null,null,null,{"$f":"IF(UPPER(E172)=\"REQUERIDO\", 10, \"\")","v":10},{"$f":"IF(UPPER(E172)=\"REQUERIDO\", H172, \"\")","v":0}]
["INSTALACIONES MECÁNICAS GENERALES",null,null,null,null,null,null,null,null,null,null,null,null,null,null,null,null,null,null,null,null,null,null,null,null,null,null,null,null,null,null,null,null,null,null,null,null,null,null,null,{"$f":"SUM(Q173:Q176)","v":0},{"$f":"SUM(R173:R176)","v":0},{"$f":"SUM(S173:S176)","v":0},{"$f":"SUM(T173:T176)","v":0},{"$f":"SUM(U173:U176)","v":0},0,0,0,0,0,20,0,20,0,0,0,0,0,0,0,0,0,0,0]
["INSTALACIONES",{"$f":"B24","v":"Anx:"},{"$f":"C$1","v":"Requerido:"},"m² Util:","Tipo:","BUENO:","MALO:",null,null,"Calif:","Observaciones:",null,null,null,null,null,null,null,null,null,null,null,null,null,null,null,null,null,null,null,null,null,null,null,null,null,null,null,null,null,{"$f":"SUM(Q173:Q176)","v":0},{"$f":"SUM(R173:R176)","v":0},{"$f":"SUM(S173:S176)","v":0},{"$f":"SUM(T173:T176)","v":0},{"$f":"SUM(U173:U176)","v":0},0,0,0,0,0,20,0,20,0,0,0,0,0,0,0,0,0,0,0]
["Sistemas centralizados de aire acondicionado. Enfriadores(Chillers)-Unidades manejadoras de aire (UMAS)",null,1,"-","Condición",0,0,{"$f":"IF(AND(F175>=C175,F175>0),10,0)","v":0},{"$f":"IF(AND(G175>=C175,C175>0,G175>=1),10,0)","v":0},{"$f":"H175-I175","v":0},null,null,null,null,null,null,null,null,null,null,null,null,null,null,null,null,{"$f":"IF(UPPER(E175)=\"CONDICIÓN\", 10, 0)","v":10},{"$f":"IF(UPPER(E175)=\"CONDICIÓN\", H175, \"\")","v":0},{"$f":"IF(UPPER(E175)=\"CONDICIÓN\", 10, 0)","v":10},{"$f":"IF(UPPER(E175)=\"CONDICIÓN\", I175, \"\")","v":0}]
["Redes de ductos de aire acondicionado y/o ventilación/extracción",null,1,"-","Condición",0,0,{"$f":"IF(AND(F176>=C176,F176>0),10,0)","v":0},{"$f":"IF(AND(G176>=C176,C176>0,G176>=1),10,0)","v":0},{"$f":"H176-I176","v":0},null,null,null,null,null,null,null,null,null,null,null,null,null,null,null,null,{"$f":"IF(UPPER(E176)=\"CONDICIÓN\", 10, 0)","v":10},{"$f":"IF(UPPER(E176)=\"CONDICIÓN\", H176, \"\")","v":0},{"$f":"IF(UPPER(E176)=\"CONDICIÓN\", 10, 0)","v":10},{"$f":"IF(UPPER(E176)=\"CONDICIÓN\", I176, \"\")","v":0}]
["INSTALACIONES  GENERALES",null,null,null,null,null,null,null,null,null,null,null,null,null,null,null,null,null,null,null,null,null,null,null,null,null,null,null,null,null,null,null,null,null,null,null,null,null,null,null,{"$f":"SUM(Q177:Q180)","v":0},{"$f":"SUM(R177:R180)","v":0},{"$f":"SUM(S177:S180)","v":0},{"$f":"SUM(T177:T180)","v":0},{"$f":"SUM(U177:U180)","v":0},0,0,0,10,0,10,0,10,0,0,0,0,0,0,0,0,0,0,0]
["INSTALACIONES",{"$f":"B1","v":"Anx:"},{"$f":"C$1","v":"Requerido:"},"m² Util:","Tipo:","BUENO:","MALO:",null,null,"Calif:","Observaciones:",null,null,null,null,null,null,null,null,null,null,null,null,null,null,null,null,null,null,null,null,null,null,null,null,null,null,null,null,null,{"$f":"SUM(Q178:Q180)","v":0},{"$f":"SUM(R178:R180)","v":0},{"$f":"SUM(S178:S180)","v":0},{"$f":"SUM(T178:T180)","v":0},{"$f":"SUM(U178:U180)","v":0},0,0,0,10,0,10,0,10,0,0,0,0,0,0,0,0,0,0,0]
["Instalaciones de ascensores (circulación vertical)",null,1,"-","Condición",0,0,{"$f":"IF(AND(F179>=C179,F179>0),10,0)","v":0},{"$f":"IF(AND(G179>=C179,C179>0,G179>=1),10,0)","v":0},{"$f":"H179-I179","v":0},null,null,null,null,null,null,null,null,null,null,null,null,null,null,null,null,{"$f":"IF(UPPER(E179)=\"CONDICIÓN\", 10, 0)","v":10},{"$f":"IF(UPPER(E179)=\"CONDICIÓN\", H179, \"\")","v":0},{"$f":"IF(UPPER(E179)=\"CONDICIÓN\", 10, 0)","v":10},{"$f":"IF(UPPER(E179)=\"CONDICIÓN\", I179, \"\")","v":0}]
["Señalización externa e interna",null,1,"-","Requerido",0,0,{"$f":"IF(AND(F180>=C180,F180>0),10,0)","v":0},{"$f":"IF(AND(G180>=C180,C180>0,G180>=1),10,0)","v":0},{"$f":"H180-I180","v":0},null,null,null,null,null,null,null,null,null,null,null,null,null,null,{"$f":"IF(UPPER(E180)=\"REQUERIDO\", 10, \"\")","v":10},{"$f":"IF(UPPER(E180)=\"REQUERIDO\", H180, \"\")","v":0},null,null,null,null,null,null,null,null,null,null,null,null,null,null,"AMBIENTES",null,null,null,null,null,null,null,"INSTALACIONES",null,null,null,null,null,null,null,"ESTRUCTURA GENERAL"]
["TOTALES PARCIALES REQUERIDOS:",null,null,null,null,null,null,null,null,null,null,null,null,null,null,null,null,null,null,null,null,null,null,null,null,null,null,null,null,null,null,null,null,null,null,null,null,null,null,null,"req",null,"cond +",null,"cond -",null,"dese",null,"req",null,"cond",null," cond -",null,"dese",null,"req",null,"cond",null,"cond -",null,"dese"]
["AMBIENTES:",null,"% Obtenido:","% Obtenido:","% Obtenido:","% A Cumplir:","% Final:",null,null,null,null,null,null,null,null,null,null,null,null,null,null,null,null,null,null,null,null,null,null,null,null,"TOTAL GENERAL:",null,null,null,null,null,null,null,null,{"$f":"(AO4+AO13+AO27+AO58+AO68+AO99+AO79+AO110+AO145)","v":360},{"$f":"(+Infraestructura!AP4+Infraestructura!AP13+Infraestructura!AP27+Infraestructura!AP58+Infraestructura!AP68+Infraestructura!AP99+Infraestructura!AP79+Infraestructura!AP110+Infraestructura!AP145)","v":0},{"$f":"(AQ4+AQ13+AQ27+AQ58+AQ68+AQ99+AQ79+AQ110+AQ145)","v":150},{"$f":"(+Infraestructura!AR4+Infraestructura!AR13+Infraestructura!AR27+Infraestructura!AR58+Infraestructura!AR68+Infraestructura!AR99+Infraestructura!AR79+Infraestructura!AR110+Infraestructura!AR145)","v":0},{"$f":"(AS4+AS13+AS27+AS58+AS68+AS99+AS79+AS110+AS145)","v":150},{"$f":"(+Infraestructura!AT4+Infraestructura!AT13+Infraestructura!AT27+Infraestructura!AT58+Infraestructura!AT68+Infraestructura!AT99+Infraestructura!AT79+Infraestructura!AT110+Infraestructura!AT145)","v":0},{"$f":"(AU4+AU13+AU27+AU58+AU68+AU99+AU79+AU110+AU145)","v":10},{"$f":"(+Infraestructura!AV4+Infraestructura!AV13+Infraestructura!AV27+Infraestructura!AV58+Infraestructura!AV68+Infraestructura!AV99+Infraestructura!AV79+Infraestructura!AV110+Infraestructura!AV145)","v":0},{"$f":"(AW4+AW13+AW27+AW58+AW68+AW99+AW79+AW110+AW145)","v":220},{"$f":"(+Infraestructura!AX4+Infraestructura!AX13+Infraestructura!AX27+Infraestructura!AX58+Infraestructura!AX68+Infraestructura!AX99+Infraestructura!AX79+Infraestructura!AX110+Infraestructura!AX145)","v":0},{"$f":"(AY4+AY13+AY27+AY58+AY68+AY99+AY79+AY110+AY145)","v":100},{"$f":"(+Infraestructura!AZ4+Infraestructura!AZ13+Infraestructura!AZ27+Infraestructura!AZ58+Infraestructura!AZ68+Infraestructura!AZ99+Infraestructura!AZ79+Infraestructura!AZ110+Infraestructura!AZ145)","v":0},{"$f":"(BA4+BA13+BA27+BA58+BA68+BA99+BA79+BA110+BA145)","v":100},{"$f":"(+Infraestructura!BB4+Infraestructura!BB13+Infraestructura!BB27+Infraestructura!BB58+Infraestructura!BB68+Infraestructura!BB99+Infraestructura!BB79+Infraestructura!BB110+Infraestructura!BB145)","v":0},{"$f":"(BC4+BC13+BC27+BC58+BC68+BC99+BC79+BC110+BC145)","v":0},{"$f":"(+Infraestructura!BD4+Infraestructura!BD13+Infraestructura!BD27+Infraestructura!BD58+Infraestructura!BD68+Infraestructura!BD99+Infraestructura!BD79+Infraestructura!BD110+Infraestructura!BD145)","v":0},{"$f":"(BE4+BE13+BE27+BE58+BE68+BE99+BE79+BE110+BE145)","v":120},{"$f":"(+Infraestructura!BF4+Infraestructura!BF13+Infraestructura!BF27+Infraestructura!BF58+Infraestructura!BF68+Infraestructura!BF99+Infraestructura!BF79+Infraestructura!BF110+Infraestructura!BF145)","v":0},{"$f":"(BG4+BG13+BG27+BG58+BG68+BG99+BG79+BG110+BG145)","v":20},{"$f":"(+Infraestructura!BH4+Infraestructura!BH13+Infraestructura!BH27+Infraestructura!BH58+Infraestructura!BH68+Infraestructura!BH99+Infraestructura!BH79+Infraestructura!BH110+Infraestructura!BH145)","v":0},{"$f":"(BI4+BI13+BI27+BI58+BI68+BI99+BI79+BI110+BI145)","v":20},{"$f":"(+Infraestructura!BJ4+Infraestructura!BJ13+Infraestructura!BJ27+Infraestructura!BJ58+Infraestructura!BJ68+Infraestructura!BJ99+Infraestructura!BJ79+Infraestructura!BJ110+Infraestructura!BJ145)","v":0},{"$f":"(BK4+BK13+BK27+BK58+BK68+BK99+BK79+BK110+BK145)","v":0},{"$f":"(+Infraestructura!BL4+Infraestructura!BL13+Infraestructura!BL27+Infraestructura!BL58+Infraestructura!BL68+Infraestructura!BL99+Infraestructura!BL79+Infraestructura!BL110+Infraestructura!BL145)","v":0}]
[{"$f":"$AF$183","v":"ADMINISTRATIVO"},null,{"$f":"(Infraestructura!$AP$183)*50/100/100","v":0},null,null,{"$f":"(Infraestructura!$AO$183)*50/100/100","v":2.7777777777777776E-2},{"$f":"IF(Infraestructura!$C$183=Infraestructura!$F$183, \"CUMPLE\", \"NO CUMPLE\")","v":"NO CUMPLE"},null,null,null,null,null,null,null,null,null,null,null,null,null,null,null,null,null,null,null,null,null,null,null,null,"ADMINISTRATIVO",null,null,null,null,null,null,null,null,{"$f":"AO4*100/AO182","v":5.5555555555555554},{"$f":"AP4*100/AO182","v":0},{"$f":"AQ4*100/AQ182","v":0},{"$f":"AR4*100/AQ182","v":0},{"$f":"AS4*100/AS182","v":0},{"$f":"AT4*100/AS182","v":0},{"$f":"AU4*100/AU182","v":0},{"$f":"AV4*100/AU182","v":0},{"$f":"AW4*100/AW182","v":4.5454545454545459},{"$f":"AX4*100/AW182","v":0},{"$f":"AY4*100/AY182","v":0},{"$f":"AZ4*100/AY182","v":0},{"$f":"BA4*100/BA182","v":0},{"$f":"BB4*100/BA182","v":0},{"$f":"BC4*100/BC182","v":{"$error":"#DIV/0!"}},{"$f":"BD4*100/BC182","v":{"$error":"#DIV/0!"}},{"$f":"BE4*100/BE182","v":8.3333333333333339},{"$f":"BF4*100/BE182","v":0},{"$f":"BG4*100/BG182","v":0},{"$f":"BH4*100/BG182","v":0},{"$f":"BI4*100/BI182","v":0},{"$f":"BJ4*100/BI182","v":0},{"$f":"BK4*100/BK182","v":{"$error":"#DIV/0!"}},{"$f":"BL4*100/BK182","v":{"$error":"#DIV/0!"}}]
[{"$f":"$AF$184","v":"ADMISIÓN Y ESTADÍSTICA"},null,null,{"$f":"(Infraestructura!$AP$184)*50/100/100","v":0},null,{"$f":"(Infraestructura!$AO$184)*50/100/100","v":2.7777777777777776E-2},{"$f":"IF(Infraestructura!$D$184=Infraestructura!$F$184, \"CUMPLE\", \"NO CUMPLE\")","v":"NO CUMPLE"},null,null,null,null,null,null,null,null,null,null,null,null,null,null,null,null,null,null,null,null,null,null,null,null,"ADMISIÓN Y ESTADÍSTICA",null,null,null,null,null,null,null,null,{"$f":"AO5*100/AO182","v":5.5555555555555554},{"$f":"AP5*100/AO182","v":0},{"$f":"AQ5*100/AQ182","v":0},{"$f":"AR5*100/AQ182","v":0},{"$f":"AS5*100/AS182","v":0},{"$f":"AT5*100/AS182","v":0},{"$f":"AU5*100/AU182","v":0},{"$f":"AV5*100/AU182","v":0},{"$f":"AW5*100/AW182","v":4.5454545454545459},{"$f":"AX5*100/AW182","v":0},{"$f":"AY5*100/AY182","v":0},{"$f":"AZ5*100/AY182","v":0},{"$f":"BA5*100/BA182","v":0},{"$f":"BB5*100/BA182","v":0},{"$f":"BC5*100/BC182","v":{"$error":"#DIV/0!"}},{"$f":"BD5*100/BC182","v":{"$error":"#DIV/0!"}},{"$f":"BE5*100/BE182","v":8.3333333333333339},{"$f":"BF5*100/BE182","v":0},{"$f":"BG5*100/BG182","v":0},{"$f":"BH5*100/BG182","v":0},{"$f":"BI5*100/BI182","v":0},{"$f":"BJ5*100/BI182","v":0},{"$f":"BK5*100/BK182","v":{"$error":"#DIV/0!"}},{"$f":"BL5*100/BK182","v":{"$error":"#DIV/0!"}}]
[{"$f":"$AF$185","v":"ÁREA TÉCNICA"},null,null,null,{"$f":"(Infraestructura!$AP$185)*50/100/100","v":0},{"$f":"(AO185)*50/100/100","v":2.7777777777777776E-2},{"$f":"IF(Infraestructura!$E$185=Infraestructura!$F$185, \"CUMPLE\", \"NO CUMPLE\")","v":"NO CUMPLE"},null,null,null,null,null,null,null,null,null,null,null,null,null,null,null,null,null,null,null,null,null,null,null,null,"ÁREA TÉCNICA",null,null,null,null,null,null,null,null,{"$f":"AO6*100/AO182","v":5.5555555555555554},{"$f":"AP6*100/AO182","v":0},{"$f":"AQ6*100/AQ182","v":0},{"$f":"AR6*100/AQ182","v":0},{"$f":"AS6*100/AS182","v":0},{"$f":"AT6*100/AS182","v":0},{"$f":"AU6*100/AU182","v":0},{"$f":"AV6*100/AU182","v":0},{"$f":"AW6*100/AW182","v":4.5454545454545459},{"$f":"AX6*100/AW182","v":0},{"$f":"AY6*100/AY182","v":0},{"$f":"AZ6*100/AY182","v":0},{"$f":"BA6*100/BA182","v":0},{"$f":"BB6*100/BA182","v":0},{"$f":"BC6*100/BC182","v":{"$error":"#DIV/0!"}},{"$f":"BD6*100/BC182","v":{"$error":"#DIV/0!"}},{"$f":"BE6*100/BE182","v":8.3333333333333339},{"$f":"BF6*100/BE182","v":0},{"$f":"BG6*100/BG182","v":0},{"$f":"BH6*100/BG182","v":0},{"$f":"BI6*100/BI182","v":0},{"$f":"BJ6*100/BI182","v":0},{"$f":"BK6*100/BK182","v":{"$error":"#DIV/0!"}},{"$f":"BL6*100/BK182","v":{"$error":"#DIV/0!"}}]
[{"$f":"Infraestructura!$AF$186","v":"ASISTENCIAL"},null,{"$f":"(AP186)*50/100/100","v":0},null,null,8.3333333333333343E-2,{"$f":"IF(Infraestructura!$C$186=Infraestructura!$F$186, \"CUMPLE\", \"NO CUMPLE\")","v":"NO CUMPLE"},null,null,null,null,null,null,null,null,null,null,null,null,null,null,null,null,null,null,null,null,null,null,null,null,"ASISTENCIAL",null,null,null,null,null,null,null,null,{"$f":"AO13*100/AO182","v":16.666666666666668},{"$f":"AP13*100/AO182","v":0},{"$f":"AQ13*100/AQ182","v":0},{"$f":"AR13*100/AQ182","v":0},{"$f":"AS13*100/AS182","v":0},{"$f":"AT13*100/AS182","v":0},{"$f":"AU13*100/AU182","v":100},{"$f":"AV13*100/AU182","v":0},{"$f":"AW13*100/AW182","v":4.5454545454545459},{"$f":"AX13*100/AW182","v":0},{"$f":"AY13*100/AY182","v":0},{"$f":"AZ13*100/AY182","v":0},{"$f":"BA13*100/BA182","v":0},{"$f":"BB13*100/BA182","v":0},{"$f":"BC13*100/BC182","v":{"$error":"#DIV/0!"}},{"$f":"BD13*100/BC182","v":{"$error":"#DIV/0!"}},{"$f":"BE13*100/BE182","v":8.3333333333333339},{"$f":"BF13*100/BE182","v":0},{"$f":"BG13*100/BG182","v":0},{"$f":"BH13*100/BG182","v":0},{"$f":"BI13*100/BI182","v":0},{"$f":"BJ13*100/BI182","v":0},{"$f":"BK13*100/BK182","v":{"$error":"#DIV/0!"}},{"$f":"BL13*100/BK182","v":{"$error":"#DIV/0!"}}]
[{"$f":"Infraestructura!$AF$187","v":"CONSULTA EXTERNA"},null,null,{"$f":"(AP187)*50/100/100","v":0},null,8.3333333333333343E-2,{"$f":"IF(Infraestructura!$D$187=Infraestructura!$F$187, \"CUMPLE\", \"NO CUMPLE\")","v":"NO CUMPLE"},null,null,null,null,null,null,null,null,null,null,null,null,null,null,null,null,null,null,null,null,null,null,null,null,"CONSULTA EXTERNA",null,null,null,null,null,null,null,null,{"$f":"AO14*100/AO182","v":16.666666666666668},{"$f":"AP14*100/AO182","v":0},{"$f":"AQ14*100/AQ182","v":0},{"$f":"AR14*100/AQ182","v":0},{"$f":"AS14*100/AS182","v":0},{"$f":"AT14*100/AS182","v":0},{"$f":"AU14*100/AU182","v":100},{"$f":"AV14*100/AU182","v":0},{"$f":"AW14*100/AW182","v":4.5454545454545459},{"$f":"AX14*100/AW182","v":0},{"$f":"AY14*100/AY182","v":0},{"$f":"AZ14*100/AY182","v":0},{"$f":"BA14*100/BA182","v":0},{"$f":"BB14*100/BA182","v":0},{"$f":"BC14*100/BC182","v":{"$error":"#DIV/0!"}},{"$f":"BD14*100/BC182","v":{"$error":"#DIV/0!"}},{"$f":"BE14*100/BE182","v":8.3333333333333339},{"$f":"BF14*100/BE182","v":0},{"$f":"BG14*100/BG182","v":0},{"$f":"BH14*100/BG182","v":0},{"$f":"BI14*100/BI182","v":0},{"$f":"BJ14*100/BI182","v":0},{"$f":"BK14*100/BK182","v":{"$error":"#DIV/0!"}},{"$f":"BL14*100/BK182","v":{"$error":"#DIV/0!"}}]
[{"$f":"Infraestructura!$AF$188","v":"ÁREA DE CONSULTA"},null,null,null,{"$f":"(AP188)*50/100/100","v":0},8.3333333333333343E-2,{"$f":"IF(Infraestructura!$E$188=Infraestructura!$F$188, \"CUMPLE\", \"NO CUMPLE\")","v":"NO CUMPLE"},null,null,null,null,null,null,null,null,null,null,null,null,null,null,null,null,null,null,null,null,null,null,null,null,"ÁREA DE CONSULTA",null,null,null,null,null,null,null,null,{"$f":"AO15*100/AO182","v":16.666666666666668},{"$f":"AP15*100/AO182","v":0},{"$f":"AQ15*100/AQ182","v":0},{"$f":"AR15*100/AQ182","v":0},{"$f":"AS15*100/AS182","v":0},{"$f":"AT15*100/AS182","v":0},{"$f":"AU15*100/AU182","v":100},{"$f":"AV15*100/AU182","v":0},{"$f":"AW15*100/AW182","v":4.5454545454545459},{"$f":"AX15*100/AW182","v":0},{"$f":"AY15*100/AY182","v":0},{"$f":"AZ15*100/AY182","v":0},{"$f":"BA15*100/BA182","v":0},{"$f":"BB15*100/BA182","v":0},{"$f":"BC15*100/BC182","v":{"$error":"#DIV/0!"}},{"$f":"BD15*100/BC182","v":{"$error":"#DIV/0!"}},{"$f":"BE15*100/BE182","v":8.3333333333333339},{"$f":"BF15*100/BE182","v":0},{"$f":"BG15*100/BG182","v":0},{"$f":"BH15*100/BG182","v":0},{"$f":"BI15*100/BI182","v":0},{"$f":"BJ15*100/BI182","v":0},{"$f":"BK15*100/BK182","v":{"$error":"#DIV/0!"}},{"$f":"BL15*100/BK182","v":{"$error":"#DIV/0!"}}]
[{"$f":"$AF$189","v":"ASISTENCIAL"},null,{"$f":"(AP189)*50/100/100","v":0},null,null,9.722222222222221E-2,{"$f":"IF(Infraestructura!$C$189=Infraestructura!$F$189, \"CUMPLE\", \"NO CUMPLE\")","v":"NO CUMPLE"},null,null,null,null,null,null,null,null,null,null,null,null,null,null,null,null,null,null,null,null,null,null,null,null,"ASISTENCIAL",null,null,null,null,null,null,null,null,{"$f":"AO27*100/AO182","v":19.444444444444443},{"$f":"AP27*100/AO182","v":0},{"$f":"AQ27*100/AQ182","v":40},{"$f":"AR27*100/AQ182","v":0},{"$f":"AS27*100/AS182","v":40},{"$f":"AT27*100/AS182","v":0},{"$f":"AU27*100/AU182","v":0},{"$f":"AV27*100/AU182","v":0},{"$f":"AW27*100/AW182","v":9.0909090909090917},{"$f":"AX27*100/AW182","v":0},{"$f":"AY27*100/AY182","v":10},{"$f":"AZ27*100/AY182","v":0},{"$f":"BA27*100/BA182","v":10},{"$f":"BB27*100/BA182","v":0},{"$f":"BC27*100/BC182","v":{"$error":"#DIV/0!"}},{"$f":"BD27*100/BC182","v":{"$error":"#DIV/0!"}},{"$f":"BE27*100/BE182","v":16.666666666666668},{"$f":"BF27*100/BE182","v":0},{"$f":"BG27*100/BG182","v":50},{"$f":"BH27*100/BG182","v":0},{"$f":"BI27*100/BI182","v":50},{"$f":"BJ27*100/BI182","v":0},{"$f":"BK27*100/BK182","v":{"$error":"#DIV/0!"}},{"$f":"BL27*100/BK182","v":{"$error":"#DIV/0!"}}]
[{"$f":"$AF$190","v":"INTERNACIÓN / RESIDENCIA"},null,null,{"$f":"(AP190)*50/100/100","v":0},null,9.722222222222221E-2,{"$f":"IF(Infraestructura!$D$190=Infraestructura!$F$190, \"CUMPLE\", \"NO CUMPLE\")","v":"NO CUMPLE"},null,null,null,null,null,null,null,null,null,null,null,null,null,null,null,null,null,null,null,null,null,null,null,null,"INTERNACIÓN / RESIDENCIA",null,null,null,null,null,null,null,null,{"$f":"AO$28*100/AO182","v":19.444444444444443},{"$f":"AP28*100/AO182","v":0},{"$f":"AQ28*100/AQ182","v":40},{"$f":"AR28*100/AQ182","v":0},{"$f":"AS$28*100/AS182","v":40},{"$f":"AT28*100/AS182","v":0},{"$f":"AU28*100/AU182","v":0},{"$f":"AV28*100/AU182","v":0},{"$f":"AW$28*100/AW182","v":9.0909090909090917},{"$f":"AX28*100/AW182","v":0},{"$f":"AY28*100/AY182","v":10},{"$f":"AZ28*100/AY182","v":0},{"$f":"BA$28*100/BA182","v":10},{"$f":"BB28*100/BA182","v":0},{"$f":"BC28*100/BC182","v":{"$error":"#DIV/0!"}},{"$f":"BD28*100/BC182","v":{"$error":"#DIV/0!"}},{"$f":"BE$28*100/BE182","v":16.666666666666668},{"$f":"BF28*100/BE182","v":0},{"$f":"BG28*100/BG182","v":50},{"$f":"BH28*100/BG182","v":0},{"$f":"BI$28*100/BI182","v":50},{"$f":"BJ28*100/BI182","v":0},{"$f":"BK28*100/BK182","v":{"$error":"#DIV/0!"}},{"$f":"BL28*100/BK182","v":{"$error":"#DIV/0!"}}]
[{"$f":"$AF$191","v":"ÁREA DE INTERNACIÓN/RESIDENCIA"},null,null,null,{"$f":"(AP191)*50/100/100","v":0},5.5555555555555552E-2,{"$f":"IF(Infraestructura!$E$191=Infraestructura!$F$191, \"CUMPLE\", \"NO CUMPLE\")","v":"NO CUMPLE"},null,null,null,null,null,null,null,null,null,null,null,null,null,null,null,null,null,null,null,null,null,null,null,null,"ÁREA DE INTERNACIÓN/RESIDENCIA",null,null,null,null,null,null,null,null,{"$f":"AO30*100/AO182","v":11.111111111111111},{"$f":"AP30*100/AO182","v":0},{"$f":"AQ30*100/AQ182","v":13.333333333333334},{"$f":"AR30*100/AQ182","v":0},{"$f":"AS30*100/AS182","v":13.333333333333334},{"$f":"AT30*100/AS182","v":0},{"$f":"AU30*100/AU182","v":0},{"$f":"AV30*100/AU182","v":0},{"$f":"AW30*100/AW182","v":0},{"$f":"AX30*100/AW182","v":0},{"$f":"AY30*100/AY182","v":0},{"$f":"AZ30*100/AY182","v":0},{"$f":"BA30*100/BA182","v":0},{"$f":"BB30*100/BA182","v":0},{"$f":"BC30*100/BC182","v":{"$error":"#DIV/0!"}},{"$f":"BD30*100/BC182","v":{"$error":"#DIV/0!"}},{"$f":"BE30*100/BE182","v":0},{"$f":"BF30*100/BE182","v":0},{"$f":"BG30*100/BG182","v":0},{"$f":"BH30*100/BG182","v":0},{"$f":"BI30*100/BI182","v":0},{"$f":"BJ30*100/BI182","v":0},{"$f":"BK30*100/BK182","v":{"$error":"#DIV/0!"}},{"$f":"BL30*100/BK182","v":{"$error":"#DIV/0!"}}]
[{"$f":"$AF$192","v":"ÁREA DE SOPORTE Y SUMINISTROS"},null,null,null,{"$f":"(AP192)*50/100/100","v":0},4.1666666666666671E-2,{"$f":"IF(Infraestructura!$E$192=Infraestructura!$F$192, \"CUMPLE\", \"NO CUMPLE\")","v":"NO CUMPLE"},null,null,null,null,null,null,null,null,null,null,null,null,null,null,null," ",null,null,null,null,null,null,null,null,"ÁREA DE SOPORTE Y SUMINISTROS",null,null,null,null,null,null,null,null,{"$f":"AO41*100/AO182","v":8.3333333333333339},{"$f":"AP41*100/AO182","v":0},{"$f":"AQ41*100/AQ182","v":6.666666666666667},{"$f":"AR41*100/AQ182","v":0},{"$f":"AS41*100/AS182","v":6.666666666666667},{"$f":"AT41*100/AS182","v":0},{"$f":"AU41*100/AU182","v":0},{"$f":"AV41*100/AU182","v":0},{"$f":"AW41*100/AW182","v":4.5454545454545459},{"$f":"AX41*100/AW182","v":0},{"$f":"AY41*100/AY182","v":0},{"$f":"AZ41*100/AY182","v":0},{"$f":"BA41*100/BA182","v":0},{"$f":"BB41*100/BA182","v":0},{"$f":"BC41*100/BC182","v":{"$error":"#DIV/0!"}},{"$f":"BD41*100/BC182","v":{"$error":"#DIV/0!"}},{"$f":"BE41*100/BE182","v":8.3333333333333339},{"$f":"BF41*100/BE182","v":0},{"$f":"BG41*100/BG182","v":0},{"$f":"BH41*100/BG182","v":0},{"$f":"BI41*100/BI182","v":0},{"$f":"BJ41*100/BI182","v":0},{"$f":"BK41*100/BK182","v":{"$error":"#DIV/0!"}},{"$f":"BL41*100/BK182","v":{"$error":"#DIV/0!"}}]
[{"$f":"Infraestructura!$AF$194","v":"APOYO TERAPEUTICO"},null,{"$f":"(AP194)*50/100/100","v":0},null,null,{"$f":"(AO194)*50/100/100","v":2.7777777777777776E-2},{"$f":"IF(Infraestructura!$C$193=Infraestructura!$F$193, \"CUMPLE\", \"NO CUMPLE\")","v":"NO CUMPLE"},null,null,null,null,null,null,null,null,null,null,null,null,null,null,null,null,null,null,null,null,null,null,null,null,"ÁREA DE PERSONAL",null,null,null,null,null,null,null,null,{"$f":"AO50*100/AO182","v":0},{"$f":"AO50*100/AO182","v":0},{"$f":"AQ50*100/AQ182","v":20},{"$f":"AR50*100/AQ182","v":0},{"$f":"AS50*100/AS182","v":20},{"$f":"AT50*100/AS182","v":0},{"$f":"AU50*100/AU182","v":0},{"$f":"AV50*100/AU182","v":0},{"$f":"AW50*100/AW182","v":0},{"$f":"AW50*100/AW182","v":0},{"$f":"AY50*100/AY182","v":10},{"$f":"AZ50*100/AY182","v":0},{"$f":"BA50*100/BA182","v":10},{"$f":"BB50*100/BA182","v":0},{"$f":"BC50*100/BC182","v":{"$error":"#DIV/0!"}},{"$f":"BD50*100/BC182","v":{"$error":"#DIV/0!"}},{"$f":"BE50*100/BE182","v":0},{"$f":"BE50*100/BE182","v":0},{"$f":"BG50*100/BG182","v":50},{"$f":"BH50*100/BG182","v":0},{"$f":"BI50*100/BI182","v":50},{"$f":"BJ50*100/BI182","v":0},{"$f":"BK50*100/BK182","v":{"$error":"#DIV/0!"}},{"$f":"BL50*100/BK182","v":{"$error":"#DIV/0!"}}]
[{"$f":"Infraestructura!$AF$195","v":"DOTACIÓN DE MEDICAMENTOS Y DISPOSITIVOS MÉDICOS  (FARMACIA)"},null,null,{"$f":"(AP195)*50/100/100","v":0},null,2.7777777777777776E-2,{"$f":"IF(Infraestructura!$D$194=Infraestructura!$F$194, \"CUMPLE\", \"NO CUMPLE\")","v":"NO CUMPLE"},null,null,null,null,null,null,null,null,null,null,null,null,null,null,null,null,null,null,null,null,null,null,null,null,"APOYO TERAPEUTICO",null,null,null,null,null,null,null,null,{"$f":"AO58*100/AO182","v":5.5555555555555554},{"$f":"AP58*100/AO182","v":0},{"$f":"AQ58*100/AQ182","v":0},{"$f":"AR58*100/AQ182","v":0},{"$f":"AS58*100/AS182","v":0},{"$f":"AT58*100/AS182","v":0},{"$f":"AU58*100/AU182","v":0},{"$f":"AV58*100/AU182","v":0},{"$f":"AW58*100/AW182","v":4.5454545454545459},{"$f":"AX58*100/AW182","v":0},{"$f":"AY58*100/AY182","v":0},{"$f":"AZ58*100/AY182","v":0},{"$f":"BA58*100/BA182","v":0},{"$f":"BB58*100/BA182","v":0},{"$f":"BC58*100/BC182","v":{"$error":"#DIV/0!"}},{"$f":"BD58*100/BC182","v":{"$error":"#DIV/0!"}},{"$f":"BE58*100/BE182","v":8.3333333333333339},{"$f":"BF58*100/BE182","v":0},{"$f":"BG58*100/BG182","v":0},{"$f":"BH58*100/BG182","v":0},{"$f":"BI58*100/BI182","v":0},{"$f":"BJ58*100/BI182","v":0},{"$f":"BK58*100/BK182","v":{"$error":"#DIV/0!"}},{"$f":"BL58*100/BK182","v":{"$error":"#DIV/0!"}}]
[{"$f":"Infraestructura!$AF$196","v":"ÁREA DE FARMACIA"},null,null,null,{"$f":"(AP196)*50/100/100","v":0},2.7777777777777776E-2,{"$f":"IF(Infraestructura!$E$195=Infraestructura!$F$195, \"CUMPLE\", \"NO CUMPLE\")","v":"NO CUMPLE"},null,null,null,null,null,null,null,null,null,null,null,null,null,null,null,null,null,null,null,null,null,null,null,null,"DOTACIÓN DE MEDICAMENTOS Y DISPOSITIVOS MÉDICOS  (FARMACIA)",null,null,null,null,null,null,null,null,{"$f":"AO59*100/AO182","v":5.5555555555555554},{"$f":"AP59*100/AO182","v":0},{"$f":"AQ59*100/AQ182","v":0},{"$f":"AR59*100/AQ182","v":0},{"$f":"AS59*100/AS182","v":0},{"$f":"AT59*100/AS182","v":0},{"$f":"AU59*100/AU182","v":0},{"$f":"AV59*100/AU182","v":0},{"$f":"AW59*100/AW182","v":4.5454545454545459},{"$f":"AX59*100/AW182","v":0},{"$f":"AY59*100/AY182","v":0},{"$f":"AZ59*100/AY182","v":0},{"$f":"BA59*100/BA182","v":0},{"$f":"BB59*100/BA182","v":0},{"$f":"BC59*100/BC182","v":{"$error":"#DIV/0!"}},{"$f":"BD59*100/BC182","v":{"$error":"#DIV/0!"}},{"$f":"BE59*100/BE182","v":8.3333333333333339},{"$f":"BF59*100/BE182","v":0},{"$f":"BG59*100/BG182","v":0},{"$f":"BH59*100/BG182","v":0},{"$f":"BI59*100/BI182","v":0},{"$f":"BJ59*100/BI182","v":0},{"$f":"BK59*100/BK182","v":{"$error":"#DIV/0!"}},{"$f":"BL59*100/BK182","v":{"$error":"#DIV/0!"}}]
[{"$f":"Infraestructura!$AF$197","v":"APOYO DIAGNÓSTICO Y TERAPEUTICO"},null,{"$f":"(AP197*50/100/100)","v":0},null,null,2.7777777777777776E-2,{"$f":"IF(Infraestructura!$C$196=Infraestructura!$F$196, \"CUMPLE\", \"NO CUMPLE\")","v":"NO CUMPLE"},null,null,null,null,null,null,null,null,null,null,null,null,null,null,null,null,null,null,null,null,null,null,null,null,"ÁREA DE FARMACIA",null,null,null,null,null,null,null,null,{"$f":"AO61*100/AO182","v":5.5555555555555554},{"$f":"AP61*100/AO182","v":0},{"$f":"AQ61*100/AQ182","v":0},{"$f":"AR61*100/AQ182","v":0},{"$f":"AS61*100/AS182","v":0},{"$f":"AT61*100/AS182","v":0},{"$f":"AU61*100/AU182","v":0},{"$f":"AV61*100/AU182","v":0},{"$f":"AW61*100/AW182","v":4.5454545454545459},{"$f":"AX61*100/AW182","v":0},{"$f":"AY61*100/AY182","v":0},{"$f":"AZ61*100/AY182","v":0},{"$f":"BA61*100/BA182","v":0},{"$f":"BB61*100/BA182","v":0},{"$f":"BC61*100/BC182","v":{"$error":"#DIV/0!"}},{"$f":"BD61*100/BC182","v":{"$error":"#DIV/0!"}},{"$f":"BE61*100/BE182","v":8.3333333333333339},{"$f":"BF61*100/BE182","v":0},{"$f":"BG61*100/BG182","v":0},{"$f":"BH61*100/BG182","v":0},{"$f":"BI61*100/BI182","v":0},{"$f":"BJ61*100/BI182","v":0},{"$f":"BK61*100/BK182","v":{"$error":"#DIV/0!"}},{"$f":"BL61*100/BK182","v":{"$error":"#DIV/0!"}}]
[{"$f":"Infraestructura!$AF$198","v":"REHABILITACIÓN"},null,null,{"$f":"(AP198)*50/100/100","v":0},null,2.7777777777777776E-2,{"$f":"IF(Infraestructura!$D$197=Infraestructura!$F$197, \"CUMPLE\", \"NO CUMPLE\")","v":"NO CUMPLE"},null,null,null,null,null,null,null,null,null,null,null,null,null,null,null,null,null,null,null,null,null,null,null,null,"APOYO DIAGNÓSTICO Y TERAPEUTICO",null,null,null,null,null,null,null,null,{"$f":"AO68*100/AO182","v":5.5555555555555554},{"$f":"AP68*100/AO182","v":0},{"$f":"AQ68*100/AQ182","v":13.333333333333334},{"$f":"AR68*100/AQ182","v":0},{"$f":"AS68*100/AS182","v":13.333333333333334},{"$f":"AT68*100/AS182","v":0},{"$f":"AU68*100/AU182","v":0},{"$f":"AV68*100/AU182","v":0},{"$f":"AW68*100/AW182","v":4.5454545454545459},{"$f":"AX68*100/AW182","v":0},{"$f":"AY68*100/AY182","v":0},{"$f":"AZ68*100/AY182","v":0},{"$f":"BA68*100/BA182","v":0},{"$f":"BB68*100/BA182","v":0},{"$f":"BC68*100/BC182","v":{"$error":"#DIV/0!"}},{"$f":"BD68*100/BC182","v":{"$error":"#DIV/0!"}},{"$f":"BE68*100/BE182","v":8.3333333333333339},{"$f":"BF68*100/BE182","v":0},{"$f":"BG68*100/BG182","v":0},{"$f":"BH68*100/BG182","v":0},{"$f":"BI68*100/BI182","v":0},{"$f":"BJ68*100/BI182","v":0},{"$f":"BK68*100/BK182","v":{"$error":"#DIV/0!"}},{"$f":"BL68*100/BK182","v":{"$error":"#DIV/0!"}}]
[{"$f":"Infraestructura!$AF$199","v":"ÁREA DE TERAPIAS"},null,null,null,{"$f":"(AP199)*50/100/100","v":0},2.7777777777777776E-2,{"$f":"IF(Infraestructura!$E$198=Infraestructura!$F$198, \"CUMPLE\", \"NO CUMPLE\")","v":"NO CUMPLE"},null,null,null,null,null,null,null,null,null,null,null,null,null,null,null,null,null,null,null,null,null,null,null,null,"REHABILITACIÓN",null,null,null,null,null,null,null,null,{"$f":"AO69*100/AO182","v":5.5555555555555554},{"$f":"AP69*100/AO182","v":0},{"$f":"AQ69*100/AQ182","v":13.333333333333334},{"$f":"AR69*100/AQ182","v":0},{"$f":"AS69*100/AS182","v":13.333333333333334},{"$f":"AT69*100/AS182","v":0},{"$f":"AU69*100/AU182","v":0},{"$f":"AV69*100/AU182","v":0},{"$f":"AW69*100/AW182","v":4.5454545454545459},{"$f":"AX69*100/AW182","v":0},{"$f":"AY69*100/AY182","v":0},{"$f":"AZ69*100/AY182","v":0},{"$f":"BA69*100/BA182","v":0},{"$f":"BB69*100/BA182","v":0},{"$f":"BC69*100/BC182","v":{"$error":"#DIV/0!"}},{"$f":"BD69*100/BC182","v":{"$error":"#DIV/0!"}},{"$f":"BE69*100/BE182","v":8.3333333333333339},{"$f":"BF69*100/BE182","v":0},{"$f":"BG69*100/BG182","v":0},{"$f":"BH69*100/BG182","v":0},{"$f":"BI69*100/BI182","v":0},{"$f":"BJ69*100/BI182","v":0},{"$f":"BK69*100/BK182","v":{"$error":"#DIV/0!"}},{"$f":"BL69*100/BK182","v":{"$error":"#DIV/0!"}}]
[{"$f":"Infraestructura!$AF$200","v":"APOYO TERAPEÚTICO"},null,{"$f":"(AP200)*50/100/100","v":0},null,null,9.722222222222221E-2,{"$f":"IF(Infraestructura!$C$199=Infraestructura!$F$199, \"CUMPLE\", \"NO CUMPLE\")","v":"NO CUMPLE"},null,null,null,null,null,null,null,null,null,null,null,null,null,null,null,null,null,null,null,null,null,null,null,null,"ÁREA DE TERAPIAS",null,null,null,null,null,null,null,null,{"$f":"AO70*100/AO182","v":5.5555555555555554},{"$f":"AP70*100/AO182","v":0},{"$f":"AQ70*100/AQ182","v":13.333333333333334},{"$f":"AR70*100/AQ182","v":0},{"$f":"AS70*100/AS182","v":13.333333333333334},{"$f":"AT70*100/AS182","v":0},{"$f":"AU70*100/AU182","v":0},{"$f":"AV70*100/AU182","v":0},{"$f":"AW70*100/AW182","v":4.5454545454545459},{"$f":"AX70*100/AW182","v":0},{"$f":"AY70*100/AY182","v":0},{"$f":"AZ70*100/AY182","v":0},{"$f":"BA70*100/BA182","v":0},{"$f":"BB70*100/BA182","v":0},{"$f":"BC70*100/BC182","v":{"$error":"#DIV/0!"}},{"$f":"BD70*100/BC182","v":{"$error":"#DIV/0!"}},{"$f":"BE70*100/BE182","v":8.3333333333333339},{"$f":"BF70*100/BE182","v":0},{"$f":"BG70*100/BG182","v":0},{"$f":"BH70*100/BG182","v":0},{"$f":"BI70*100/BI182","v":0},{"$f":"BJ70*100/BI182","v":0},{"$f":"BK70*100/BK182","v":{"$error":"#DIV/0!"}},{"$f":"BL70*100/BK182","v":{"$error":"#DIV/0!"}}]
[{"$f":"Infraestructura!$AF$201","v":"NUTRICIÓN Y DIETÉTICA"},null,null,{"$f":"(AP201)*50/100/100","v":0},null,9.722222222222221E-2,{"$f":"IF(Infraestructura!$D$200=Infraestructura!$F$200, \"CUMPLE\", \"NO CUMPLE\")","v":"NO CUMPLE"},null,null,null,null,null,null,null,null,null,null,null,null,null,null,null,null,null,null,null,null,null,null,null,null,"APOYO TERAPEÚTICO",null,null,null,null,null,null,null,null,{"$f":"AO79*100/AO182","v":19.444444444444443},{"$f":"AP79*100/AO182","v":0},{"$f":"AQ79*100/AQ182","v":6.666666666666667},{"$f":"AR79*100/AQ182","v":0},{"$f":"AS79*100/AS182","v":6.666666666666667},{"$f":"AT79*100/AS182","v":0},{"$f":"AU79*100/AU182","v":0},{"$f":"AV79*100/AU182","v":0},{"$f":"AW79*100/AW182","v":9.0909090909090917},{"$f":"AX79*100/AW182","v":0},{"$f":"AY79*100/AY182","v":0},{"$f":"AZ79*100/AY182","v":0},{"$f":"BA79*100/BA182","v":0},{"$f":"BB79*100/BA182","v":0},{"$f":"BC79*100/BC182","v":{"$error":"#DIV/0!"}},{"$f":"BD79*100/BC182","v":{"$error":"#DIV/0!"}},{"$f":"BE79*100/BE182","v":16.666666666666668},{"$f":"BF79*100/BE182","v":0},{"$f":"BG79*100/BG182","v":0},{"$f":"BH79*100/BG182","v":0},{"$f":"BI79*100/BI182","v":0},{"$f":"BJ79*100/BI182","v":0},{"$f":"BK79*100/BK182","v":{"$error":"#DIV/0!"}},{"$f":"BL79*100/BK182","v":{"$error":"#DIV/0!"}}]
[{"$f":"Infraestructura!$AF$202","v":"AREA DE COMEDOR"},null,null,null,{"$f":"(AP202)*50/100/100","v":0},1.3888888888888888E-2,{"$f":"IF(Infraestructura!$E$201=Infraestructura!$F$201, \"CUMPLE\", \"NO CUMPLE\")","v":"NO CUMPLE"},null,null,null,null,null,null,null,null,null,null,null,null,null,null,null,null,null,null,null,null,null,null,null,null,"NUTRICIÓN Y DIETÉTICA",null,null,null,null,null,null,null,null,{"$f":"AO80*100/AO182","v":19.444444444444443},{"$f":"AP80*100/AO182","v":0},{"$f":"AQ80*100/AQ182","v":6.666666666666667},{"$f":"AR80*100/AQ182","v":0},{"$f":"AS80*100/AS182","v":6.666666666666667},{"$f":"AT80*100/AS182","v":0},{"$f":"AU80*100/AU182","v":0},{"$f":"AV80*100/AU182","v":0},{"$f":"AW80*100/AW182","v":9.0909090909090917},{"$f":"AX80*100/AW182","v":0},{"$f":"AY80*100/AY182","v":0},{"$f":"AZ80*100/AY182","v":0},{"$f":"BA80*100/BA182","v":0},{"$f":"BB80*100/BA182","v":0},{"$f":"BC80*100/BC182","v":{"$error":"#DIV/0!"}},{"$f":"BD80*100/BC182","v":{"$error":"#DIV/0!"}},{"$f":"BE80*100/BE182","v":16.666666666666668},{"$f":"BF80*100/BE182","v":0},{"$f":"BG80*100/BG182","v":0},{"$f":"BH80*100/BG182","v":0},{"$f":"BI80*100/BI182","v":0},{"$f":"BJ80*100/BI182","v":0},{"$f":"BK80*100/BK182","v":{"$error":"#DIV/0!"}},{"$f":"BL80*100/BK182","v":{"$error":"#DIV/0!"}}]
[{"$f":"$AF$203","v":"ÁREA TÉCNICA DE COCINA"},null,null,null,{"$f":"(AP203)*50/100/100","v":0},8.3333333333333343E-2,{"$f":"IF(Infraestructura!$E$202=Infraestructura!$F$202, \"CUMPLE\", \"NO CUMPLE\")","v":"NO CUMPLE"},null,null,null,null,null,null,null,null,null,null,null,null,null,null,null,null,null,null,null,null,null,null,null,null,"AREA DE COMEDOR",null,null,null,null,null,null,null,null,{"$f":"AO81*100/AO182","v":2.7777777777777777},{"$f":"AP81*100/AO182","v":0},{"$f":"AQ81*100/AQ182","v":6.666666666666667},{"$f":"AR81*100/AQ182","v":0},{"$f":"AS81*100/AS182","v":6.666666666666667},{"$f":"AT81*100/AS182","v":0},{"$f":"AU81*100/AU182","v":0},{"$f":"AV81*100/AU182","v":0},{"$f":"AW81*100/AW182","v":0},{"$f":"AX81*100/AW182","v":0},{"$f":"AY81*100/AY182","v":0},{"$f":"AZ81*100/AY182","v":0},{"$f":"BA81*100/BA182","v":0},{"$f":"BB81*100/BA182","v":0},{"$f":"BC81*100/BC182","v":{"$error":"#DIV/0!"}},{"$f":"BD81*100/BC182","v":{"$error":"#DIV/0!"}},{"$f":"BE81*100/BE182","v":0},{"$f":"BF81*100/BE182","v":0},{"$f":"BG81*100/BG182","v":0},{"$f":"BH81*100/BG182","v":0},{"$f":"BI81*100/BI182","v":0},{"$f":"BJ81*100/BI182","v":0},{"$f":"BK81*100/BK182","v":{"$error":"#DIV/0!"}},{"$f":"BL81*100/BK182","v":{"$error":"#DIV/0!"}}]
[{"$f":"Infraestructura!$AF$204","v":"ADMINISTRATIVO"},null,{"$f":"(AP204)*50/100/100","v":0},null,null,2.7777777777777776E-2,{"$f":"IF(Infraestructura!$C$203=Infraestructura!$F$203, \"CUMPLE\", \"NO CUMPLE\")","v":"NO CUMPLE"},null,null,null,null,null,null,null,null,null,null,null,null,null,null,null,null,null,null,null,null,null,null,null,null,"ÁREA TÉCNICA DE COCINA",null,null,null,null,null,null,null,null,{"$f":"AO88*100/AO182","v":16.666666666666668},{"$f":"AP88*100/AO182","v":0},{"$f":"AQ88*100/AQ182","v":0},{"$f":"AR88*100/AQ182","v":0},{"$f":"AS88*100/AS182","v":0},{"$f":"AT88*100/AS182","v":0},{"$f":"AU88*100/AU182","v":0},{"$f":"AV88*100/AU182","v":0},{"$f":"AW88*100/AW182","v":4.5454545454545459},{"$f":"AX88*100/AW182","v":0},{"$f":"AY88*100/AY182","v":0},{"$f":"AZ88*100/AY182","v":0},{"$f":"BA88*100/BA182","v":0},{"$f":"BB88*100/BA182","v":0},{"$f":"BC88*100/BC182","v":{"$error":"#DIV/0!"}},{"$f":"BD88*100/BC182","v":{"$error":"#DIV/0!"}},{"$f":"BE88*100/BE182","v":8.3333333333333339},{"$f":"BF88*100/BE182","v":0},{"$f":"BG88*100/BG182","v":0},{"$f":"BH88*100/BG182","v":0},{"$f":"BI88*100/BI182","v":0},{"$f":"BJ88*100/BI182","v":0},{"$f":"BK88*100/BK182","v":{"$error":"#DIV/0!"}},{"$f":"BL88*100/BK182","v":{"$error":"#DIV/0!"}}]
[{"$f":"Infraestructura!$AF$205","v":"ADMINISTRACIÓN TÉCNICA"},null,null,{"$f":"(AP205)*50/100/100","v":0},null,2.7777777777777776E-2,{"$f":"IF(Infraestructura!$D$204=Infraestructura!$F$204, \"CUMPLE\", \"NO CUMPLE\")","v":"NO CUMPLE"},null,null,null,null,null,null,null,null,null,null,null,null,null,null,null,null,null,null,null,null,null,null,null,null,"ADMINISTRATIVO",null,null,null,null,null,null,null,null,{"$f":"AO99*100/AO182","v":5.5555555555555554},{"$f":"AP99*100/AO182","v":0},{"$f":"AQ99*100/AQ182","v":13.333333333333334},{"$f":"AR99*100/AQ182","v":0},{"$f":"AS99*100/AS182","v":13.333333333333334},{"$f":"AT99*100/AS182","v":0},{"$f":"AU99*100/AU182","v":0},{"$f":"AV99*100/AU182","v":0},{"$f":"AW99*100/AW182","v":4.5454545454545459},{"$f":"AX99*100/AW182","v":0},{"$f":"AY99*100/AY182","v":0},{"$f":"AZ99*100/AY182","v":0},{"$f":"BA99*100/BA182","v":0},{"$f":"BB99*100/BA182","v":0},{"$f":"BC99*100/BC182","v":{"$error":"#DIV/0!"}},{"$f":"BD99*100/BC182","v":{"$error":"#DIV/0!"}},{"$f":"BE99*100/BE182","v":8.3333333333333339},{"$f":"BF99*100/BE182","v":0},{"$f":"BG99*100/BG182","v":0},{"$f":"BH99*100/BG182","v":0},{"$f":"BI99*100/BI182","v":0},{"$f":"BJ99*100/BI182","v":0},{"$f":"BK99*100/BK182","v":{"$error":"#DIV/0!"}},{"$f":"BL99*100/BK182","v":{"$error":"#DIV/0!"}}]
[{"$f":"Infraestructura!$AF$206","v":"ÁREA TÉCNICA"},null,null,null,{"$f":"(AP206)*50/100/100","v":0},2.7777777777777776E-2,{"$f":"IF(Infraestructura!$E$205=Infraestructura!$F$205, \"CUMPLE\", \"NO CUMPLE\")","v":"NO CUMPLE"},null,null,null,null,null,null,null,null,null,null,null,null,null,null,null,null,null,null,null,null,null,null,null,null,"ADMINISTRACIÓN TÉCNICA",null,null,null,null,null,null,null,null,{"$f":"AO100*100/AO182","v":5.5555555555555554},{"$f":"AP100*100/AO182","v":0},{"$f":"AQ100*100/AQ182","v":13.333333333333334},{"$f":"AR100*100/AQ182","v":0},{"$f":"AS100*100/AS182","v":13.333333333333334},{"$f":"AT100*100/AS182","v":0},{"$f":"AU100*100/AU182","v":0},{"$f":"AV100*100/AU182","v":0},{"$f":"AW100*100/AW182","v":4.5454545454545459},{"$f":"AX100*100/AW182","v":0},{"$f":"AY100*100/AY182","v":0},{"$f":"AZ100*100/AY182","v":0},{"$f":"BA100*100/BA182","v":0},{"$f":"BB100*100/BA182","v":0},{"$f":"BC100*100/BC182","v":{"$error":"#DIV/0!"}},{"$f":"BD100*100/BC182","v":{"$error":"#DIV/0!"}},{"$f":"BE100*100/BE182","v":8.3333333333333339},{"$f":"BF100*100/BE182","v":0},{"$f":"BG100*100/BG182","v":0},{"$f":"BH100*100/BG182","v":0},{"$f":"BI100*100/BI182","v":0},{"$f":"BJ100*100/BI182","v":0},{"$f":"BK100*100/BK182","v":{"$error":"#DIV/0!"}},{"$f":"BL100*100/BK182","v":{"$error":"#DIV/0!"}}]
[{"$f":"Infraestructura!$AF$207","v":"GENERAL"},null,{"$f":"(AP207)*50/100/100","v":0},null,null,{"$f":"(AO$207)*50/100/100","v":0.1111111111111111},{"$f":"IF(Infraestructura!$C$206=Infraestructura!$F$206, \"CUMPLE\", \"NO CUMPLE\")","v":"NO CUMPLE"},null,null,null,null,null,null,null,null,null,null,null,null,null,null,null,null,null,null,null,null,null,null,null,null,"ÁREA TÉCNICA",null,null,null,null,null,null,null,null,{"$f":"AO101*100/AO182","v":5.5555555555555554},{"$f":"AP101*100/AO182","v":0},{"$f":"AQ101*100/AQ182","v":13.333333333333334},{"$f":"AR101*100/AQ182","v":0},{"$f":"AS101*100/AS182","v":13.333333333333334},{"$f":"AT101*100/AS182","v":0},{"$f":"AU101*100/AU182","v":0},{"$f":"AV101*100/AU182","v":0},{"$f":"AW101*100/AW182","v":4.5454545454545459},{"$f":"AX101*100/AW182","v":0},{"$f":"AY101*100/AY182","v":0},{"$f":"AZ101*100/AY182","v":0},{"$f":"BA101*100/BA182","v":0},{"$f":"BB101*100/BA182","v":0},{"$f":"BC101*100/BC182","v":{"$error":"#DIV/0!"}},{"$f":"BD101*100/BC182","v":{"$error":"#DIV/0!"}},{"$f":"BE101*100/BE182","v":8.3333333333333339},{"$f":"BF101*100/BE182","v":0},{"$f":"BG101*100/BG182","v":0},{"$f":"BH101*100/BG182","v":0},{"$f":"BI101*100/BI182","v":0},{"$f":"BJ101*100/BI182","v":0},{"$f":"BK101*100/BK182","v":{"$error":"#DIV/0!"}},{"$f":"BL101*100/BK182","v":{"$error":"#DIV/0!"}}]
[{"$f":"Infraestructura!$AF$208","v":"SERVICIOS INTERNOS DE APOYO"},null,null,{"$f":"(AP208)*50/100/100","v":0},null,{"$f":"(AO$208)*50/100/100","v":0.1111111111111111},{"$f":"IF(Infraestructura!$D$207=Infraestructura!$F$207, \"CUMPLE\", \"NO CUMPLE\")","v":"NO CUMPLE"},null,null,null,null,null,null,null,null,null,null,null,null,null,null,null,null,null,null,null,null,null,null,null,null,"GENERAL",null,null,null,null,null,null,null,null,{"$f":"AO110*100/AO182","v":22.222222222222221},{"$f":"AP110*100/AO182","v":0},{"$f":"AQ110*100/AQ182","v":26.666666666666668},{"$f":"AR110*100/AQ182","v":0},{"$f":"AS110*100/AS182","v":26.666666666666668},{"$f":"AT110*100/AS182","v":0},{"$f":"AU110*100/AU182","v":0},{"$f":"AV110*100/AU182","v":0},{"$f":"AW110*100/AW182","v":13.636363636363637},{"$f":"AX110*100/AW182","v":0},{"$f":"AY110*100/AY182","v":10},{"$f":"AZ110*100/AY182","v":0},{"$f":"BA110*100/BA182","v":10},{"$f":"BB110*100/BA182","v":0},{"$f":"BC110*100/BC182","v":{"$error":"#DIV/0!"}},{"$f":"BD110*100/BC182","v":{"$error":"#DIV/0!"}},{"$f":"BE110*100/BE182","v":25},{"$f":"BF110*100/BE182","v":0},{"$f":"BG110*100/BG182","v":50},{"$f":"BH110*100/BG182","v":0},{"$f":"BI110*100/BI182","v":50},{"$f":"BJ110*100/BI182","v":0},{"$f":"BK110*100/BK182","v":{"$error":"#DIV/0!"}},{"$f":"BL110*100/BK182","v":{"$error":"#DIV/0!"}}]
[{"$f":"Infraestructura!$AF$209","v":" LAVANDERÍA"},null,null,null,{"$f":"(AP209)*50/100/100","v":0},{"$f":"(AO$209)*50/100/100","v":5.5555555555555552E-2},{"$f":"IF(Infraestructura!$E$208=Infraestructura!$F$208, \"CUMPLE\", \"NO CUMPLE\")","v":"NO CUMPLE"},null,null,null,null,null,null,null,null,null,null,null,null,null,null,null,null,null,null,null,null,null,null,null,null,"SERVICIOS INTERNOS DE APOYO",null,null,null,null,null,null,null,null,{"$f":"AO111*100/AO182","v":22.222222222222221},{"$f":"AP111*100/AO182","v":0},{"$f":"AQ111*100/AQ182","v":26.666666666666668},{"$f":"AR111*100/AQ182","v":0},{"$f":"AS111*100/AS182","v":26.666666666666668},{"$f":"AT111*100/AS182","v":0},{"$f":"AU111*100/AU182","v":0},{"$f":"AV111*100/AU182","v":0},{"$f":"AW111*100/AW182","v":13.636363636363637},{"$f":"AX111*100/AW182","v":0},{"$f":"AY111*100/AY182","v":10},{"$f":"AZ111*100/AY182","v":0},{"$f":"BA111*100/BA182","v":10},{"$f":"BB111*100/BA182","v":0},{"$f":"BC111*100/BC182","v":{"$error":"#DIV/0!"}},{"$f":"BD111*100/BC182","v":{"$error":"#DIV/0!"}},{"$f":"BE111*100/BE182","v":25},{"$f":"BF111*100/BE182","v":0},{"$f":"BG111*100/BG182","v":50},{"$f":"BH111*100/BG182","v":0},{"$f":"BI111*100/BI182","v":50},{"$f":"BJ111*100/BI182","v":0},{"$f":"BK111*100/BK182","v":{"$error":"#DIV/0!"}},{"$f":"BL111*100/BK182","v":{"$error":"#DIV/0!"}}]
[{"$f":"Infraestructura!$AF$210","v":"LIMPIEZA"},null,null,null,{"$f":"(AP210)*50/100/100","v":0},{"$f":"(AO$210)*50/100/100","v":1.3888888888888888E-2},{"$f":"IF(Infraestructura!$E$209=Infraestructura!$F$209, \"CUMPLE\", \"NO CUMPLE\")","v":"NO CUMPLE"},null,null,null,null,null,null,null,null,null,null,null,null,null,null,null,null,null,null,null,null,null,null,null,null," LAVANDERÍA",null,null,null,null,null,null,null,null,{"$f":"AO112*100/AO182","v":11.111111111111111},{"$f":"AP112*100/AO182","v":0},{"$f":"AQ112*100/AQ182","v":0},{"$f":"AR112*100/AQ182","v":0},{"$f":"AS112*100/AS182","v":0},{"$f":"AT112*100/AS182","v":0},{"$f":"AU112*100/AU182","v":0},{"$f":"AV112*100/AU182","v":0},{"$f":"AW112*100/AW182","v":4.5454545454545459},{"$f":"AX112*100/AW182","v":0},{"$f":"AY112*100/AY182","v":0},{"$f":"AZ112*100/AY182","v":0},{"$f":"BA112*100/BA182","v":0},{"$f":"BB112*100/BA182","v":0},{"$f":"BC112*100/BC182","v":{"$error":"#DIV/0!"}},{"$f":"BD112*100/BC182","v":{"$error":"#DIV/0!"}},{"$f":"BE112*100/BE182","v":8.3333333333333339},{"$f":"BF112*100/BE182","v":0},{"$f":"BG112*100/BG182","v":0},{"$f":"BH112*100/BG182","v":0},{"$f":"BI112*100/BI182","v":0},{"$f":"BJ112*100/BI182","v":0},{"$f":"BK112*100/BK182","v":{"$error":"#DIV/0!"}},{"$f":"BL112*100/BK182","v":{"$error":"#DIV/0!"}}]
[{"$f":"Infraestructura!$AF$211","v":"AREA DE ALMACENAMIENTO FINAL DE DESECHO"},null,null,null,{"$f":"(AP211)*50/100/100","v":0},{"$f":"(AO$211)*50/100/100","v":4.1666666666666671E-2},{"$f":"IF(Infraestructura!$E$210=Infraestructura!$F$210, \"CUMPLE\", \"NO CUMPLE\")","v":"NO CUMPLE"},null,null,null,null,null,null,null,null,null,null,null,null,null,null,null,null,null,null,null,null,null,null,null,null,"LIMPIEZA",null,null,null,null,null,null,null,null,{"$f":"AO121*100/AO182","v":2.7777777777777777},{"$f":"AP121*100/AO182","v":0},{"$f":"AQ121*100/AQ182","v":20},{"$f":"AR121*100/AQ182","v":0},{"$f":"AS121*100/AS182","v":20},{"$f":"AT121*100/AS182","v":0},{"$f":"AU121*100/AU182","v":0},{"$f":"AV121*100/AU182","v":0},{"$f":"AW121*100/AW182","v":0},{"$f":"AX121*100/AW182","v":0},{"$f":"AY121*100/AY182","v":0},{"$f":"AZ121*100/AY182","v":0},{"$f":"BA121*100/BA182","v":0},{"$f":"BB121*100/BA182","v":0},{"$f":"BC121*100/BC182","v":{"$error":"#DIV/0!"}},{"$f":"BD121*100/BC182","v":{"$error":"#DIV/0!"}},{"$f":"BE121*100/BE182","v":0},{"$f":"BF121*100/BE182","v":0},{"$f":"BG121*100/BG182","v":0},{"$f":"BH121*100/BG182","v":0},{"$f":"BI121*100/BI182","v":0},{"$f":"BJ121*100/BI182","v":0},{"$f":"BK121*100/BK182","v":{"$error":"#DIV/0!"}},{"$f":"BL121*100/BK182","v":{"$error":"#DIV/0!"}}]
["TOTAL REQUERIDO:",null,null,null,null,0.5,{"$f":"SUM(C183:C210)","v":0},null,null,null,null,null,null,null,null,null,null,null,null,null,null,null,null,null,null,null,null,null,null,null,null,"AREA DE ALMACENAMIENTO FINAL DE DESECHO",null,null,null,null,null,null,null,null,{"$f":"AO130*100/AO182","v":8.3333333333333339},{"$f":"AP130*100/AO182","v":0},{"$f":"AQ130*100/AQ182","v":0},{"$f":"AR130*100/AQ182","v":0},{"$f":"AS130*100/AS182","v":0},{"$f":"AT130*100/AS182","v":0},{"$f":"AU130*100/AU182","v":0},{"$f":"AV130*100/AU182","v":0},{"$f":"AW130*100/AW182","v":4.5454545454545459},{"$f":"AX130*100/AW182","v":0},{"$f":"AY130*100/AY182","v":0},{"$f":"AZ130*100/AY182","v":0},{"$f":"BA130*100/BA182","v":0},{"$f":"BB130*100/BA182","v":0},{"$f":"BC130*100/BC182","v":{"$error":"#DIV/0!"}},{"$f":"BD130*100/BC182","v":{"$error":"#DIV/0!"}},{"$f":"BE130*100/BE182","v":8.3333333333333339},{"$f":"BF130*100/BE182","v":0},{"$f":"BG130*100/BG182","v":0},{"$f":"BH130*100/BG182","v":0},{"$f":"BI130*100/BI182","v":0},{"$f":"BJ130*100/BI182","v":0},{"$f":"BK130*100/BK182","v":{"$error":"#DIV/0!"}},{"$f":"BL130*100/BK182","v":{"$error":"#DIV/0!"}}]
["INSTALACIONES:",null,"% Obtenido:","% Obtenido:","% Obtenido:","% A Cumplir:","% Final:",null,null,null,null,null,null,null,null,null,null,null,null,null,null,null,null,null,null,null,null,null,null,null,null,"ÁREA DE APOYO",null,null,null,null,null,null,null,null,{"$f":"AO139*100/AO182","v":0},{"$f":"AP139*100/AO182","v":0},{"$f":"AQ139*100/AQ182","v":6.666666666666667},{"$f":"AR139*100/AQ182","v":0},{"$f":"AS139*100/AS182","v":6.666666666666667},{"$f":"AT139*100/AS182","v":0},{"$f":"AU139*100/AU182","v":0},{"$f":"AV139*100/AU182","v":0},{"$f":"AW139*100/AW182","v":0},{"$f":"AX139*100/AW182","v":0},{"$f":"AY139*100/AY182","v":0},{"$f":"AZ139*100/AY182","v":0},{"$f":"BA139*100/BA182","v":0},{"$f":"BB139*100/BA182","v":0},{"$f":"BC139*100/BC182","v":{"$error":"#DIV/0!"}},{"$f":"BD139*100/BC182","v":{"$error":"#DIV/0!"}},{"$f":"BE139*100/BE182","v":0},{"$f":"BF139*100/BE182","v":0},{"$f":"BG139*100/BG182","v":0},{"$f":"BH139*100/BG182","v":0},{"$f":"BI139*100/BI182","v":0},{"$f":"BJ139*100/BI182","v":0},{"$f":"BK139*100/BK182","v":{"$error":"#DIV/0!"}},{"$f":"BL139*100/BK182","v":{"$error":"#DIV/0!"}}]
["INSTALACIONES DEL LOCAL",null,{"$f":"AX213*25/100/100","v":0},null,null,{"$f":"AW213*25/100/100","v":0.25},{"$f":"IF(Infraestructura!$C$213=Infraestructura!$F$213, \"CUMPLE\", \"NO CUMPLE\")","v":"NO CUMPLE"},null,null,null,null,null,null,null,null,null,null,null,null,null,null,null,null,null,null,null,null,null,null,null,null,"INSTALACIONES",null,null,null,null,null,null,null,null,null,null,null,null,null,null,null,null,{"$f":"(AW4+AW13+AW27+AW58+AW68+AW79+AW99+AW110+AW145)/AW182*100","v":100},{"$f":"(AX4+AX13+AX27+AX58+AX68+AX79+AX99+AX110+AX145)/AW182*100","v":0},{"$f":"(AY4+AY13+AY27+AY58+AY68+AY79+AY99+AY110+AY145)/AY182*100","v":100},{"$f":"(AZ4+AZ13+AZ27+AZ58+AZ68+AZ79+AZ99+AZ110+AZ145)/AY182*100","v":0},{"$f":"(BA4+BA13+BA27+BA58+BA68+BA79+BA99+BA110+BA145)/BA182*100","v":100},{"$f":"(BB4+BB13+BB27+BB58+BB68+BB79+BB99+BB110+BB145)/BA182*100","v":0},{"$f":"(BC4+BC13+BC27+BC58+BC68+BC79+BC99+BC110+BC145)/BC182*100","v":{"$error":"#DIV/0!"}},{"$f":"(BD4+BD13+BD27+BD58+BD68+BD79+BD99+BD110+BD145)/BC182*100","v":{"$error":"#DIV/0!"}},{"$f":"(BE4+BE13+BE27+BE58+BE68+BE79+BE99+BE110+BE145)/BE182*100","v":100},{"$f":"(BF4+BF13+BF27+BF58+BF68+BF79+BF99+BF110+BF145)/BE182*100","v":0},{"$f":"(BG4+BG13+BG27+BG58+BG68+BG79+BG99+BG110+BG145)/BG182*100","v":100},{"$f":"(BH4+BH13+BH27+BH58+BH68+BH79+BH99+BH110+BH145)/BG182*100","v":0},{"$f":"(BI4+BI13+BI27+BI58+BI68+BI79+BI99+BI110+BI145)/BI182*100","v":100},{"$f":"(BJ4+BJ13+BJ27+BJ58+BJ68+BJ79+BJ99+BJ110+BJ145)/BI182*100","v":0},{"$f":"(BK4+BK13+BK27+BK58+BK68+BK79+BK99+BK110+BK145)/BK182*100","v":{"$error":"#DIV/0!"}},{"$f":"(BL4+BL13+BL27+BL58+BL68+BL79+BL99+BL110+BL145)/BK182*100","v":{"$error":"#DIV/0!"}}]
["TOTAL REQUERIDO:",null,null,null,null,0.25,{"$f":"SUM(Infraestructura!$C$213                                                                                                                                                               : Infraestructura!$C$213)","v":0}]
["INSTALACIONES:",null,"% Obtenido:","% Obtenido:","% Obtenido:","% A Cumplir:","% Final:"]
["ESTRUCTURA GENERAL ",null,{"$f":"BF213*25/100/100","v":0},null,null,{"$f":"BE213*25/100/100","v":0.25},{"$f":"IF(Infraestructura!$C$216=Infraestructura!$F$216, \"CUMPLE\", \"NO CUMPLE\")","v":"NO CUMPLE"}]
["TOTAL REQUERIDO:",null,null,null,null,0.25,{"$f":"C216","v":0}]
["TOTAL ITEMS REQUERIDOS:"]
["TOTAL % REQUERIDO:",null,null,null,null,1,{"$f":"(+Infraestructura!G211+Infraestructura!$G$214+Infraestructura!G217)","v":0}]
[]
[]
["TOTALES PARCIALES CONDICIONADOS + :"]
["AMBIENTES:",null,"% Obtenido:","% Obtenido:","% Obtenido:","% A Cumplir:","% Final:"]
[{"$f":"$AF$189","v":"ASISTENCIAL"},null,{"$f":"(AR189)*50/100/100","v":0},null,null,{"$f":"(AQ189)*50/100/100","v":0.2},{"$f":"IF(Infraestructura!$C$224=Infraestructura!$F$224, \"CUMPLE\", \"NO CUMPLE\")","v":"NO CUMPLE"}]
[{"$f":"$AF$190","v":"INTERNACIÓN / RESIDENCIA"},null,null,{"$f":"(AR190)*50/100/100","v":0},null,{"$f":"(AQ190)*50/100/100","v":0.2},{"$f":"IF(Infraestructura!$D$225=Infraestructura!$F$225, \"CUMPLE\", \"NO CUMPLE\")","v":"NO CUMPLE"}]
[{"$f":"$AF$191","v":"ÁREA DE INTERNACIÓN/RESIDENCIA"},null,null,null,{"$f":"(AR191)*50/100/100","v":0},{"$f":"(AQ191)*50/100/100","v":6.666666666666668E-2},{"$f":"IF(Infraestructura!$E$226=Infraestructura!$F$226, \"CUMPLE\", \"NO CUMPLE\")","v":"NO CUMPLE"}]
[{"$f":"$AF$192","v":"ÁREA DE SOPORTE Y SUMINISTROS"},null,null,null,{"$f":"(AR192)*50/100/100","v":0},{"$f":"(AQ192)*50/100/100","v":3.333333333333334E-2},{"$f":"IF(Infraestructura!$E$227=Infraestructura!$F$227, \"CUMPLE\", \"NO CUMPLE\")","v":"NO CUMPLE"}]
[{"$f":"$AF$193","v":"ÁREA DE PERSONAL"},null,null,null,{"$f":"(AR193)*50/100/100","v":0},{"$f":"(AQ193)*50/100/100","v":0.1},{"$f":"IF(Infraestructura!$E$228=Infraestructura!$F$228, \"CUMPLE\", \"NO CUMPLE\")","v":"NO CUMPLE"}]
[{"$f":"Infraestructura!$AF$197","v":"APOYO DIAGNÓSTICO Y TERAPEUTICO"},null,{"$f":"(AR197)*50/100/100","v":0},null,null,{"$f":"(AQ197)*50/100/100","v":6.666666666666668E-2},{"$f":"IF(Infraestructura!$C$229=Infraestructura!$F$229, \"CUMPLE\", \"NO CUMPLE\")","v":"NO CUMPLE"}]
[{"$f":"Infraestructura!$AF$198","v":"REHABILITACIÓN"},null,null,{"$f":"(AR198)*50/100/100","v":0},null,6.666666666666668E-2,{"$f":"IF(Infraestructura!$D$230=Infraestructura!$F$230, \"CUMPLE\", \"NO CUMPLE\")","v":"NO CUMPLE"}]
[{"$f":"Infraestructura!$AF$199","v":"ÁREA DE TERAPIAS"},null,null,null,{"$f":"(AR199)*50/100/100","v":0},6.666666666666668E-2,{"$f":"IF(Infraestructura!$E$231=Infraestructura!$F$231, \"CUMPLE\", \"NO CUMPLE\")","v":"NO CUMPLE"}]
[{"$f":"Infraestructura!$AF$200","v":"APOYO TERAPEÚTICO"},null,{"$f":"(AR200)*50/100/100","v":0},null,null,3.333333333333334E-2,{"$f":"IF(Infraestructura!$C$232=Infraestructura!$F$232, \"CUMPLE\", \"NO CUMPLE\")","v":"NO CUMPLE"}]
[{"$f":"Infraestructura!$AF$201","v":"NUTRICIÓN Y DIETÉTICA"},null,null,{"$f":"(AR201)*50/100/100","v":0},null,3.333333333333334E-2,{"$f":"IF(Infraestructura!$D$233=Infraestructura!$F$233, \"CUMPLE\", \"NO CUMPLE\")","v":"NO CUMPLE"}]
[{"$f":"Infraestructura!$AF$202","v":"AREA DE COMEDOR"},null,null,null,{"$f":"(AR202)*50/100/100","v":0},3.333333333333334E-2,{"$f":"IF(Infraestructura!$E$234=Infraestructura!$F$234, \"CUMPLE\", \"NO CUMPLE\")","v":"NO CUMPLE"}]
[{"$f":"Infraestructura!$AF$204","v":"ADMINISTRATIVO"},null,{"$f":"(AR204)*50/100/100","v":0},null,null,{"$f":"(AQ204)*50/100/100","v":6.666666666666668E-2},{"$f":"IF(Infraestructura!$C$235=Infraestructura!$F$235, \"CUMPLE\", \"NO CUMPLE\")","v":"NO CUMPLE"}]
[{"$f":"Infraestructura!$AF$205","v":"ADMINISTRACIÓN TÉCNICA"},null,null,{"$f":"(AR205)*50/100/100","v":0},null,{"$f":"(AQ205)*50/100/100","v":6.666666666666668E-2},{"$f":"IF(Infraestructura!$D$236=Infraestructura!$F$236, \"CUMPLE\", \"NO CUMPLE\")","v":"NO CUMPLE"}]
[{"$f":"Infraestructura!$AF$206","v":"ÁREA TÉCNICA"},null,null,null,{"$f":"(AR206)*50/100/100","v":0},{"$f":"(AQ206)*50/100/100","v":6.666666666666668E-2},{"$f":"IF(Infraestructura!$E$237=Infraestructura!$F$237, \"CUMPLE\", \"NO CUMPLE\")","v":"NO CUMPLE"}]
[{"$f":"Infraestructura!$AF$207","v":"GENERAL"},null,{"$f":"(AR207)*50/100/100","v":0},null,null,{"$f":"(AQ207)*50/100/100","v":0.13333333333333336},{"$f":"IF(Infraestructura!$C$238=Infraestructura!$F$238, \"CUMPLE\", \"NO CUMPLE\")","v":"NO CUMPLE"}]
[{"$f":"Infraestructura!$AF$208","v":"SERVICIOS INTERNOS DE APOYO"},null,null,{"$f":"(AR208)*50/100/100","v":0},null,{"$f":"(AQ208)*50/100/100","v":0.13333333333333336},{"$f":"IF(Infraestructura!$D$239=Infraestructura!$F$239, \"CUMPLE\", \"NO CUMPLE\")","v":"NO CUMPLE"}]
[{"$f":"Infraestructura!$AF$210","v":"LIMPIEZA"},null,null,null,{"$f":"(AR210)*50/100/100","v":0},{"$f":"(AQ210)*50/100/100","v":0.1},{"$f":"IF(Infraestructura!$E$240=Infraestructura!$F$240, \"CUMPLE\", \"NO CUMPLE\")","v":"NO CUMPLE"}]
[{"$f":"Infraestructura!$AF$212","v":"ÁREA DE APOYO"},null,null,null,{"$f":"(AR212)*50/100/100","v":0},{"$f":"(AQ212)*50/100/100","v":3.333333333333334E-2},{"$f":"IF(Infraestructura!$E$241=Infraestructura!$F$241, \"CUMPLE\", \"NO CUMPLE\")","v":"NO CUMPLE"}]
["TOTAL CONDICIONADO:",null,null,null,null,0.5,{"$f":"SUM(C224:C241)","v":0}]
["INSTALACIONES:",null,"% Obtenido:","% Obtenido:","% Obtenido:","% A Cumplir:","% Final:"]
["INSTALACIONES DEL LOCAL",null,{"$f":"AZ213*25/100/100","v":0},null,null,{"$f":"AY213*25/100/100","v":0.25},{"$f":"IF(Infraestructura!$C$244=Infraestructura!$F$244, \"CUMPLE\", \"NO CUMPLE\")","v":"NO CUMPLE"}]
["TOTAL CONDICIONADO:",null,null,null,null,0.25,{"$f":"SUM(Infraestructura!$C$244)","v":0}]
["INSTALACIONES:",null,"% Obtenido:","% Obtenido:","% Obtenido:","% A Cumplir:","% Final:"]
["ESTRUCTURA GENERAL ",null,{"$f":"BH213*25/100/100","v":0},null,null,{"$f":"BG213*25/100/100","v":0.25},{"$f":"IF(Infraestructura!$C$247=Infraestructura!$F$247, \"CUMPLE\", \"NO CUMPLE\")","v":"NO CUMPLE"}]
["TOTAL CONDICIONADO:",null,null,null,null,0.25,{"$f":"C247","v":0}]
["TOTAL CONDICIÓN +:",null,null,null,null,0.3,{"$f":"SUM(G242+G245+G248)","v":0}]
["TOTALES PARCIALES CONDICIONADOS - :"]
["AMBIENTES:",null,"% Obtenido:","% Obtenido:","% Obtenido:","% A Cumplir:","% Final:"]
[{"$f":"$AF$189","v":"ASISTENCIAL"},null,{"$f":"-(AT189)*50/100/100","v":0},null,null,{"$f":"-(AS189)*50/100/100","v":-0.2},{"$f":"IF(C252=F252, \"CUMPLE\", \"NO CUMPLE\")","v":"NO CUMPLE"}]
[{"$f":"$AF$190","v":"INTERNACIÓN / RESIDENCIA"},null,null,{"$f":"-(AT190)*50/100/100","v":0},null,{"$f":"-(AS190)*50/100/100","v":-0.2},{"$f":"IF(D253=F253, \"CUMPLE\", \"NO CUMPLE\")","v":"NO CUMPLE"}]
[{"$f":"$AF$191","v":"ÁREA DE INTERNACIÓN/RESIDENCIA"},null,null,null,{"$f":"-(AT191)*50/100/100","v":0},{"$f":"-(AS191)*50/100/100","v":-6.666666666666668E-2},{"$f":"IF(E254=F254, \"CUMPLE\", \"NO CUMPLE\")","v":"NO CUMPLE"}]
[{"$f":"$AF$192","v":"ÁREA DE SOPORTE Y SUMINISTROS"},null,null,null,{"$f":"-(AT192)*50/100/100","v":0},{"$f":"-(AS192)*50/100/100","v":-3.333333333333334E-2},{"$f":"IF(E255=F255, \"CUMPLE\", \"NO CUMPLE\")","v":"NO CUMPLE"}]
[{"$f":"$AF$193","v":"ÁREA DE PERSONAL"},null,null,null,{"$f":"-(AT193)*50/100/100","v":0},{"$f":"-(AS193)*50/100/100","v":-0.1},{"$f":"IF(E256=F256, \"CUMPLE\", \"NO CUMPLE\")","v":"NO CUMPLE"}]
[{"$f":"Infraestructura!$AF$197","v":"APOYO DIAGNÓSTICO Y TERAPEUTICO"},null,{"$f":"-(AT197)*50/100/100","v":0},null,null,{"$f":"-(AS197)*50/100/100","v":-6.666666666666668E-2},{"$f":"IF(C257=F257, \"CUMPLE\", \"NO CUMPLE\")","v":"NO CUMPLE"}]
[{"$f":"Infraestructura!$AF$198","v":"REHABILITACIÓN"},null,null,{"$f":"-(AT198)*50/100/100","v":0},null,-6.666666666666668E-2,{"$f":"IF(D258=F258, \"CUMPLE\", \"NO CUMPLE\")","v":"NO CUMPLE"}]
[{"$f":"Infraestructura!$AF$199","v":"ÁREA DE TERAPIAS"},null,null,null,{"$f":"-(AT199)*50/100/100","v":0},-6.666666666666668E-2,{"$f":"IF(E259=F259, \"CUMPLE\", \"NO CUMPLE\")","v":"NO CUMPLE"}]
[{"$f":"Infraestructura!$AF$200","v":"APOYO TERAPEÚTICO"},null,{"$f":"-(AT200)*50/100/100","v":0},null,null,-3.333333333333334E-2,{"$f":"IF(C260=F260, \"CUMPLE\", \"NO CUMPLE\")","v":"NO CUMPLE"}]
[{"$f":"Infraestructura!$AF$201","v":"NUTRICIÓN Y DIETÉTICA"},null,null,{"$f":"-(AT201)*50/100/100","v":0},null,-3.333333333333334E-2,{"$f":"IF(D261=F261, \"CUMPLE\", \"NO CUMPLE\")","v":"NO CUMPLE"}]
[{"$f":"Infraestructura!$AF$202","v":"AREA DE COMEDOR"},null,null,null,{"$f":"-(AT202)*50/100/100","v":0},-3.333333333333334E-2,{"$f":"IF(E262=F262, \"CUMPLE\", \"NO CUMPLE\")","v":"NO CUMPLE"}]
[{"$f":"Infraestructura!$AF$204","v":"ADMINISTRATIVO"},null,{"$f":"-(AT204)*50/100/100","v":0},null,null,{"$f":"-(AS204)*50/100/100","v":-6.666666666666668E-2},{"$f":"IF(C263=F263, \"CUMPLE\", \"NO CUMPLE\")","v":"NO CUMPLE"}]
[{"$f":"Infraestructura!$AF$205","v":"ADMINISTRACIÓN TÉCNICA"},null,null,{"$f":"-(AT205)*50/100/100","v":0},null,{"$f":"-(AS205)*50/100/100","v":-6.666666666666668E-2},{"$f":"IF(D264=F264, \"CUMPLE\", \"NO CUMPLE\")","v":"NO CUMPLE"}]
[{"$f":"Infraestructura!$AF$206","v":"ÁREA TÉCNICA"},null,null,null,{"$f":"-(AT206)*50/100/100","v":0},{"$f":"-(AS206)*50/100/100","v":-6.666666666666668E-2},{"$f":"IF(E265=F265, \"CUMPLE\", \"NO CUMPLE\")","v":"NO CUMPLE"}]
[{"$f":"Infraestructura!$AF$207","v":"GENERAL"},null,{"$f":"-(AT207)*50/100/100","v":0},null,null,{"$f":"-(AS207)*50/100/100","v":-0.13333333333333336},{"$f":"IF(C266=F266, \"CUMPLE\", \"NO CUMPLE\")","v":"NO CUMPLE"}]
[{"$f":"Infraestructura!$AF$208","v":"SERVICIOS INTERNOS DE APOYO"},null,null,{"$f":"-(AT208)*50/100/100","v":0},null,{"$f":"-(AS208)*50/100/100","v":-0.13333333333333336},{"$f":"IF(D267=F267, \"CUMPLE\", \"NO CUMPLE\")","v":"NO CUMPLE"}]
[{"$f":"Infraestructura!$AF$210","v":"LIMPIEZA"},null,null,null,{"$f":"-(AT210)*50/100/100","v":0},{"$f":"-(AS210)*50/100/100","v":-0.1},{"$f":"IF(E268=F268, \"CUMPLE\", \"NO CUMPLE\")","v":"NO CUMPLE"}]
[{"$f":"Infraestructura!$AF$212","v":"ÁREA DE APOYO"},null,null,null,{"$f":"-(AT212)*50/100/100","v":0},{"$f":"-(AS212)*50/100/100","v":-3.333333333333334E-2},{"$f":"IF(E269=F269, \"CUMPLE\", \"NO CUMPLE\")","v":"NO CUMPLE"}]
["TOTAL CONDICIONADO - :",null,null,null,null,0.5,{"$f":"SUM(C252:C269)","v":0}]
["INSTALACIONES:",null,"% Obtenido:","% Obtenido:","% Obtenido:","% A Cumplir:","% Final:"]
["INSTALACIONES DEL LOCAL",null,{"$f":"-BB213*25/100/100","v":0},null,null,{"$f":"-BA213*25/100/100","v":-0.25},{"$f":"IF(C272=F272, \"CUMPLE\", \"NO CUMPLE\")","v":"NO CUMPLE"}]
["TOTAL CONDICIONADO - :",null,null,null,null,0.25,{"$f":"SUM(C272)","v":0}]
["INSTALACIONES:",null,"% Obtenido:","% Obtenido:","% Obtenido:","% A Cumplir:","% Final:"]
["ESTRUCTURA GENERAL ",null,{"$f":"-BJ213*25/100/100","v":0},null,null,{"$f":"-BI213*25/100/100","v":-0.25},{"$f":"IF(C275=F275, \"CUMPLE\", \"NO CUMPLE\")","v":"NO CUMPLE"}]
["TOTAL CONDICIONADO:",null,null,null,null,0.25,{"$f":"C275","v":0}]
["TOTAL CONDICIÓN - :",null,null,null,null,0.3,{"$f":"SUM(G270+G273+G276)","v":0}]
["TOTAL ITEMS CONDICIONADOS:"]
["TOTAL CONDICIÓN:",null,null,null,null,0.3,{"$f":"SUM(G249+G277)","v":0}]
[]
["TOTALES COMPONENTE:"]
["TOTAL % REQUERIDO:",null,null,null,null,0.30000001192092896,{"$f":"(G219)*30/100","v":0}]
["TOTAL % CONDICIÓN:",null,null,null,null,0.30000001192092896,{"$f":"(G279)*30/100","v":0}]
["TOTAL % DESEABLE:",null,null,null,null,0.30000001192092896,{"$f":"AV182*0.3/AU182","v":0}]

{"sheet":"Equipamiento","index":5,"n_rows":657,"n_cols":81,"rows_kept":657,"cut":false,"hidden":false,"merged":[[428,75,428,76],[428,77,428,78],[428,51,428,52],[428,53,428,54],[428,59,428,60],[428,61,428,62],[450,41,450,48],[454,41,454,48],[455,41,455,48],[456,41,456,48],[457,41,457,48],[458,41,458,48],[459,41,459,48],[428,67,428,68],[428,69,428,70],[656,0,656,4],[653,0,653,6],[427,0,427,6],[514,0,514,6],[654,0,654,4],[566,0,566,1],[567,0,567,1],[568,0,568,1],[569,0,569,1],[570,0,570,1],[571,0,571,1],[558,0,558,1],[559,0,559,1],[547,0,547,1],[553,0,553,1],[554,0,554,1],[555,0,555,1],[556,0,556,1],[557,0,557,1],[549,0,549,1],[550,0,550,1],[548,0,548,1],[546,0,546,4],[535,0,535,4],[426,73,427,80],[428,73,428,74],[428,79,428,80],[428,49,428,50],[428,55,428,56],[426,49,427,56],[426,57,427,64],[428,57,428,58],[428,63,428,64],[530,0,530,1],[531,0,531,1],[532,0,532,1],[426,65,427,72],[428,65,428,66],[428,71,428,72],[533,0,533,1],[534,0,534,1],[525,0,525,1],[574,0,574,4],[572,0,572,4],[573,0,573,6],[560,0,560,1],[561,0,561,4],[562,0,562,1],[563,0,563,1],[564,0,564,1],[565,0,565,1],[526,0,526,1],[527,0,527,1],[528,0,528,1],[529,0,529,1],[520,0,520,1],[521,0,521,1],[522,0,522,1],[523,0,523,1],[524,0,524,1],[517,0,517,1],[518,0,518,1],[519,0,519,1],[510,0,510,4],[511,0,511,6],[502,0,502,4],[492,0,492,1],[458,0,458,4],[515,0,515,1],[516,0,516,1],[462,0,462,1],[482,0,482,1],[490,0,490,1],[491,0,491,1],[477,0,477,1],[478,0,478,1],[479,0,479,1],[476,0,476,1],[483,0,483,1],[484,0,484,1],[485,0,485,1],[486,0,486,1],[411,0,411,10],[503,0,503,1],[509,0,509,1],[508,0,508,1],[507,0,507,1],[506,0,506,1],[505,0,505,1],[504,0,504,1],[495,0,495,1],[496,0,496,1],[498,0,498,1],[500,0,500,1],[501,0,501,1],[499,0,499,1],[433,0,433,1],[434,0,434,1],[435,0,435,1],[469,0,469,1],[468,0,468,1],[467,0,467,1],[466,0,466,1],[465,0,465,1],[464,0,464,1],[463,0,463,1],[536,0,536,1],[537,0,537,1],[551,0,551,1],[538,0,538,1],[539,0,539,1],[543,0,543,1],[544,0,544,1],[540,0,540,1],[541,0,541,1],[542,0,542,1],[545,0,545,1],[1,33,1,34],[1,35,1,36],[1,39,1,40],[1,17,1,18],[1,19,1,20],[1,23,1,24],[1,25,1,26],[1,27,1,28],[1,31,1,32],[1,21,1,22],[1,29,1,30],[1,37,1,38],[331,0,331,10],[332,0,332,10],[226,0,226,10],[227,0,227,10],[228,0,228,10],[177,0,177,10],[178,0,178,10],[202,0,202,10],[204,0,204,10],[436,0,436,1],[437,0,437,1],[451,0,451,1],[452,0,452,1],[453,0,453,1],[459,0,459,1],[474,0,474,1],[475,0,475,1],[512,0,512,4],[457,0,457,1],[460,0,460,1],[461,0,461,1],[471,0,471,1],[470,0,470,1],[456,0,456,1],[444,0,444,1],[494,0,494,1],[487,0,487,1],[488,0,488,1],[489,0,489,1],[493,0,493,1],[472,0,472,4],[480,0,480,1],[481,0,481,1],[1,47,1,48],[419,0,419,10],[412,0,412,10],[365,0,365,10],[386,0,386,10],[387,0,387,10],[410,0,410,10],[286,0,286,10],[287,0,287,10],[2,33,2,40],[2,41,2,48],[1,41,1,42],[1,43,1,44],[1,45,1,46],[1,0,1,10],[288,0,288,10],[306,0,306,10],[307,0,307,10],[364,0,364,10],[333,0,333,10],[285,0,285,10],[362,0,362,10],[363,0,363,10],[330,0,330,10],[432,0,432,1],[420,0,420,10],[205,0,205,10],[229,0,229,10],[428,0,428,1],[429,0,429,1],[430,0,430,1],[497,0,497,1],[431,0,431,1],[438,0,438,1],[439,0,439,1],[440,0,440,1],[441,0,441,1],[442,0,442,1],[443,0,443,1],[454,0,454,1],[448,0,448,1],[455,0,455,1],[473,0,473,1],[445,0,445,1],[446,0,446,1],[447,0,447,1],[449,0,449,1],[450,0,450,1],[2,73,2,80],[3,0,3,10],[4,0,4,10],[107,0,107,10],[108,0,108,10],[203,0,203,10],[5,0,5,10],[6,0,6,10],[26,0,26,10],[27,0,27,10],[105,0,105,10],[106,0,106,10],[24,0,24,10],[25,0,25,10],[150,0,150,10],[151,0,151,10],[2,0,2,10],[2,17,2,24],[2,49,2,56],[2,57,2,64],[2,65,2,72],[2,25,2,32],[655,0,655,4],[430,41,430,48],[431,41,431,48],[432,41,432,48],[433,41,433,48],[434,41,434,48],[435,41,435,48],[436,41,436,48],[437,41,437,48],[438,41,438,48],[439,41,439,48],[440,41,440,48],[441,41,441,48],[442,41,442,48],[443,41,443,48],[444,41,444,48],[445,41,445,48],[446,41,446,48],[447,41,447,48],[448,41,448,48],[449,41,449,48],[451,41,451,48],[452,41,452,48],[453,41,453,48],[576,0,576,6],[577,0,577,1],[578,0,578,1],[579,0,579,1],[580,0,580,1],[584,0,584,1],[581,0,581,1],[582,0,582,1],[583,0,583,1],[585,0,585,1],[586,0,586,1],[587,0,587,1],[588,0,588,1],[589,0,589,1],[590,0,590,1],[591,0,591,1],[592,0,592,1],[593,0,593,1],[594,0,594,1],[595,0,595,1],[596,0,596,4],[597,0,597,1],[598,0,598,1],[599,0,599,1],[600,0,600,1],[601,0,601,1],[611,0,611,1],[612,0,612,1],[613,0,613,1],[614,0,614,1],[615,0,615,1],[616,0,616,1],[617,0,617,1],[618,0,618,1],[602,0,602,1],[603,0,603,1],[604,0,604,1],[605,0,605,1],[606,0,606,1],[607,0,607,4],[608,0,608,1],[609,0,609,1],[610,0,610,1],[652,0,652,4],[630,0,630,1],[619,0,619,1],[621,0,621,4],[622,0,622,1],[623,0,623,1],[624,0,624,1],[625,0,625,1],[620,0,620,1],[626,0,626,1],[627,0,627,1],[628,0,628,1],[629,0,629,1],[640,0,640,4],[650,0,650,1],[651,0,651,4],[641,0,641,1],[642,0,642,1],[643,0,643,1],[644,0,644,1],[645,0,645,1],[646,0,646,1],[647,0,647,1],[648,0,648,1],[649,0,649,1],[632,0,632,1],[633,0,633,1],[634,0,634,1],[635,0,635,1],[636,0,636,1],[637,0,637,1],[638,0,638,1],[639,0,639,1]]}
["FILTROS:","Anx:","Cant x Espacio:","Requerido:","Tipo:","Funcional:","No Funcional:","Calif:",null,null,"Observaciones:"]
[{"$f":"Menu!$A$5","v":"CENTRO ESPECIALIZADO EN TRATAMIENTO PARA PERSONAS CON CONSUMO PROBLEMÁTICO DE ALCOHOL Y OTRAS DROGAS (CETADS)"},null,null,null,null,null,null,null,null,null,null,null,null,null,null,null,null,"REQ",null,"COND +",null,"COND -",null,"DES",null,"REQ",null,"COND +",null,"COND -",null,"DES",null,"REQ",null,"COND +",null,"COND -",null,"DES",null,"REQ",null,"COND +",null,"COND -",null,"DES"]
["EQUIPAMIENTO",null,null,null,null,null,null,null,null,null,null,null,null,null,null,null,null,"MOBILIARIO GENERAL",null,null,null,null,null,null,null,"MOBILIARIO MEDICO",null,null,null,null,null,null,null,"EQUIPAMIENTO GENERAL",null,null,null,null,null,null,null,"EQUIPAMIENTO MEDICO",null,null,null,null,null,null,null,"TOTAL MOBILIARIO GENERAL",null,null,null,null,null,null,null,"TOTAL MOBILIARIO MEDICO",null,null,null,null,null,null,null,"TOTAL EQUIPAMIENTO GENERAL",null,null,null,null,null,null,null,"TOTAL EQUIPAMIENTO MEDICO"]
["ADMINISTRATIVO",null,null,null,null,null,null,null,null,null,null,null,null,null,null,null,null,null,null,null,null,null,null,null,null,null,null,null,null,null,null,null,null,null,null,null,null,null,null,null,null,null,null,null,null,null,null,null,null,{"$f":"SUM(R5:R24)","v":80},0,30,0,30,0,0,0,0,0,0,0,0,0,0,0,30,0,10,0,10,0,0,0,0,0,0,0,0,0,0,0]
["ADMISIÓN Y ESTADÍSTICA",null,null,null,null,null,null,null,null,null,null,null,null,null,null,null,null,null,null,null,null,null,null,null,null,null,null,null,null,null,null,null,null,null,null,null,null,null,null,null,null,null,null,null,null,null,null,null,null,{"$f":"SUM(R6:R24)","v":80},0,30,0,30,0,0,0,0,0,0,0,0,0,0,0,30,0,10,0,10,0,0,0,0,0,0,0,0,0,0,0]
["ÁREA TÉCNICA",null,null,null,null,null,null,null,null,null,null,null,null,null,null,null,null,null,null,null,null,null,null,null,null,null,null,null,null,null,null,null,null,null,null,null,null,null,null,null,null,null,null,null,null,null,null,null,null,{"$f":"SUM(R7:R24)","v":80},0,30,0,30,0,0,0,0,0,0,0,0,0,0,0,30,0,10,0,10,0,0,0,0,0,0,0,0,0,0,0]
["AMBIENTES",null,null,null,null,null,null,null,null,null,null,null,null,null,null,null,null,null,null,null,null,null,null,null,null,null,null,null,null,null,null,null,null,null,null,null,null,null,null,null,null,null,null,null,null,null,null,null,null,{"$f":"SUM(R8:R24)","v":80},0,30,0,30,0,0,0,0,0,0,0,0,0,0,0,30,0,10,0,10,0,0,0,0,0,0,0,0,0,0,0]
["Admisión, Información y Recepción",{"$f":"B1","v":"Anx:"},{"$f":"C$1","v":"Cant x Espacio:"},"Requerido:","Tipo:","Funcional:","No Funcional:",null,null,{"$f":"H$1","v":"Calif:"},"Observaciones:",{"$f":"Infraestructura!$F$8","v":0},{"$f":"Infraestructura!$G$8","v":0}]
["Mostrador / escritorio/Mesa de despacho ","EQ_01",1,{"$f":"IF(AND($L$8=0,$M$8=0),0,IF(AND($L$8>0,$M$8>0),($L$8+$M$8)*C9,IF(AND($L$8=0,$M$8>0),C9*$M$8,$L$8*C9)))","v":0},"Requerido",0,0,{"$f":"IF(AND(F9>=D9,F9>0,D9>0),10,0)","v":0},{"$f":"IF(AND(G9>=D9,D9>0,G9>=1),10,0)","v":0},{"$f":"H9-I9","v":0},null,null,null,"MG",null,null,null,{"$f":"IF(UPPER(E9)=\"REQUERIDO\", 10, \"\")","v":10},{"$f":"IF(UPPER(E9)=\"REQUERIDO\", H9, \"\")","v":0}]
["Silla ",null,1,{"$f":"IF(AND($L$8=0,$M$8=0),0,IF(AND($L$8>0,$M$8>0),($L$8+$M$8)*C10,IF(AND($L$8=0,$M$8>0),C10*$M$8,$L$8*C10)))","v":0},"Requerido",0,0,{"$f":"IF(AND(F10>=D10,F10>0,D10>0),10,0)","v":0},{"$f":"IF(AND(G10>=D10,D10>0,G10>=1),10,0)","v":0},{"$f":"H10-I10","v":0},null,null,null,"MG",null,null,null,{"$f":"IF(UPPER(E10)=\"REQUERIDO\", 10, \"\")","v":10},{"$f":"IF(UPPER(E10)=\"REQUERIDO\", H10, \"\")","v":0}]
["Basurero ",null,1,0,"Requerido",0,0,0,0,0,null,null,null,"MG",null,null,null,{"$f":"IF(UPPER(E11)=\"REQUERIDO\", 10, \"\")","v":10},{"$f":"IF(UPPER(E11)=\"REQUERIDO\", H11, \"\")","v":0}]
["Tablero de Avisos",null,1,0,"Requerido",0,0,0,0,0,null,null,null,"MG",null,null,null,{"$f":"IF(UPPER(E12)=\"REQUERIDO\", 10, \"\")","v":10},{"$f":"IF(UPPER(E12)=\"REQUERIDO\", H12, \"\")","v":0}]
["Armario/Archivador",null,1,0,"Requerido",0,0,0,0,0,null,null,null,"MG",null,null,null,{"$f":"IF(UPPER(E13)=\"REQUERIDO\", 10, \"\")","v":10},{"$f":"IF(UPPER(E13)=\"REQUERIDO\", H13, \"\")","v":0}]
["Teléfono",null,1,0,"Requerido",0,0,0,0,0,null,null,null,"EG",null,null,null,null,null,null,null,null,null,null,null,null,null,null,null,null,null,null,null,{"$f":"IF(UPPER(E14)=\"REQUERIDO\", 10, \"\")","v":10},{"$f":"IF(UPPER(E14)=\"REQUERIDO\", H14, \"\")","v":0}]
["Computador completo (Portátil o de Escritorio)","EQ_02",1,0,"Requerido",0,0,0,0,0,null,null,null,"EG",null,null,null,null,null,null,null,null,null,null,null,null,null,null,null,null,null,null,null,{"$f":"IF(UPPER(E15)=\"REQUERIDO\", 10, \"\")","v":10},{"$f":"IF(UPPER(E15)=\"REQUERIDO\", H15, \"\")","v":0}]
["Archivo",{"$f":"B1","v":"Anx:"},{"$f":"C$1","v":"Cant x Espacio:"},"Requerido:","Tipo:","Funcional:","No Funcional:",null,null,{"$f":"H$1","v":"Calif:"},"Observaciones:",{"$f":"Infraestructura!$F$9","v":0},{"$f":"Infraestructura!$G$9","v":0}]
["Estantería ",null,1,{"$f":"IF(AND($L$16=0,$M$16=0),0,IF(AND($L$16>0,$M$16>0),($L$16+$M$16)*C17,IF(AND($L$16=0,$M$16>0),C17*$M$16,$L$16*C17)))","v":0},"Requerido",0,0,{"$f":"IF(AND(F17>=D17,F17>0,D17>0),10,0)","v":0},{"$f":"IF(AND(G17>=D17,D17>0,G17>=1),10,0)","v":0},{"$f":"H17-I17","v":0},null,null,null,"MG",null,null,null,{"$f":"IF(UPPER(E17)=\"REQUERIDO\", 10, \"\")","v":10},{"$f":"IF(UPPER(E17)=\"REQUERIDO\", H17, \"\")","v":0}]
["Armario/Archivador",null,1,{"$f":"IF(AND($L$16=0,$M$16=0),0,IF(AND($L$16>0,$M$16>0),($L$16+$M$16)*C18,IF(AND($L$16=0,$M$16>0),C18*$M$16,$L$16*C18)))","v":0},"Requerido",0,0,{"$f":"IF(AND(F18>=D18,F18>0,D18>0),10,0)","v":0},0,0,null,null,null,"MG",null,null,null,{"$f":"IF(UPPER(E18)=\"REQUERIDO\", 10, \"\")","v":10},{"$f":"IF(UPPER(E18)=\"REQUERIDO\", H18, \"\")","v":0}]
["Escalera pata de gallo / Gradilla",null,1,{"$f":"IF(AND($L$16=0,$M$16=0),0,IF(AND($L$16>0,$M$16>0),($L$16+$M$16)*C19,IF(AND($L$16=0,$M$16>0),C19*$M$16,$L$16*C19)))","v":0},"Condición",0,0,{"$f":"IF(AND(F19>=D19,F19>0,D19>0),10,0)","v":0},{"$f":"IF(AND(G19>=D19,D19>0,G19>=1),10,0)","v":0},{"$f":"H19-I19","v":0},null,null,null,"MG",null,null,null,null,null,{"$f":"IF(UPPER(E19)=\"CONDICIÓN\", 10, \"\")","v":10},{"$f":"IF(UPPER(E19)=\"CONDICIÓN\", H19, \"\")","v":0},{"$f":"IF(UPPER(E19)=\"CONDICIÓN\", 10, \"\")","v":10},{"$f":"IF(UPPER(E19)=\"CONDICIÓN\", I19, \"\")","v":0}]
["Escritorio/ Mesa de despacho  ","EQ_01",1,0,"Condición",0,0,{"$f":"IF(AND(F20>=D20,F20>0,D20>0),10,0)","v":0},0,0,null,null,null,"MG",null,null,null,null,null,{"$f":"IF(UPPER(E20)=\"CONDICIÓN\", 10, \"\")","v":10},{"$f":"IF(UPPER(E20)=\"CONDICIÓN\", H20, \"\")","v":0},{"$f":"IF(UPPER(E20)=\"CONDICIÓN\", 10, \"\")","v":10},{"$f":"IF(UPPER(E20)=\"CONDICIÓN\", I20, \"\")","v":0}]
["Computador completo (Portátil o de Escritorio)","EQ_02",1,0,"Condición",0,0,{"$f":"IF(AND(F21>=D21,F21>0,D21>0),10,0)","v":0},0,0,null,null,null,"EG",null,null,null,null,null,null,null,null,null,null,null,null,null,null,null,null,null,null,null,null,null,{"$f":"IF(UPPER(E21)=\"CONDICIÓN\", 10, \"\")","v":10},{"$f":"IF(UPPER(E21)=\"CONDICIÓN\", H21, \"\")","v":0},{"$f":"IF(UPPER(E21)=\"CONDICIÓN\", 10, \"\")","v":10},{"$f":"IF(UPPER(E21)=\"CONDICIÓN\", I21, \"\")","v":0}]
["Silla ",null,1,0,"Condición",0,0,0,0,0,null,null,null,"MG",null,null,null,null,null,{"$f":"IF(UPPER(E22)=\"CONDICIÓN\", 10, \"\")","v":10},{"$f":"IF(UPPER(E22)=\"CONDICIÓN\", H22, \"\")","v":0},{"$f":"IF(UPPER(E22)=\"CONDICIÓN\", 10, \"\")","v":10},{"$f":"IF(UPPER(E22)=\"CONDICIÓN\", I22, \"\")","v":0}]
["Basurero ",null,1,0,"Requerido",0,0,0,0,0,null,null,null,"MG",null,null,null,{"$f":"IF(UPPER(E23)=\"REQUERIDO\", 10, \"\")","v":10},{"$f":"IF(UPPER(E23)=\"REQUERIDO\", H23, \"\")","v":0}]
["Extintor de incendios  portátil  ",null,1,0,"Requerido",0,0,0,0,0,null,null,null,"EG",null,null,null,null,null,null,null,null,null,null,null,null,null,null,null,null,null,null,null,{"$f":"IF(UPPER(E24)=\"REQUERIDO\", 10, \"\")","v":10},{"$f":"IF(UPPER(E24)=\"REQUERIDO\", H24, \"\")","v":0}]
["ASISTENCIAL",null,null,null,null,null,null,null,null,null,null,null,null,null,null,null,null,null,null,null,null,null,null,null,null,null,null,null,null,null,null,null,null,null,null,null,null,null,null,null,null,null,null,null,null,null,null,null,null,{"$f":"SUM(R26:R105)","v":310},{"$f":"SUM(S26:S105)","v":0},{"$f":"SUM(T26:T105)","v":20},0,20,0,130,0,10,0,10,0,10,0,0,0,130,0,0,0,0,0,20,0,90,0,50,0,50,{"$f":"SUM(AU26:AU105)","v":0},0,0]
["CONSULTA EXTERNA",null,null,null,null,null,null,null,null,null,null,null,null,null,null,null,null,null,null,null,null,null,null,null,null,null,null,null,null,null,null,null,null,null,null,null,null,null,null,null,null,null,null,null,null,null,null,null,null,{"$f":"SUM(R27:R105)","v":310},{"$f":"SUM(S27:S105)","v":0},{"$f":"SUM(T27:T105)","v":20},0,20,0,130,0,10,0,10,0,10,0,0,0,130,0,0,0,0,0,20,0,90,0,50,0,50,0,0,0]
["ÁREA DE ATENCIÓN DE CONSULTA",null,null,null,null,null,null,null,null,null,null,null,null,null,null,null,null,null,null,null,null,null,null,null,null,null,null,null,null,null,null,null,null,null,null,null,null,null,null,null,null,null,null,null,null,null,null,null,null,{"$f":"SUM(R28:R105)","v":310},{"$f":"SUM(S28:S105)","v":0},{"$f":"SUM(T28:T105)","v":20},0,20,0,130,0,10,0,10,0,10,0,0,0,130,0,0,0,0,0,20,0,90,0,50,0,50,0,0,0]
["AMBIENTES",null,null,null,null,null,null,null,null,null,null,null,null,null,null,null,null,null,null,null,null,null,null,null,null,null,null,null,null,null,null,null,null,null,null,null,null,null,null,null,null,null,null,null,null,null,null,null,null,{"$f":"SUM(R29:R105)","v":310},{"$f":"SUM(S29:S105)","v":0},{"$f":"SUM(T29:T105)","v":20},0,20,0,130,0,10,0,10,0,10,0,0,0,130,0,0,0,0,0,20,0,90,0,50,0,50,0,0,0]
["Sala de espera",{"$f":"B1","v":"Anx:"},{"$f":"C$1","v":"Cant x Espacio:"},"Requerido:","Tipo:","Funcional:","No Funcional:",null,null,"Calif:","Observaciones:",{"$f":"Infraestructura!$F$17","v":0},{"$f":"Infraestructura!$G$17","v":0}]
["Banca/Sillas ",null,1,{"$f":"IF(AND($L$29=0,$M$29=0),0,IF(AND($L$29>0,$M$29>0),($L$29+$M$29)*C30,IF(AND($L$29=0,$M$29>0),C30*$M$29,$L$29*C30)))","v":0},"Requerido",0,0,{"$f":"IF(AND(F30>=D30,F30>0,D30>0),10,0)","v":0},{"$f":"IF(AND(G30>=D30,D30>0,G30>=1),10,0)","v":0},{"$f":"H30-I30","v":0},null,null,null,"MG",null,null,null,{"$f":"IF(UPPER(E30)=\"REQUERIDO\", 10, \"\")","v":10},{"$f":"IF(UPPER(E30)=\"REQUERIDO\", H30, \"\")","v":0}]
["Basurero ",null,1,{"$f":"IF(AND($L$29=0,$M$29=0),0,IF(AND($L$29>0,$M$29>0),($L$29+$M$29)*C31,IF(AND($L$29=0,$M$29>0),C31*$M$29,$L$29*C31)))","v":0},"Requerido",0,0,{"$f":"IF(AND(F31>=D31,F31>0,D31>0),10,0)","v":0},{"$f":"IF(AND(G31>=D31,D31>0,G31>=1),10,0)","v":0},{"$f":"H31-I31","v":0},null,null,null,"MG",null,null,null,{"$f":"IF(UPPER(E31)=\"REQUERIDO\", 10, \"\")","v":10},{"$f":"IF(UPPER(E31)=\"REQUERIDO\", H31, \"\")","v":0}]
["Reloj de pared",null,1,{"$f":"IF(AND($L$29=0,$M$29=0),0,IF(AND($L$29>0,$M$29>0),($L$29+$M$29)*C32,IF(AND($L$29=0,$M$29>0),C32*$M$29,$L$29*C32)))","v":0},"Deseable",0,0,{"$f":"IF(AND(F32>=D32,F32>0,D32>0),10,0)","v":0},{"$f":"IF(AND(G32>=D32,D32>0,G32>=1),10,0)","v":0},{"$f":"H32-I32","v":0},null,null,null,"EG",null,null,null,null,null,null,null,null,null,null,null,null,null,null,null,null,null,null,null,null,null,null,null,null,null,{"$f":"IF(UPPER(E32)=\"DESEABLE\", 10, \"\")","v":10},{"$f":"IF(UPPER(E32)=\"DESEABLE\", H32, \"\")","v":0}]
["Extintor de incendios  portátil  ",null,1,{"$f":"IF(AND($L$29=0,$M$29=0),0,IF(AND($L$29>0,$M$29>0),($L$29+$M$29)*C33,IF(AND($L$29=0,$M$29>0),C33*$M$29,$L$29*C33)))","v":0},"Requerido",0,0,{"$f":"IF(AND(F33>=D33,F33>0,D33>0),10,0)","v":0},{"$f":"IF(AND(G33>=D33,D33>0,G33>=1),10,0)","v":0},{"$f":"H33-I33","v":0},null,null,null,"EG",null,null,null,null,null,null,null,null,null,null,null,null,null,null,null,null,null,null,null,{"$f":"IF(UPPER(E33)=\"REQUERIDO\", 10, \"\")","v":10},{"$f":"IF(UPPER(E33)=\"REQUERIDO\", H33, \"\")","v":0}]
["Sistema Audiovisual de información","EQ_03",1,{"$f":"IF(AND($L$29=0,$M$29=0),0,IF(AND($L$29>0,$M$29>0),($L$29+$M$29)*C34,IF(AND($L$29=0,$M$29>0),C34*$M$29,$L$29*C34)))","v":0},"Requerido",0,0,{"$f":"IF(AND(F34>=D34,F34>0,D34>0),10,0)","v":0},{"$f":"IF(AND(G34>=D34,D34>0,G34>=1),10,0)","v":0},{"$f":"H34-I34","v":0},null,null,null,"MG",null,null,null,{"$f":"IF(UPPER(E34)=\"REQUERIDO\", 10, \"\")","v":10},{"$f":"IF(UPPER(E34)=\"REQUERIDO\", H34, \"\")","v":0}]
["Baños/Baterías Sanitarias para personas con discapacidad-puede ser un ambiente exclusivo o puede estar incorporado al ambiente general de baños/baterías  sanitarias",{"$f":"B1","v":"Anx:"},{"$f":"C$1","v":"Cant x Espacio:"},"Requerido:","Tipo:","Funcional:","No Funcional:",null,null,"Calif:","Observaciones:",{"$f":"Infraestructura!$F$18","v":0},{"$f":"Infraestructura!$G$18","v":0}]
["Inodoro",null,1,{"$f":"IF(AND($L$35=0,$M$35=0),0,IF(AND($L$35>0,$M$35>0),($L$35+$M$35)*C36,IF(AND($L$35=0,$M$35>0),C36*$M$35,$L$35*C36)))","v":0},"Deseable",0,0,{"$f":"IF(AND(F36>=D36,F36>0,D36>0),10,0)","v":0},{"$f":"IF(AND(G36>=D36,D36>0,G36>=1),10,0)","v":0},{"$f":"H36-I36","v":0},null,null,null,"MG",null,null,null,null,null,null,null,null,null,{"$f":"IF(UPPER(E36)=\"DESEABLE\", 10, \"\")","v":10},{"$f":"IF(UPPER(E36)=\"DESEABLE\", H36, \"\")","v":0}]
["Barras de apoyo",null,1,{"$f":"IF(AND($L$35=0,$M$35=0),0,IF(AND($L$35>0,$M$35>0),($L$35+$M$35)*C37,IF(AND($L$35=0,$M$35>0),C37*$M$35,$L$35*C37)))","v":0},"Deseable",0,0,0,0,0,null,null,null,"MG",null,null,null,null,null,null,null,null,null,10,0]
["Dispensador de papel higiénico",null,1,{"$f":"IF(AND($L$35=0,$M$35=0),0,IF(AND($L$35>0,$M$35>0),($L$35+$M$35)*C38,IF(AND($L$35=0,$M$35>0),C38*$M$35,$L$35*C38)))","v":0},"Deseable",0,0,0,0,0,null,null,null,"MG",null,null,null,null,null,null,null,null,null,10,0]
["Lavabo",null,1,0,"Deseable",0,0,0,0,0,null,null,null,"MG",null,null,null,null,null,null,null,null,null,10,0]
["Dispensador  de jabón",null,1,0,"Deseable",0,0,0,0,0,null,null,null,"MG",null,null,null,null,null,null,null,null,null,10,0]
["Dispensador de papel toalla ",null,1,0,"Deseable",0,0,0,0,0,null,null,null,"MG",null,null,null,null,null,null,null,null,null,10,0,null,null,null,null,null,null,null,null,null,null,null,null,null,null,null,null,{"$f":"IF(UPPER(E41)=\"REQUERIDO\", 10, \"\")","v":""},{"$f":"IF(UPPER(E41)=\"REQUERIDO\", H41, \"\")","v":""}]
["Basurero ",null,2,0,"Deseable",0,0,0,0,0,null,null,null,"MG",null,null,null,null,null,null,null,null,null,10,0]
["Espejo empotrado",null,1,0,"Deseable",0,0,0,0,0,null,null,null,"MG",null,null,null,null,null,null,null,null,null,10,0]
["Gancho doble",null,1,0,"Deseable",0,0,0,0,0,null,null,null,"MG",null,null,null,null,null,null,null,null,null,10,0]
["Baños/Baterías Sanitarias por puestos",{"$f":"B1","v":"Anx:"},{"$f":"C$1","v":"Cant x Espacio:"},"Requerido:","Tipo:","Funcional:","No Funcional:",null,null,"Calif:","Observaciones:",{"$f":"Infraestructura!F$19","v":0},{"$f":"Infraestructura!G$19","v":0}]
["Inodoro",null,1,{"$f":"IF(AND($L$45=0,$M$45=0),0,IF(AND($L$45>0,$M$45>0),($L$45+$M$45)*C46,IF(AND($L$45=0,$M$45>0),C46*$M$45,$L$45*C46)))","v":0},"Requerido",0,0,{"$f":"IF(AND(F46>=D46,F46>0,D46>0),10,0)","v":0},{"$f":"IF(AND(G46>=D46,D46>0,G46>=1),10,0)","v":0},{"$f":"H46-I46","v":0},null,null,null,"MG",null,null,null,{"$f":"IF(UPPER(E46)=\"REQUERIDO\", 10, \"\")","v":10},{"$f":"IF(UPPER(E46)=\"REQUERIDO\", H46, \"\")","v":0}]
["Gancho doble",null,1,{"$f":"IF(AND($L$45=0,$M$45=0),0,IF(AND($L$35>0,$M$45>0),($L$35+$M$45)*C47,IF(AND($L$45=0,$M$45>0),C47*$M$45,$L$45*C47)))","v":0},"Requerido",0,0,{"$f":"IF(AND(F47>=D47,F47>0,D47>0),10,0)","v":0},{"$f":"IF(AND(G47>=D47,D47>0,G47>=1),10,0)","v":0},{"$f":"H47-I47","v":0},null,null,null,"MG",null,null,null,{"$f":"IF(UPPER(E47)=\"REQUERIDO\", 10, \"\")","v":10},{"$f":"IF(UPPER(E47)=\"REQUERIDO\", H47, \"\")","v":0}]
["Basurero ",null,1,{"$f":"IF(AND($L$45=0,$M$45=0),0,IF(AND($L$35>0,$M$45>0),($L$35+$M$45)*C48,IF(AND($L$45=0,$M$45>0),C48*$M$45,$L$45*C48)))","v":0},"Requerido",0,0,{"$f":"IF(AND(F48>=D48,F48>0,D48>0),10,0)","v":0},{"$f":"IF(AND(G48>=D48,D48>0,G48>=1),10,0)","v":0},{"$f":"H48-I48","v":0},null,null,null,"MG",null,null,null,{"$f":"IF(UPPER(E48)=\"REQUERIDO\", 10, \"\")","v":10},{"$f":"IF(UPPER(E48)=\"REQUERIDO\", H48, \"\")","v":0}]
["Baños/Baterías Sanitarias(compartido)",{"$f":"B1","v":"Anx:"},{"$f":"C$1","v":"Cant x Espacio:"},"Requerido:","Tipo:","Funcional:","No Funcional:",null,null,"Calif:","Observaciones:",{"$f":"Infraestructura!F$20","v":0},{"$f":"Infraestructura!G$20","v":0}]
["Lavabo",null,1,{"$f":"IF(AND($L$49=0,$M$49=0),0,IF(AND($L$49>0,$M$49>0),($L$49+$M$49)*C50,IF(AND($L$49=0,$M$49>0),C50*$M$49,$L$49*C50)))","v":0},"Requerido",0,0,{"$f":"IF(AND(F50>=D50,F50>0,D50>0),10,0)","v":0},{"$f":"IF(AND(G50>=D50,D50>0,G50>=1),10,0)","v":0},{"$f":"H50-I50","v":0},null,null,null,"MG",null,null,null,{"$f":"IF(UPPER(E50)=\"REQUERIDO\", 10, \"\")","v":10},{"$f":"IF(UPPER(E50)=\"REQUERIDO\", H50, \"\")","v":0}]
["Dispensador  de jabón",null,1,{"$f":"IF(AND($L$49=0,$M$49=0),0,IF(AND($L$49>0,$M$49>0),($L$49+$M$49)*C51,IF(AND($L$49=0,$M$49>0),C51*$M$49,$L$49*C51)))","v":0},"Requerido",0,0,0,0,0,null,null,null,"MG",null,null,null,{"$f":"IF(UPPER(E51)=\"REQUERIDO\", 10, \"\")","v":10},{"$f":"IF(UPPER(E51)=\"REQUERIDO\", H51, \"\")","v":0}]
["Dispensador de papel toalla ",null,1,{"$f":"IF(AND($L$49=0,$M$49=0),0,IF(AND($L$49>0,$M$49>0),($L$49+$M$49)*C52,IF(AND($L$49=0,$M$49>0),C52*$M$49,$L$49*C52)))","v":0},"Requerido",0,0,0,0,0,null,null,null,"MG",null,null,null,{"$f":"IF(UPPER(E52)=\"REQUERIDO\", 10, \"\")","v":10},{"$f":"IF(UPPER(E52)=\"REQUERIDO\", H52, \"\")","v":0}]
["Dispensador de papel higiénico",null,1,0,"Requerido",0,0,0,0,0,null,null,null,"MG",null,null,null,{"$f":"IF(UPPER(E53)=\"REQUERIDO\", 10, \"\")","v":10},{"$f":"IF(UPPER(E53)=\"REQUERIDO\", H53, \"\")","v":0}]
["Espejo empotrado",null,1,0,"Deseable",0,0,0,0,0,null,null,null,"MG",null,null,null,null,null,null,null,null,null,{"$f":"IF(UPPER(E54)=\"DESEABLE\", 10, \"\")","v":10},{"$f":"IF(UPPER(E54)=\"DESEABLE\", H54, \"\")","v":0}]
["Basurero ",null,1,0,"Requerido",0,0,0,0,0,null,null,null,"MG",null,null,null,{"$f":"IF(UPPER(E55)=\"REQUERIDO\", 10, \"\")","v":10},{"$f":"IF(UPPER(E55)=\"REQUERIDO\", H55, \"\")","v":0}]
["Consultorio polivalente (Psiquiatría/Medicina Interna/Familiar y Comunitaria/General)",{"$f":"B8","v":"Anx:"},{"$f":"C$1","v":"Cant x Espacio:"},"Requerido:","Tipo:","Funcional:","No Funcional:",null,null,"Calif:","Observaciones:",{"$f":"Infraestructura!F21","v":0},{"$f":"Infraestructura!G21","v":0}]
["Escritorio/ Mesa de despacho  ","EQ_01",1,{"$f":"IF(AND($L$56=0,$M$56=0),0,IF(AND($L$56>0,$M$56>0),($L$56+$M$56)*C57,IF(AND($L$56=0,$M$56>0),C57*$M$56,$L$56*C57)))","v":0},"Requerido",0,0,{"$f":"IF(AND(F57>=D57,F57>0,D57>0),10,0)","v":0},{"$f":"IF(AND(G57>=D57,D57>0,G57>=1),10,0)","v":0},{"$f":"H57-I57","v":0},null,null,null,"MG",null,null,null,{"$f":"IF(UPPER(E57)=\"REQUERIDO\", 10, \"\")","v":10},{"$f":"IF(UPPER(E57)=\"REQUERIDO\", H57, \"\")","v":0}]
["Computador completo (Portátil o de Escritorio)","EQ_02",1,{"$f":"IF(AND($L$56=0,$M$56=0),0,IF(AND($L$56>0,$M$56>0),($L$56+$M$56)*C58,IF(AND($L$56=0,$M$56>0),C58*$M$56,$L$56*C58)))","v":0},"Deseable",0,0,{"$f":"IF(AND(F58>=D58,F58>0,D58>0),10,0)","v":0},{"$f":"IF(AND(G58>=D58,D58>0,G58>=1),10,0)","v":0},{"$f":"H58-I58","v":0},null,null,null,"EG",null,null,null,null,null,null,null,null,null,null,null,null,null,null,null,null,null,null,null,null,null,null,null,null,null,{"$f":"IF(UPPER(E58)=\"DESEABLE\", 10, \"\")","v":10},{"$f":"IF(UPPER(E58)=\"DESEABLE\", H58, \"\")","v":0}]
["Silla ",null,1,0,"Requerido",0,0,{"$f":"IF(AND(F59>=D59,F59>0,D59>0),10,0)","v":0},{"$f":"IF(AND(G59>=D59,D59>0,G59>=1),10,0)","v":0},{"$f":"H59-I59","v":0},null,null,null,"MG",null,null,null,{"$f":"IF(UPPER(E59)=\"REQUERIDO\", 10, \"\")","v":10},{"$f":"IF(UPPER(E59)=\"REQUERIDO\", H59, \"\")","v":0}]
["Silla confidente",null,2,{"$f":"IF(AND($L$56=0,$M$56=0),0,IF(AND($L$56>0,$M$56>0),($L$56+$M$56)*C60,IF(AND($L$56=0,$M$56>0),C60*$M$56,$L$56*C60)))","v":0},"Requerido",0,0,0,0,0,null,null,null,"MG",null,null,null,{"$f":"IF(UPPER(E60)=\"REQUERIDO\", 10, \"\")","v":10},{"$f":"IF(UPPER(E60)=\"REQUERIDO\", H60, \"\")","v":0}]
["Armario/Vitrina ",null,1,{"$f":"IF(AND($L$56=0,$M$56=0),0,IF(AND($L$56>0,$M$56>0),($L$56+$M$56)*C61,IF(AND($L$56=0,$M$56>0),C61*$M$56,$L$56*C61)))","v":0},"Requerido",0,0,0,0,0,null,null,null,"MG",null,null,null,{"$f":"IF(UPPER(E61)=\"REQUERIDO\", 10, \"\")","v":10},{"$f":"IF(UPPER(E61)=\"REQUERIDO\", H61, \"\")","v":0}]
["Perchero de pie /Gancho doble",null,1,{"$f":"IF(AND($L$56=0,$M$56=0),0,IF(AND($L$56>0,$M$56>0),($L$56+$M$56)*C62,IF(AND($L$56=0,$M$56>0),C62*$M$56,$L$56*C62)))","v":0},"Deseable",0,0,0,0,0,null,null,null,"MG",null,null,null,null,null,null,null,null,null,{"$f":"IF(UPPER(E62)=\"DESEABLE\", 10, \"\")","v":10},{"$f":"IF(UPPER(E62)=\"DESEABLE\", H62, \"\")","v":0}]
["Camilla de exploración ",null,1,0,"Requerido",0,0,0,0,0,null,null,null,"MM",null,null,null,null,null,null,null,null,null,null,null,{"$f":"IF(UPPER(E63)=\"REQUERIDO\", 10, \"\")","v":10},{"$f":"IF(UPPER(E63)=\"REQUERIDO\",H63, \"\")","v":0}]
["Escabel",null,1,0,"Condición",0,0,0,0,0,null,null,null,"MG",null,null,null,null,null,{"$f":"IF(UPPER(E64)=\"CONDICIÓN\", 10, \"\")","v":10},{"$f":"IF(UPPER(E64)=\"CONDICIÓN\", H64, \"\")","v":0},{"$f":"IF(UPPER(E64)=\"CONDICIÓN\", 10, \"\")","v":10},{"$f":"IF(UPPER(E64)=\"CONDICIÓN\", I64, \"\")","v":0}]
["Lámpara examen rodable",null,1,0,"Requerido",0,0,0,0,0,null,null,null,"EM",null,null,null,null,null,null,null,null,null,null,null,null,null,null,null,null,null,null,null,null,null,null,null,null,null,null,null,{"$f":"IF(UPPER(E65)=\"REQUERIDO\", 10, \"\")","v":10},{"$f":"IF(UPPER(E65)=\"REQUERIDO\", H65, \"\")","v":0}]
["Tensiómetro para Adultos",null,1,0,"Requerido",0,0,0,0,0,null,null,null,"EM",null,null,null,null,null,null,null,null,null,null,null,null,null,null,null,null,null,null,null,null,null,null,null,null,null,null,null,{"$f":"IF(UPPER(E66)=\"REQUERIDO\", 10, \"\")","v":10},{"$f":"IF(UPPER(E66)=\"REQUERIDO\", H66, \"\")","v":0}]
["Estetoscopio  para Adultos ",null,1,0,"Requerido",0,0,0,0,0,null,null,null,"EM",null,null,null,null,null,null,null,null,null,null,null,null,null,null,null,null,null,null,null,null,null,null,null,null,null,null,null,{"$f":"IF(UPPER(E67)=\"REQUERIDO\", 10, \"\")","v":10},{"$f":"IF(UPPER(E67)=\"REQUERIDO\", H67, \"\")","v":0}]
["Tensiómetro pediátrico ",null,1,0,"Condición",0,0,0,0,0,null,null,null,"EM",null,null,null,null,null,null,null,null,null,null,null,null,null,null,null,null,null,null,null,null,null,null,null,null,null,null,null,null,null,{"$f":"IF(UPPER(E68)=\"CONDICIÓN\", 10, \"\")","v":10},{"$f":"IF(UPPER(E68)=\"CONDICIÓN\", H68, \"\")","v":0},{"$f":"IF(UPPER(E68)=\"CONDICIÓN\", 10, \"\")","v":10},{"$f":"IF(UPPER(E68)=\"CONDICIÓN\", I68, \"\")","v":0}]
["Estetoscopio  pediátrico",null,1,0,"Condición",0,0,0,0,0,null,null,null,"EM",null,null,null,null,null,null,null,null,null,null,null,null,null,null,null,null,null,null,null,null,null,null,null,null,null,null,null,null,null,{"$f":"IF(UPPER(E69)=\"CONDICIÓN\", 10, \"\")","v":10},{"$f":"IF(UPPER(E69)=\"CONDICIÓN\", H69, \"\")","v":0},{"$f":"IF(UPPER(E69)=\"CONDICIÓN\", 10, \"\")","v":10},{"$f":"IF(UPPER(E69)=\"CONDICIÓN\", I69, \"\")","v":0}]
["Báscula + Tallímetro ",null,1,{"$f":"IF(AND($L$56=0,$M$56=0),0,IF(AND($L$56>0,$M$56>0),($L$56+$M$56)*C70,IF(AND($L$56=0,$M$56>0),C70*$M$56,$L$56*C70)))","v":0},"Condición",0,0,0,0,0,null,null,null,"EM",null,null,null,null,null,null,null,null,null,null,null,null,null,null,null,null,null,null,null,null,null,null,null,null,null,null,null,null,null,{"$f":"IF(UPPER(E70)=\"CONDICIÓN\", 10, \"\")","v":10},{"$f":"IF(UPPER(E70)=\"CONDICIÓN\", H70, \"\")","v":0},{"$f":"IF(UPPER(E70)=\"CONDICIÓN\", 10, \"\")","v":10},{"$f":"IF(UPPER(E70)=\"CONDICIÓN\", I70, \"\")","v":0}]
["Set de Diagnóstico ","EQ_10",1,0,"Requerido",0,0,0,0,0,null,null,null,"EM",null,null,null,null,null,null,null,null,null,null,null,null,null,null,null,null,null,null,null,null,null,null,null,null,null,null,null,{"$f":"IF(UPPER(E71)=\"REQUERIDO\", 10, \"\")","v":10},{"$f":"IF(UPPER(E71)=\"REQUERIDO\", H71, \"\")","v":0}]
["Coche de curaciones ","EQ_08",1,0,"Condición",0,0,0,0,0,null,null,null,"MM",null,null,null,null,null,null,null,null,null,null,null,null,null,{"$f":"IF(UPPER(E72)=\"CONDICIÓN\", 10, \"\")","v":10},{"$f":"IF(UPPER(E72)=\"CONDICIÓN\",H72, \"\")","v":0},{"$f":"IF(UPPER(E72)=\"CONDICIÓN\", 10, \"\")","v":10},{"$f":"IF(UPPER(E72)=\"CONDICIÓN\",I72, \"\")","v":0}]
["Dispensador para solución hidroalcohólica",null,1,0,"Requerido",0,0,0,0,0,null,null,null,"EG",null,null,null,null,null,null,null,null,null,null,null,null,null,null,null,null,null,null,null,{"$f":"IF(UPPER(E73)=\"REQUERIDO\", 10, \"\")","v":10},{"$f":"IF(UPPER(E73)=\"REQUERIDO\", H73, \"\")","v":0}]
["Lavabo",null,1,0,"Requerido",0,0,0,0,0,null,null,null,"MG",null,null,null,{"$f":"IF(UPPER(E74)=\"REQUERIDO\", 10, \"\")","v":10},{"$f":"IF(UPPER(E74)=\"REQUERIDO\", H74, \"\")","v":0}]
["Dispensador  de jabón",null,1,{"$f":"IF(AND($L$56=0,$M$56=0),0,IF(AND($L$56>0,$M$56>0),($L$56+$M$56)*C75,IF(AND($L$56=0,$M$56>0),C75*$M$56,$L$56*C75)))","v":0},"Requerido",0,0,0,0,0,null,null,null,"MG",null,null,null,{"$f":"IF(UPPER(E75)=\"REQUERIDO\", 10, \"\")","v":10},{"$f":"IF(UPPER(E75)=\"REQUERIDO\", H75, \"\")","v":0}]
["Dispensador de papel toalla ",null,1,0,"Requerido",0,0,0,0,0,null,null,null,"MG",null,null,null,{"$f":"IF(UPPER(E76)=\"REQUERIDO\", 10, \"\")","v":10},{"$f":"IF(UPPER(E76)=\"REQUERIDO\", H76, \"\")","v":0}]
["Set de recipientes para el manejo de desechos peligrosos y no peligrosos. ","EQ_07",1,0,"Requerido",0,0,0,0,0,null,null,null,"MG",null,null,null,{"$f":"IF(UPPER(E77)=\"REQUERIDO\", 10, \"\")","v":10},{"$f":"IF(UPPER(E77)=\"REQUERIDO\", H77, \"\")","v":0}]
["Consultorio de psicología",{"$f":"B8","v":"Anx:"},{"$f":"C$1","v":"Cant x Espacio:"},"Requerido:","Tipo:",{"$f":"F$1","v":"Funcional:"},"No Funcional:",null,null,"Calif:","Observaciones:",{"$f":"Infraestructura!F22","v":0},{"$f":"Infraestructura!G22","v":0}]
["Escritorio/Mesa de despacho ","EQ_01",1,{"$f":"IF(AND($L$78=0,$M$78=0),0,IF(AND($L$78>0,$M$78>0),($L$78+$M$78)*C79,IF(AND($L$78=0,$M$78>0),C79*$M$78,$L$78*C79)))","v":0},"Requerido",0,0,{"$f":"IF(AND(F79>=D79,F79>0,D79>0),10,0)","v":0},{"$f":"IF(AND(G79>=D79,D79>0,G79>=1),10,0)","v":0},{"$f":"H79-I79","v":0},null,null,null,"MG",null,null,null,{"$f":"IF(UPPER(E79)=\"REQUERIDO\", 10, \"\")","v":10},{"$f":"IF(UPPER(E79)=\"REQUERIDO\", H79, \"\")","v":0}]
["Computador completo (Portátil o de Escritorio)","EQ_02",1,{"$f":"IF(AND($L$78=0,$M$78=0),0,IF(AND($L$78>0,$M$78>0),($L$78+$M$78)*C80,IF(AND($L$78=0,$M$78>0),C80*$M$78,$L$78*C80)))","v":0},"Requerido",0,0,0,0,0,null,null,null,"EG",null,null,null,null,null,null,null,null,null,null,null,null,null,null,null,null,null,null,null,{"$f":"IF(UPPER(E80)=\"REQUERIDO\", 10, \"\")","v":10},{"$f":"IF(UPPER(E80)=\"REQUERIDO\", H80, \"\")","v":0}]
["Armario/vitrina/Archivador",null,1,{"$f":"IF(AND($L$78=0,$M$78=0),0,IF(AND($L$78>0,$M$78>0),($L$78+$M$78)*C81,IF(AND($L$78=0,$M$78>0),C81*$M$78,$L$78*C81)))","v":0},"Requerido",0,0,0,0,0,null,null,null,"MG",null,null,null,{"$f":"IF(UPPER(E81)=\"REQUERIDO\", 10, \"\")","v":10},{"$f":"IF(UPPER(E81)=\"REQUERIDO\", H81, \"\")","v":0},null,null,null,null,null,null,null,null,null,null,null,null,null,null,{"$f":"IF(UPPER(E81)=\"REQUERIDO\", 10, \"\")","v":10},{"$f":"IF(UPPER(E81)=\"REQUERIDO\", H81, \"\")","v":0}]
["Dispensador para solución hidroalcohólica",null,1,{"$f":"IF(AND($L$78=0,$M$78=0),0,IF(AND($L$78>0,$M$78>0),($L$78+$M$78)*C82,IF(AND($L$78=0,$M$78>0),C82*$M$78,$L$78*C82)))","v":0},"Requerido",0,0,0,0,0,null,null,null,"MG",null,null,null,{"$f":"IF(UPPER(E82)=\"REQUERIDO\", 10, \"\")","v":10},{"$f":"IF(UPPER(E82)=\"REQUERIDO\", H82, \"\")","v":0},null,null,null,null,null,null,null,null,null,null,null,null,null,null,{"$f":"IF(UPPER(E82)=\"REQUERIDO\", 10, \"\")","v":10},{"$f":"IF(UPPER(E82)=\"REQUERIDO\", H82, \"\")","v":0}]
["Basurero ",null,1,{"$f":"IF(AND($L$78=0,$M$78=0),0,IF(AND($L$78>0,$M$78>0),($L$78+$M$78)*C83,IF(AND($L$78=0,$M$78>0),C83*$M$78,$L$78*C83)))","v":0},"Requerido",0,0,0,0,0,null,null,null,"MG",null,null,null,{"$f":"IF(UPPER(E83)=\"REQUERIDO\", 10, \"\")","v":10},{"$f":"IF(UPPER(E83)=\"REQUERIDO\", H83, \"\")","v":0},null,null,null,null,null,null,null,null,null,null,null,null,null,null,{"$f":"IF(UPPER(E83)=\"REQUERIDO\", 10, \"\")","v":10},{"$f":"IF(UPPER(E83)=\"REQUERIDO\", H83, \"\")","v":0}]
["Perchero de pie/Gancho doble",null,1,{"$f":"IF(AND($L$78=0,$M$78=0),0,IF(AND($L$78>0,$M$78>0),($L$78+$M$78)*C84,IF(AND($L$78=0,$M$78>0),C84*$M$78,$L$78*C84)))","v":0},"Deseable",0,0,0,0,0,null,null,null,"MG",null,null,null,null,null,null,null,null,null,{"$f":"IF(UPPER(E84)=\"DESEABLE\", 10, \"\")","v":10},{"$f":"IF(UPPER(E84)=\"DESEABLE\", H84, \"\")","v":0}]
["Espejo empotrado ",null,1,{"$f":"IF(AND($L$78=0,$M$78=0),0,IF(AND($L$78>0,$M$78>0),($L$78+$M$78)*C85,IF(AND($L$78=0,$M$78>0),C85*$M$78,$L$78*C85)))","v":0},"Condición",0,0,0,0,0,null,null,null,"MG",null,null,null,null,null,{"$f":"IF(UPPER(E85)=\"CONDICIÓN\", 10, \"\")","v":10},{"$f":"IF(UPPER(E85)=\"CONDICIÓN\", H85, \"\")","v":0},{"$f":"IF(UPPER(E85)=\"CONDICIÓN\", 10, \"\")","v":10},{"$f":"IF(UPPER(E85)=\"CONDICIÓN\", I85, \"\")","v":0}]
["Silla confidente",null,2,0,"Requerido",0,0,0,0,0,null,null,null,"MG",null,null,null,{"$f":"IF(UPPER(E86)=\"REQUERIDO\", 10, \"\")","v":10},{"$f":"IF(UPPER(E86)=\"REQUERIDO\", H86, \"\")","v":0},null,null,null,null,null,null,null,null,null,null,null,null,null,null,{"$f":"IF(UPPER(E86)=\"REQUERIDO\", 10, \"\")","v":10},{"$f":"IF(UPPER(E86)=\"REQUERIDO\", H86, \"\")","v":0}]
["Silla",null,1,0,"Requerido",0,0,0,0,0,null,null,null,"MG",null,null,null,{"$f":"IF(UPPER(E87)=\"REQUERIDO\", 10, \"\")","v":10},{"$f":"IF(UPPER(E87)=\"REQUERIDO\", H87, \"\")","v":0},null,null,null,null,null,null,null,null,null,null,null,null,null,null,{"$f":"IF(UPPER(E87)=\"REQUERIDO\", 10, \"\")","v":10},{"$f":"IF(UPPER(E87)=\"REQUERIDO\", H87, \"\")","v":0}]
["Enfermería",{"$f":"B8","v":"Anx:"},{"$f":"C$1","v":"Cant x Espacio:"},"Requerido:","Tipo:","Funcional:","No Funcional:",null,null,"Calif:","Observaciones:",{"$f":"Infraestructura!$F$23","v":0},{"$f":"Infraestructura!$G$23","v":0}]
["Escritorio/Mesa de despacho ","EQ_01",1,{"$f":"IF(AND($L$88=0,$M$88=0),0,IF(AND($L$88>0,$M$88>0),($L$88+$M$88)*C89,IF(AND($L$88=0,$M$88>0),C89*$M$88,$L$88*C89)))","v":0},"Requerido",0,0,{"$f":"IF(AND(F89>=D89,F89>0,D89>0),10,0)","v":0},{"$f":"IF(AND(G89>=D89,D89>0,G89>=1),10,0)","v":0},{"$f":"H89-I89","v":0},null,null,null,"MG",null,null,null,{"$f":"IF(UPPER(E89)=\"REQUERIDO\", 10, \"\")","v":10},{"$f":"IF(UPPER(E89)=\"REQUERIDO\", H89, \"\")","v":0},null,null,null,null,null,null,null,null,null,null,null,null,null,null,{"$f":"IF(UPPER(E89)=\"REQUERIDO\", 10, \"\")","v":10},{"$f":"IF(UPPER(E89)=\"REQUERIDO\", H89, \"\")","v":0}]
["Computador completo (Portátil o de Escritorio)","EQ_02",1,{"$f":"IF(AND($L$88=0,$M$88=0),0,IF(AND($L$88>0,$M$88>0),($L$88+$M$88)*C90,IF(AND($L$88=0,$M$88>0),C90*$M$88,$L$88*C90)))","v":0},"Requerido",0,0,{"$f":"IF(AND(F90>=D90,F90>0,D90>0),10,0)","v":0},{"$f":"IF(AND(G90>=D90,D90>0,G90>=1),10,0)","v":0},{"$f":"H90-I90","v":0},null,null,null,"EG",null,null,null,null,null,null,null,null,null,null,null,null,null,null,null,null,null,null,null,{"$f":"IF(UPPER(E90)=\"REQUERIDO\", 10, \"\")","v":10},{"$f":"IF(UPPER(E90)=\"REQUERIDO\", H90, \"\")","v":0}]
["Armario /vitrina",null,1,0,"Requerido",0,0,0,0,0,null,null,null,"MG",null,null,null,{"$f":"IF(UPPER(E91)=\"REQUERIDO\", 10, \"\")","v":10},{"$f":"IF(UPPER(E91)=\"REQUERIDO\", H91, \"\")","v":0},null,null,null,null,null,null,null,null,null,null,null,null,null,null,{"$f":"IF(UPPER(E91)=\"REQUERIDO\", 10, \"\")","v":10},{"$f":"IF(UPPER(E91)=\"REQUERIDO\", H91, \"\")","v":0}]
["Báscula + tallímetro",null,1,0,"Requerido",0,0,0,0,0,null,null,null,"EM",null,null,null,null,null,null,null,null,null,null,null,null,null,null,null,null,null,null,null,null,null,null,null,null,null,null,null,{"$f":"IF(UPPER(E92)=\"REQUERIDO\", 10, \"\")","v":10},{"$f":"IF(UPPER(E92)=\"REQUERIDO\", H92, \"\")","v":0}]
["Mesa Auxiliar ",null,1,0,"Requerido",0,0,0,0,0,null,null,null,"EM",null,null,null,null,null,null,null,null,null,null,null,null,null,null,null,null,null,null,null,null,null,null,null,null,null,null,null,{"$f":"IF(UPPER(E93)=\"REQUERIDO\", 10, \"\")","v":10},{"$f":"IF(UPPER(E93)=\"REQUERIDO\", H93, \"\")","v":0}]
["Dispensador de papel toalla ",null,1,0,"Requerido",0,0,0,0,0,null,null,null,"EG",null,null,null,null,null,null,null,null,null,null,null,null,null,null,null,null,null,null,null,{"$f":"IF(UPPER(E94)=\"REQUERIDO\", 10, \"\")","v":10},{"$f":"IF(UPPER(E94)=\"REQUERIDO\", H94, \"\")","v":0}]
["Dispensador de jabón",null,1,0,"Requerido",0,0,0,0,0,null,null,null,"EG",null,null,null,null,null,null,null,null,null,null,null,null,null,null,null,null,null,null,null,{"$f":"IF(UPPER(E95)=\"REQUERIDO\", 10, \"\")","v":10},{"$f":"IF(UPPER(E95)=\"REQUERIDO\", H95, \"\")","v":0}]
["Lavabo",null,1,0,"Requerido",0,0,0,0,0,null,null,null,"MG",null,null,null,{"$f":"IF(UPPER(E96)=\"REQUERIDO\", 10, \"\")","v":10},{"$f":"IF(UPPER(E96)=\"REQUERIDO\", H96, \"\")","v":0}]
["Tensiómetro para adultos",null,1,0,"Requerido",0,0,0,0,0,null,null,null,"EM",null,null,null,null,null,null,null,null,null,null,null,null,null,null,null,null,null,null,null,null,null,null,null,null,null,null,null,{"$f":"IF(UPPER(E97)=\"REQUERIDO\", 10, \"\")","v":10},{"$f":"IF(UPPER(E97)=\"REQUERIDO\", H97, \"\")","v":0}]
["Estetoscopio para adultos",null,1,0,"Requerido",0,0,0,0,0,null,null,null,"EM",null,null,null,null,null,null,null,null,null,null,null,null,null,null,null,null,null,null,null,null,null,null,null,null,null,null,null,{"$f":"IF(UPPER(E98)=\"REQUERIDO\", 10, \"\")","v":10},{"$f":"IF(UPPER(E98)=\"REQUERIDO\", H98, \"\")","v":0}]
["Tensiómetro pediátrico ",null,1,0,"Condición",0,0,0,0,0,null,null,null,"EM",null,null,null,null,null,null,null,null,null,null,null,null,null,null,null,null,null,null,null,null,null,null,null,null,null,null,null,null,null,{"$f":"IF(UPPER(E99)=\"CONDICIÓN\", 10, \"\")","v":10},{"$f":"IF(UPPER(E99)=\"CONDICIÓN\", H99, \"\")","v":0},{"$f":"IF(UPPER(E99)=\"CONDICIÓN\", 10, \"\")","v":10},{"$f":"IF(UPPER(E99)=\"CONDICIÓN\", I99, \"\")","v":0}]
["Estetoscopio  pediátrico",null,1,0,"Condición",0,0,0,0,0,null,null,null,"EM",null,null,null,null,null,null,null,null,null,null,null,null,null,null,null,null,null,null,null,null,null,null,null,null,null,null,null,null,null,{"$f":"IF(UPPER(E100)=\"CONDICIÓN\", 10, \"\")","v":10},{"$f":"IF(UPPER(E100)=\"CONDICIÓN\", H100, \"\")","v":0},{"$f":"IF(UPPER(E100)=\"CONDICIÓN\", 10, \"\")","v":10},{"$f":"IF(UPPER(E100)=\"CONDICIÓN\", I100, \"\")","v":0}]
["Termómetro",null,1,0,"Requerido",0,0,0,0,0,null,null,null,"EM",null,null,null,null,null,null,null,null,null,null,null,null,null,null,null,null,null,null,null,null,null,null,null,null,null,null,null,{"$f":"IF(UPPER(E101)=\"REQUERIDO\", 10, \"\")","v":10},{"$f":"IF(UPPER(E101)=\"REQUERIDO\", H101, \"\")","v":0}]
["Set de recipientes para el manejo de desechos peligrosos y no peligrosos. ","EQ_07",1,{"$f":"IF(AND($L$88=0,$M$88=0),0,IF(AND($L$88>0,$M$88>0),($L$88+$M$88)*C102,IF(AND($L$88=0,$M$88>0),C102*$M$88,$L$88*C102)))","v":0},"Requerido",0,0,0,0,0,null,null,null,"MG",null,null,null,{"$f":"IF(UPPER(E102)=\"REQUERIDO\", 10, \"\")","v":10},{"$f":"IF(UPPER(E102)=\"REQUERIDO\", H102, \"\")","v":0}]
["Perchero de pie/Gancho doble",null,1,0,"Deseable",0,0,0,0,0,null,null,null,"MG",null,null,null,null,null,null,null,null,null,{"$f":"IF(UPPER(E103)=\"DESEABLE\", 10, \"\")","v":10},{"$f":"IF(UPPER(E103)=\"DESEABLE\", H103, \"\")","v":0}]
["Silla confidente",null,2,0,"Requerido",0,0,{"$f":"IF(AND(F104>=D104,F104>0,D104>0),10,0)","v":0},{"$f":"IF(AND(G104>=D104,D104>0,G104>=1),10,0)","v":0},{"$f":"H104-I104","v":0},null,null,null,"MG",null,null,null,{"$f":"IF(UPPER(E104)=\"REQUERIDO\", 10, \"\")","v":10},{"$f":"IF(UPPER(E104)=\"REQUERIDO\", H104, \"\")","v":0}]
["Silla",null,1,0,"Requerido",0,0,{"$f":"IF(AND(F105>=D105,F105>0,D105>0),10,0)","v":0},{"$f":"IF(AND(G105>=D105,D105>0,G105>=1),10,0)","v":0},{"$f":"H105-I105","v":0},null,null,null,"MG",null,null,null,{"$f":"IF(UPPER(E105)=\"REQUERIDO\", 10, \"\")","v":10},{"$f":"IF(UPPER(E105)=\"REQUERIDO\", H105, \"\")","v":0}]
["ASISTENCIAL",null,null,null,null,null,null,null,null,null,null,null,null,null,null,null,null,null,null,null,null,null,null,null,null,null,null,null,null,null,null,null,null,null,null,null,null,null,null,null,null,null,null,null,null,null,null,null,null,{"$f":"SUM(R107:R202)","v":230},{"$f":"SUM(S107:S202)","v":0},{"$f":"SUM(T107:T202)","v":10},0,10,0,30,0,0,0,0,0,0,0,0,0,40,0,0,0,0,0,0,0,0,0,0,0,0,0,0,0]
["INTERNACIÓN/RESIDENCIA",null,null,null,null,null,null,null,null,null,null,null,null,null,null,null,null,null,null,null,null,null,null,null,null,null,null,null,null,null,null,null,null,null,null,null,null,null,null,null,null,null,null,null,null,null,null,null,null,{"$f":"SUM(R107:R202)","v":230},{"$f":"SUM(S107:S202)","v":0},{"$f":"SUM(T107:T202)","v":10},0,10,0,30,0,0,0,0,0,0,0,0,0,40,0,0,0,0,0,0,0,0,0,0,0,0,0,0,0]
["ÁREA DE INTERNACIÓN/RESIDENCIA",null,null,null,null,null,null,null,null,null,null,null,null,null,null,null,null,null,null,null,null,null,null,null,null,null,null,null,null,null,null,null,null,null,null,null,null,null,null,null,null,null,null,null,null,null,null,null,null,{"$f":"SUM(R108:R150)","v":170},{"$f":"SUM(S108:S150)","v":0},{"$f":"SUM(T108:T150)","v":0},0,0,0,30,0,0,0,0,0,0,0,0,0,30,0,0,0,0,0,0,0,0,0,0,0,0,0,0,0]
["AMBIENTES",null,null,null,null,null,null,null,null,null,null,null,null,null,null,null,null,null,null,null,null,null,null,null,null,null,null,null,null,null,null,null,null,null,null,null,null,null,null,null,null,null,null,null,null,null,null,null,null,{"$f":"SUM(R110:R150)","v":170},{"$f":"SUM(S110:S150)","v":0},{"$f":"SUM(T110:T150)","v":0},0,0,0,30,0,0,0,0,0,0,0,0,0,30,0,0,0,0,0,0,0,0,0,0,0,0,0,0,0]
["Habitación individual/múltiple",{"$f":"B1","v":"Anx:"},{"$f":"C$1","v":"Cant x Espacio:"},"Requerido:","Tipo:","Funcional:","No Funcional:",null,null,"Calif:","Observaciones:",{"$f":"Infraestructura!$F$32","v":0},{"$f":"Infraestructura!$G$32","v":0}]
["Cama Básica y colchón","EQ_04",1,{"$f":"IF(AND($L$110=0,$M$110=0),0,IF(AND($L$110>0,$M$110>0),($L$110+$M$110)*C111,IF(AND($L$110=0,$M$110>0),C111*$M$110,$L$110*C111)))","v":0},"Requerido",0,0,{"$f":"IF(AND(F111>=D111,F111>0,D111>0),10,0)","v":0},{"$f":"IF(AND(G111>=D111,D111>0,G111>=1),10,0)","v":0},{"$f":"H111-I111","v":0},null,null,null,"MG",null,null,null,{"$f":"IF(UPPER(E111)=\"REQUERIDO\", 10, \"\")","v":10},{"$f":"IF(UPPER(E111)=\"REQUERIDO\", H111, \"\")","v":0}]
["Basurero ",null,1,{"$f":"IF(AND($L$110=0,$M$110=0),0,IF(AND($L$110>0,$M$110>0),($L$110+$M$110)*C112,IF(AND($L$110=0,$M$110>0),C112*$M$110,$L$110*C112)))","v":0},"Requerido",0,0,{"$f":"IF(AND(F112>=D112,F112>0,D112>0),10,0)","v":0},{"$f":"IF(AND(G112>=D112,D112>0,G112>=1),10,0)","v":0},{"$f":"H112-I112","v":0},null,null,null,"MG",null,null,null,{"$f":"IF(UPPER(E112)=\"REQUERIDO\", 10, \"\")","v":10},{"$f":"IF(UPPER(E112)=\"REQUERIDO\", H112, \"\")","v":0}]
["Velador",null,1,{"$f":"IF(AND($L$110=0,$M$110=0),0,IF(AND($L$110>0,$M$110>0),($L$110+$M$110)*C113,IF(AND($L$110=0,$M$110>0),C113*$M$110,$L$110*C113)))","v":0},"Requerido",0,0,{"$f":"IF(AND(F113>=D113,F113>0,D113>0),10,0)","v":0},{"$f":"IF(AND(G113>=D113,D113>0,G113>=1),10,0)","v":0},{"$f":"H113-I113","v":0},null,null,null,"MG",null,null,null,{"$f":"IF(UPPER(E113)=\"REQUERIDO\", 10, \"\")","v":10},{"$f":"IF(UPPER(E113)=\"REQUERIDO\", H113, \"\")","v":0}]
["Armario",null,1,{"$f":"IF(AND($L$110=0,$M$110=0),0,IF(AND($L$110>0,$M$110>0),($L$110+$M$110)*C114,IF(AND($L$110=0,$M$110>0),C114*$M$110,$L$110*C114)))","v":0},"Requerido",0,0,{"$f":"IF(AND(F114>=D114,F114>0,D114>0),10,0)","v":0},{"$f":"IF(AND(G114>=D114,D114>0,G114>=1),10,0)","v":0},{"$f":"H114-I114","v":0},null,null,null,"MG",null,null,null,{"$f":"IF(UPPER(E114)=\"REQUERIDO\", 10, \"\")","v":10},{"$f":"IF(UPPER(E114)=\"REQUERIDO\", H114, \"\")","v":0}]
["Baño de la habitación por puesto",{"$f":"B1","v":"Anx:"},{"$f":"C$1","v":"Cant x Espacio:"},"Requerido:","Tipo:","Funcional:","No Funcional:",null,null,"Calif:","Observaciones:",{"$f":"Infraestructura!$F$33","v":0},{"$f":"Infraestructura!$G$33","v":0}]
["Inodoro",null,1,{"$f":"IF(AND($L$115=0,$M$115=0),0,IF(AND($L$115>0,$M$115>0),($L$115+$M$115)*C116,IF(AND($L$115=0,$M$115>0),C116*$M$115,$L$115*C116)))","v":0},"Requerido",0,0,{"$f":"IF(AND(F116>=D116,F116>0,D116>0),10,0)","v":0},{"$f":"IF(AND(G116>=D116,D116>0,G116>=1),10,0)","v":0},{"$f":"H116-I116","v":0},null,null,null,"MG",null,null,null,{"$f":"IF(UPPER(E116)=\"REQUERIDO\", 10, \"\")","v":10},{"$f":"IF(UPPER(E116)=\"REQUERIDO\", H116, \"\")","v":0}]
["Barras de apoyo",null,1,{"$f":"IF(AND($L$115=0,$M$115=0),0,IF(AND($L$115>0,$M$115>0),($L$115+$M$115)*C117,IF(AND($L$115=0,$M$115>0),C117*$M$115,$L$115*C117)))","v":0},"Deseable",0,0,{"$f":"IF(AND(F117>=D117,F117>0,D117>0),10,0)","v":0},{"$f":"IF(AND(G117>=D117,D117>0,G117>=1),10,0)","v":0},{"$f":"H117-I117","v":0},null,null,null,"MG",null,null,null,null,null,null,null,null,null,{"$f":"IF(UPPER(E117)=\"DESEABLE\", 10, \"\")","v":10},{"$f":"IF(UPPER(E117)=\"DESEABLE\", H117, \"\")","v":0}]
["Dispensador de papel higiénico",null,1,{"$f":"IF(AND($L$115=0,$M$115=0),0,IF(AND($L$115>0,$M$115>0),($L$115+$M$115)*C118,IF(AND($L$115=0,$M$115>0),C118*$M$115,$L$115*C118)))","v":0},"Requerido",0,0,{"$f":"IF(AND(F118>=D118,F118>0,D118>0),10,0)","v":0},{"$f":"IF(AND(G118>=D118,D118>0,G118>=1),10,0)","v":0},{"$f":"H118-I118","v":0},null,null,null,"EG",null,null,null,null,null,null,null,null,null,null,null,null,null,null,null,null,null,null,null,{"$f":"IF(UPPER(E118)=\"REQUERIDO\", 10, \"\")","v":10},{"$f":"IF(UPPER(E118)=\"REQUERIDO\", H118, \"\")","v":0}]
["Basurero ",null,1,0,"Requerido",0,0,{"$f":"IF(AND(F119>=D119,F119>0,D119>0),10,0)","v":0},{"$f":"IF(AND(G119>=D119,D119>0,G119>=1),10,0)","v":0},{"$f":"H119-I119","v":0},null,null,null,"MG",null,null,null,{"$f":"IF(UPPER(E119)=\"REQUERIDO\", 10, \"\")","v":10},{"$f":"IF(UPPER(E119)=\"REQUERIDO\", H119, \"\")","v":0}]
["Gancho doble",null,1,0,"Requerido",0,0,{"$f":"IF(AND(F120>=D120,F120>0,D120>0),10,0)","v":0},{"$f":"IF(AND(G120>=D120,D120>0,G120>=1),10,0)","v":0},{"$f":"H120-I120","v":0},null,null,null,"MG",null,null,null,{"$f":"IF(UPPER(E120)=\"REQUERIDO\", 10, \"\")","v":10},{"$f":"IF(UPPER(E120)=\"REQUERIDO\", H120, \"\")","v":0}]
["Baño para la habitación (compartido)",{"$f":"B1","v":"Anx:"},{"$f":"C$1","v":"Cant x Espacio:"},"Requerido:","Tipo:","Funcional:","No Funcional:",null,null,"Calif:","Observaciones:",{"$f":"Infraestructura!$F$34","v":0},{"$f":"Infraestructura!$G$34","v":0}]
["Lavabo ",null,1,{"$f":"IF(AND($L$121=0,$M$121=0),0,IF(AND($L$121>0,$M$121>0),($L$121+$M$121)*C122,IF(AND($L$121=0,$M$121>0),C122*$M$121,$L$121*C122)))","v":0},"Requerido",0,0,{"$f":"IF(AND(F122>=D122,F122>0,D122>0),10,0)","v":0},{"$f":"IF(AND(G122>=D122,D122>0,G122>=1),10,0)","v":0},{"$f":"H122-I122","v":0},null,null,null,"MG",null,null,null,{"$f":"IF(UPPER(E122)=\"REQUERIDO\", 10, \"\")","v":10},{"$f":"IF(UPPER(E122)=\"REQUERIDO\", H122, \"\")","v":0}]
["Dispensador de papel toalla ",null,1,{"$f":"IF(AND($L$121=0,$M$121=0),0,IF(AND($L$121>0,$M$121>0),($L$121+$M$121)*C123,IF(AND($L$121=0,$M$121>0),C123*$M$121,$L$121*C123)))","v":0},"Requerido",0,0,0,0,0,null,null,null,"EG",null,null,null,null,null,null,null,null,null,null,null,null,null,null,null,null,null,null,null,{"$f":"IF(UPPER(E123)=\"REQUERIDO\", 10, \"\")","v":10},{"$f":"IF(UPPER(E123)=\"REQUERIDO\", H123, \"\")","v":0}]
["Dispensador de jabón",null,1,{"$f":"IF(AND($L$121=0,$M$121=0),0,IF(AND($L$121>0,$M$121>0),($L$121+$M$121)*C124,IF(AND($L$121=0,$M$121>0),C124*$M$121,$L$121*C124)))","v":0},"Requerido",0,0,0,0,0,null,null,null,"EG",null,null,null,null,null,null,null,null,null,null,null,null,null,null,null,null,null,null,null,{"$f":"IF(UPPER(E124)=\"REQUERIDO\", 10, \"\")","v":10},{"$f":"IF(UPPER(E124)=\"REQUERIDO\", H124, \"\")","v":0}]
["Espejo empotrado ",null,1,0,"Deseable",0,0,0,0,0,null,null,null,"MG",null,null,null,null,null,null,null,null,null,{"$f":"IF(UPPER(E125)=\"DESEABLE\", 10, \"\")","v":10},{"$f":"IF(UPPER(E125)=\"DESEABLE\", H125, \"\")","v":0}]
["Basurero ",null,1,0,"Requerido",0,0,0,0,0,null,null,null,"MG",null,null,null,{"$f":"IF(UPPER(E126)=\"REQUERIDO\", 10, \"\")","v":10},{"$f":"IF(UPPER(E126)=\"REQUERIDO\", H126, \"\")","v":0}]
["Ducha",null,1,0,"Requerido",0,0,0,0,0,null,null,null,"MG",null,null,null,{"$f":"IF(UPPER(E127)=\"REQUERIDO\", 10, \"\")","v":10},{"$f":"IF(UPPER(E127)=\"REQUERIDO\", H127, \"\")","v":0}]
["Estar de personal- Será requerido en caso de no contar con Habitación de personal",{"$f":"B8","v":"Anx:"},{"$f":"C$1","v":"Cant x Espacio:"},"Requerido:","Tipo:","Funcional:","No Funcional:",null,null,"Calif:","Observaciones:",{"$f":"Infraestructura!$F$35","v":0},{"$f":"Infraestructura!$G$35","v":0}]
["Mesa ",null,1,{"$f":"IF(AND($L$128=0,$M$128=0),0,IF(AND($L$128>0,$M$128>0),($L$128+$M$128)*C129,IF(AND($L$128=0,$M$128>0),C129*$M$128,$L$128*C129)))","v":0},{"$f":"IF(D129>0, \"Requerido\", \"Sin Infraestructura\")","v":"Sin Infraestructura"},0,0,{"$f":"IF(AND(F129>=D129,F129>0,D129>0),10,0)","v":0},{"$f":"IF(AND(G129>=D129,D129>0,G129>=1),10,0)","v":0},{"$f":"H129-I129","v":0},null,null,null,"MG",null,null,null,{"$f":"IF(UPPER(E129)=\"REQUERIDO\", 10, \"\")","v":""},{"$f":"IF(UPPER(E129)=\"REQUERIDO\", H129, \"\")","v":""}]
["Silla ",null,4,{"$f":"IF(AND($L$128=0,$M$128=0),0,IF(AND($L$128>0,$M$128>0),($L$128+$M$128)*C130,IF(AND($L$128=0,$M$128>0),C130*$M$128,$L$128*C130)))","v":0},{"$f":"IF(D130>0, \"Requerido\", \"Sin Infraestructura\")","v":"Sin Infraestructura"},0,0,{"$f":"IF(AND(F130>=D130,F130>0,D130>0),10,0)","v":0},0,0,null,null,null,"MG",null,null,null,{"$f":"IF(UPPER(E130)=\"REQUERIDO\", 10, \"\")","v":""},{"$f":"IF(UPPER(E130)=\"REQUERIDO\", H130, \"\")","v":""}]
["Refrigerador",null,1,{"$f":"IF(AND($L$128=0,$M$128=0),0,IF(AND($L$128>0,$M$128>0),($L$128+$M$128)*C131,IF(AND($L$128=0,$M$128>0),C131*$M$128,$L$128*C131)))","v":0},{"$f":"IF(D131>0, \"Condición\", \"Sin Infraestructura\")","v":"Sin Infraestructura"},0,0,0,0,0,null,null,null,"EG",null,null,null,null,null,null,null,null,null,null,null,null,null,null,null,null,null,null,null,null,null,{"$f":"IF(UPPER(E131)=\"CONDICIÓN\", 10, \"\")","v":""},{"$f":"IF(UPPER(E131)=\"CONDICIÓN\", H131, \"\")","v":""},{"$f":"IF(UPPER(E131)=\"CONDICIÓN\", 10, \"\")","v":""},{"$f":"IF(UPPER(E131)=\"CONDICIÓN\", I131, \"\")","v":""}]
["Microondas",null,1,0,{"$f":"IF(D132>0, \"Condición\", \"Sin Infraestructura\")","v":"Sin Infraestructura"},0,0,0,0,0,null,null,null,"EG",null,null,null,null,null,null,null,null,null,null,null,null,null,null,null,null,null,null,null,null,null,{"$f":"IF(UPPER(E132)=\"CONDICIÓN\", 10, \"\")","v":""},{"$f":"IF(UPPER(E132)=\"CONDICIÓN\", H132, \"\")","v":""},{"$f":"IF(UPPER(E132)=\"CONDICIÓN\", 10, \"\")","v":""},{"$f":"IF(UPPER(E132)=\"CONDICIÓN\", I132, \"\")","v":""}]
["Mesón con lavabo ",null,1,0,{"$f":"IF(D133>0, \"Requerido\", \"Sin Infraestructura\")","v":"Sin Infraestructura"},0,0,0,0,0,null,null,null,"MG",null,null,null,{"$f":"IF(UPPER(E133)=\"REQUERIDO\", 10, \"\")","v":""},{"$f":"IF(UPPER(E133)=\"REQUERIDO\", H133, \"\")","v":""}]
["Dispensador  de jabón",null,1,0,{"$f":"IF(D134>0, \"Requerido\", \"Sin Infraestructura\")","v":"Sin Infraestructura"},0,0,0,0,0,null,null,null,"MG",null,null,null,{"$f":"IF(UPPER(E134)=\"REQUERIDO\", 10, \"\")","v":""},{"$f":"IF(UPPER(E134)=\"REQUERIDO\", H134, \"\")","v":""}]
["Dispensador de papel toalla ",null,1,0,{"$f":"IF(D135>0, \"Requerido\", \"Sin Infraestructura\")","v":"Sin Infraestructura"},0,0,0,0,0,null,null,null,"MG",null,null,null,{"$f":"IF(UPPER(E135)=\"REQUERIDO\", 10, \"\")","v":""},{"$f":"IF(UPPER(E135)=\"REQUERIDO\", H135, \"\")","v":""}]
["Basurero",null,1,{"$f":"IF(AND($L$128=0,$M$128=0),0,IF(AND($L$128>0,$M$128>0),($L$128+$M$128)*C136,IF(AND($L$128=0,$M$128>0),C136*$M$128,$L$128*C136)))","v":0},{"$f":"IF(D136>0, \"Requerido\", \"Sin Infraestructura\")","v":"Sin Infraestructura"},0,0,0,0,0,null,null,null,"MG",null,null,null,{"$f":"IF(UPPER(E136)=\"REQUERIDO\", 10, \"\")","v":""},{"$f":"IF(UPPER(E136)=\"REQUERIDO\", H136, \"\")","v":""}]
["Habitación del personal - Será requerido en caso de no contar con Estar de personal",{"$f":"B8","v":"Anx:"},{"$f":"C$1","v":"Cant x Espacio:"},"Requerido:","Tipo:","Funcional:","No Funcional:",null,null,"Calif:","Observaciones:",{"$f":"Infraestructura!$F$36","v":0},{"$f":"Infraestructura!$G$36","v":0}]
["Cama Básica y Colchón","EQ_04",1,{"$f":"IF(AND($L$137=0,$M$137=0),0,IF(AND($L$137>0,$M$137>0),($L$137+$M$137)*C138,IF(AND($L$137=0,$M$137>0),C138*$M$137,$L$137*C138)))","v":0},{"$f":"IF(D138>0, \"Requerido\", \"Sin Infraestructura\")","v":"Sin Infraestructura"},0,0,{"$f":"IF(AND(F138>=D138,F138>0,D138>0),10,0)","v":0},{"$f":"IF(AND(G138>=D138,D138>0,G138>=1),10,0)","v":0},{"$f":"H138-I138","v":0},null,null,null,"MG",null,null,null,{"$f":"IF(UPPER(E138)=\"REQUERIDO\", 10, \"\")","v":""},{"$f":"IF(UPPER(E138)=\"REQUERIDO\", H138, \"\")","v":""}]
["Basurero ",null,1,{"$f":"IF(AND($L$137=0,$M$137=0),0,IF(AND($L$137>0,$M$137>0),($L$137+$M$137)*C139,IF(AND($L$137=0,$M$137>0),C139*$M$137,$L$137*C139)))","v":0},{"$f":"IF(D139>0, \"Requerido\", \"Sin Infraestructura\")","v":"Sin Infraestructura"},0,0,{"$f":"IF(AND(F139>=D139,F139>0,D139>0),10,0)","v":0},{"$f":"IF(AND(G139>=D139,D139>0,G139>=1),10,0)","v":0},{"$f":"H139-I139","v":0},null,null,null,"MG",null,null,null,{"$f":"IF(UPPER(E139)=\"REQUERIDO\", 10, \"\")","v":""},{"$f":"IF(UPPER(E139)=\"REQUERIDO\", H139, \"\")","v":""}]
["velador",null,1,{"$f":"IF(AND($L$137=0,$M$137=0),0,IF(AND($L$137>0,$M$137>0),($L$137+$M$137)*C140,IF(AND($L$137=0,$M$137>0),C140*$M$137,$L$137*C140)))","v":0},{"$f":"IF(D140>0, \"Requerido\", \"Sin Infraestructura\")","v":"Sin Infraestructura"},0,0,{"$f":"IF(AND(F140>=D140,F140>0,D140>0),10,0)","v":0},{"$f":"IF(AND(G140>=D140,D140>0,G140>=1),10,0)","v":0},{"$f":"H140-I140","v":0},null,null,null,"MG",null,null,null,{"$f":"IF(UPPER(E140)=\"REQUERIDO\", 10, \"\")","v":""},{"$f":"IF(UPPER(E140)=\"REQUERIDO\", H140, \"\")","v":""}]
["Armario",null,1,{"$f":"IF(AND($L$137=0,$M$137=0),0,IF(AND($L$137>0,$M$137>0),($L$137+$M$137)*C141,IF(AND($L$137=0,$M$137>0),C141*$M$137,$L$137*C141)))","v":0},{"$f":"IF(D141>0, \"Requerido\", \"Sin Infraestructura\")","v":"Sin Infraestructura"},0,0,{"$f":"IF(AND(F141>=D141,F141>0,D141>0),10,0)","v":0},{"$f":"IF(AND(G141>=D141,D141>0,G141>=1),10,0)","v":0},{"$f":"H141-I141","v":0},null,null,null,"MG",null,null,null,{"$f":"IF(UPPER(E141)=\"REQUERIDO\", 10, \"\")","v":""},{"$f":"IF(UPPER(E141)=\"REQUERIDO\", H141, \"\")","v":""}]
["Baños para personal",{"$f":"B8","v":"Anx:"},{"$f":"C$1","v":"Cant x Espacio:"},"Requerido:","Tipo:","Funcional:","No Funcional:",null,null,"Calif:","Observaciones:",{"$f":"Infraestructura!$F$37","v":0},{"$f":"Infraestructura!$G$37","v":0}]
["Inodoro",null,1,{"$f":"IF(AND($L$142=0,$M$142=0),0,IF(AND($L$142>0,$M$142>0),($L$142+$M$142)*C143,IF(AND($L$142=0,$M$142>0),C143*$M$142,$L$142*C143)))","v":0},"Requerido",0,0,{"$f":"IF(AND(F143>=D143,F143>0,D143>0),10,0)","v":0},{"$f":"IF(AND(G143>=D143,D143>0,G143>=1),10,0)","v":0},{"$f":"H143-I143","v":0},null,null,null,"MG",null,null,null,{"$f":"IF(UPPER(E143)=\"REQUERIDO\", 10, \"\")","v":10},{"$f":"IF(UPPER(E143)=\"REQUERIDO\", H143, \"\")","v":0}]
["Dispensador de papel higiénico",null,1,0,"Requerido",0,0,0,0,0,null,null,null,"MG",null,null,null,10,0]
["Lavabo",null,1,0,"Requerido",0,0,0,0,0,null,null,null,"MG",null,null,null,10,0]
["Dispensador  de jabón",null,1,0,"Requerido",0,0,0,0,0,null,null,null,"MG",null,null,null,10,0]
["Dispensador de papel toalla ",null,1,0,"Requerido",0,0,0,0,0,null,null,null,"MG",null,null,null,10,0]
["Basurero ",null,1,0,"Requerido",0,0,0,0,0,null,null,null,"MG",null,null,null,10,0]
["Gancho doble",null,1,0,"Requerido",0,0,0,0,0,null,null,null,"MG",null,null,null,10,0]
["Espejo empotrado",null,1,0,"Deseable",0,0,0,0,0,null,null,null,"MG",null,null,null,null,null,null,null,null,null,{"$f":"IF(UPPER(E150)=\"DESEABLE\", 10, \"\")","v":10},{"$f":"IF(UPPER(E150)=\"DESEABLE\", H150, \"\")","v":0}]
[{"$f":"Infraestructura!A41","v":"ÁREA DE SOPORTE Y SUMINISTROS"},null,null,null,null,null,null,null,null,null,null,null,null,null,null,null,null,null,null,null,null,null,null,null,null,null,null,null,null,null,null,null,null,null,null,null,null,null,null,null,null,null,null,null,null,null,null,null,null,{"$f":"SUM(R152:R177)","v":60},{"$f":"SUM(S152:S177)","v":0},{"$f":"SUM(T152:T177)","v":10},0,10,0,0,0,0,0,0,0,0,0,0,0,10,0,0,0,0,0,0,0,0,0,0,0,0,0,0,0]
["AMBIENTES",null,null,null,null,null,null,null,null,null,null,null,null,null,null,null,null,null,null,null,null,null,null,null,null,null,null,null,null,null,null,null,null,null,null,null,null,null,null,null,null,null,null,null,null,null,null,null,null,{"$f":"SUM(R153:R177)","v":60},{"$f":"SUM(S153:S177)","v":0},{"$f":"SUM(T153:T177)","v":10},0,10,0,0,0,0,0,0,0,0,0,0,0,10,0,0,0,0,0,0,0,0,0,0,0,0,0,0,0]
[{"$f":"Infraestructura!A43","v":"Lencería"},{"$f":"B8","v":"Anx:"},{"$f":"C$1","v":"Cant x Espacio:"},"Requerido:","Tipo:","Funcional:","No Funcional:",null,null,"Calif:","Observaciones:",{"$f":"Infraestructura!F43","v":0},{"$f":"Infraestructura!G43","v":0}]
["Coche de transporte de ropa limpia ",null,1,{"$f":"IF(AND($L$153=0,$M$153=0),0,IF(AND($L$153>0,$M$153>0),($L$153+$M$153)*C154,IF(AND($L$153=0,$M$153>0),C154*$M$153,$L$153*C154)))","v":0},"Requerido",0,0,{"$f":"IF(AND(F154>=D154,F154>0,D154>0),10,0)","v":0},{"$f":"IF(AND(G154>=D154,D154>0,G154>=1),10,0)","v":0},{"$f":"H154-I154","v":0},null,null,null,"MG",null,null,null,{"$f":"IF(UPPER(E154)=\"REQUERIDO\", 10, \"\")","v":10},{"$f":"IF(UPPER(E154)=\"REQUERIDO\", H154, \"\")","v":0}]
["Estantería/Mueble para almacenamiento",null,1,{"$f":"IF(AND($L$153=0,$M$153=0),0,IF(AND($L$153>0,$M$153>0),($L$153+$M$153)*C155,IF(AND($L$153=0,$M$153>0),C155*$M$153,$L$153*C155)))","v":0},"Requerido",0,0,{"$f":"IF(AND(F155>=D155,F155>0,D155>0),10,0)","v":0},{"$f":"IF(AND(G155>=D155,D155>0,G155>=1),10,0)","v":0},{"$f":"H155-I155","v":0},null,null,null,"MG",null,null,null,{"$f":"IF(UPPER(E155)=\"REQUERIDO\", 10, \"\")","v":10},{"$f":"IF(UPPER(E155)=\"REQUERIDO\", H155, \"\")","v":0}]
[{"$f":"Infraestructura!A44","v":"Recepción y Clasificación de Ropa Usada"},{"$f":"B8","v":"Anx:"},{"$f":"C$1","v":"Cant x Espacio:"},"Requerido:","Tipo:","Funcional:","No Funcional:",null,null,"Calif:","Observaciones:",{"$f":"Infraestructura!F44","v":0},{"$f":"Infraestructura!G44","v":0}]
["Estantería",null,1,{"$f":"IF(AND($L$156=0,$M$156=0),0,IF(AND($L$156>0,$M$156>0),($L$156+$M$156)*C157,IF(AND($L$156=0,$M$156>0),C157*$M$156,$L$156*C157)))","v":0},"Requerido",0,0,{"$f":"IF(AND(F157>=D157,F157>0,D157>0),10,0)","v":0},{"$f":"IF(AND(G157>=D157,D157>0,G157>=1),10,0)","v":0},{"$f":"H157-I157","v":0},null,null,null,"MG",null,null,null,{"$f":"IF(UPPER(E157)=\"REQUERIDO\", 10, \"\")","v":10},{"$f":"IF(UPPER(E157)=\"REQUERIDO\", H157, \"\")","v":0}]
["Coche de transporte de ropa sucia",null,1,{"$f":"IF(AND($L$156=0,$M$156=0),0,IF(AND($L$156>0,$M$156>0),($L$156+$M$156)*C158,IF(AND($L$156=0,$M$156>0),C158*$M$156,$L$156*C158)))","v":0},"Requerido",0,0,{"$f":"IF(AND(F158>=D158,F158>0,D158>0),10,0)","v":0},{"$f":"IF(AND(G158>=D158,D158>0,G158>=1),10,0)","v":0},{"$f":"H158-I158","v":0},null,null,null,"MG",null,null,null,{"$f":"IF(UPPER(E158)=\"REQUERIDO\", 10, \"\")","v":10},{"$f":"IF(UPPER(E158)=\"REQUERIDO\", H158, \"\")","v":0}]
["Basurero",null,1,{"$f":"IF(AND($L$156=0,$M$156=0),0,IF(AND($L$156>0,$M$156>0),($L$156+$M$156)*C159,IF(AND($L$156=0,$M$156>0),C159*$M$156,$L$156*C159)))","v":0},"Requerido",0,0,{"$f":"IF(AND(F159>=D159,F159>0,D159>0),10,0)","v":0},{"$f":"IF(AND(G159>=D159,D159>0,G159>=1),10,0)","v":0},{"$f":"H159-I159","v":0}]
[{"$f":"Infraestructura!A45","v":"Bodega General"},{"$f":"B8","v":"Anx:"},{"$f":"C$1","v":"Cant x Espacio:"},"Requerido:","Tipo:","Funcional:","No Funcional:",null,null,"Calif:","Observaciones:",{"$f":"Infraestructura!F45","v":0},{"$f":"Infraestructura!G45","v":0}]
["Estantería ",null,1,{"$f":"IF(AND($L$160=0,$M$160=0),0,IF(AND($L$160>0,$M$160>0),($L$160+$M$160)*C161,IF(AND($L$160=0,$M$160>0),C161*$M$160,$L$160*C161)))","v":0},"Requerido",0,0,{"$f":"IF(AND(F161>=D161,F161>0,D161>0),10,0)","v":0},{"$f":"IF(AND(G161>=D161,D161>0,G161>=1),10,0)","v":0},{"$f":"H161-I161","v":0},null,null,null,"MG",null,null,null,{"$f":"IF(UPPER(E161)=\"REQUERIDO\", 10, \"\")","v":10},{"$f":"IF(UPPER(E161)=\"REQUERIDO\", H161, \"\")","v":0}]
["Escalera pata de gallo/Gradilla",null,1,{"$f":"IF(AND($L$160=0,$M$160=0),0,IF(AND($L$160>0,$M$160>0),($L$160+$M$160)*C162,IF(AND($L$160=0,$M$160>0),C162*$M$160,$L$160*C162)))","v":0},"Condición",0,0,{"$f":"IF(AND(F162>=D162,F162>0,D162>0),10,0)","v":0},{"$f":"IF(AND(G162>=D162,D162>0,G162>=1),10,0)","v":0},{"$f":"H162-I162","v":0},null,null,null,"MG",null,null,null,null,null,{"$f":"IF(UPPER(E162)=\"CONDICIÓN\", 10, \"\")","v":10},{"$f":"IF(UPPER(E162)=\"CONDICIÓN\", H162, \"\")","v":0},{"$f":"IF(UPPER(E162)=\"CONDICIÓN\", 10, \"\")","v":10},{"$f":"IF(UPPER(E162)=\"CONDICIÓN\", I162, \"\")","v":0}]
["Extintor de incendios  portátil  ",null,1,{"$f":"IF(AND($L$160=0,$M$160=0),0,IF(AND($L$160>0,$M$160>0),($L$160+$M$160)*C163,IF(AND($L$160=0,$M$160>0),C163*$M$160,$L$160*C163)))","v":0},"Requerido",0,0,{"$f":"IF(AND(F163>=D163,F163>0,D163>0),10,0)","v":0},{"$f":"IF(AND(G163>=D163,D163>0,G163>=1),10,0)","v":0},{"$f":"H163-I163","v":0},null,null,null,"EG",null,null,null,null,null,null,null,null,null,null,null,null,null,null,null,null,null,null,null,{"$f":"IF(UPPER(E163)=\"REQUERIDO\", 10, \"\")","v":10},{"$f":"IF(UPPER(E163)=\"REQUERIDO\", H163, \"\")","v":0}]
["Pallets",null,1,{"$f":"IF(AND($L$160=0,$M$160=0),0,IF(AND($L$160>0,$M$160>0),($L$160+$M$160)*C164,IF(AND($L$160=0,$M$160>0),C164*$M$160,$L$160*C164)))","v":0},"Requerido",0,0,{"$f":"IF(AND(F164>=D164,F164>0,D164>0),10,0)","v":0},{"$f":"IF(AND(G164>=D164,D164>0,G164>=1),10,0)","v":0},{"$f":"H164-I164","v":0},null,null,null,"MG",null,null,null,{"$f":"IF(UPPER(E164)=\"REQUERIDO\", 10, \"\")","v":10},{"$f":"IF(UPPER(E164)=\"REQUERIDO\", H164, \"\")","v":0}]
[{"$f":"Infraestructura!A46","v":"Estación de enfermería"},{"$f":"B8","v":"Anx:"},{"$f":"C$1","v":"Cant x Espacio:"},"Requerido:","Tipo:","Funcional:","No Funcional:",null,null,"Calif:","Observaciones:",{"$f":"Infraestructura!F46","v":0},{"$f":"Infraestructura!G46","v":0}]
["Mostrador / escritorio/Mesa de despacho ","EQ_01",1,{"$f":"IF(AND($L$165=0,$M$165=0),0,IF(AND($L$165>0,$M$165>0),($L$165+$M$165)*C166,IF(AND($L$165=0,$M$165>0),C166*$M$165,$L$165*C166)))","v":0},{"$f":"IF(D166>0, \"Requerido\", \"Sin Infraestructura\")","v":"Sin Infraestructura"},0,0,{"$f":"IF(AND(F166>=D166,F166>0,D166>0),10,0)","v":0},{"$f":"IF(AND(G166>=D166,D166>0,G166>=1),10,0)","v":0},{"$f":"H166-I166","v":0},null,null,null,"MG",null,null,null,{"$f":"IF(UPPER(E166)=\"REQUERIDO\", 10, \"\")","v":""},{"$f":"IF(UPPER(E166)=\"REQUERIDO\", H166, \"\")","v":""}]
["Computador completo (Portátil o de Escritorio)","EQ_02",1,{"$f":"IF(AND($L$165=0,$M$165=0),0,IF(AND($L$165>0,$M$165>0),($L$165+$M$165)*C167,IF(AND($L$165=0,$M$165>0),C167*$M$165,$L$165*C167)))","v":0},"Sin Infraestructura",0,0,0,0,0,null,null,null,"EG",null,null,null,null,null,null,null,null,null,null,null,null,null,null,null,null,null,null,null,{"$f":"IF(UPPER(E167)=\"REQUERIDO\", 10, \"\")","v":""},{"$f":"IF(UPPER(E167)=\"REQUERIDO\", H167, \"\")","v":""}]
["Silla",null,1,{"$f":"IF(AND($L$165=0,$M$165=0),0,IF(AND($L$165>0,$M$165>0),($L$165+$M$165)*C168,IF(AND($L$165=0,$M$165>0),C168*$M$165,$L$165*C168)))","v":0},"Sin Infraestructura",0,0,0,0,0,null,null,null,"MG",null,null,null,{"$f":"IF(UPPER(E168)=\"REQUERIDO\", 10, \"\")","v":""},{"$f":"IF(UPPER(E168)=\"REQUERIDO\", H168, \"\")","v":""},null,null,null,null,null,null,null,null,null,null,null,null,null,null,"",""]
["Set de recipientes para el manejo de desechos peligrosos y no peligrosos","EQ_07",1,0,"Sin Infraestructura",0,0,0,0,0,null,null,null,"MG",null,null,null,{"$f":"IF(UPPER(E169)=\"REQUERIDO\", 10, \"\")","v":""},{"$f":"IF(UPPER(E169)=\"REQUERIDO\", H169, \"\")","v":""},null,null,null,null,null,null,null,null,null,null,null,null,null,null,"",""]
["Tablero de avisos ",null,1,0,"Sin Infraestructura",0,0,0,0,0,null,null,null,"MG",null,null,null,{"$f":"IF(UPPER(E170)=\"REQUERIDO\", 10, \"\")","v":""},{"$f":"IF(UPPER(E170)=\"REQUERIDO\", H170, \"\")","v":""},null,null,null,null,null,null,null,null,null,null,null,null,null,null,"",""]
["Extintor de incendios  portátil  ",null,1,0,"Sin Infraestructura",0,0,0,0,0,null,null,null,"EG",null,null,null,null,null,null,null,null,null,null,null,null,null,null,null,null,null,null,null,"",""]
["Teléfono",null,1,0,"Sin Infraestructura",0,0,0,0,0,null,null,null,"EG",null,null,null,null,null,null,null,null,null,null,null,null,null,null,null,null,null,null,null,"",""]
["Coche de paro completo y reanimación","EQ_09",1,0,{"$f":"IF(D173>0, \"Condición\", \"Sin Infraestructura\")","v":"Sin Infraestructura"},0,0,0,0,0,null,null,null,"EM",null,null,null,null,null,null,null,null,null,null,null,null,null,null,null,null,null,null,null,null,null,null,null,null,null,null,null,null,null,{"$f":"IF(UPPER(E173)=\"CONDICIÓN\", 10, \"\")","v":""},{"$f":"IF(UPPER(E173)=\"CONDICIÓN\", H173, \"\")","v":""},{"$f":"IF(UPPER(E173)=\"CONDICIÓN\", 10, \"\")","v":""},{"$f":"IF(UPPER(E173)=\"CONDICIÓN\", I173, \"\")","v":""}]
["Armario con seguridad",null,1,0,{"$f":"IF(D174>0, \"Condición\", \"Sin Infraestructura\")","v":"Sin Infraestructura"},0,0,0,0,0,null,null,null,"EM",null,null,null,null,null,null,null,null,null,null,null,null,null,null,null,null,null,null,null,null,null,null,null,null,null,null,null,null,null,{"$f":"IF(UPPER(E174)=\"CONDICIÓN\", 10, \"\")","v":""},{"$f":"IF(UPPER(E174)=\"CONDICIÓN\", H174, \"\")","v":""},{"$f":"IF(UPPER(E174)=\"CONDICIÓN\", 10, \"\")","v":""},{"$f":"IF(UPPER(E174)=\"CONDICIÓN\", I174, \"\")","v":""}]
["Dispensador de papel toalla ",null,1,0,{"$f":"IF(D175>0, \"Requerido\", \"Sin Infraestructura\")","v":"Sin Infraestructura"},0,0,0,0,0,null,null,null,"EG",null,null,null,null,null,null,null,null,null,null,null,null,null,null,null,null,null,null,null,{"$f":"IF(UPPER(E175)=\"REQUERIDO\", 10, \"\")","v":""},{"$f":"IF(UPPER(E175)=\"REQUERIDO\", H175, \"\")","v":""}]
["Dispensador de jabón",null,1,0,{"$f":"IF(D176>0, \"Requerido\", \"Sin Infraestructura\")","v":"Sin Infraestructura"},0,0,0,0,0,null,null,null,"EG",null,null,null,null,null,null,null,null,null,null,null,null,null,null,null,null,null,null,null,{"$f":"IF(UPPER(E176)=\"REQUERIDO\", 10, \"\")","v":""},{"$f":"IF(UPPER(E176)=\"REQUERIDO\", H176, \"\")","v":""}]
["Lavabo",null,1,0,{"$f":"IF(D177>0, \"Requerido\", \"Sin Infraestructura\")","v":"Sin Infraestructura"},0,0,0,0,0,null,null,null,"MG",null,null,null,{"$f":"IF(UPPER(E177)=\"REQUERIDO\", 10, \"\")","v":""},{"$f":"IF(UPPER(E177)=\"REQUERIDO\", H177, \"\")","v":""}]
[{"$f":"Infraestructura!A50","v":"ÁREA DEL PERSONAL"},null,null,null,null,null,null,null,null,null,null,null,null,null,null,null,null,null,null,null,null,null,null,null,null,null,null,null,null,null,null,null,null,null,null,null,null,null,null,null,null,null,null,null,null,null,null,null,null,{"$f":"SUM(R179:R202)","v":0},{"$f":"SUM(S179:S202)","v":0},{"$f":"SUM(T179:T202)","v":0},0,0,0,0,0,0,0,0,0,0,0,0,0,0,0,0,0,0,0,0,0,0,0,0,0,0,0,0,0]
["AMBIENTES",null,null,null,null,null,null,null,null,null,null,null,null,null,null,null,null,null,null,null,null,null,null,null,null,null,null,null,null,null,null,null,null,null,null,null,null,null,null,null,null,null,null,null,null,null,null,null,null,{"$f":"SUM(R180:R202)","v":0},{"$f":"SUM(S180:S202)","v":0},{"$f":"SUM(T180:T202)","v":0},0,0,0,0,0,0,0,0,0,0,0,0,0,0,0,0,0,0,0,0,0,0,0,0,0,0,0,0,0]
["Sala de Uso múltiple",{"$f":"B8","v":"Anx:"},{"$f":"C$1","v":"Cant x Espacio:"},"Requerido:","Tipo:","Funcional:","No Funcional:",null,null,"Calif:","Observaciones:",{"$f":"Infraestructura!F52","v":0},{"$f":"Infraestructura!G52","v":0}]
["Computador completo (Portátil o de Escritorio)","EQ_02",1,{"$f":"IF(AND($L$180=0,$M$180=0),0,IF(AND($L$180>0,$M$180>0),($L$180+$M$180)*C181,IF(AND($L$180=0,$M$180>0),C181*$M$180,$L$180*C181)))","v":0},{"$f":"IF(D181>0, \"Requerido\", \"Sin Infraestructura\")","v":"Sin Infraestructura"},0,0,{"$f":"IF(AND(F181>=D181,F181>0,D181>0),10,0)","v":0},{"$f":"IF(AND(G181>=D181,D181>0,G181>=1),10,0)","v":0},{"$f":"H181-I181","v":0},null,null,null,"EG",null,null,null,null,null,null,null,null,null,null,null,null,null,null,null,null,null,null,null,{"$f":"IF(UPPER(E181)=\"REQUERIDO\", 10, \"\")","v":""},{"$f":"IF(UPPER(E181)=\"REQUERIDO\", H181, \"\")","v":""}]
["Proyector multimedia/Sistema Audiovisual",null,1,{"$f":"IF(AND($L$180=0,$M$180=0),0,IF(AND($L$180>0,$M$180>0),($L$180+$M$180)*C182,IF(AND($L$180=0,$M$180>0),C182*$M$180,$L$180*C182)))","v":0},{"$f":"IF(D182>0, \"Requerido\", \"Sin Infraestructura\")","v":"Sin Infraestructura"},0,0,0,0,0,null,null,null,"EG",null,null,null,null,null,null,null,null,null,null,null,null,null,null,null,null,null,null,null,{"$f":"IF(UPPER(E182)=\"REQUERIDO\", 10, \"\")","v":""},{"$f":"IF(UPPER(E182)=\"REQUERIDO\", H182, \"\")","v":""}]
["Pantalla de proyección",null,1,{"$f":"IF(AND($L$180=0,$M$180=0),0,IF(AND($L$180>0,$M$180>0),($L$180+$M$180)*C183,IF(AND($L$180=0,$M$180>0),C183*$M$180,$L$180*C183)))","v":0},{"$f":"IF(D183>0, \"Condición\", \"Sin Infraestructura\")","v":"Sin Infraestructura"},0,0,0,0,0,null,null,null,"MG",null,null,null,null,null,{"$f":"IF(UPPER(E183)=\"CONDICIÓN\", 10, \"\")","v":""},{"$f":"IF(UPPER(E183)=\"CONDICIÓN\", H183, \"\")","v":""},{"$f":"IF(UPPER(E183)=\"CONDICIÓN\", 10, \"\")","v":""},{"$f":"IF(UPPER(E183)=\"CONDICIÓN\", I183, \"\")","v":""}]
["mesa",null,1,0,{"$f":"IF(D184>0, \"Requerido\", \"Sin Infraestructura\")","v":"Sin Infraestructura"},0,0,0,0,0,null,null,null,"MG",null,null,null,{"$f":"IF(UPPER(E184)=\"REQUERIDO\", 10, \"\")","v":""},{"$f":"IF(UPPER(E184)=\"REQUERIDO\", H184, \"\")","v":""}]
["Silla",null,8,0,{"$f":"IF(D185>0, \"Requerido\", \"Sin Infraestructura\")","v":"Sin Infraestructura"},0,0,0,0,0,null,null,null,"MG",null,null,null,{"$f":"IF(UPPER(E185)=\"REQUERIDO\", 10, \"\")","v":""},{"$f":"IF(UPPER(E185)=\"REQUERIDO\", H185, \"\")","v":""}]
["Equipo de amplificación con micrófono, consola y caja amplificadora",null,1,0,{"$f":"IF(D186>0, \"Condición\", \"Sin Infraestructura\")","v":"Sin Infraestructura"},0,0,0,0,0,null,null,null,"EG",null,null,null,null,null,null,null,null,null,null,null,null,null,null,null,null,null,null,null,null,null,{"$f":"IF(UPPER(E186)=\"CONDICIÓN\", 10, \"\")","v":""},{"$f":"IF(UPPER(E186)=\"CONDICIÓN\", H186, \"\")","v":""},{"$f":"IF(UPPER(E186)=\"CONDICIÓN\", 10, \"\")","v":""},{"$f":"IF(UPPER(E186)=\"CONDICIÓN\", I186, \"\")","v":""}]
["Casilleros/lockers",null,1,0,{"$f":"IF(D187>0, \"Condición\", \"Sin Infraestructura\")","v":"Sin Infraestructura"},0,0,0,0,0,null,null,null,"MG",null,null,null,null,null,{"$f":"IF(UPPER(E187)=\"CONDICIÓN\", 10, \"\")","v":""},{"$f":"IF(UPPER(E187)=\"CONDICIÓN\", H187, \"\")","v":""},{"$f":"IF(UPPER(E187)=\"CONDICIÓN\", 10, \"\")","v":""},{"$f":"IF(UPPER(E187)=\"CONDICIÓN\", I187, \"\")","v":""}]
["Vestidores",{"$f":"B8","v":"Anx:"},{"$f":"C$1","v":"Cant x Espacio:"},"Requerido:","Tipo:","Funcional:","No Funcional:",null,null,"Calif:","Observaciones:",{"$f":"Infraestructura!F53","v":0},{"$f":"Infraestructura!G53","v":0}]
["Casilleros/lockers",null,1,{"$f":"IF(AND($L$188=0,$M$188=0),0,IF(AND($L$188>0,$M$188>0),($L$188+$M$188)*C189,IF(AND($L$188=0,$M$188>0),C189*$M$188,$L$188*C189)))","v":0},{"$f":"IF(D189>0, \"Requerido\", \"Sin Infraestructura\")","v":"Sin Infraestructura"},0,0,{"$f":"IF(AND(F189>=D189,F189>0,D189>0),10,0)","v":0},{"$f":"IF(AND(G189>=D189,D189>0,G189>=1),10,0)","v":0},{"$f":"H189-I189","v":0},null,null,null,"MG",null,null,null,{"$f":"IF(UPPER(E189)=\"REQUERIDO\", 10, \"\")","v":""},{"$f":"IF(UPPER(E189)=\"REQUERIDO\", H189, \"\")","v":""}]
["Banco de vestuario",null,1,{"$f":"IF(AND($L$188=0,$M$188=0),0,IF(AND($L$188>0,$M$188>0),($L$188+$M$188)*C190,IF(AND($L$188=0,$M$188>0),C190*$M$188,$L$188*C190)))","v":0},"Sin Infraestructura",0,0,{"$f":"IF(AND(F190>=D190,F190>0,D190>0),10,0)","v":0},{"$f":"IF(AND(G190>=D190,D190>0,G190>=1),10,0)","v":0},{"$f":"H190-I190","v":0},null,null,null,"MG",null,null,null,{"$f":"IF(UPPER(E190)=\"REQUERIDO\", 10, \"\")","v":""},{"$f":"IF(UPPER(E190)=\"REQUERIDO\", H190, \"\")","v":""}]
["Gancho doble",null,2,{"$f":"IF(AND($L$188=0,$M$188=0),0,IF(AND($L$188>0,$M$188>0),($L$188+$M$188)*C191,IF(AND($L$188=0,$M$188>0),C191*$M$188,$L$188*C191)))","v":0},"Sin Infraestructura",0,0,{"$f":"IF(AND(F191>=D191,F191>0,D191>0),10,0)","v":0},{"$f":"IF(AND(G191>=D191,D191>0,G191>=1),10,0)","v":0},{"$f":"H191-I191","v":0},null,null,null,"MG",null,null,null,{"$f":"IF(UPPER(E191)=\"REQUERIDO\", 10, \"\")","v":""},{"$f":"IF(UPPER(E191)=\"REQUERIDO\", H191, \"\")","v":""}]
["Basurero",null,1,{"$f":"IF(AND($L$188=0,$M$188=0),0,IF(AND($L$188>0,$M$188>0),($L$188+$M$188)*C192,IF(AND($L$188=0,$M$188>0),C192*$M$188,$L$188*C192)))","v":0},"Sin Infraestructura",0,0,{"$f":"IF(AND(F192>=D192,F192>0,D192>0),10,0)","v":0},{"$f":"IF(AND(G192>=D192,D192>0,G192>=1),10,0)","v":0},{"$f":"H192-I192","v":0},null,null,null,"MG",null,null,null,{"$f":"IF(UPPER(E192)=\"REQUERIDO\", 10, \"\")","v":""},{"$f":"IF(UPPER(E192)=\"REQUERIDO\", H192, \"\")","v":""}]
["Baño de vestidores",{"$f":"B16","v":"Anx:"},{"$f":"C$1","v":"Cant x Espacio:"},"Requerido:","Tipo:","Funcional:","No Funcional:",null,null,"Calif:","Observaciones:",{"$f":"Infraestructura!F54","v":0},{"$f":"Infraestructura!G54","v":0}]
["Inodoro",null,1,{"$f":"IF(AND($L$193=0,$M$193=0),0,IF(AND($L$193>0,$M$193>0),($L$193+$M$193)*C194,IF(AND($L$193=0,$M$193>0),C194*$M$193,$L$193*C194)))","v":0},"Sin Infraestructura",0,0,{"$f":"IF(AND(F194>=D194,F194>0,D194>0),10,0)","v":0},{"$f":"IF(AND(G194>=D194,D194>0,G194>=1),10,0)","v":0},{"$f":"H194-I194","v":0},null,null,null,"MG",null,null,null,{"$f":"IF(UPPER(E194)=\"REQUERIDO\", 10, \"\")","v":""},{"$f":"IF(UPPER(E194)=\"REQUERIDO\", H194, \"\")","v":""}]
["Dispensador de papel higiénico",null,1,{"$f":"IF(AND($L$193=0,$M$193=0),0,IF(AND($L$193>0,$M$193>0),($L$193+$M$193)*C195,IF(AND($L$193=0,$M$193>0),C195*$M$193,$L$193*C195)))","v":0},"Sin Infraestructura",0,0,0,0,0,null,null,null,"MG",null,null,null,"",""]
["Lavabo",null,1,{"$f":"IF(AND($L$193=0,$M$193=0),0,IF(AND($L$193>0,$M$193>0),($L$193+$M$193)*C196,IF(AND($L$193=0,$M$193>0),C196*$M$193,$L$193*C196)))","v":0},"Sin Infraestructura",0,0,0,0,0,null,null,null,"MG",null,null,null,"",""]
["Dispensador  de jabón",null,1,0,"Sin Infraestructura",0,0,0,0,0,null,null,null,"MG",null,null,null,"",""]
["Dispensador de papel toalla ",null,1,0,"Sin Infraestructura",0,0,0,0,0,null,null,null,"MG",null,null,null,"",""]
["Basurero ",null,2,0,"Sin Infraestructura",0,0,0,0,0,null,null,null,"MG",null,null,null,"",""]
["Gancho doble",null,1,0,"Sin Infraestructura",0,0,0,0,0,null,null,null,"MG",null,null,null,"",""]
["Espejo empotrado",null,1,{"$f":"IF(AND($L$193=0,$M$193=0),0,IF(AND($L$193>0,$M$193>0),($L$193+$M$193)*C201,IF(AND($L$193=0,$M$193>0),C201*$M$193,$L$193*C201)))","v":0},{"$f":"IF(D201>0, \"Deseable\", \"Sin Infraestructura\")","v":"Sin Infraestructura"},0,0,0,0,0,null,null,null,"MG",null,null,null,null,null,null,null,null,null,{"$f":"IF(UPPER(E201)=\"DESEABLE\", 10, \"\")","v":""},{"$f":"IF(UPPER(E201)=\"DESEABLE\", H201, \"\")","v":""}]
["Ducha",null,1,0,"Sin Infraestructura",0,0,0,0,0,null,null,null,"MG",null,null,null,{"$f":"IF(UPPER(E202)=\"REQUERIDO\", 10, \"\")","v":""},{"$f":"IF(UPPER(E202)=\"REQUERIDO\", H202, \"\")","v":""}]
["APOYO TERAPEÚTICO",null,null,null,null,null,null,null,null,null,null,null,null,null,null,null,null,null,null,null,null,null,null,null,null,null,null,null,null,null,null,null,null,null,null,null,null,null,null,null,null,null,null,null,null,null,null,null,null,{"$f":"SUM(R204:R226)","v":100},{"$f":"SUM(S204:S226)","v":0},{"$f":"SUM(T204:T226)","v":10},0,10,0,0,0,0,0,10,0,10,0,0,0,60,0,0,0,0,0,0,0,0,0,0,0,0,0,0,0]
["DOTACIÓN DE MEDICAMENTOS Y DISPOSITIVOS MÉDICOS  (FARMACIA)",null,null,null,null,null,null,null,null,null,null,null,null,null,null,null,null,null,null,null,null,null,null,null,null,null,null,null,null,null,null,null,null,null,null,null,null,null,null,null,null,null,null,null,null,null,null,null,null,{"$f":"SUM(R205:R226)","v":100},{"$f":"SUM(S205:S226)","v":0},{"$f":"SUM(T205:T226)","v":10},0,10,0,0,0,0,0,10,0,10,0,0,0,60,0,0,0,0,0,0,0,0,0,0,0,0,0,0,0]
["ÁREA DE FARMACIA",null,null,null,null,null,null,null,null,null,null,null,null,null,null,null,null,null,null,null,null,null,null,null,null,null,null,null,null,null,null,null,null,null,null,null,null,null,null,null,null,null,null,null,null,null,null,null,null,{"$f":"SUM(R206:R226)","v":100},{"$f":"SUM(S206:S226)","v":0},{"$f":"SUM(T206:T226)","v":10},0,10,0,0,0,0,0,10,0,10,0,0,0,60,0,0,0,0,0,0,0,0,0,0,0,0,0,0,0]
["AMBIENTES",null,null,null,null,null,null,null,null,null,null,null,null,null,null,null,null,null,null,null,null,null,null,null,null,null,null,null,null,null,null,null,null,null,null,null,null,null,null,null,null,null,null,null,null,null,null,null,null,{"$f":"SUM(R207:R226)","v":100},{"$f":"SUM(S207:S226)","v":0},{"$f":"SUM(T207:T226)","v":10},0,10,0,0,0,0,0,10,0,10,0,0,0,60,0,0,0,0,0,0,0,0,0,0,0,0,0,0,0]
["Dispensación ",{"$f":"B1","v":"Anx:"},{"$f":"C$1","v":"Cant x Espacio:"},"Requerido:","Tipo:","Funcional:","No Funcional:",null,null,"Calif:","Observaciones:",{"$f":"Infraestructura!F63","v":0},{"$f":"Infraestructura!G63","v":0}]
["Mostrador/Escritorio","EQ_01",1,{"$f":"IF(AND($L$207=0,$M$207=0),0,IF(AND($L$207>0,$M$207>0),($L$207+$M$207)*C208,IF(AND($L$207=0,$M$207>0),C208*$M$207,$L$207*C208)))","v":0},"Requerido",0,0,{"$f":"IF(AND(F208>=D208,F208>0,D208>0),10,0)","v":0},{"$f":"IF(AND(G208>=D208,D208>0,G208>=1),10,0)","v":0},{"$f":"H208-I208","v":0},null,null,null,"MG",null,null,null,{"$f":"IF(UPPER(E208)=\"REQUERIDO\", 10, \"\")","v":10},{"$f":"IF(UPPER(E208)=\"REQUERIDO\", H208, \"\")","v":0}]
["Computador completo (Portátil o de Escritorio)","EQ_02",1,{"$f":"IF(AND($L$207=0,$M$207=0),0,IF(AND($L$207>0,$M$207>0),($L$207+$M$207)*C209,IF(AND($L$207=0,$M$207>0),C209*$M$207,$L$207*C209)))","v":0},"Requerido",0,0,0,0,0,null,null,null,"EG",null,null,null,null,null,null,null,null,null,null,null,null,null,null,null,null,null,null,null,{"$f":"IF(UPPER(E209)=\"REQUERIDO\", 10, \"\")","v":10},{"$f":"IF(UPPER(E209)=\"REQUERIDO\", H209, \"\")","v":0}]
["Silla",null,1,{"$f":"IF(AND($L$207=0,$M$207=0),0,IF(AND($L$207>0,$M$207>0),($L$207+$M$207)*C210,IF(AND($L$207=0,$M$207>0),C210*$M$207,$L$207*C210)))","v":0},"Requerido",0,0,0,0,0,null,null,null,"MG",null,null,null,{"$f":"IF(UPPER(E210)=\"REQUERIDO\", 10, \"\")","v":10},{"$f":"IF(UPPER(E210)=\"REQUERIDO\", H210, \"\")","v":0}]
["Armario con seguridad",null,1,0,"Condición",0,0,0,0,0,null,null,null,"MM",null,null,null,null,null,null,null,null,null,null,null,null,null,{"$f":"IF(UPPER(E211)=\"CONDICIÓN\", 10, \"\")","v":10},{"$f":"IF(UPPER(E211)=\"CONDICIÓN\",H211, \"\")","v":0},{"$f":"IF(UPPER(E211)=\"CONDICIÓN\", 10, \"\")","v":10},{"$f":"IF(UPPER(E211)=\"CONDICIÓN\",I211, \"\")","v":0}]
["Estantería ",null,1,0,"Requerido",0,0,0,0,0,null,null,null,"MG",null,null,null,{"$f":"IF(UPPER(E212)=\"REQUERIDO\", 10, \"\")","v":10},{"$f":"IF(UPPER(E212)=\"REQUERIDO\", H212, \"\")","v":0}]
["Refrigerador con termo higrómetro",null,1,0,"Requerido",0,0,0,0,0,null,null,null,"EG",null,null,null,null,null,null,null,null,null,null,null,null,null,null,null,null,null,null,null,{"$f":"IF(UPPER(E213)=\"REQUERIDO\", 10, \"\")","v":10},{"$f":"IF(UPPER(E213)=\"REQUERIDO\", H213, \"\")","v":0}]
["Termo higrómetro ambiental",null,1,0,"Requerido",0,0,0,0,0,null,null,null,"EG",null,null,null,null,null,null,null,null,null,null,null,null,null,null,null,null,null,null,null,{"$f":"IF(UPPER(E214)=\"REQUERIDO\", 10, \"\")","v":10},{"$f":"IF(UPPER(E214)=\"REQUERIDO\", H214, \"\")","v":0}]
["Basurero",null,2,0,"Requerido",0,0,0,0,0,null,null,null,"MG",null,null,null,{"$f":"IF(UPPER(E215)=\"REQUERIDO\", 10, \"\")","v":10},{"$f":"IF(UPPER(E215)=\"REQUERIDO\", H215, \"\")","v":0}]
["Lavabo",null,1,{"$f":"IF(AND($L$207=0,$M$207=0),0,IF(AND($L$207>0,$M$207>0),($L$207+$M$207)*C216,IF(AND($L$207=0,$M$207>0),C216*$M$207,$L$207*C216)))","v":0},"Requerido",0,0,0,0,0,null,null,null,"MG",null,null,null,{"$f":"IF(UPPER(E216)=\"REQUERIDO\", 10, \"\")","v":10},{"$f":"IF(UPPER(E216)=\"REQUERIDO\", H216, \"\")","v":0}]
["Dispensador  de jabón",null,1,0,"Requerido",0,0,0,0,0,null,null,null,"MG",null,null,null,{"$f":"IF(UPPER(E217)=\"REQUERIDO\", 10, \"\")","v":10},{"$f":"IF(UPPER(E217)=\"REQUERIDO\", H217, \"\")","v":0}]
["Dispensador de papel toalla ",null,1,0,"Requerido",0,0,0,0,0,null,null,null,"MG",null,null,null,{"$f":"IF(UPPER(E218)=\"REQUERIDO\", 10, \"\")","v":10},{"$f":"IF(UPPER(E218)=\"REQUERIDO\", H218, \"\")","v":0}]
["Bodega",{"$f":"B8","v":"Anx:"},{"$f":"C$1","v":"Cant x Espacio:"},"Requerido:","Tipo:","Funcional:","No Funcional:",null,null,"Calif:","Observaciones:",{"$f":"Infraestructura!F64","v":0},{"$f":"Infraestructura!G64","v":0}]
["Estantería ",null,1,{"$f":"IF(AND($L$219=0,$M$219=0),0,IF(AND($L$219>0,$M$219>0),($L$219+$M$219)*C220,IF(AND($L$219=0,$M$219>0),C220*$M$219,$L$219*C220)))","v":0},"Requerido",0,0,{"$f":"IF(AND(F220>=D220,F220>0,D220>0),10,0)","v":0},{"$f":"IF(AND(G220>=D220,D220>0,G220>=1),10,0)","v":0},{"$f":"H220-I220","v":0},null,null,null,"MG",null,null,null,{"$f":"IF(UPPER(E220)=\"REQUERIDO\", 10, \"\")","v":10},{"$f":"IF(UPPER(E220)=\"REQUERIDO\", H220, \"\")","v":0}]
["Armario con seguridad",null,1,{"$f":"IF(AND($L$219=0,$M$219=0),0,IF(AND($L$219>0,$M$219>0),($L$219+$M$219)*C221,IF(AND($L$219=0,$M$219>0),C221*$M$219,$L$219*C221)))","v":0},"Condición",0,0,0,0,0,null,null,null,"MG",null,null,null,null,null,{"$f":"IF(UPPER(E221)=\"CONDICIÓN\", 10, \"\")","v":10},{"$f":"IF(UPPER(E221)=\"CONDICIÓN\", H221, \"\")","v":0},{"$f":"IF(UPPER(E221)=\"CONDICIÓN\", 10, \"\")","v":10},{"$f":"IF(UPPER(E221)=\"CONDICIÓN\", I221, \"\")","v":0}]
["Pallet",null,1,{"$f":"IF(AND($L$219=0,$M$219=0),0,IF(AND($L$219>0,$M$219>0),($L$219+$M$219)*C222,IF(AND($L$219=0,$M$219>0),C222*$M$219,$L$219*C222)))","v":0},"Requerido",0,0,0,0,0,null,null,null,"MG",null,null,null,{"$f":"IF(UPPER(E222)=\"REQUERIDO\", 10, \"\")","v":10},{"$f":"IF(UPPER(E222)=\"REQUERIDO\", H222, \"\")","v":0}]
["Refrigerador con termo higrómetro",null,1,0,"Requerido",0,0,0,0,0,null,null,null,"EG",null,null,null,null,null,null,null,null,null,null,null,null,null,null,null,null,null,null,null,{"$f":"IF(UPPER(E223)=\"REQUERIDO\", 10, \"\")","v":10},{"$f":"IF(UPPER(E223)=\"REQUERIDO\", H223, \"\")","v":0}]
["Termo higrómetro ambiental",null,1,0,"Requerido",0,0,0,0,0,null,null,null,"EG",null,null,null,null,null,null,null,null,null,null,null,null,null,null,null,null,null,null,null,{"$f":"IF(UPPER(E224)=\"REQUERIDO\", 10, \"\")","v":10},{"$f":"IF(UPPER(E224)=\"REQUERIDO\", H224, \"\")","v":0}]
["Extintor de incendios  portátil  ",null,1,0,"Requerido",0,0,0,0,0,null,null,null,"EG",null,null,null,null,null,null,null,null,null,null,null,null,null,null,null,null,null,null,null,{"$f":"IF(UPPER(E225)=\"REQUERIDO\", 10, \"\")","v":10},{"$f":"IF(UPPER(E225)=\"REQUERIDO\", H225, \"\")","v":0}]
["Escalera pata de gallo / Gradilla",null,1,0,"Requerido",0,0,0,0,0,null,null,null,"MG",null,null,null,{"$f":"IF(UPPER(E226)=\"REQUERIDO\", 10, \"\")","v":10},{"$f":"IF(UPPER(E226)=\"REQUERIDO\", H226, \"\")","v":0}]
["APOYO DIAGNÓSTICO Y TERAPEÚTICO",null,null,null,null,null,null,null,null,null,null,null,null,null,null,null,null,null,null,null,null,null,null,null,null,null,null,null,null,null,null,null,null,null,null,null,null,null,null,null,null,null,null,null,null,null,null,null,null,{"$f":"SUM(R228:R285)","v":60},{"$f":"SUM(S228:S285)","v":0},{"$f":"SUM(T228:T285)","v":10},0,10,0,0,0,10,0,0,0,0,0,0,0,40,0,0,0,0,0,0,0,40,0,20,0,20,0,10,0]
["REHABILITACIÓN",null,null,null,null,null,null,null,null,null,null,null,null,null,null,null,null,null,null,null,null,null,null,null,null,null,null,null,null,null,null,null,null,null,null,null,null,null,null,null,null,null,null,null,null,null,null,null,null,{"$f":"SUM(R229:R285)","v":60},{"$f":"SUM(S229:S285)","v":0},{"$f":"SUM(T229:T285)","v":10},0,10,0,0,0,10,0,0,0,0,{"$f":"SUM(AE229:AE285)","v":0},0,0,40,0,0,0,0,0,0,0,40,0,20,0,20,0,10,0]
["ÁREA DE TERAPIAS",null,null,null,null,null,null,null,null,null,null,null,null,null,null,null,null,null,null,null,null,null,null,null,null,null,null,null,null,null,null,null,null,null,null,null,null,null,null,null,null,null,null,null,null,null,null,null,null,{"$f":"SUM(R230:R285)","v":60},{"$f":"SUM(S230:S285)","v":0},{"$f":"SUM(T230:T285)","v":10},0,10,0,0,0,10,0,0,0,0,0,0,0,40,0,0,0,0,0,0,0,40,0,20,0,20,0,10,0]
["AMBIENTES",null,null,null,null,null,null,null,null,null,null,null,null,null,null,null,null,null,null,null,null,null,null,null,null,null,null,null,null,null,null,null,null,null,null,null,null,null,null,null,null,null,null,null,null,null,null,null,null,{"$f":"SUM(R231:R285)","v":60},{"$f":"SUM(S231:S285)","v":0},{"$f":"SUM(T231:T285)","v":10},0,10,0,0,0,10,0,0,0,0,0,0,0,40,0,0,0,0,0,0,0,40,0,20,0,20,0,10,0]
["Taller ocupacional  y de uso múltiple",{"$f":"B1","v":"Anx:"},{"$f":"C$1","v":"Cant x Espacio:"},"Requerido:","Tipo:","Funcional:","No Funcional:",null,null,"Calif:","Observaciones:",{"$f":"Infraestructura!F72","v":0},{"$f":"Infraestructura!G72","v":0}]
["Mesa de trabajo ",null,1,{"$f":"IF(AND($L$231=0,$M$231=0),0,IF(AND($L$231>0,$M$231>0),($L$231+$M$231)*C232,IF(AND($L$231=0,$M$231>0),C232*$M$231,$L$231*C232)))","v":0},"Requerido",0,0,{"$f":"IF(AND(F232>=D232,F232>0,D232>0),10,0)","v":0},{"$f":"IF(AND(G232>=D232,D232>0,G232>=1),10,0)","v":0},{"$f":"H232-I232","v":0},null,null,null,"MG",null,null,null,{"$f":"IF(UPPER(E232)=\"REQUERIDO\", 10, \"\")","v":10},{"$f":"IF(UPPER(E232)=\"REQUERIDO\", H232, \"\")","v":0}]
["Computador completo (Portátil o de Escritorio)","EQ_02",1,0,"Requerido",0,0,0,0,0,null,null,null,"EG",null,null,null,null,null,null,null,null,null,null,null,null,null,null,null,null,null,null,null,{"$f":"IF(UPPER(E233)=\"REQUERIDO\", 10, \"\")","v":10},{"$f":"IF(UPPER(E233)=\"REQUERIDO\", H233, \"\")","v":0}]
["Proyector multimedia/Sistema Audiovisual",null,1,0,"Requerido",0,0,0,0,0,null,null,null,"EG",null,null,null,null,null,null,null,null,null,null,null,null,null,null,null,null,null,null,null,{"$f":"IF(UPPER(E234)=\"REQUERIDO\", 10, \"\")","v":10},{"$f":"IF(UPPER(E234)=\"REQUERIDO\", H234, \"\")","v":0}]
["Espejo empotrado ",null,1,0,"Requerido",0,0,0,0,0,null,null,null,"MG",null,null,null,{"$f":"IF(UPPER(E235)=\"REQUERIDO\", 10, \"\")","v":10},{"$f":"IF(UPPER(E235)=\"REQUERIDO\", H235, \"\")","v":0}]
["Casilleros/lockers",null,2,0,"Condición",0,0,0,0,0,null,null,null,"MG",null,null,null,null,null,{"$f":"IF(UPPER(E236)=\"CONDICIÓN\", 10, \"\")","v":10},{"$f":"IF(UPPER(E236)=\"CONDICIÓN\", H236, \"\")","v":0},{"$f":"IF(UPPER(E236)=\"CONDICIÓN\", 10, \"\")","v":10},{"$f":"IF(UPPER(E236)=\"CONDICIÓN\", I236, \"\")","v":0}]
["Estantería ",null,1,0,"Requerido",0,0,0,0,0,null,null,null,"MG",null,null,null,{"$f":"IF(UPPER(E237)=\"REQUERIDO\", 10, \"\")","v":10},{"$f":"IF(UPPER(E237)=\"REQUERIDO\", H237, \"\")","v":0}]
["Silla",null,8,0,"Requerido",0,0,0,0,0,null,null,null,"MG",null,null,null,{"$f":"IF(UPPER(E238)=\"REQUERIDO\", 10, \"\")","v":10},{"$f":"IF(UPPER(E238)=\"REQUERIDO\", H238, \"\")","v":0}]
["Lavabo",null,1,0,"Requerido",0,0,0,0,0,null,null,null,"MG",null,null,null,{"$f":"IF(UPPER(E239)=\"REQUERIDO\", 10, \"\")","v":10},{"$f":"IF(UPPER(E239)=\"REQUERIDO\", H239, \"\")","v":0}]
["Dispensador de papel toalla ",null,1,0,"Requerido",0,0,0,0,0,null,null,null,"EG",null,null,null,null,null,null,null,null,null,null,null,null,null,null,null,null,null,null,null,{"$f":"IF(UPPER(E240)=\"REQUERIDO\", 10, \"\")","v":10},{"$f":"IF(UPPER(E240)=\"REQUERIDO\", H240, \"\")","v":0}]
["Dispensador de jabón",null,1,0,"Requerido",0,0,0,0,0,null,null,null,"EG",null,null,null,null,null,null,null,null,null,null,null,null,null,null,null,null,null,null,null,{"$f":"IF(UPPER(E241)=\"REQUERIDO\", 10, \"\")","v":10},{"$f":"IF(UPPER(E241)=\"REQUERIDO\", H241, \"\")","v":0}]
["Basurero",null,1,0,"Requerido",0,0,{"$f":"IF(AND(F242>=D242,F242>0,D242>0),10,0)","v":0},{"$f":"IF(AND(G242>=D242,D242>0,G242>=1),10,0)","v":0},{"$f":"H242-I242","v":0},null,null,null,"MG",null,null,null,{"$f":"IF(UPPER(E242)=\"REQUERIDO\", 10, \"\")","v":10},{"$f":"IF(UPPER(E242)=\"REQUERIDO\", H242, \"\")","v":0}]
["Set para talleres de  psicoterapia","EQ_13",1,0,"Requerido",0,0,{"$f":"IF(AND(F243>=D243,F243>0,D243>0),10,0)","v":0},{"$f":"IF(AND(G243>=D243,D243>0,G243>=1),10,0)","v":0},{"$f":"H243-I243","v":0},null,null,null,"EM",null,null,null,null,null,null,null,null,null,null,null,null,null,null,null,null,null,null,null,null,null,null,null,null,null,null,null,{"$f":"IF(UPPER(E243)=\"REQUERIDO\", 10, \"\")","v":10},{"$f":"IF(UPPER(E243)=\"REQUERIDO\", H243, \"\")","v":0}]
["Gimnasio/Áreas deportivas",{"$f":"B1","v":"Anx:"},{"$f":"C$1","v":"Cant x Espacio:"},"Requerido:","Tipo:","Funcional:","No Funcional:",null,null,"Calif:","Observaciones:",{"$f":"Infraestructura!F73","v":0},{"$f":"Infraestructura!G73","v":0}]
["Espejo empotrado de cuerpo entero",null,1,{"$f":"IF(AND($L$244=0,$M$244=0),0,IF(AND($L$244>0,$M$244>0),($L$244+$M$244)*C245,IF(AND($L$244=0,$M$244>0),C245*$M$244,$L$244*C245)))","v":0},"Requerido",0,0,{"$f":"IF(AND(F245>=D245,F245>0,D245>0),10,0)","v":0},{"$f":"IF(AND(G245>=D245,D245>0,G245>=1),10,0)","v":0},{"$f":"H245-I245","v":0},null,null,null,"MM",null,null,null,null,null,null,null,null,null,null,null,{"$f":"IF(UPPER(E245)=\"REQUERIDO\", 10, \"\")","v":10},{"$f":"IF(UPPER(E245)=\"REQUERIDO\",H245, \"\")","v":0}]
["Bicicleta estática",null,1,{"$f":"IF(AND($L$244=0,$M$244=0),0,IF(AND($L$244>0,$M$244>0),($L$244+$M$244)*C246,IF(AND($L$244=0,$M$244>0),C246*$M$244,$L$244*C246)))","v":0},"Requerido",0,0,0,0,0,null,null,null,"EM",null,null,null,null,null,null,null,null,null,null,null,null,null,null,null,null,null,null,null,null,null,null,null,null,null,null,null,{"$f":"IF(UPPER(E246)=\"REQUERIDO\", 10, \"\")","v":10},{"$f":"IF(UPPER(E246)=\"REQUERIDO\", H246, \"\")","v":0}]
["Juego de mancuernas/pesas autoadhesivas",null,1,{"$f":"IF(AND($L$244=0,$M$244=0),0,IF(AND($L$244>0,$M$244>0),($L$244+$M$244)*C247,IF(AND($L$244=0,$M$244>0),C247*$M$244,$L$244*C247)))","v":0},"Requerido",0,0,0,0,0,null,null,null,"EM",null,null,null,null,null,null,null,null,null,null,null,null,null,null,null,null,null,null,null,null,null,null,null,null,null,null,null,{"$f":"IF(UPPER(E247)=\"REQUERIDO\", 10, \"\")","v":10},{"$f":"IF(UPPER(E247)=\"REQUERIDO\", H247, \"\")","v":0}]
["Caminadora electrica",null,1,0,"Condición",0,0,0,0,0,null,null,null,"EM",null,null,null,null,null,null,null,null,null,null,null,null,null,null,null,null,null,null,null,null,null,null,null,null,null,null,null,null,null,{"$f":"IF(UPPER(E248)=\"CONDICIÓN\", 10, \"\")","v":10},{"$f":"IF(UPPER(E248)=\"CONDICIÓN\", H248, \"\")","v":0},{"$f":"IF(UPPER(E248)=\"CONDICIÓN\", 10, \"\")","v":10},{"$f":"IF(UPPER(E248)=\"CONDICIÓN\", I248, \"\")","v":0}]
["Equipo de multifuerzas",null,1,0,"Condición",0,0,0,0,0,null,null,null,"EM",null,null,null,null,null,null,null,null,null,null,null,null,null,null,null,null,null,null,null,null,null,null,null,null,null,null,null,null,null,{"$f":"IF(UPPER(E249)=\"CONDICIÓN\", 10, \"\")","v":10},{"$f":"IF(UPPER(E249)=\"CONDICIÓN\", H249, \"\")","v":0},{"$f":"IF(UPPER(E249)=\"CONDICIÓN\", 10, \"\")","v":10},{"$f":"IF(UPPER(E249)=\"CONDICIÓN\", I249, \"\")","v":0}]
["Colchonetas ",null,1,{"$f":"IF(AND($L$244=0,$M$244=0),0,IF(AND($L$244>0,$M$244>0),($L$244+$M$244)*C250,IF(AND($L$244=0,$M$244>0),C250*$M$244,$L$244*C250)))","v":0},"Requerido",0,0,0,0,0,null,null,null,"EM",null,null,null,null,null,null,null,null,null,null,null,null,null,null,null,null,null,null,null,null,null,null,null,null,null,null,null,{"$f":"IF(UPPER(E250)=\"REQUERIDO\", 10, \"\")","v":10},{"$f":"IF(UPPER(E250)=\"REQUERIDO\", H250, \"\")","v":0}]
["Sala de Cinesiterapia",{"$f":"B8","v":"Anx:"},{"$f":"C$1","v":"Cant x Espacio:"},"Requerido:","Tipo:","Funcional:","No Funcional:",null,null,"Calif:","Observaciones:",{"$f":"Infraestructura!F74","v":0},{"$f":"Infraestructura!G74","v":0}]
["Camilla  ",null,1,{"$f":"IF(AND($L$251=0,$M$251=0),0,IF(AND($L$251>0,$M$251>0),($L$251+$M$251)*C252,IF(AND($L$251=0,$M$251>0),C252*$M$251,$L$251*C252)))","v":0},{"$f":"IF(D252>0, \"Condición\", \"Sin Infraestructura\")","v":"Sin Infraestructura"},0,0,{"$f":"IF(AND(F252>=D252,F252>0,D252>0),10,0)","v":0},{"$f":"IF(AND(G252>=D252,D252>0,G252>=1),10,0)","v":0},{"$f":"H252-I252","v":0},null,null,null,"MM",null,null,null,null,null,null,null,null,null,null,null,null,null,{"$f":"IF(UPPER(E252)=\"CONDICIÓN\", 10, \"\")","v":""},{"$f":"IF(UPPER(E252)=\"CONDICIÓN\",H252, \"\")","v":""},{"$f":"IF(UPPER(E252)=\"CONDICIÓN\", 10, \"\")","v":""},{"$f":"IF(UPPER(E252)=\"CONDICIÓN\",I252, \"\")","v":""}]
["Escabel ",null,1,{"$f":"IF(AND($L$251=0,$M$251=0),0,IF(AND($L$251>0,$M$251>0),($L$251+$M$251)*C253,IF(AND($L$251=0,$M$251>0),C253*$M$251,$L$251*C253)))","v":0},{"$f":"IF(D253>0, \"Condición\", \"Sin Infraestructura\")","v":"Sin Infraestructura"},0,0,0,0,0,null,null,null,"MG",null,null,null,null,null,{"$f":"IF(UPPER(E253)=\"CONDICIÓN\", 10, \"\")","v":""},{"$f":"IF(UPPER(E253)=\"CONDICIÓN\", H253, \"\")","v":""},{"$f":"IF(UPPER(E253)=\"CONDICIÓN\", 10, \"\")","v":""},{"$f":"IF(UPPER(E253)=\"CONDICIÓN\", I253, \"\")","v":""}]
["Colchoneta ",null,1,0,{"$f":"IF(D254>0, \"Requerido\", \"Sin Infraestructura\")","v":"Sin Infraestructura"},0,0,0,0,0,null,null,null,"EM",null,null,null,null,null,null,null,null,null,null,null,null,null,null,null,null,null,null,null,null,null,null,null,null,null,null,null,{"$f":"IF(UPPER(E254)=\"REQUERIDO\", 10, \"\")","v":""},{"$f":"IF(UPPER(E254)=\"REQUERIDO\", H254, \"\")","v":""}]
["Almohada",null,2,0,{"$f":"IF(D255>0, \"Requerido\", \"Sin Infraestructura\")","v":"Sin Infraestructura"},0,0,0,0,0,null,null,null,"EM",null,null,null,null,null,null,null,null,null,null,null,null,null,null,null,null,null,null,null,null,null,null,null,null,null,null,null,{"$f":"IF(UPPER(E255)=\"REQUERIDO\", 10, \"\")","v":""},{"$f":"IF(UPPER(E255)=\"REQUERIDO\", H255, \"\")","v":""}]
["Juego de Balones terapéuticos",null,1,0,{"$f":"IF(D256>0, \"Condición\", \"Sin Infraestructura\")","v":"Sin Infraestructura"},0,0,0,0,0,null,null,null,"EM",null,null,null,null,null,null,null,null,null,null,null,null,null,null,null,null,null,null,null,null,null,null,null,null,null,null,null,null,null,{"$f":"IF(UPPER(E256)=\"CONDICIÓN\", 10, \"\")","v":""},{"$f":"IF(UPPER(E256)=\"CONDICIÓN\", H256, \"\")","v":""},{"$f":"IF(UPPER(E256)=\"CONDICIÓN\", 10, \"\")","v":""},{"$f":"IF(UPPER(E256)=\"CONDICIÓN\", I256, \"\")","v":""}]
["Juego de Rodillos",null,1,0,{"$f":"IF(D257>0, \"Condición\", \"Sin Infraestructura\")","v":"Sin Infraestructura"},0,0,0,0,0,null,null,null,"EM",null,null,null,null,null,null,null,null,null,null,null,null,null,null,null,null,null,null,null,null,null,null,null,null,null,null,null,null,null,{"$f":"IF(UPPER(E257)=\"CONDICIÓN\", 10, \"\")","v":""},{"$f":"IF(UPPER(E257)=\"CONDICIÓN\", H257, \"\")","v":""},{"$f":"IF(UPPER(E257)=\"CONDICIÓN\", 10, \"\")","v":""},{"$f":"IF(UPPER(E257)=\"CONDICIÓN\", I257, \"\")","v":""}]
["Juego de pesas autoadhesivas",null,1,0,{"$f":"IF(D258>0, \"Requerido\", \"Sin Infraestructura\")","v":"Sin Infraestructura"},0,0,0,0,0,null,null,null,"EM",null,null,null,null,null,null,null,null,null,null,null,null,null,null,null,null,null,null,null,null,null,null,null,null,null,null,null,{"$f":"IF(UPPER(E258)=\"REQUERIDO\", 10, \"\")","v":""},{"$f":"IF(UPPER(E258)=\"REQUERIDO\", H258, \"\")","v":""}]
["Mancuernas",null,1,0,{"$f":"IF(D259>0, \"Requerido\", \"Sin Infraestructura\")","v":"Sin Infraestructura"},0,0,0,0,0,null,null,null,"EM",null,null,null,null,null,null,null,null,null,null,null,null,null,null,null,null,null,null,null,null,null,null,null,null,null,null,null,{"$f":"IF(UPPER(E259)=\"REQUERIDO\", 10, \"\")","v":""},{"$f":"IF(UPPER(E259)=\"REQUERIDO\", H259, \"\")","v":""}]
["Juego de Cuñas",null,1,{"$f":"IF(AND($L$251=0,$M$251=0),0,IF(AND($L$251>0,$M$251>0),($L$251+$M$251)*C260,IF(AND($L$251=0,$M$251>0),C260*$M$251,$L$251*C260)))","v":0},{"$f":"IF(D260>0, \"Deseable\", \"Sin Infraestructura\")","v":"Sin Infraestructura"},0,0,0,0,0,null,null,null,"EM",null,null,null,null,null,null,null,null,null,null,null,null,null,null,null,null,null,null,null,null,null,null,null,null,null,null,null,null,null,null,null,null,null,{"$f":"10","v":10},{"$f":"IF(UPPER(E260)=\"DESEABLE\", H260, \"\")","v":""}]
["Bicicleta estática",null,1,{"$f":"IF(AND($L$251=0,$M$251=0),0,IF(AND($L$251>0,$M$251>0),($L$251+$M$251)*C261,IF(AND($L$251=0,$M$251>0),C261*$M$251,$L$251*C261)))","v":0},{"$f":"IF(D261>0, \"Requerido\", \"Sin Infraestructura\")","v":"Sin Infraestructura"},0,0,0,0,0,null,null,null,"EM",null,null,null,null,null,null,null,null,null,null,null,null,null,null,null,null,null,null,null,null,null,null,null,null,null,null,null,{"$f":"IF(UPPER(E261)=\"REQUERIDO\", 10, \"\")","v":""},{"$f":"IF(UPPER(E261)=\"REQUERIDO\", H261, \"\")","v":""}]
["Bicicleta elíptica",null,1,{"$f":"IF(AND($L$251=0,$M$251=0),0,IF(AND($L$251>0,$M$251>0),($L$251+$M$251)*C262,IF(AND($L$251=0,$M$251>0),C262*$M$251,$L$251*C262)))","v":0},{"$f":"IF(D262>0, \"Condición\", \"Sin Infraestructura\")","v":"Sin Infraestructura"},0,0,0,0,0,null,null,null,"EM",null,null,null,null,null,null,null,null,null,null,null,null,null,null,null,null,null,null,null,null,null,null,null,null,null,null,null,null,null,{"$f":"IF(UPPER(E262)=\"CONDICIÓN\", 10, \"\")","v":""},{"$f":"IF(UPPER(E262)=\"CONDICIÓN\", H262, \"\")","v":""},{"$f":"IF(UPPER(E262)=\"CONDICIÓN\", 10, \"\")","v":""},{"$f":"IF(UPPER(E262)=\"CONDICIÓN\", I262, \"\")","v":""}]
["Caminadora eléctrica",null,1,0,{"$f":"IF(D263>0, \"Requerido\", \"Sin Infraestructura\")","v":"Sin Infraestructura"},0,0,0,0,0,null,null,null,"EM",null,null,null,null,null,null,null,null,null,null,null,null,null,null,null,null,null,null,null,null,null,null,null,null,null,null,null,{"$f":"IF(UPPER(E263)=\"REQUERIDO\", 10, \"\")","v":""},{"$f":"IF(UPPER(E263)=\"REQUERIDO\", H263, \"\")","v":""}]
["Restaurador de tobillo",null,1,0,{"$f":"IF(D264>0, \"Condición\", \"Sin Infraestructura\")","v":"Sin Infraestructura"},0,0,0,0,0,null,null,null,"EM",null,null,null,null,null,null,null,null,null,null,null,null,null,null,null,null,null,null,null,null,null,null,null,null,null,null,null,null,null,{"$f":"IF(UPPER(E264)=\"CONDICIÓN\", 10, \"\")","v":""},{"$f":"IF(UPPER(E264)=\"CONDICIÓN\", H264, \"\")","v":""},{"$f":"IF(UPPER(E264)=\"CONDICIÓN\", 10, \"\")","v":""},{"$f":"IF(UPPER(E264)=\"CONDICIÓN\", I264, \"\")","v":""}]
["Multifuerzas",null,1,{"$f":"IF(AND($L$251=0,$M$251=0),0,IF(AND($L$251>0,$M$251>0),($L$251+$M$251)*C265,IF(AND($L$251=0,$M$251>0),C265*$M$251,$L$251*C265)))","v":0},{"$f":"IF(D265>0, \"Condición\", \"Sin Infraestructura\")","v":"Sin Infraestructura"},0,0,0,0,0,null,null,null,"EM",null,null,null,null,null,null,null,null,null,null,null,null,null,null,null,null,null,null,null,null,null,null,null,null,null,null,null,null,null,{"$f":"IF(UPPER(E265)=\"CONDICIÓN\", 10, \"\")","v":""},{"$f":"IF(UPPER(E265)=\"CONDICIÓN\", H265, \"\")","v":""},{"$f":"IF(UPPER(E265)=\"CONDICIÓN\", 10, \"\")","v":""},{"$f":"IF(UPPER(E265)=\"CONDICIÓN\", I265, \"\")","v":""}]
["Mesa de cuádriceps",null,1,0,{"$f":"IF(D266>0, \"Condición\", \"Sin Infraestructura\")","v":"Sin Infraestructura"},0,0,0,0,0,null,null,null,"EM",null,null,null,null,null,null,null,null,null,null,null,null,null,null,null,null,null,null,null,null,null,null,null,null,null,null,null,null,null,{"$f":"IF(UPPER(E266)=\"CONDICIÓN\", 10, \"\")","v":""},{"$f":"IF(UPPER(E266)=\"CONDICIÓN\", H266, \"\")","v":""},{"$f":"IF(UPPER(E266)=\"CONDICIÓN\", 10, \"\")","v":""},{"$f":"IF(UPPER(E266)=\"CONDICIÓN\", I266, \"\")","v":""}]
["Escalera con rampa",null,1,0,{"$f":"IF(D267>0, \"Requerido\", \"Sin Infraestructura\")","v":"Sin Infraestructura"},0,0,0,0,0,null,null,null,"MM",null,null,null,null,null,null,null,null,null,null,null,{"$f":"IF(UPPER(E267)=\"REQUERIDO\", 10, \"\")","v":""},{"$f":"IF(UPPER(E267)=\"REQUERIDO\",H267, \"\")","v":""}]
["Escalera sueca",null,1,{"$f":"IF(AND($L$251=0,$M$251=0),0,IF(AND($L$251>0,$M$251>0),($L$251+$M$251)*C268,IF(AND($L$251=0,$M$251>0),C268*$M$251,$L$251*C268)))","v":0},{"$f":"IF(D268>0, \"Requerido\", \"Sin Infraestructura\")","v":"Sin Infraestructura"},0,0,0,0,0,null,null,null,"MM",null,null,null,null,null,null,null,null,null,null,null,{"$f":"IF(UPPER(E268)=\"REQUERIDO\", 10, \"\")","v":""},{"$f":"IF(UPPER(E268)=\"REQUERIDO\",H268, \"\")","v":""}]
["Mesa de Kanavel",null,1,0,{"$f":"IF(D269>0, \"Condición\", \"Sin Infraestructura\")","v":"Sin Infraestructura"},0,0,0,0,0,null,null,null,"EM",null,null,null,null,null,null,null,null,null,null,null,null,null,null,null,null,null,null,null,null,null,null,null,null,null,null,null,null,null,{"$f":"IF(UPPER(E269)=\"CONDICIÓN\", 10, \"\")","v":""},{"$f":"IF(UPPER(E269)=\"CONDICIÓN\", H269, \"\")","v":""},{"$f":"IF(UPPER(E269)=\"CONDICIÓN\", 10, \"\")","v":""},{"$f":"IF(UPPER(E269)=\"CONDICIÓN\", I269, \"\")","v":""}]
["Paralelas",null,1,0,{"$f":"IF(D270>0, \"Requerido\", \"Sin Infraestructura\")","v":"Sin Infraestructura"},0,0,0,0,0,null,null,null,"MM",null,null,null,null,null,null,null,null,null,null,null,{"$f":"IF(UPPER(E270)=\"REQUERIDO\", 10, \"\")","v":""},{"$f":"IF(UPPER(E270)=\"REQUERIDO\",H270, \"\")","v":""}]
["Poleas",null,1,{"$f":"IF(AND($L$251=0,$M$251=0),0,IF(AND($L$251>0,$M$251>0),($L$251+$M$251)*C271,IF(AND($L$251=0,$M$251>0),C271*$M$251,$L$251*C271)))","v":0},{"$f":"IF(D271>0, \"Condición\", \"Sin Infraestructura\")","v":"Sin Infraestructura"},0,0,0,0,0,null,null,null,"EM",null,null,null,null,null,null,null,null,null,null,null,null,null,null,null,null,null,null,null,null,null,null,null,null,null,null,null,null,null,{"$f":"IF(UPPER(E271)=\"CONDICIÓN\", 10, \"\")","v":""},{"$f":"IF(UPPER(E271)=\"CONDICIÓN\", H271, \"\")","v":""},{"$f":"IF(UPPER(E271)=\"CONDICIÓN\", 10, \"\")","v":""},{"$f":"IF(UPPER(E271)=\"CONDICIÓN\", I271, \"\")","v":""}]
["Espejo postural",null,1,0,{"$f":"IF(D272>0, \"Deseable\", \"Sin Infraestructura\")","v":"Sin Infraestructura"},0,0,0,0,0,null,null,null,"EG",null,null,null,null,null,null,null,null,null,null,null,null,null,null,null,null,null,null,null,null,null,null,null,null,null,{"$f":"IF(UPPER(E272)=\"DESEABLE\", 10, \"\")","v":""},{"$f":"IF(UPPER(E272)=\"DESEABLE\", H272, \"\")","v":""}]
["Escalera de dedos",null,1,0,{"$f":"IF(D273>0, \"Requerido\", \"Sin Infraestructura\")","v":"Sin Infraestructura"},0,0,0,0,0,null,null,null,"EM",null,null,null,null,null,null,null,null,null,null,null,null,null,null,null,null,null,null,null,null,null,null,null,null,null,null,null,{"$f":"IF(UPPER(E273)=\"REQUERIDO\", 10, \"\")","v":""},{"$f":"IF(UPPER(E273)=\"REQUERIDO\", H273, \"\")","v":""}]
["Rueda de hombro ",null,1,{"$f":"IF(AND($L$251=0,$M$251=0),0,IF(AND($L$251>0,$M$251>0),($L$251+$M$251)*C274,IF(AND($L$251=0,$M$251>0),C274*$M$251,$L$251*C274)))","v":0},{"$f":"IF(D274>0, \"Requerido\", \"Sin Infraestructura\")","v":"Sin Infraestructura"},0,0,0,0,0,null,null,null,"EM",null,null,null,null,null,null,null,null,null,null,null,null,null,null,null,null,null,null,null,null,null,null,null,null,null,null,null,{"$f":"IF(UPPER(E274)=\"REQUERIDO\", 10, \"\")","v":""},{"$f":"IF(UPPER(E274)=\"REQUERIDO\", H274, \"\")","v":""}]
["Estantería/Armario",null,1,0,{"$f":"IF(D275>0, \"Requerido\", \"Sin Infraestructura\")","v":"Sin Infraestructura"},0,0,0,0,0,null,null,null,"MG",null,null,null,{"$f":"IF(UPPER(E275)=\"REQUERIDO\", 10, \"\")","v":""},{"$f":"IF(UPPER(E275)=\"REQUERIDO\", H275, \"\")","v":""}]
["Baño/Baterías sanitarias-se aceptará en el caso  de que este compartido con otro servicio pero debe tener  acceso directo pero si no esta accesible será requerido",{"$f":"B1","v":"Anx:"},{"$f":"C$1","v":"Cant x Espacio:"},"Requerido:","Tipo:","Funcional:","No Funcional:",null,null,"Calif:","Observaciones:",{"$f":"Infraestructura!F75","v":0},{"$f":"Infraestructura!G75","v":0}]
["Inodoro",null,1,{"$f":"IF(AND($L$276=0,$M$276=0),0,IF(AND($L$276>0,$M$276>0),($L$276+$M$276)*C277,IF(AND($L$276=0,$M$276>0),C277*$M$276,$L$276*C277)))","v":0},{"$f":"IF(D277>0, \"Requerido\", \"Sin Infraestructura\")","v":"Sin Infraestructura"},0,0,{"$f":"IF(AND(F277>=D277,F277>0,D277>0),10,0)","v":0},{"$f":"IF(AND(G277>=D277,D277>0,G277>=1),10,0)","v":0},{"$f":"H277-I277","v":0},null,null,null,"MG",null,null,null,{"$f":"IF(UPPER(E277)=\"REQUERIDO\", 10, \"\")","v":""},{"$f":"IF(UPPER(E277)=\"REQUERIDO\", H277, \"\")","v":""}]
["barras de apoyo",null,1,0,{"$f":"IF(D278>0, \"Condición\", \"Sin Infraestructura\")","v":"Sin Infraestructura"},0,0,0,0,0,null,null,null,"MG",null,null,null,null,null,{"$f":"IF(UPPER(E278)=\"CONDICIÓN\", 10, \"\")","v":""},{"$f":"IF(UPPER(E278)=\"CONDICIÓN\", H278, \"\")","v":""},{"$f":"IF(UPPER(E278)=\"CONDICIÓN\", 10, \"\")","v":""},{"$f":"IF(UPPER(E278)=\"CONDICIÓN\", I278, \"\")","v":""}]
["Dispensador de papel higiénico",null,1,0,{"$f":"IF(D279>0, \"Requerido\", \"Sin Infraestructura\")","v":"Sin Infraestructura"},0,0,0,0,0,null,null,null,"MG",null,null,null,{"$f":"IF(UPPER(E279)=\"REQUERIDO\", 10, \"\")","v":""},{"$f":"IF(UPPER(E279)=\"REQUERIDO\", H279, \"\")","v":""}]
["Lavabo",null,1,0,"Sin Infraestructura",0,0,0,0,0,null,null,null,"MG",null,null,null,"",""]
["Dispensador de jabón",null,1,0,"Sin Infraestructura",0,0,0,0,0,null,null,null,"MG",null,null,null,"",""]
["Dispensador de papel toalla",null,1,0,"Sin Infraestructura",0,0,0,0,0,null,null,null,"MG",null,null,null,"",""]
["Basurero ",null,2,0,{"$f":"IF(D283>0, \"Requerido\", \"Sin Infraestructura\")","v":"Sin Infraestructura"},0,0,0,0,0,null,null,null,"MG",null,null,null,"",""]
["Gancho doble",null,1,0,"Sin Infraestructura",0,0,0,0,0,null,null,null,"MG",null,null,null,"",""]
["Espejo empotrado",null,1,0,{"$f":"IF(D285>0, \"Deseable\", \"Sin Infraestructura\")","v":"Sin Infraestructura"},0,0,0,0,0,null,null,null,"MG",null,null,null,null,null,null,null,null,null,{"$f":"IF(UPPER(E285)=\"DESEABLE\", 10, \"\")","v":""},{"$f":"IF(UPPER(E285)=\"DESEABLE\", H285, \"\")","v":""}]
["APOYO TERAPEÚTICO",null,null,null,null,null,null,null,null,null,null,null,null,null,null,null,null,null,null,null,null,null,null,null,null,null,null,null,null,null,null,null,null,null,null,null,null,null,null,null,null,null,null,null,null,null,null,null,null,{"$f":"SUM(R287:R330)","v":130},{"$f":"SUM(S287:S330)","v":0},{"$f":"SUM(T287:T330)","v":10},0,10,0,0,0,10,0,0,0,0,0,0,0,50,0,20,0,20,0,0,0,0,0,0,0,0,0,0,0]
["NUTRICIÓN Y DIETÉTICA",null,null,null,null,null,null,null,null,null,null,null,null,null,null,null,null,null,null,null,null,null,null,null,null,null,null,null,null,null,null,null,null,null,null,null,null,null,null,null,null,null,null,null,null,null,null,null,null,{"$f":"SUM(R288:R330)","v":130},{"$f":"SUM(S288:S330)","v":0},{"$f":"SUM(T288:T330)","v":10},0,10,0,0,0,10,0,0,0,0,0,0,0,50,0,20,0,20,0,0,0,0,0,0,0,0,0,0,0]
["ÁREA COMEDOR",null,null,null,null,null,null,null,null,null,null,null,null,null,null,null,null,null,null,null,null,null,null,null,null,null,null,null,null,null,null,null,null,null,null,null,null,null,null,null,null,null,null,null,null,null,null,null,null,{"$f":"SUM(R289:R306)","v":30},{"$f":"SUM(S289:S306)","v":0},{"$f":"SUM(T289:T306)","v":10},0,10,0,0,0,0,0,0,0,0,0,0,0,0,0,20,0,20,0,0,0,0,0,0,0,0,0,0,0]
["AMBIENTES",null,null,null,null,null,null,null,null,null,null,null,null,null,null,null,null,null,null,null,null,null,null,null,null,null,null,null,null,null,null,null,null,null,null,null,null,null,null,null,null,null,null,null,null,null,null,null,null,{"$f":"SUM(R290:R306)","v":30},{"$f":"SUM(S290:S306)","v":0},{"$f":"SUM(T290:T306)","v":10},0,10,0,0,0,0,0,0,0,0,0,0,0,0,0,20,0,20,0,0,0,0,0,0,0,0,0,0,0]
["Comedor",{"$f":"B1","v":"Anx:"},{"$f":"C$1","v":"Cant x Espacio:"},"Requerido:","Tipo:","Funcional:","No Funcional:",null,null,"Calif:","Observaciones:",{"$f":"Infraestructura!F83","v":0},{"$f":"Infraestructura!G83","v":0}]
["Mesa ",null,2,{"$f":"IF(AND($L$290=0,$M$290=0),0,IF(AND($L$290>0,$M$290>0),($L$290+$M$290)*C291,IF(AND($L$290=0,$M$290>0),C291*$M$290,$L$290*C291)))","v":0},"Requerido",0,0,{"$f":"IF(AND(F291>=D291,F291>0,D291>0),10,0)","v":0},{"$f":"IF(AND(G291>=D291,D291>0,G291>=1),10,0)","v":0},{"$f":"H291-I291","v":0},null,null,null,"MG",null,null,null,{"$f":"IF(UPPER(E291)=\"REQUERIDO\", 10, \"\")","v":10},{"$f":"IF(UPPER(E291)=\"REQUERIDO\", H291, \"\")","v":0}]
["Lavabo ",null,1,{"$f":"IF(AND($L$290=0,$M$290=0),0,IF(AND($L$290>0,$M$290>0),($L$290+$M$290)*C292,IF(AND($L$290=0,$M$290>0),C292*$M$290,$L$290*C292)))","v":0},"Condición",0,0,0,0,0,null,null,null,"MG",null,null,null,null,null,{"$f":"IF(UPPER(E292)=\"CONDICIÓN\", 10, \"\")","v":10},{"$f":"IF(UPPER(E292)=\"CONDICIÓN\", H292, \"\")","v":0},{"$f":"IF(UPPER(E292)=\"CONDICIÓN\", 10, \"\")","v":10},{"$f":"IF(UPPER(E292)=\"CONDICIÓN\", I292, \"\")","v":0}]
["Dispensador de jabón",null,1,{"$f":"IF(AND($L$290=0,$M$290=0),0,IF(AND($L$290>0,$M$290>0),($L$290+$M$290)*C293,IF(AND($L$290=0,$M$290>0),C293*$M$290,$L$290*C293)))","v":0},"Condición",0,0,0,0,0,null,null,null,"EG",null,null,null,null,null,null,null,null,null,null,null,null,null,null,null,null,null,null,null,null,null,{"$f":"IF(UPPER(E293)=\"CONDICIÓN\", 10, \"\")","v":10},{"$f":"IF(UPPER(E293)=\"CONDICIÓN\", H293, \"\")","v":0},{"$f":"IF(UPPER(E293)=\"CONDICIÓN\", 10, \"\")","v":10},{"$f":"IF(UPPER(E293)=\"CONDICIÓN\", I293, \"\")","v":0}]
["Dispensador de papel toalla ",null,1,{"$f":"IF(AND($L$290=0,$M$290=0),0,IF(AND($L$290>0,$M$290>0),($L$290+$M$290)*C294,IF(AND($L$290=0,$M$290>0),C294*$M$290,$L$290*C294)))","v":0},"Condición",0,0,0,0,0,null,null,null,"EG",null,null,null,null,null,null,null,null,null,null,null,null,null,null,null,null,null,null,null,null,null,{"$f":"IF(UPPER(E294)=\"CONDICIÓN\", 10, \"\")","v":10},{"$f":"IF(UPPER(E294)=\"CONDICIÓN\", H294, \"\")","v":0},{"$f":"IF(UPPER(E294)=\"CONDICIÓN\", 10, \"\")","v":10},{"$f":"IF(UPPER(E294)=\"CONDICIÓN\", I294, \"\")","v":0}]
["Basurero",null,1,{"$f":"IF(AND($L$290=0,$M$290=0),0,IF(AND($L$290>0,$M$290>0),($L$290+$M$290)*C295,IF(AND($L$290=0,$M$290>0),C295*$M$290,$L$290*C295)))","v":0},"Requerido",0,0,0,0,0,null,null,null,"MG",null,null,null,{"$f":"IF(UPPER(E295)=\"REQUERIDO\", 10, \"\")","v":10},{"$f":"IF(UPPER(E295)=\"REQUERIDO\", H295, \"\")","v":0}]
["Silla",null,8,0,"Requerido",0,0,0,0,0,null,null,null,"MG",null,null,null,{"$f":"IF(UPPER(E296)=\"REQUERIDO\", 10, \"\")","v":10},{"$f":"IF(UPPER(E296)=\"REQUERIDO\", H296, \"\")","v":0}]
["Baño- será requerido en el caso que el ambiente no esté accesible",{"$f":"B1","v":"Anx:"},{"$f":"C$1","v":"Cant x Espacio:"},"Requerido:","Tipo:","Funcional:","No Funcional:",null,null,"Calif:","Observaciones:",{"$f":"Infraestructura!F84","v":0},{"$f":"Infraestructura!G84","v":0}]
["Inodoro",null,1,{"$f":"IF(AND($L$297=0,$M$297=0),0,IF(AND($L$297>0,$M$297>0),($L$297+$M$297)*C298,IF(AND($L$297=0,$M$297>0),C298*$M$297,$L$297*C298)))","v":0},{"$f":"IF(D298>0, \"Requerido\", \"Sin Infraestructura\")","v":"Sin Infraestructura"},0,0,{"$f":"IF(AND(F298>=D298,F298>0,D298>0),10,0)","v":0},{"$f":"IF(AND(G298>=D298,D298>0,G298>=1),10,0)","v":0},{"$f":"H298-I298","v":0},null,null,null,"MG",null,null,null,{"$f":"IF(UPPER(E298)=\"REQUERIDO\", 10, \"\")","v":""},{"$f":"IF(UPPER(E298)=\"REQUERIDO\", H298, \"\")","v":""}]
["barras de apoyo",null,1,{"$f":"IF(AND($L$297=0,$M$297=0),0,IF(AND($L$297>0,$M$297>0),($L$297+$M$297)*C299,IF(AND($L$297=0,$M$297>0),C299*$M$297,$L$297*C299)))","v":0},{"$f":"IF(D299>0, \"Condición\", \"Sin Infraestructura\")","v":"Sin Infraestructura"},0,0,0,0,0,null,null,null,"MG",null,null,null,null,null,{"$f":"IF(UPPER(E299)=\"CONDICIÓN\", 10, \"\")","v":""},{"$f":"IF(UPPER(E299)=\"CONDICIÓN\", H299, \"\")","v":""},{"$f":"IF(UPPER(E299)=\"CONDICIÓN\", 10, \"\")","v":""},{"$f":"IF(UPPER(E299)=\"CONDICIÓN\", I299, \"\")","v":""}]
["Dispensador de papel higiénico",null,1,{"$f":"IF(AND($L$297=0,$M$297=0),0,IF(AND($L$297>0,$M$297>0),($L$297+$M$297)*C300,IF(AND($L$297=0,$M$297>0),C300*$M$297,$L$297*C300)))","v":0},{"$f":"IF(D300>0, \"Requerido\", \"Sin Infraestructura\")","v":"Sin Infraestructura"},0,0,0,0,0,null,null,null,"MG",null,null,null,{"$f":"IF(UPPER(E300)=\"REQUERIDO\", 10, \"\")","v":""},{"$f":"IF(UPPER(E300)=\"REQUERIDO\", H300, \"\")","v":""}]
["Lavabo",null,1,{"$f":"IF(AND($L$297=0,$M$297=0),0,IF(AND($L$297>0,$M$297>0),($L$297+$M$297)*C301,IF(AND($L$297=0,$M$297>0),C301*$M$297,$L$297*C301)))","v":0},"Sin Infraestructura",0,0,0,0,0,null,null,null,"MG",null,null,null,"",""]
["Dispensador  de jabón",null,1,{"$f":"IF(AND($L$297=0,$M$297=0),0,IF(AND($L$297>0,$M$297>0),($L$297+$M$297)*C302,IF(AND($L$297=0,$M$297>0),C302*$M$297,$L$297*C302)))","v":0},"Sin Infraestructura",0,0,0,0,0,null,null,null,"MG",null,null,null,"",""]
["Dispensador de papel toalla ",null,1,{"$f":"IF(AND($L$297=0,$M$297=0),0,IF(AND($L$297>0,$M$297>0),($L$297+$M$297)*C303,IF(AND($L$297=0,$M$297>0),C303*$M$297,$L$297*C303)))","v":0},"Sin Infraestructura",0,0,0,0,0,null,null,null,"MG",null,null,null,"",""]
["Basurero ",null,2,{"$f":"IF(AND($L$297=0,$M$297=0),0,IF(AND($L$297>0,$M$297>0),($L$297+$M$297)*C304,IF(AND($L$297=0,$M$297>0),C304*$M$297,$L$297*C304)))","v":0},"Sin Infraestructura",0,0,0,0,0,null,null,null,"MG",null,null,null,"",""]
["Gancho doble",null,1,0,"Sin Infraestructura",0,0,0,0,0,null,null,null,"MG",null,null,null,"",""]
["Espejo empotrado",null,1,{"$f":"IF(AND($L$297=0,$M$297=0),0,IF(AND($L$297>0,$M$297>0),($L$297+$M$297)*C306,IF(AND($L$297=0,$M$297>0),C306*$M$297,$L$297*C306)))","v":0},{"$f":"IF(D306>0, \"Deseable\", \"Sin Infraestructura\")","v":"Sin Infraestructura"},0,0,0,0,0,null,null,null,"MG",null,null,null,null,null,null,null,null,null,{"$f":"IF(UPPER(E306)=\"DESEABLE\", 10, \"\")","v":""},{"$f":"IF(UPPER(E306)=\"DESEABLE\", H306, \"\")","v":""}]
["ÁREA TECNICA DE COCINA",null,null,null,null,null,null,null,null,null,null,null,null,null,null,null,null,null,null,null,null,null,null,null,null,null,null,null,null,null,null,null,null,null,null,null,null,null,null,null,null,null,null,null,null,null,null,null,null,{"$f":"SUM(R308:R330)","v":100},{"$f":"SUM(S308:S330)","v":0},{"$f":"SUM(T308:T330)","v":0},0,0,0,0,0,10,0,0,0,0,0,0,0,50,0,0,0,0,0,0,0,0,0,0,0,0,0,0,0]
["AMBIENTES",null,null,null,null,null,null,null,null,null,null,null,null,null,null,null,null,null,null,null,null,null,null,null,null,null,null,null,null,null,null,null,null,null,null,null,null,null,null,null,null,null,null,null,null,null,null,null,null,{"$f":"SUM(R309:R330)","v":100},{"$f":"SUM(S309:S330)","v":0},{"$f":"SUM(T309:T330)","v":0},0,0,0,0,0,10,0,0,0,0,0,0,0,50,0,0,0,0,0,0,0,0,0,0,0,0,0,0,0]
["Bodega  para Almacenamiento diferenciado  de productos no perecibles, perecibles",{"$f":"B1","v":"Anx:"},{"$f":"C$1","v":"Cant x Espacio:"},"Requerido:","Tipo:","Funcional:","No Funcional:",null,null,"Calif:","Observaciones:",{"$f":"Infraestructura!F90","v":0},{"$f":"Infraestructura!G90","v":0}]
["Estantería",null,2,{"$f":"IF(AND($L$309=0,$M$309=0),0,IF(AND($L$309>0,$M$309>0),($L$309+$M$309)*C310,IF(AND($L$309=0,$M$309>0),C310*$M$309,$L$309*C310)))","v":0},"Requerido",0,0,{"$f":"IF(AND(F310>=D310,F310>0,D310>0),10,0)","v":0},{"$f":"IF(AND(G310>=D310,D310>0,G310>=1),10,0)","v":0},{"$f":"H310-I310","v":0},null,null,null,"MG",null,null,null,{"$f":"IF(UPPER(E310)=\"REQUERIDO\", 10, \"\")","v":10},{"$f":"IF(UPPER(E310)=\"REQUERIDO\", H310, \"\")","v":0}]
["Zona de Refrigeradores y Congeladores - puede estar en la bodega para almacenamiento diferenciado de productos o en la zona preparación de alimentos",{"$f":"B1","v":"Anx:"},{"$f":"C$1","v":"Cant x Espacio:"},"Requerido:","Tipo:","Funcional:","No Funcional:",null,null,"Calif:","Observaciones:",{"$f":"Infraestructura!F91","v":0},{"$f":"Infraestructura!G91","v":0}]
["Refrigerador y congelador",null,1,{"$f":"IF(AND($L$311=0,$M$311=0),0,IF(AND($L$311>0,$M$311>0),($L$311+$M$311)*C312,IF(AND($L$311=0,$M$311>0),C312*$M$311,$L$311*C312)))","v":0},"Requerido",0,0,{"$f":"IF(AND(F312>=D312,F312>0,D312>0),10,0)","v":0},{"$f":"IF(AND(G312>=D312,D312>0,G312>=1),10,0)","v":0},{"$f":"H312-I312","v":0},null,null,null,"EG",null,null,null,null,null,null,null,null,null,null,null,null,null,null,null,null,null,null,null,{"$f":"IF(UPPER(E312)=\"REQUERIDO\", 10, \"\")","v":10},{"$f":"IF(UPPER(E312)=\"REQUERIDO\", H312, \"\")","v":0}]
["Preparación de alimentos y lavado de menaje de cocina",{"$f":"B1","v":"Anx:"},{"$f":"C$1","v":"Cant x Espacio:"},"Requerido:","Tipo:","Funcional:","No Funcional:",null,null,"Calif:","Observaciones:",{"$f":"Infraestructura!F92","v":0},{"$f":"Infraestructura!G92","v":0}]
["Balanza",null,1,{"$f":"IF(AND($L$313=0,$M$313=0),0,IF(AND($L$313>0,$M$313>0),($L$313+$M$313)*C314,IF(AND($L$313=0,$M$313>0),C314*$M$313,$L$313*C314)))","v":0},"Requerido",0,0,{"$f":"IF(AND(F314>=D314,F314>0,D314>0),10,0)","v":0},{"$f":"IF(AND(G314>=D314,D314>0,G314>=1),10,0)","v":0},{"$f":"H314-I314","v":0},null,null,null,"EG",null,null,null,null,null,null,null,null,null,null,null,null,null,null,null,null,null,null,null,{"$f":"IF(UPPER(E314)=\"REQUERIDO\", 10, \"\")","v":10},{"$f":"IF(UPPER(E314)=\"REQUERIDO\", H314, \"\")","v":0}]
["Fregadero doble",null,1,{"$f":"IF(AND($L$313=0,$M$313=0),0,IF(AND($L$313>0,$M$313>0),($L$313+$M$313)*C315,IF(AND($L$313=0,$M$313>0),C315*$M$313,$L$313*C315)))","v":0},"Requerido",0,0,{"$f":"IF(AND(F315>=D315,F315>0,D315>0),10,0)","v":0},{"$f":"IF(AND(G315>=D315,D315>0,G315>=1),10,0)","v":0},{"$f":"H315-I315","v":0},null,null,null,"MG",null,null,null,{"$f":"IF(UPPER(E315)=\"REQUERIDO\", 10, \"\")","v":10},{"$f":"IF(UPPER(E315)=\"REQUERIDO\", H315, \"\")","v":0}]
["Basurero",null,2,{"$f":"IF(AND($L$313=0,$M$313=0),0,IF(AND($L$313>0,$M$313>0),($L$313+$M$313)*C316,IF(AND($L$313=0,$M$313>0),C316*$M$313,$L$313*C316)))","v":0},"Requerido",0,0,{"$f":"IF(AND(F316>=D316,F316>0,D316>0),10,0)","v":0},{"$f":"IF(AND(G316>=D316,D316>0,G316>=1),10,0)","v":0},{"$f":"H316-I316","v":0},null,null,null,"MG",null,null,null,{"$f":"IF(UPPER(E316)=\"REQUERIDO\", 10, \"\")","v":10},{"$f":"IF(UPPER(E316)=\"REQUERIDO\", H316, \"\")","v":0}]
["Mesa de preparación ",null,1,{"$f":"IF(AND($L$313=0,$M$313=0),0,IF(AND($L$313>0,$M$313>0),($L$313+$M$313)*C317,IF(AND($L$313=0,$M$313>0),C317*$M$313,$L$313*C317)))","v":0},"Requerido",0,0,{"$f":"IF(AND(F317>=D317,F317>0,D317>0),10,0)","v":0},{"$f":"IF(AND(G317>=D317,D317>0,G317>=1),10,0)","v":0},{"$f":"H317-I317","v":0},null,null,null,"MG",null,null,null,{"$f":"IF(UPPER(E317)=\"REQUERIDO\", 10, \"\")","v":10},{"$f":"IF(UPPER(E317)=\"REQUERIDO\", H317, \"\")","v":0}]
["Zona de cocción",{"$f":"B1","v":"Anx:"},{"$f":"C$1","v":"Cant x Espacio:"},"Requerido:","Tipo:","Funcional:","No Funcional:",null,null,"Calif:","Observaciones:",{"$f":"Infraestructura!F93","v":0},{"$f":"Infraestructura!G93","v":0}]
["Campana extractora ",null,1,{"$f":"IF(AND($L$318=0,$M$318=0),0,IF(AND($L$318>0,$M$318>0),($L$318+$M$318)*C319,IF(AND($L$318=0,$M$318>0),C319*$M$318,$L$318*C319)))","v":0},"Requerido",0,0,{"$f":"IF(AND(F319>=D319,F319>0,D319>0),10,0)","v":0},{"$f":"IF(AND(G319>=D319,D319>0,G319>=1),10,0)","v":0},{"$f":"H319-I319","v":0},null,null,null,"EG",null,null,null,null,null,null,null,null,null,null,null,null,null,null,null,null,null,null,null,{"$f":"IF(UPPER(E319)=\"REQUERIDO\", 10, \"\")","v":10},{"$f":"IF(UPPER(E319)=\"REQUERIDO\", H319, \"\")","v":0}]
["Cocina  semindustrial o industrial",null,1,{"$f":"IF(AND($L$318=0,$M$318=0),0,IF(AND($L$318>0,$M$318>0),($L$318+$M$318)*C320,IF(AND($L$318=0,$M$318>0),C320*$M$318,$L$318*C320)))","v":0},"Requerido",0,0,{"$f":"IF(AND(F320>=D320,F320>0,D320>0),10,0)","v":0},{"$f":"IF(AND(G320>=D320,D320>0,G320>=1),10,0)","v":0},{"$f":"H320-I320","v":0},null,null,null,"MM",null,null,null,null,null,null,null,null,null,null,null,{"$f":"IF(UPPER(E320)=\"REQUERIDO\", 10, \"\")","v":10},{"$f":"IF(UPPER(E320)=\"REQUERIDO\",H320, \"\")","v":0}]
["Estantería ",null,1,{"$f":"IF(AND($L$318=0,$M$318=0),0,IF(AND($L$318>0,$M$318>0),($L$318+$M$318)*C321,IF(AND($L$318=0,$M$318>0),C321*$M$318,$L$318*C321)))","v":0},"Requerido",0,0,{"$f":"IF(AND(F321>=D321,F321>0,D321>0),10,0)","v":0},{"$f":"IF(AND(G321>=D321,D321>0,G321>=1),10,0)","v":0},{"$f":"H321-I321","v":0},null,null,null,"MG",null,null,null,{"$f":"IF(UPPER(E321)=\"REQUERIDO\", 10, \"\")","v":10},{"$f":"IF(UPPER(E321)=\"REQUERIDO\", H321, \"\")","v":0}]
["Horno  convencional/ Microondas",null,1,0,"Requerido",0,0,{"$f":"IF(AND(F322>=D322,F322>0,D322>0),10,0)","v":0},{"$f":"IF(AND(G322>=D322,D322>0,G322>=1),10,0)","v":0},{"$f":"H322-I322","v":0},null,null,null,"EG",null,null,null,null,null,null,null,null,null,null,null,null,null,null,null,null,null,null,null,{"$f":"IF(UPPER(E322)=\"REQUERIDO\", 10, \"\")","v":10},{"$f":"IF(UPPER(E322)=\"REQUERIDO\", H322, \"\")","v":0}]
["Licuadora",null,1,0,"Requerido",0,0,{"$f":"IF(AND(F323>=D323,F323>0,D323>0),10,0)","v":0},{"$f":"IF(AND(G323>=D323,D323>0,G323>=1),10,0)","v":0},{"$f":"H323-I323","v":0},null,null,null,"EG",null,null,null,null,null,null,null,null,null,null,null,null,null,null,null,null,null,null,null,{"$f":"IF(UPPER(E323)=\"REQUERIDO\", 10, \"\")","v":10},{"$f":"IF(UPPER(E323)=\"REQUERIDO\", H323, \"\")","v":0}]
["Bodega/Almacenamiento de menaje",{"$f":"B1","v":"Anx:"},{"$f":"C$1","v":"Cant x Espacio:"},"Requerido:","Tipo:","Funcional:","No Funcional:",null,null,"Calif:","Observaciones:",{"$f":"Infraestructura!F94","v":0},{"$f":"Infraestructura!G94","v":0}]
["Estantería/Mueble para almacenamiento",null,1,{"$f":"IF(AND($L$324=0,$M$324=0),0,IF(AND($L$324>0,$M$324>0),($L$324+$M$324)*C325,IF(AND($L$324=0,$M$324>0),C325*$M$324,$L$324*C325)))","v":0},"Requerido",0,0,{"$f":"IF(AND(F325>=D325,F325>0,D325>0),10,0)","v":0},{"$f":"IF(AND(G325>=D325,D325>0,G325>=1),10,0)","v":0},{"$f":"H325-I325","v":0},null,null,null,"MG",null,null,null,{"$f":"IF(UPPER(E325)=\"REQUERIDO\", 10, \"\")","v":10},{"$f":"IF(UPPER(E325)=\"REQUERIDO\", H325, \"\")","v":0}]
["Cuarto de limpieza",{"$f":"B1","v":"Anx:"},{"$f":"C$1","v":"Cant x Espacio:"},"Requerido:","Tipo:",{"$f":"F$1","v":"Funcional:"},"No Funcional:",null,null,"Calif:","Observaciones:",{"$f":"Infraestructura!F95","v":0},{"$f":"Infraestructura!G95","v":0}]
["Coche de limpieza ",null,1,{"$f":"IF(AND($L$326=0,$M$326=0),0,IF(AND($L$326>0,$M$326>0),($L$326+$M$326)*C327,IF(AND($L$326=0,$M$326>0),C327*$M$326,$L$326*C327)))","v":0},"Requerido",0,0,{"$f":"IF(AND(F327>=D327,F327>0,D327>0),10,0)","v":0},{"$f":"IF(AND(G327>=D327,D327>0,G327>=1),10,0)","v":0},{"$f":"H327-I327","v":0},null,null,null,"MG",null,null,null,{"$f":"IF(UPPER(E327)=\"REQUERIDO\", 10, \"\")","v":10},{"$f":"IF(UPPER(E327)=\"REQUERIDO\", H327, \"\")","v":0}]
["Stock de insumos de limpieza ","EQ_05",1,{"$f":"IF(AND($L$326=0,$M$326=0),0,IF(AND($L$326>0,$M$326>0),($L$326+$M$326)*C328,IF(AND($L$326=0,$M$326>0),C328*$M$326,$L$326*C328)))","v":0},"Requerido",0,0,{"$f":"IF(AND(F328>=D328,F328>0,D328>0),10,0)","v":0},{"$f":"IF(AND(G328>=D328,D328>0,G328>=1),10,0)","v":0},{"$f":"H328-I328","v":0},null,null,null,"MG",null,null,null,{"$f":"IF(UPPER(E328)=\"REQUERIDO\", 10, \"\")","v":10},{"$f":"IF(UPPER(E328)=\"REQUERIDO\", H328, \"\")","v":0}]
["Estantería ",null,1,0,"Requerido",0,0,{"$f":"IF(AND(F329>=D329,F329>0,D329>0),10,0)","v":0},{"$f":"IF(AND(G329>=D329,D329>0,G329>=1),10,0)","v":0},{"$f":"H329-I329","v":0},null," "," ","MG",null,null,null,{"$f":"IF(UPPER(E329)=\"REQUERIDO\", 10, \"\")","v":10},{"$f":"IF(UPPER(E329)=\"REQUERIDO\", H329, \"\")","v":0}]
["Lavadero con poza profunda para el preparado y enjuague de los útiles de limpieza",null,1,0,"Requerido",0,0,{"$f":"IF(AND(F330>=D330,F330>0,D330>0),10,0)","v":0},{"$f":"IF(AND(G330>=D330,D330>0,G330>=1),10,0)","v":0},{"$f":"H330-I330","v":0},null,null,null,"MG",null,null,null,{"$f":"IF(UPPER(E330)=\"REQUERIDO\", 10, \"\")","v":10},{"$f":"IF(UPPER(E330)=\"REQUERIDO\", H330, \"\")","v":0}]
["ADMINISTRATIVO",null,null,null,null,null,null,null,null,null,null,null,null,null,null,null,null,null,null,null,null,null,null,null,null,null,null,null,null,null,null,null,null,null,null,null,null,null,null,null,null,null,null,null,null,null,null,null,null,{"$f":"SUM(R332:R362)","v":110},{"$f":"SUM(S332:S362)","v":0},{"$f":"SUM(T332:T362)","v":0},0,0,0,10,0,0,0,0,0,0,0,0,0,20,0,0,0,0,0,0,0,0,0,0,0,0,0,0,0]
["ADMINISTRACIÓN TÉCNICA",null,null,null,null,null,null,null,null,null,null,null,null,null,null,null,null,null,null,null,null,null,null,null,null,null,null,null,null,null,null,null,null,null,null,null,null,null,null,null,null,null,null,null,null,null,null,null,null,{"$f":"SUM(R333:R362)","v":110},{"$f":"SUM(S333:S362)","v":0},{"$f":"SUM(T333:T362)","v":0},0,0,0,10,0,0,0,0,0,0,0,0,0,20,0,0,0,0,0,0,0,0,0,0,0,0,0,0,0]
["ÁREA TÉCNICA",null,null,null,null,null,null,null,null,null,null,null,null,null,null,null,null,null,null,null,null,null,null,null,null,null,null,null,null,null,null,null,null,null,null,null,null,null,null,null,null,null,null,null,null,null,null,null,null,{"$f":"SUM(R334:R362)","v":110},{"$f":"SUM(S334:S362)","v":0},{"$f":"SUM(T334:T362)","v":0},0,0,0,10,0,0,0,0,0,0,0,0,0,20,0,0,0,0,0,0,0,0,0,0,0,0,0,0,0]
["AMBIENTES",null,null,null,null,null,null,null,null,null,null,null,null,null,null,null,null,null,null,null,null,null,null,null,null,null,null,null,null,null,null,null,null,null,null,null,null,null,null,null,null,null,null,null,null,null,null,null,null,{"$f":"SUM(R335:R362)","v":110},{"$f":"SUM(S335:S362)","v":0},{"$f":"SUM(T335:T362)","v":0},0,0,0,10,0,0,0,0,0,0,0,0,0,20,0,0,0,0,0,0,0,0,0,0,0,0,0,0,0]
["Despacho del Responsable Técnico- puede compartir con otro ambiente administrativo",{"$f":"B1","v":"Anx:"},{"$f":"C$1","v":"Cant x Espacio:"},"Requerido:","Tipo:","Funcional:","No Funcional:",null,null,"Calif:","Observaciones:",{"$f":"Infraestructura!F103","v":0},{"$f":"Infraestructura!G103","v":0}]
["Escritorio/Mesa de despacho ","EQ_01",1,{"$f":"IF(AND($L$335=0,$M$335=0),0,IF(AND($L$335>0,$M$335>0),($L$335+$M$335)*C336,IF(AND($L$335=0,$M$335>0),C336*$M$335,$L$335*C336)))","v":0},"Requerido",0,0,{"$f":"IF(AND(F336>=D336,F336>0,D336>0),10,0)","v":0},{"$f":"IF(AND(G336>=D336,D336>0,G336>=1),10,0)","v":0},{"$f":"H336-I336","v":0},null,null,null,"MG",null,null,null,{"$f":"IF(UPPER(E336)=\"REQUERIDO\", 10, 0)","v":10},{"$f":"IF(UPPER(E336)=\"REQUERIDO\", H336, \"\")","v":0}]
["Archivador",null,1,{"$f":"IF(AND($L$335=0,$M$335=0),0,IF(AND($L$335>0,$M$335>0),($L$335+$M$335)*C337,IF(AND($L$335=0,$M$335>0),C337*$M$335,$L$335*C337)))","v":0},"Requerido",0,0,0,0,0,null,null,null,"MG",null,null,null,{"$f":"IF(UPPER(E337)=\"REQUERIDO\", 10, \"\")","v":10},{"$f":"IF(UPPER(E337)=\"REQUERIDO\", H337, \"\")","v":0}]
["Computador completo (Portátil o de Escritorio)","EQ_02",1,{"$f":"IF(AND($L$335=0,$M$335=0),0,IF(AND($L$335>0,$M$335>0),($L$335+$M$335)*C338,IF(AND($L$335=0,$M$335>0),C338*$M$335,$L$335*C338)))","v":0},"Requerido",0,0,0,0,0,null,null,null,"EG",null,null,null,null,null,null,null,null,null,null,null,null,null,null,null,null,null,null,null,{"$f":"IF(UPPER(E338)=\"REQUERIDO\", 10, \"\")","v":10},{"$f":"IF(UPPER(E338)=\"REQUERIDO\", H338, \"\")","v":0}]
["Basurero ",null,1,0,"Requerido",0,0,0,0,0,null,null,null,"MG",null,null,null,{"$f":"IF(UPPER(E339)=\"REQUERIDO\", 10, \"\")","v":10},{"$f":"IF(UPPER(E339)=\"REQUERIDO\", H339, \"\")","v":0}]
["Perchero de pie/Gancho doble",null,1,0,"Requerido",0,0,0,0,0,null,null,null,"MG",null,null,null,{"$f":"IF(UPPER(E340)=\"REQUERIDO\", 10, \"\")","v":10},{"$f":"IF(UPPER(E340)=\"REQUERIDO\", H340, \"\")","v":0}]
["Silla confidente ",null,2,0,"Requerido",0,0,0,0,0,null,null,null,"MG",null,null,null,{"$f":"IF(UPPER(E341)=\"REQUERIDO\", 10, \"\")","v":10},{"$f":"IF(UPPER(E341)=\"REQUERIDO\", H341, \"\")","v":0}]
["Silla",null,1,0,"Requerido",0,0,0,0,0,null,null,null,"MG",null,null,null,{"$f":"IF(UPPER(E342)=\"REQUERIDO\", 10, \"\")","v":10},{"$f":"IF(UPPER(E342)=\"REQUERIDO\", H342, \"\")","v":0}]
["Sala de espera",{"$f":"B1","v":"Anx:"},{"$f":"C$1","v":"Cant x Espacio:"},"Requerido:","Tipo:","Funcional:","No Funcional:",null,null,"Calif:","Observaciones:",{"$f":"Infraestructura!F104","v":0},{"$f":"Infraestructura!G104","v":0}]
["Bancas/Sillas",null,1,{"$f":"IF(AND($L$343=0,$M$343=0),0,IF(AND($L$343>0,$M$343>0),($L$343+$M$343)*C344,IF(AND($L$343=0,$M$343>0),C344*$M$343,$L$343*C344)))","v":0},{"$f":"IF(D344>0, \"Requerido\", \"Sin Infraestructura\")","v":"Sin Infraestructura"},0,0,{"$f":"IF(AND(F344>=D344,F344>0,D344>0),10,0)","v":0},{"$f":"IF(AND(G344>=D344,D344>0,G344>=1),10,0)","v":0},{"$f":"H344-I344","v":0},null,null,null,"MM",null,null,null,null,null,null,null,null,null,null,null,{"$f":"IF(UPPER(E344)=\"REQUERIDO\", 10, \"\")","v":""},{"$f":"IF(UPPER(E344)=\"REQUERIDO\",H344, \"\")","v":""}]
["Basurero ",null,1,{"$f":"IF(AND($L$343=0,$M$343=0),0,IF(AND($L$343>0,$M$343>0),($L$343+$M$343)*C345,IF(AND($L$343=0,$M$343>0),C345*$M$343,$L$343*C345)))","v":0},"Sin Infraestructura",0,0,{"$f":"IF(AND(F345>=D345,F345>0,D345>0),10,0)","v":0},{"$f":"IF(AND(G345>=D345,D345>0,G345>=1),10,0)","v":0},{"$f":"H345-I345","v":0},null,null,null,"MG",null,null,null,{"$f":"IF(UPPER(E345)=\"REQUERIDO\", 10, \"\")","v":""},{"$f":"IF(UPPER(E345)=\"REQUERIDO\", H345, \"\")","v":""}]
["Reloj de pared",null,1,{"$f":"IF(AND($L$343=0,$M$343=0),0,IF(AND($L$343>0,$M$343>0),($L$343+$M$343)*C346,IF(AND($L$343=0,$M$343>0),C346*$M$343,$L$343*C346)))","v":0},"Sin Infraestructura",0,0,{"$f":"IF(AND(F346>=D346,F346>0,D346>0),10,0)","v":0},{"$f":"IF(AND(G346>=D346,D346>0,G346>=1),10,0)","v":0},{"$f":"H346-I346","v":0},null,null,null,"MG",null,null,null,{"$f":"IF(UPPER(E346)=\"REQUERIDO\", 10, \"\")","v":""},{"$f":"IF(UPPER(E346)=\"REQUERIDO\", H346, \"\")","v":""}]
["Unidad Administrativa de Apoyo",{"$f":"B1","v":"Anx:"},{"$f":"C$1","v":"Cant x Espacio:"},"Requerido:","Tipo:","Funcional:","No Funcional:",null,null,"Calif:","Observaciones:",{"$f":"Infraestructura!F105","v":0},{"$f":"Infraestructura!G105","v":0}]
["Mostrador / escritorio/Mesa de despacho ","EQ_01",1,{"$f":"IF(AND($L$347=0,$M$347=0),0,IF(AND($L$347>0,$M$347>0),($L$347+$M$347)*C348,IF(AND($L$347=0,$M$347>0),C348*$M$347,$L$347*C348)))","v":0},"Sin Infraestructura",0,0,{"$f":"IF(AND(F348>=D348,F348>0,D348>0),10,0)","v":0},{"$f":"IF(AND(G348>=D348,D348>0,G348>=1),10,0)","v":0},{"$f":"H348-I348","v":0},null,null,null,"MG",null,null,null,{"$f":"IF(UPPER(E348)=\"REQUERIDO\", 10, \"\")","v":""},{"$f":"IF(UPPER(E348)=\"REQUERIDO\", H348, \"\")","v":""}]
["Archivador /Armario",null,1,{"$f":"IF(AND($L$347=0,$M$347=0),0,IF(AND($L$347>0,$M$347>0),($L$347+$M$347)*C349,IF(AND($L$347=0,$M$347>0),C349*$M$347,$L$347*C349)))","v":0},"Sin Infraestructura",0,0,0,0,0,null,null,null,"MG",null,null,null,{"$f":"IF(UPPER(E349)=\"REQUERIDO\", 10, \"\")","v":""},{"$f":"IF(UPPER(E349)=\"REQUERIDO\", H349, \"\")","v":""}]
["Basurero ",null,1,{"$f":"IF(AND($L$347=0,$M$347=0),0,IF(AND($L$347>0,$M$347>0),($L$347+$M$347)*C350,IF(AND($L$347=0,$M$347>0),C350*$M$347,$L$347*C350)))","v":0},"Sin Infraestructura",0,0,0,0,0,null,null,null,"MG",null,null,null,{"$f":"IF(UPPER(E350)=\"REQUERIDO\", 10, \"\")","v":""},{"$f":"IF(UPPER(E350)=\"REQUERIDO\", H350, \"\")","v":""}]
["Perchero de pie/Gancho doble",null,1,{"$f":"IF(AND($L$347=0,$M$347=0),0,IF(AND($L$347>0,$M$347>0),($L$347+$M$347)*C351,IF(AND($L$347=0,$M$347>0),C351*$M$347,$L$347*C351)))","v":0},"Sin Infraestructura",0,0,0,0,0,null,null,null,"MG",null,null,null,{"$f":"IF(UPPER(E351)=\"REQUERIDO\", 10, \"\")","v":""},{"$f":"IF(UPPER(E351)=\"REQUERIDO\", H351, \"\")","v":""}]
["Computador completo (Portátil o de Escritorio)","EQ_02",1,{"$f":"IF(AND($L$347=0,$M$347=0),0,IF(AND($L$347>0,$M$347>0),($L$347+$M$347)*C352,IF(AND($L$347=0,$M$347>0),C352*$M$347,$L$347*C352)))","v":0},"Sin Infraestructura",0,0,0,0,0,null,null,null,"EG",null,null,null,null,null,null,null,null,null,null,null,null,null,null,null,null,null,null,null,{"$f":"IF(UPPER(E352)=\"REQUERIDO\", 10, \"\")","v":""},{"$f":"IF(UPPER(E352)=\"REQUERIDO\", H352, \"\")","v":""}]
["Silla confidente",null,2,{"$f":"IF(AND($L$347=0,$M$347=0),0,IF(AND($L$347>0,$M$347>0),($L$347+$M$347)*C353,IF(AND($L$347=0,$M$347>0),C353*$M$347,$L$347*C353)))","v":0},"Sin Infraestructura",0,0,0,0,0,null,null,null,"MG",null,null,null,{"$f":"IF(UPPER(E353)=\"REQUERIDO\", 10, \"\")","v":""},{"$f":"IF(UPPER(E353)=\"REQUERIDO\", H353, \"\")","v":""}]
["Silla",null,1,{"$f":"IF(AND($L$347=0,$M$347=0),0,IF(AND($L$347>0,$M$347>0),($L$347+$M$347)*C354,IF(AND($L$347=0,$M$347>0),C354*$M$347,$L$347*C354)))","v":0},"Sin Infraestructura",0,0,0,0,0,null,null,null,"MG",null,null,null,{"$f":"IF(UPPER(E354)=\"REQUERIDO\", 10, \"\")","v":""},{"$f":"IF(UPPER(E354)=\"REQUERIDO\", H354, \"\")","v":""}]
["Oficina de trabajo social - puede compartir con otro ambiente de consulta",{"$f":"B9","v":"EQ_01"},{"$f":"C$1","v":"Cant x Espacio:"},"Requerido:","Tipo:","Funcional:","No Funcional:",null,null,"Calif:","Observaciones:",{"$f":"Infraestructura!F106","v":0},{"$f":"Infraestructura!G106","v":0}]
["Escritorio/Mesa de despacho ","EQ_01",1,{"$f":"IF(AND($L$355=0,$M$355=0),0,IF(AND($L$355>0,$M$355>0),($L$355+$M$355)*C356,IF(AND($L$355=0,$M$355>0),C356*$M$355,$L$355*C356)))","v":0},"Requerido",0,0,{"$f":"IF(AND(F356>=D356,F356>0,D356>0),10,0)","v":0},{"$f":"IF(AND(G356>=D356,D356>0,G356>=1),10,0)","v":0},{"$f":"H356-I356","v":0},null,null,null,"MG",null,null,null,{"$f":"IF(UPPER(E356)=\"REQUERIDO\", 10, \"\")","v":10},{"$f":"IF(UPPER(E356)=\"REQUERIDO\", H356, \"\")","v":0}]
["Silla confidente",null,2,{"$f":"IF(AND($L$355=0,$M$355=0),0,IF(AND($L$355>0,$M$355>0),($L$355+$M$355)*C357,IF(AND($L$355=0,$M$355>0),C357*$M$355,$L$355*C357)))","v":0},"Requerido",0,0,0,0,0,null,null,null,"MG",null,null,null,{"$f":"IF(UPPER(E357)=\"REQUERIDO\", 10, \"\")","v":10},{"$f":"IF(UPPER(E357)=\"REQUERIDO\", H357, \"\")","v":0}]
["Silla",null,1,{"$f":"IF(AND($L$355=0,$M$355=0),0,IF(AND($L$355>0,$M$355>0),($L$355+$M$355)*C358,IF(AND($L$355=0,$M$355>0),C358*$M$355,$L$355*C358)))","v":0},"Requerido",0,0,0,0,0,null,null,null,"MG",null,null,null,{"$f":"IF(UPPER(E358)=\"REQUERIDO\", 10, \"\")","v":10},{"$f":"IF(UPPER(E358)=\"REQUERIDO\", H358, \"\")","v":0}]
["Computador completo (Portátil o de Escritorio)","EQ_02",1,0,"Requerido",0,0,0,0,0,null,null,null,"EG",null,null,null,null,null,null,null,null,null,null,null,null,null,null,null,null,null,null,null,{"$f":"IF(UPPER(E359)=\"REQUERIDO\", 10, \"\")","v":10},{"$f":"IF(UPPER(E359)=\"REQUERIDO\", H359, \"\")","v":0}]
["Basurero ",null,1,0,"Requerido",0,0,0,0,0,null,null,null,"MG",null,null,null,{"$f":"IF(UPPER(E360)=\"REQUERIDO\", 10, \"\")","v":10},{"$f":"IF(UPPER(E360)=\"REQUERIDO\", H360, \"\")","v":0}]
["Perchero de pie/Gancho doble",null,1,{"$f":"IF(AND($L$355=0,$M$355=0),0,IF(AND($L$355>0,$M$355>0),($L$355+$M$355)*C361,IF(AND($L$355=0,$M$355>0),C361*$M$355,$L$355*C361)))","v":0},"Deseable",0,0,0,0,0,null,null,null,"MG",null,null,null,null,null,null,null,null,null,{"$f":"IF(UPPER(E361)=\"DESEABLE\", 10, \"\")","v":10},{"$f":"IF(UPPER(E361)=\"DESEABLE\", H361, \"\")","v":0}]
["Armario/Archivador",null,1,0,"Requerido",0,0,0,0,0,null,null,null,"MG",null,null,null,{"$f":"IF(UPPER(E362)=\"REQUERIDO\", 10, \"\")","v":10},{"$f":"IF(UPPER(E362)=\"REQUERIDO\", H362, \"\")","v":0}]
["GENERAL",null,null,null,null,null,null,null,null,null,null,null,null,null,null,null,null,null,null,null,null,null,null,null,null,null,null,null,null,null,null,null,null,null,null,null,null,null,null,null,null,null,null,null,null,null,null,null,null,{"$f":"SUM(R364:R427)","v":90},{"$f":"SUM(S364:S427)","v":0},{"$f":"SUM(T364:T427)","v":0},0,0,0,0,0,0,0,0,0,0,0,0,0,110,0,0,0,0,0,0,0,0,0,0,0,0,0,0,0]
["SERVICIOS INTERNOS DE APOYO",null,null,null,null,null,null,null,null,null,null,null,null,null,null,null,null,null,null,null,null,null,null,null,null,null,null,null,null,null,null,null,null,null,null,null,null,null,null,null,null,null,null,null,null,null,null,null,null,{"$f":"SUM(R365:R427)","v":90},{"$f":"SUM(S365:S427)","v":0},{"$f":"SUM(T365:T427)","v":0},0,0,0,0,0,0,0,0,0,0,0,0,0,110,0,0,0,0,0,0,0,0,0,0,0,0,0,0,0]
["LAVANDERÍA",null,null,null,null,null,null,null,null,null,null,null,null,null,null,null,null,null,null,null,null,null,null,null,null,null,null,null,null,null,null,null,null,null,null,null,null,null,null,null,null,null,null,null,null,null,null,null,null,{"$f":"SUM(R366:R386)","v":50},{"$f":"SUM(S366:S386)","v":0},{"$f":"SUM(T366:T386)","v":0},0,0,0,0,0,0,0,0,0,0,0,0,0,110,0,0,0,0,0,0,0,0,0,0,0,0,0,0,0]
["AMBIENTES",null,null,null,null,null,null,null,null,null,null,null,null,null,null,null,null,null,null,null,null,null,null,null,null,null,null,null,null,null,null,null,null,null,null,null,null,null,null,null,null,null,null,null,null,null,null,null,null,{"$f":"SUM(R367:R386)","v":50},{"$f":"SUM(S367:S386)","v":0},{"$f":"SUM(T367:T386)","v":0},0,0,0,0,0,0,0,0,0,0,0,0,0,110,0,0,0,0,0,0,0,0,0,0,0,0,0,0,0]
["Recepción y Clasificación de Ropa Usada",{"$f":"B1","v":"Anx:"},{"$f":"C$1","v":"Cant x Espacio:"},"Requerido:","Tipo:","Funcional:","No Funcional:",null,null,"Calif:","Observaciones:",{"$f":"Infraestructura!F114","v":0},{"$f":"Infraestructura!G114","v":0}]
["Mostrador / escritorio/Mesa de despacho ","EQ_01",1,{"$f":"IF(AND($L$367=0,$M$367=0),0,IF(AND($L$367>0,$M$367>0),($L$367+$M$367)*C368,IF(AND($L$367=0,$M$367>0),C368*$M$367,$L$367*C368)))","v":0},"Requerido",0,0,{"$f":"IF(AND(F368>=D368,F368>0,D368>0),10,0)","v":0},{"$f":"IF(AND(G368>=D368,D368>0,G368>=1),10,0)","v":0},{"$f":"H368-I368","v":0},null,null,null,"MG",null,null,null,{"$f":"IF(UPPER(E368)=\"REQUERIDO\", 10, \"\")","v":10},{"$f":"IF(UPPER(E368)=\"REQUERIDO\", H368, \"\")","v":0}]
["Armario/Archivador",null,1,{"$f":"IF(AND($L$367=0,$M$367=0),0,IF(AND($L$367>0,$M$367>0),($L$367+$M$367)*C369,IF(AND($L$367=0,$M$367>0),C369*$M$367,$L$367*C369)))","v":0},"Requerido",0,0,0,0,0,null,null,null,"MG",null,null,null,{"$f":"IF(UPPER(E369)=\"REQUERIDO\", 10, \"\")","v":10},{"$f":"IF(UPPER(E369)=\"REQUERIDO\", H369, \"\")","v":0}]
["Coche de transporte de ropa sucia",null,1,{"$f":"IF(AND($L$367=0,$M$367=0),0,IF(AND($L$367>0,$M$367>0),($L$367+$M$367)*C370,IF(AND($L$367=0,$M$367>0),C370*$M$367,$L$367*C370)))","v":0},"Requerido",0,0,0,0,0,null,null,null,"MG",null,null,null,{"$f":"IF(UPPER(E370)=\"REQUERIDO\", 10, \"\")","v":10},{"$f":"IF(UPPER(E370)=\"REQUERIDO\", H370, \"\")","v":0}]
["Computador completo (Portátil o de Escritorio)","EQ_02",1,0,"Requerido",0,0,0,0,0,null,null,null,"EG",null,null,null,null,null,null,null,null,null,null,null,null,null,null,null,null,null,null,null,{"$f":"IF(UPPER(E371)=\"REQUERIDO\", 10, \"\")","v":10},{"$f":"IF(UPPER(E371)=\"REQUERIDO\", H371, \"\")","v":0}]
["Basurero ",null,1,0,"Requerido",0,0,0,0,0,null,null,null,"EG",null,null,null,null,null,null,null,null,null,null,null,null,null,null,null,null,null,null,null,{"$f":"IF(UPPER(E372)=\"REQUERIDO\", 10, \"\")","v":10},{"$f":"IF(UPPER(E372)=\"REQUERIDO\", H372, \"\")","v":0}]
["Silla",null,1,{"$f":"IF(AND($L$367=0,$M$367=0),0,IF(AND($L$367>0,$M$367>0),($L$367+$M$367)*C373,IF(AND($L$367=0,$M$367>0),C373*$M$367,$L$367*C373)))","v":0},"Requerido",0,0,0,0,0,null,null,null,"MG",null,null,null,{"$f":"IF(UPPER(E373)=\"REQUERIDO\", 10, \"\")","v":10},{"$f":"IF(UPPER(E373)=\"REQUERIDO\", H373, \"\")","v":0}]
["Lavado",{"$f":"B1","v":"Anx:"},{"$f":"C$1","v":"Cant x Espacio:"},"Requerido:","Tipo:","Funcional:","No Funcional:",null,null,"Calif:","Observaciones:",{"$f":"Infraestructura!F115","v":0},{"$f":"Infraestructura!G115","v":0}]
["Lavadora",null,1,{"$f":"IF(AND($L$374=0,$M$374=0),0,IF(AND($L$374>0,$M$374>0),($L$374+$M$374)*C375,IF(AND($L$374=0,$M$374>0),C375*$M$374,$L$374*C375)))","v":0},"Requerido",0,0,{"$f":"IF(AND(F375>=D375,F375>0,D375>0),10,0)","v":0},{"$f":"IF(AND(G375>=D375,D375>0,G375>=1),10,0)","v":0},{"$f":"H375-I375","v":0},null,null,null,"EG",null,null,null,null,null,null,null,null,null,null,null,null,null,null,null,null,null,null,null,{"$f":"IF(UPPER(E375)=\"REQUERIDO\", 10, \"\")","v":10},{"$f":"IF(UPPER(E375)=\"REQUERIDO\", H375, \"\")","v":0}]
["Secadora",null,1,{"$f":"IF(AND($L$374=0,$M$374=0),0,IF(AND($L$374>0,$M$374>0),($L$374+$M$374)*C376,IF(AND($L$374=0,$M$374>0),C376*$M$374,$L$374*C376)))","v":0},"Requerido",0,0,{"$f":"IF(AND(F376>=D376,F376>0,D376>0),10,0)","v":0},{"$f":"IF(AND(G376>=D376,D376>0,G376>=1),10,0)","v":0},{"$f":"H376-I376","v":0},null,null,null,"EG",null,null,null,null,null,null,null,null,null,null,null,null,null,null,null,null,null,null,null,{"$f":"IF(UPPER(E376)=\"REQUERIDO\", 10, \"\")","v":10},{"$f":"IF(UPPER(E376)=\"REQUERIDO\", H376, \"\")","v":0}]
["Basurero",null,1,{"$f":"IF(AND($L$374=0,$M$374=0),0,IF(AND($L$374>0,$M$374>0),($L$374+$M$374)*C377,IF(AND($L$374=0,$M$374>0),C377*$M$374,$L$374*C377)))","v":0},"Requerido",0,0,{"$f":"IF(AND(F377>=D377,F377>0,D377>0),10,0)","v":0},{"$f":"IF(AND(G377>=D377,D377>0,G377>=1),10,0)","v":0},{"$f":"H377-I377","v":0},null,null,null,"EG",null,null,null,null,null,null,null,null,null,null,null,null,null,null,null,null,null,null,null,{"$f":"IF(UPPER(E377)=\"REQUERIDO\", 10, \"\")","v":10},{"$f":"IF(UPPER(E377)=\"REQUERIDO\", H377, \"\")","v":0}]
["Estantería",null,1,{"$f":"IF(AND($L$374=0,$M$374=0),0,IF(AND($L$374>0,$M$374>0),($L$374+$M$374)*C378,IF(AND($L$374=0,$M$374>0),C378*$M$374,$L$374*C378)))","v":0},"Requerido",0,0,{"$f":"IF(AND(F378>=D378,F378>0,D378>0),10,0)","v":0},{"$f":"IF(AND(G378>=D378,D378>0,G378>=1),10,0)","v":0},{"$f":"H378-I378","v":0},null,null,null,"EG",null,null,null,null,null,null,null,null,null,null,null,null,null,null,null,null,null,null,null,{"$f":"IF(UPPER(E378)=\"REQUERIDO\", 10, \"\")","v":10},{"$f":"IF(UPPER(E378)=\"REQUERIDO\", H378, \"\")","v":0}]
["Planchado",{"$f":"B1","v":"Anx:"},{"$f":"C$1","v":"Cant x Espacio:"},"Requerido:","Tipo:","Funcional:","No Funcional:",null,null,"Calif:","Observaciones:",{"$f":"Infraestructura!F116","v":0},{"$f":"Infraestructura!G116","v":0}]
["Plancha",null,1,{"$f":"IF(AND($L$379=0,$M$379=0),0,IF(AND($L$379>0,$M$379>0),($L$379+$M$379)*C380,IF(AND($L$379=0,$M$379>0),C380*$M$379,$L$379*C380)))","v":0},"Requerido",0,0,{"$f":"IF(AND(F380>=D380,F380>0,D380>0),10,0)","v":0},{"$f":"IF(AND(G380>=D380,D380>0,G380>=1),10,0)","v":0},{"$f":"H380-I380","v":0},null,null,null,"EG",null,null,null,null,null,null,null,null,null,null,null,null,null,null,null,null,null,null,null,{"$f":"IF(UPPER(E380)=\"REQUERIDO\", 10, \"\")","v":10},{"$f":"IF(UPPER(E380)=\"REQUERIDO\", H380, \"\")","v":0}]
["Silla",null,1,{"$f":"IF(AND($L$379=0,$M$379=0),0,IF(AND($L$379>0,$M$379>0),($L$379+$M$379)*C381,IF(AND($L$379=0,$M$379>0),C381*$M$379,$L$379*C381)))","v":0},"Requerido",0,0,{"$f":"IF(AND(F381>=D381,F381>0,D381>0),10,0)","v":0},{"$f":"IF(AND(G381>=D381,D381>0,G381>=1),10,0)","v":0},{"$f":"H381-I381","v":0},null,null,null,"EG",null,null,null,null,null,null,null,null,null,null,null,null,null,null,null,null,null,null,null,{"$f":"IF(UPPER(E381)=\"REQUERIDO\", 10, \"\")","v":10},{"$f":"IF(UPPER(E381)=\"REQUERIDO\", H381, \"\")","v":0}]
["Estantería/Armario",null,1,{"$f":"IF(AND($L$379=0,$M$379=0),0,IF(AND($L$379>0,$M$379>0),($L$379+$M$379)*C382,IF(AND($L$379=0,$M$379>0),C382*$M$379,$L$379*C382)))","v":0},"Requerido",0,0,{"$f":"IF(AND(F382>=D382,F382>0,D382>0),10,0)","v":0},{"$f":"IF(AND(G382>=D382,D382>0,G382>=1),10,0)","v":0},{"$f":"H382-I382","v":0},null,null,null,"EG",null,null,null,null,null,null,null,null,null,null,null,null,null,null,null,null,null,null,null,{"$f":"IF(UPPER(E382)=\"REQUERIDO\", 10, \"\")","v":10},{"$f":"IF(UPPER(E382)=\"REQUERIDO\", H382, \"\")","v":0}]
["Basurero",null,1,{"$f":"IF(AND($L$379=0,$M$379=0),0,IF(AND($L$379>0,$M$379>0),($L$379+$M$379)*C383,IF(AND($L$379=0,$M$379>0),C383*$M$379,$L$379*C383)))","v":0},"Requerido",0,0,{"$f":"IF(AND(F383>=D383,F383>0,D383>0),10,0)","v":0},{"$f":"IF(AND(G383>=D383,D383>0,G383>=1),10,0)","v":0},{"$f":"H383-I383","v":0},null,null,null,"EG",null,null,null,null,null,null,null,null,null,null,null,null,null,null,null,null,null,null,null,{"$f":"IF(UPPER(E383)=\"REQUERIDO\", 10, \"\")","v":10},{"$f":"IF(UPPER(E383)=\"REQUERIDO\", H383, \"\")","v":0}]
["Mesa de trabajo",null,1,{"$f":"IF(AND($L$379=0,$M$379=0),0,IF(AND($L$379>0,$M$379>0),($L$379+$M$379)*C384,IF(AND($L$379=0,$M$379>0),C384*$M$379,$L$379*C384)))","v":0},"Requerido",0,0,{"$f":"IF(AND(F384>=D384,F384>0,D384>0),10,0)","v":0},{"$f":"IF(AND(G384>=D384,D384>0,G384>=1),10,0)","v":0},{"$f":"H384-I384","v":0},null,null,null,"EG",null,null,null,null,null,null,null,null,null,null,null,null,null,null,null,null,null,null,null,{"$f":"IF(UPPER(E384)=\"REQUERIDO\", 10, \"\")","v":10},{"$f":"IF(UPPER(E384)=\"REQUERIDO\", H384, \"\")","v":0}]
["Área de Lavado",{"$f":"B16","v":"Anx:"},{"$f":"C$1","v":"Cant x Espacio:"},"Requerido:","Tipo:","Funcional:","No Funcional:",null,null,"Calif:","Observaciones:",{"$f":"Infraestructura!F117","v":0},{"$f":"Infraestructura!G117","v":0}]
["Puesto de lavado manual/o piedra de lavar",null,1,{"$f":"IF(AND($L$385=0,$M$385=0),0,IF(AND($L$385>0,$M$385>0),($L$385+$M$385)*C386,IF(AND($L$385=0,$M$385>0),C386*$M$385,$L$385*C386)))","v":0},"Requerido",0,0,{"$f":"IF(AND(F386>=D386,F386>0,D386>0),10,0)","v":0},{"$f":"IF(AND(G386>=D386,D386>0,G386>=1),10,0)","v":0},{"$f":"H386-I386","v":0},null,null,null,"MG",null,null,null,{"$f":"IF(UPPER(E386)=\"REQUERIDO\", 10, \"\")","v":10},{"$f":"IF(UPPER(E386)=\"REQUERIDO\", H386, \"\")","v":0}]
["LIMPIEZA",null,null,null,null,null,null,null,null,null,null,null,null,null,null,null,null,null,null,null,null,null,null,null,null,null,null,null,null,null,null,null,null,null,null,null,null,null,null,null,null,null,null,null,null,null,null,null,null,{"$f":"SUM(R388:R410)","v":10},{"$f":"SUM(S388:S410)","v":0},{"$f":"SUM(T388:T410)","v":0},0,0,0,0,0,0,0,0,0,0,0,0,0,0,0,0,0,0,0,0,0,0,0,0,0,0,0,0,0]
["AMBIENTES",null,null,null,null,null,null,null,null,null,null,null,null,null,null,null,null,null,null,null,null,null,null,null,null,null,null,null,null,null,null,null,null,null,null,null,null,null,null,null,null,null,null,null,null,null,null,null,null,{"$f":"SUM(R389:R410)","v":10},{"$f":"SUM(S389:S410)","v":0},{"$f":"SUM(T389:T410)","v":0},0,0,0,0,0,0,0,0,0,0,0,0,0,0,0,0,0,0,0,0,0,0,0,0,0,0,0,0,0]
["Bodega (Puede encontrarse dentro de la bodega general, pero en un área diferenciada)",{"$f":"B1","v":"Anx:"},{"$f":"C$1","v":"Cant x Espacio:"},"Requerido:","Tipo:","Funcional:","No Funcional:",null,null,"Calif:","Observaciones:",{"$f":"Infraestructura!$F$123","v":0},{"$f":"Infraestructura!$G$123","v":0}]
["Estantería",null,1,{"$f":"IF(AND($L$389=0,$M$389=0),0,IF(AND($L$389>0,$M$389>0),($L$389+$M$389)*C390,IF(AND($L$389=0,$M$389>0),C390*$M$389,$L$389*C390)))","v":0},"Requerido",0,0,{"$f":"IF(AND(F390>=D390,F390>0,D390>0),10,0)","v":0},{"$f":"IF(AND(G390>=D390,D390>0,G390>=1),10,0)","v":0},{"$f":"H390-I390","v":0},null,null,null,"MG",null,null,null,{"$f":"IF(UPPER(E390)=\"REQUERIDO\", 10, \"\")","v":10},{"$f":"IF(UPPER(E390)=\"REQUERIDO\", H390, \"\")","v":0}]
["Cuarto de Limpieza (será requerido en el caso de no contar con cuartos de limpieza en los servicios que lo requieran) ",{"$f":"B1","v":"Anx:"},{"$f":"C$1","v":"Cant x Espacio:"},"Requerido:","Tipo:","Funcional:","No Funcional:",null,null,"Calif:","Observaciones:",{"$f":"Infraestructura!$F$124","v":0},{"$f":"Infraestructura!$G$124","v":0}]
["Coche de limpieza",null,1,{"$f":"IF(AND($L$391=0,$M$391=0),0,IF(AND($L$391>0,$M$391>0),($L$391+$M$391)*C392,IF(AND($L$391=0,$M$391>0),C392*$M$391,$L$391*C392)))","v":0},{"$f":"IF(D392>0, \"Requerido\", \"Sin Infraestructura\")","v":"Sin Infraestructura"},0,0,{"$f":"IF(AND(F392>=D392,F392>0,D392>0),10,0)","v":0},{"$f":"IF(AND(G392>=D392,D392>0,G392>=1),10,0)","v":0},{"$f":"H392-I392","v":0},null,null,null,"MG",null,null,null,{"$f":"IF(UPPER(E392)=\"REQUERIDO\", 10, \"\")","v":""},{"$f":"IF(UPPER(E392)=\"REQUERIDO\", H392, \"\")","v":""}]
["Stock de Insumos de Limpieza","EQ_05",1,{"$f":"IF(AND($L$391=0,$M$391=0),0,IF(AND($L$391>0,$M$391>0),($L$391+$M$391)*C393,IF(AND($L$391=0,$M$391>0),C393*$M$391,$L$391*C393)))","v":0},{"$f":"IF(D393>0, \"Requerido\", \"Sin Infraestructura\")","v":"Sin Infraestructura"},0,0,{"$f":"IF(AND(F393>=D393,F393>0,D393>0),10,0)","v":0},{"$f":"IF(AND(G393>=D393,D393>0,G393>=1),10,0)","v":0},{"$f":"H393-I393","v":0},null,null,null,"EG",null,null,null,null,null,null,null,null,null,null,null,null,null,null,null,null,null,null,null,{"$f":"IF(UPPER(E393)=\"REQUERIDO\", 10, \"\")","v":""},{"$f":"IF(UPPER(E393)=\"REQUERIDO\", H393, \"\")","v":""}]
["Estantería",null,1,{"$f":"IF(AND($L$391=0,$M$391=0),0,IF(AND($L$391>0,$M$391>0),($L$391+$M$391)*C394,IF(AND($L$391=0,$M$391>0),C394*$M$391,$L$391*C394)))","v":0},{"$f":"IF(D394>0, \"Requerido\", \"Sin Infraestructura\")","v":"Sin Infraestructura"},0,0,{"$f":"IF(AND(F394>=D394,F394>0,D394>0),10,0)","v":0},{"$f":"IF(AND(G394>=D394,D394>0,G394>=1),10,0)","v":0},{"$f":"H394-I394","v":0},null,null,null,"MG",null,null,null,{"$f":"IF(UPPER(E394)=\"REQUERIDO\", 10, \"\")","v":""},{"$f":"IF(UPPER(E394)=\"REQUERIDO\", H394, \"\")","v":""}]
["Lavadero con poza profunda para el preparado y enjuague de los útiles de limpieza",null,1,0,"Sin Infraestructura",0,0,{"$f":"IF(AND(F395>=D395,F395>0,D395>0),10,0)","v":0},{"$f":"IF(AND(G395>=D395,D395>0,G395>=1),10,0)","v":0},{"$f":"H395-I395","v":0},null,null,null,"MG",null,null,null,{"$f":"IF(UPPER(E395)=\"REQUERIDO\", 10, \"\")","v":""},{"$f":"IF(UPPER(E395)=\"REQUERIDO\", H395, \"\")","v":""}]
["Vestidores (Será requerido en el caso de que en el vestidor del área de personal no se ha previsto un espacio exclusivo para el personal de limpieza)",{"$f":"B1","v":"Anx:"},{"$f":"C$1","v":"Cant x Espacio:"},"Requerido:","Tipo:","Funcional:","No Funcional:",null,null,"Calif:","Observaciones:",{"$f":"Infraestructura!$F$125","v":0},{"$f":"Infraestructura!$G$125","v":0}]
["Casilleros/Lockers",null,5,{"$f":"IF(AND($L$396=0,$M$396=0),0,IF(AND($L$396>0,$M$396>0),($L$396+$M$396)*C397,IF(AND($L$396=0,$M$396>0),C397*$M$396,$L$396*C397)))","v":0},"Sin Infraestructura",0,0,{"$f":"IF(AND(F397>=D397,F397>0,D397>0),10,0)","v":0},{"$f":"IF(AND(G397>=D397,D397>0,G397>=1),10,0)","v":0},{"$f":"H397-I397","v":0},null,null,null,"MG",null,null,null,{"$f":"IF(UPPER(E397)=\"REQUERIDO\", 10, \"\")","v":""},{"$f":"IF(UPPER(E397)=\"REQUERIDO\", H397, \"\")","v":""}]
["Banco de vestuario",null,1,{"$f":"IF(AND($L$396=0,$M$396=0),0,IF(AND($L$396>0,$M$396>0),($L$396+$M$396)*C398,IF(AND($L$396=0,$M$396>0),C398*$M$396,$L$396*C398)))","v":0},"Sin Infraestructura",0,0,{"$f":"IF(AND(F398>=D398,F398>0,D398>0),10,0)","v":0},{"$f":"IF(AND(G398>=D398,D398>0,G398>=1),10,0)","v":0},{"$f":"H398-I398","v":0},null,null,null,"MG",null,null,null,{"$f":"IF(UPPER(E398)=\"REQUERIDO\", 10, \"\")","v":""},{"$f":"IF(UPPER(E398)=\"REQUERIDO\", H398, \"\")","v":""}]
["Gancho doble",null,1,{"$f":"IF(AND($L$396=0,$M$396=0),0,IF(AND($L$396>0,$M$396>0),($L$396+$M$396)*C399,IF(AND($L$396=0,$M$396>0),C399*$M$396,$L$396*C399)))","v":0},"Sin Infraestructura",0,0,{"$f":"IF(AND(F399>=D399,F399>0,D399>0),10,0)","v":0},{"$f":"IF(AND(G399>=D399,D399>0,G399>=1),10,0)","v":0},{"$f":"H399-I399","v":0},null,null,null,"MG",null,null,null,{"$f":"IF(UPPER(E399)=\"REQUERIDO\", 10, \"\")","v":""},{"$f":"IF(UPPER(E399)=\"REQUERIDO\", H399, \"\")","v":""}]
["Basurero",null,1,{"$f":"IF(AND($L$396=0,$M$396=0),0,IF(AND($L$396>0,$M$396>0),($L$396+$M$396)*C400,IF(AND($L$396=0,$M$396>0),C400*$M$396,$L$396*C400)))","v":0},"Sin Infraestructura",0,0,{"$f":"IF(AND(F400>=D400,F400>0,D400>0),10,0)","v":0},{"$f":"IF(AND(G400>=D400,D400>0,G400>=1),10,0)","v":0},{"$f":"H400-I400","v":0},null,null,null,"MG",null,null,null,{"$f":"IF(UPPER(E400)=\"REQUERIDO\", 10, \"\")","v":""},{"$f":"IF(UPPER(E400)=\"REQUERIDO\", H400, \"\")","v":""}]
["Baño de vestidores",{"$f":"B1","v":"Anx:"},{"$f":"C$1","v":"Cant x Espacio:"},"Requerido:","Tipo:","Funcional:","No Funcional:",null,null,"Calif:","Observaciones:",{"$f":"Infraestructura!$F$126","v":0},{"$f":"Infraestructura!$G$126","v":0}]
["Dispensador de jabón",null,1,{"$f":"IF(AND($L$401=0,$M$401=0),0,IF(AND($L$401>0,$M$401>0),($L$401+$M$401)*C402,IF(AND($L$401=0,$M$401>0),C402*$M$401,$L$401*C402)))","v":0},"Sin Infraestructura",0,0,{"$f":"IF(AND(F402>=D402,F402>0,D402>0),10,0)","v":0},{"$f":"IF(AND(G402>=D402,D402>0,G402>=1),10,0)","v":0},{"$f":"H402-I402","v":0},null,null,null,"MG",null,null,null,{"$f":"IF(UPPER(E402)=\"REQUERIDO\", 10, \"\")","v":""},{"$f":"IF(UPPER(E402)=\"REQUERIDO\", H402, \"\")","v":""}]
["Dispensador de papel toalla",null,1,{"$f":"IF(AND($L$401=0,$M$401=0),0,IF(AND($L$401>0,$M$401>0),($L$401+$M$401)*C403,IF(AND($L$401=0,$M$401>0),C403*$M$401,$L$401*C403)))","v":0},"Sin Infraestructura",0,0,0,0,0,null,null,null,"MG",null,null,null,"",""]
["Dispensador de papel higiénico",null,1,{"$f":"IF(AND($L$401=0,$M$401=0),0,IF(AND($L$401>0,$M$401>0),($L$401+$M$401)*C404,IF(AND($L$401=0,$M$401>0),C404*$M$401,$L$401*C404)))","v":0},"Sin Infraestructura",0,0,0,0,0,null,null,null,"MG",null,null,null,"",""]
["Inodoro",null,1,{"$f":"IF(AND($L$401=0,$M$401=0),0,IF(AND($L$401>0,$M$401>0),($L$401+$M$401)*C405,IF(AND($L$401=0,$M$401>0),C405*$M$401,$L$401*C405)))","v":0},"Sin Infraestructura",0,0,0,0,0,null,null,null,"MG",null,null,null,"",""]
["Espejo empotrado ",null,1,{"$f":"IF(AND($L$401=0,$M$401=0),0,IF(AND($L$401>0,$M$401>0),($L$401+$M$401)*C406,IF(AND($L$401=0,$M$401>0),C406*$M$401,$L$401*C406)))","v":0},"Sin Infraestructura",0,0,0,0,0,null,null,null,"MG",null,null,null,"",""]
["Gancho doble",null,1,{"$f":"IF(AND($L$401=0,$M$401=0),0,IF(AND($L$401>0,$M$401>0),($L$401+$M$401)*C407,IF(AND($L$401=0,$M$401>0),C407*$M$401,$L$401*C407)))","v":0},"Sin Infraestructura",0,0,0,0,0,null,null,null,"MG",null,null,null,"",""]
["Barras de apoyo",null,1,{"$f":"IF(AND($L$401=0,$M$401=0),0,IF(AND($L$401>0,$M$401>0),($L$401+$M$401)*C408,IF(AND($L$401=0,$M$401>0),C408*$M$401,$L$401*C408)))","v":0},{"$f":"IF(D408>0, \"Deseable\", \"Sin Infraestructura\")","v":"Sin Infraestructura"},0,0,0,0,0,null,null,null,"MG",null,null,null,null,null,null,null,null,null,{"$f":"IF(UPPER(E408)=\"DESEABLE\", 10, \"\")","v":""},{"$f":"IF(UPPER(E408)=\"DESEABLE\", H408, \"\")","v":""}]
["Lavabo ",null,1,0,"Sin Infraestructura",0,0,0,0,0,null,null,null,"MG",null,null,null,{"$f":"IF(UPPER(E409)=\"REQUERIDO\", 10, \"\")","v":""},{"$f":"IF(UPPER(E409)=\"REQUERIDO\", H409, \"\")","v":""}]
["Basurero",null,1,{"$f":"IF(AND($L$401=0,$M$401=0),0,IF(AND($L$401>0,$M$401>0),($L$401+$M$401)*C410,IF(AND($L$401=0,$M$401>0),C410*$M$401,$L$401*C410)))","v":0},"Sin Infraestructura",0,0,0,0,0,null,null,null,"MG",null,null,null,{"$f":"IF(UPPER(E410)=\"REQUERIDO\", 10, \"\")","v":""},{"$f":"IF(UPPER(E410)=\"REQUERIDO\", H410, \"\")","v":""}]
["ALMACENAMIENTO FINAL DE DESECHOS",null,null,null,null,null,null,null,null,null,null,null,null,null,null,null,null,null,null,null,null,null,null,null,null,null,null,null,null,null,null,null,null,null,null,null,null,null,null,null,null,null,null,null,null,null,null,null,null,{"$f":"SUM(R413:R419)","v":30},{"$f":"SUM(S413:S419)","v":0},{"$f":"SUM(T413:T419)","v":0},0,0,0,0,0,0,0,0,0,0,0,0,0,0,0,0,0,0,0,0,0,0,0,0,0,0,0,0,0]
["(Puede estar en un solo ambiente con áreas diferenciadas y rotuladas)"]
["AMBIENTES",null,null,null,null,null,null,null,null,null,null,null,null,null,null,null,null,null,null,null,null,null,null,null,null,null,null,null,null,null,null,null,null,null,null,null,null,null,null,null,null,null,null,null,null,null,null,null,null,{"$f":"SUM(R414:R419)","v":30},{"$f":"SUM(S414:S419)","v":0},{"$f":"SUM(T414:T419)","v":0},0,0,0,0,0,0,0,0,0,0,0,0,0,0,0,0,0,0,0,0,0,0,0,0,0,0,0,0,0]
["Área de Almacenamiento de Desechos no peligrosos - Comunes",{"$f":"B1","v":"Anx:"},{"$f":"C$1","v":"Cant x Espacio:"},"Requerido:","Tipo:","Funcional:","No Funcional:",null,null,"Calif:","Observaciones:",{"$f":"Infraestructura!$F$133","v":0},{"$f":"Infraestructura!$G$133","v":0}]
["Contenedor",null,1,{"$f":"IF(AND($L$414=0,$M$414=0),0,IF(AND($L$414>0,$M$414>0),($L$414+$M$414)*C415,IF(AND($L$414=0,$M$414>0),C415*$M$414,$L$414*C415)))","v":0},"Requerido",0,0,{"$f":"IF(AND(F415>=D415,F415>0,D415>0),10,0)","v":0},{"$f":"IF(AND(G415>=D415,D415>0,G415>=1),10,0)","v":0},{"$f":"H415-I415","v":0},null,null,null,"MG",null,null,null,{"$f":"IF(UPPER(E415)=\"REQUERIDO\", 10, \"\")","v":10},{"$f":"IF(UPPER(E415)=\"REQUERIDO\", H415, \"\")","v":0}]
["Área de Almacenamiento de Desechos Peligrosos- Infecciosos",{"$f":"B1","v":"Anx:"},{"$f":"C$1","v":"Cant x Espacio:"},"Requerido:","Tipo:","Funcional:","No Funcional:",null,null,"Calif:","Observaciones:",{"$f":"Infraestructura!$F$134","v":0},{"$f":"Infraestructura!$G$134","v":0}]
["Contenedor",null,1,{"$f":"IF(AND($L$416=0,$M$416=0),0,IF(AND($L$416>0,$M$416>0),($L$416+$M$416)*C417,IF(AND($L$416=0,$M$416>0),C417*$M$416,$L$416*C417)))","v":0},"Requerido",0,0,{"$f":"IF(AND(F417>=D417,F417>0,D417>0),10,0)","v":0},{"$f":"IF(AND(G417>=D417,D417>0,G417>=1),10,0)","v":0},{"$f":"H417-I417","v":0},null,null,null,"MG",null,null,null,{"$f":"IF(UPPER(E417)=\"REQUERIDO\", 10, \"\")","v":10},{"$f":"IF(UPPER(E417)=\"REQUERIDO\", H417, \"\")","v":0}]
["Área de Desechos Peligrosos- Especiales",{"$f":"B1","v":"Anx:"},{"$f":"C$1","v":"Cant x Espacio:"},"Requerido:","Tipo:","Funcional:","No Funcional:",null,null,"Calif:","Observaciones:",{"$f":"Infraestructura!$F$135","v":0},{"$f":"Infraestructura!$G$135","v":0}]
["Contenedor",null,1,{"$f":"IF(AND($L$418=0,$M$418=0),0,IF(AND($L$418>0,$M$418>0),($L$418+$M$418)*C419,IF(AND($L$418=0,$M$418>0),C419*$M$418,$L$418*C419)))","v":0},"Requerido",0,0,{"$f":"IF(AND(F419>=D419,F419>0,D419>0),10,0)","v":0},{"$f":"IF(AND(G419>=D419,D419>0,G419>=1),10,0)","v":0},{"$f":"H419-I419","v":0},null,null,null,"MG",null,null,null,{"$f":"IF(UPPER(E419)=\"REQUERIDO\", 10, \"\")","v":10},{"$f":"IF(UPPER(E419)=\"REQUERIDO\", H419, \"\")","v":0}]
["ÁREA DE APOYO",null,null,null,null,null,null,null,null,null,null,null,null,null,null,null,null,null,null,null,null,null,null,null,null,null,null,null,null,null,null,null,null,null,null,null,null,null,null,null,null,null,null,null,null,null,null,null,null,{"$f":"SUM(R421:R427)","v":0},{"$f":"SUM(S421:S427)","v":0},{"$f":"SUM(T421:T427)","v":0},0,0,0,0,0,0,0,0,0,0,0,0,0,0,0,0,0,0,0,0,0,0,0,0,0,0,0,0,0]
["AMBIENTES",null,null,null,null,null,null,null,null,null,null,null,null,null,null,null,null,null,null,null,null,null,null,null,null,null,null,null,null,null,null,null,null,null,null,null,null,null,null,null,null,null,null,null,null,null,null,null,null,{"$f":"SUM(R422:R427)","v":0},{"$f":"SUM(S422:S427)","v":0},{"$f":"SUM(T422:T427)","v":0},0,0,0,0,0,0,0,0,0,0,0,0,0,0,0,0,0,0,0,0,0,0,0,0,0,0,0,0,0]
["Zona de Guardianía",{"$f":"B1","v":"Anx:"},{"$f":"C$1","v":"Cant x Espacio:"},"Requerido:","Tipo:","Funcional:","No Funcional:",null,null,"Calif:","Observaciones:",{"$f":"Infraestructura!$F$141","v":0},{"$f":"Infraestructura!$G$141","v":0}]
["Mostrador / escritorio/Mesa de despacho ","EQ_01",1,{"$f":"IF(AND($L$422=0,$M$422=0),0,IF(AND($L$422>0,$M$422>0),($L$422+$M$422)*C423,IF(AND($L$422=0,$M$422>0),C423*$M$422,$L$422*C423)))","v":0},{"$f":"IF(D423>0, \"Requerido\", \"Sin Infraestructura\")","v":"Sin Infraestructura"},0,0,{"$f":"IF(AND(F423>=D423,F423>0,D423>0),10,0)","v":0},{"$f":"IF(AND(G423>=D423,D423>0,G423>=1),10,0)","v":0},{"$f":"H423-I423","v":0},null,null,null,"MG",null,null,null,{"$f":"IF(UPPER(E423)=\"REQUERIDO\", 10, \"\")","v":""},{"$f":"IF(UPPER(E423)=\"REQUERIDO\", H423, \"\")","v":""}]
["Monitor de vigilancia",null,1,{"$f":"IF(AND($L$422=0,$M$422=0),0,IF(AND($L$422>0,$M$422>0),($L$422+$M$422)*C424,IF(AND($L$422=0,$M$422>0),C424*$M$422,$L$422*C424)))","v":0},{"$f":"IF(D424>0, \"Condición\", \"Sin Infraestructura\")","v":"Sin Infraestructura"},0,0,{"$f":"IF(AND(F424>=D424,F424>0,D424>0),10,0)","v":0},{"$f":"IF(AND(G424>=D424,D424>0,G424>=1),10,0)","v":0},{"$f":"H424-I424","v":0},null,null,null,"EG",null,null,null,null,null,null,null,null,null,null,null,null,null,null,null,null,null,null,null,null,null,{"$f":"IF(UPPER(E424)=\"CONDICIÓN\", 10, \"\")","v":""},{"$f":"IF(UPPER(E424)=\"CONDICIÓN\", H424, \"\")","v":""},{"$f":"IF(UPPER(E424)=\"CONDICIÓN\", 10, \"\")","v":""},{"$f":"IF(UPPER(E424)=\"CONDICIÓN\", I424, \"\")","v":""}]
["Basurero",null,1,{"$f":"IF(AND($L$422=0,$M$422=0),0,IF(AND($L$422>0,$M$422>0),($L$422+$M$422)*C425,IF(AND($L$422=0,$M$422>0),C425*$M$422,$L$422*C425)))","v":0},{"$f":"IF(D425>0, \"Requerido\", \"Sin Infraestructura\")","v":"Sin Infraestructura"},0,0,{"$f":"IF(AND(F425>=D425,F425>0,D425>0),10,0)","v":0},{"$f":"IF(AND(G425>=D425,D425>0,G425>=1),10,0)","v":0},{"$f":"H425-I425","v":0},null,null,null,"MG",null,null,null,{"$f":"IF(UPPER(E425)=\"REQUERIDO\", 10, \"\")","v":""},{"$f":"IF(UPPER(E425)=\"REQUERIDO\", H425, \"\")","v":""}]
["Silla",null,1,0,{"$f":"IF(D426>0, \"Requerido\", \"Sin Infraestructura\")","v":"Sin Infraestructura"},0,0,{"$f":"IF(AND(F426>=D426,F426>0,D426>0),10,0)","v":0},{"$f":"IF(AND(G426>=D426,D426>0,G426>=1),10,0)","v":0},{"$f":"H426-I426","v":0},null,null,null,"MG",null,null,null,{"$f":"IF(UPPER(E426)=\"REQUERIDO\", 10, \"\")","v":""},{"$f":"IF(UPPER(E426)=\"REQUERIDO\", H426, \"\")","v":""}]
["Sistema de comunicación",null,1,0,{"$f":"IF(D427>0, \"Requerido\", \"Sin Infraestructura\")","v":"Sin Infraestructura"},0,0,{"$f":"IF(AND(F427>=D427,F427>0,D427>0),10,0)","v":0},{"$f":"IF(AND(G427>=D427,D427>0,G427>=1),10,0)","v":0},{"$f":"H427-I427","v":0},null,null,null,"EG",null,null,null,null,null,null,null,null,null,null,null,null,null,null,null,null,null,null,null,{"$f":"IF(UPPER(E427)=\"REQUERIDO\", 10, \"\")","v":""},{"$f":"IF(UPPER(E427)=\"REQUERIDO\", H427, \"\")","v":""},null,null,null,null,null,null,null,null,null,null,null,null,null,null,"MOBILIARIO GENERAL",null,null,null,null,null,null,null,"MOBILIARIO MEDICO",null,null,null,null,null,null,null,"EQUIPAMIENTO GENERAL",null,null,null,null,null,null,null,"EQUIPAMIENTO MEDICO"]
["TOTALES PARCIALES REQUERIDOS"]
["MOBILIARIO GENERAL:",null,"% Obtenido:","% Obtenido:","% Obtenido:","% A Cumplir:","% Final:",null,null,null,null,null,null,null,null,null,null,null,null,null,null,null,null,null,null,null,null,null,null,null,null,null,null,null,null,null,null,null,null,null,null,null,null,null,null,null,null,null,null,"REQUERIDOS",null,"CONDICIONADOS +",null,"CONDICIONADOS -",null,"DESEABLE",null,"REQUERIDOS",null,"CONDICIONADOS +",null,"CONDICIONADOS -",null,"DESEABLE",null,"REQUERIDOS",null,"CONDICIONADOS +",null,"CONDICIONADOS -",null,"DESEABLE",null,"REQUERIDOS",null,"CONDICIONADOS +",null,"CONDICIONADOS -",null,"DESEABLE"]
[{"$f":"Equipamiento!AP431","v":"ADMINISTRATIVO"},null,{"$f":"Equipamiento!$AY$431*25/100/100","v":0},null,null,{"$f":"Equipamiento!$AX$431*25/10000","v":1.8018018018018018E-2},{"$f":"IF(Equipamiento!$C$430=Equipamiento!$F$430, \"CUMPLE\", \"NO CUMPLE\")","v":"NO CUMPLE"},null,null,null,null,null,null,null,null,null,null,null,null,null,null,null,null,null,null,null,null,null,null,null,null,null,null,null,null,null,null,null,null,null,null,"TOTAL GENERAL:",null,null,null,null,null,null,null,{"$f":"(+Equipamiento!AX4+Equipamiento!AX25+Equipamiento!AX106+Equipamiento!AX203+Equipamiento!AX227+Equipamiento!AX331+Equipamiento!AX286+Equipamiento!AX363)","v":1110},{"$f":"(+Equipamiento!AY4+Equipamiento!AY25+Equipamiento!AY106+Equipamiento!AY203+Equipamiento!AY227+Equipamiento!AY331+Equipamiento!AY286+Equipamiento!AY363)","v":0},{"$f":"(+Equipamiento!AZ4+Equipamiento!AZ25+Equipamiento!AZ106+Equipamiento!AZ203+Equipamiento!AZ227+Equipamiento!AZ331+Equipamiento!AZ286+Equipamiento!AZ363)","v":90},{"$f":"(+Equipamiento!BA4+Equipamiento!BA25+Equipamiento!BA106+Equipamiento!BA203+Equipamiento!BA227+Equipamiento!BA331+Equipamiento!BA286+Equipamiento!BA363)","v":0},{"$f":"(+Equipamiento!BB4+Equipamiento!BB25+Equipamiento!BB106+Equipamiento!BB203+Equipamiento!BB227+Equipamiento!BB331+Equipamiento!BB286+Equipamiento!BB363)","v":90},{"$f":"(+Equipamiento!BC4+Equipamiento!BC25+Equipamiento!BC106+Equipamiento!BC203+Equipamiento!BC227+Equipamiento!BC331+Equipamiento!BC286+Equipamiento!BC363)","v":0},{"$f":"(+Equipamiento!BD4+Equipamiento!BD25+Equipamiento!BD106+Equipamiento!BD203+Equipamiento!BD227+Equipamiento!BD331+Equipamiento!BD286+Equipamiento!BD363)","v":170},{"$f":"(+Equipamiento!BE4+Equipamiento!BE25+Equipamiento!BE106+Equipamiento!BE203+Equipamiento!BE227+Equipamiento!BE331+Equipamiento!BE286+Equipamiento!BE363)","v":0},{"$f":"(+Equipamiento!BF4+Equipamiento!BF25+Equipamiento!BF106+Equipamiento!BF203+Equipamiento!BF227+Equipamiento!BF331+Equipamiento!BF286+Equipamiento!BF363)","v":30},{"$f":"(+Equipamiento!BG4+Equipamiento!BG25+Equipamiento!BG106+Equipamiento!BG203+Equipamiento!BG227+Equipamiento!BG331+Equipamiento!BG286+Equipamiento!BG363)","v":0},{"$f":"(+Equipamiento!BH4+Equipamiento!BH25+Equipamiento!BH106+Equipamiento!BH203+Equipamiento!BH227+Equipamiento!BH331+Equipamiento!BH286+Equipamiento!BH363)","v":20},{"$f":"(+Equipamiento!BI4+Equipamiento!BI25+Equipamiento!BI106+Equipamiento!BI203+Equipamiento!BI227+Equipamiento!BI331+Equipamiento!BI286+Equipamiento!BI363)","v":0},{"$f":"(+Equipamiento!BJ4+Equipamiento!BJ25+Equipamiento!BJ106+Equipamiento!BJ203+Equipamiento!BJ227+Equipamiento!BJ331+Equipamiento!BJ286+Equipamiento!BJ363)","v":20},{"$f":"(+Equipamiento!BK4+Equipamiento!BK25+Equipamiento!BK106+Equipamiento!BK203+Equipamiento!BK227+Equipamiento!BK331+Equipamiento!BK286+Equipamiento!BK363)","v":0},{"$f":"(+Equipamiento!BL4+Equipamiento!BL25+Equipamiento!BL106+Equipamiento!BL203+Equipamiento!BL227+Equipamiento!BL331+Equipamiento!BL286+Equipamiento!BL363)","v":0},{"$f":"(+Equipamiento!BM4+Equipamiento!BM25+Equipamiento!BM106+Equipamiento!BM203+Equipamiento!BM227+Equipamiento!BM331+Equipamiento!BM286+Equipamiento!BM363)","v":0},{"$f":"(+Equipamiento!BN4+Equipamiento!BN25+Equipamiento!BN106+Equipamiento!BN203+Equipamiento!BN227+Equipamiento!BN331+Equipamiento!BN286+Equipamiento!BN363)","v":480},{"$f":"(+Equipamiento!BO4+Equipamiento!BO25+Equipamiento!BO106+Equipamiento!BO203+Equipamiento!BO227+Equipamiento!BO331+Equipamiento!BO286+Equipamiento!BO363)","v":0},{"$f":"(+Equipamiento!BP4+Equipamiento!BP25+Equipamiento!BP106+Equipamiento!BP203+Equipamiento!BP227+Equipamiento!BP331+Equipamiento!BP286+Equipamiento!BP363)","v":30},{"$f":"(+Equipamiento!BQ4+Equipamiento!BQ25+Equipamiento!BQ106+Equipamiento!BQ203+Equipamiento!BQ227+Equipamiento!BQ331+Equipamiento!BQ286+Equipamiento!BQ363)","v":0},{"$f":"(+Equipamiento!BR4+Equipamiento!BR25+Equipamiento!BR106+Equipamiento!BR203+Equipamiento!BR227+Equipamiento!BR331+Equipamiento!BR286+Equipamiento!BR363)","v":30},{"$f":"(+Equipamiento!BS4+Equipamiento!BS25+Equipamiento!BS106+Equipamiento!BS203+Equipamiento!BS227+Equipamiento!BS331+Equipamiento!BS286+Equipamiento!BS363)","v":0},{"$f":"(+Equipamiento!BT4+Equipamiento!BT25+Equipamiento!BT106+Equipamiento!BT203+Equipamiento!BT227+Equipamiento!BT331+Equipamiento!BT286+Equipamiento!BT363)","v":20},{"$f":"(+Equipamiento!BU4+Equipamiento!BU25+Equipamiento!BU106+Equipamiento!BU203+Equipamiento!BU227+Equipamiento!BU331+Equipamiento!BU286+Equipamiento!BU363)","v":0},{"$f":"(+Equipamiento!BV4+Equipamiento!BV25+Equipamiento!BV106+Equipamiento!BV203+Equipamiento!BV227+Equipamiento!BV331+Equipamiento!BV286+Equipamiento!BV363)","v":130},{"$f":"(+Equipamiento!BW4+Equipamiento!BW25+Equipamiento!BW106+Equipamiento!BW203+Equipamiento!BW227+Equipamiento!BW331+Equipamiento!BW286+Equipamiento!BW363)","v":0},{"$f":"(+Equipamiento!BX4+Equipamiento!BX25+Equipamiento!BX106+Equipamiento!BX203+Equipamiento!BX227+Equipamiento!BX331+Equipamiento!BX286+Equipamiento!BX363)","v":70},{"$f":"(+Equipamiento!BY4+Equipamiento!BY25+Equipamiento!BY106+Equipamiento!BY203+Equipamiento!BY227+Equipamiento!BY331+Equipamiento!BY286+Equipamiento!BY363)","v":0},{"$f":"(+Equipamiento!BZ4+Equipamiento!BZ25+Equipamiento!BZ106+Equipamiento!BZ203+Equipamiento!BZ227+Equipamiento!BZ331+Equipamiento!BZ286+Equipamiento!BZ363)","v":70},{"$f":"(+Equipamiento!CA4+Equipamiento!CA25+Equipamiento!CA106+Equipamiento!CA203+Equipamiento!CA227+Equipamiento!CA331+Equipamiento!CA286+Equipamiento!CA363)","v":0},{"$f":"(+Equipamiento!CB4+Equipamiento!CB25+Equipamiento!CB106+Equipamiento!CB203+Equipamiento!CB227+Equipamiento!CB331+Equipamiento!CB286+Equipamiento!CB363)","v":10},{"$f":"(+Equipamiento!CC4+Equipamiento!CC25+Equipamiento!CC106+Equipamiento!CC203+Equipamiento!CC227+Equipamiento!CC331+Equipamiento!CC286+Equipamiento!CC363)","v":0}]
[{"$f":"Equipamiento!AP432","v":"ADMISIÓN Y ESTADÍSTICA"},null,null,{"$f":"Equipamiento!$AY$432*25/100/100","v":0},null,{"$f":"Equipamiento!$AX$432*25/100/100","v":1.8018018018018018E-2},{"$f":"IF(Equipamiento!$D$431=Equipamiento!$F$431, \"CUMPLE\", \"NO CUMPLE\")","v":"NO CUMPLE"},null,null,null,null,null,null,null,null,null,null,null,null,null,null,null,null,null,null,null,null,null,null,null,null,null,null,null,null,null,null,null,null,null,null,"ADMINISTRATIVO",null,null,null,null,null,null,null,{"$f":"AX4*100/AX430","v":7.2072072072072073},{"$f":"AY4*100/AX430","v":0},{"$f":"AZ4*100/AZ430","v":33.333333333333336},{"$f":"BA4*100/AZ430","v":0},{"$f":"BB4*100/BB430","v":33.333333333333336},{"$f":"BC4*100/BB430","v":0},{"$f":"BD4*100/BD430","v":0},{"$f":"BE4*100/BD430","v":0},{"$f":"BF4*100/BF430","v":0},{"$f":"BG4*100/BF430","v":0},{"$f":"BH4*100/BH430","v":0},{"$f":"BI4*100/BH430","v":0},{"$f":"BJ4*100/BJ430","v":0},{"$f":"BK4*100/BJ430","v":0},{"$f":"BL4*100/BL430","v":{"$error":"#DIV/0!"}},{"$f":"BM4*100/BL430","v":{"$error":"#DIV/0!"}},{"$f":"BN4*100/BN430","v":6.25},{"$f":"BO4*100/BN430","v":0},{"$f":"BP4*100/BP430","v":33.333333333333336},{"$f":"BQ4*100/BP430","v":0},{"$f":"BR4*100/BR430","v":33.333333333333336},{"$f":"BS4*100/BR430","v":0},{"$f":"BT4*100/BT430","v":0},{"$f":"BU4*100/BT430","v":0},{"$f":"BV4*100/BV430","v":0},{"$f":"BW4*100/BV430","v":0},{"$f":"BX4*100/BX430","v":0},{"$f":"BY4*100/BX430","v":0},{"$f":"BZ4*100/BZ430","v":0},{"$f":"CA4*100/BZ430","v":0},{"$f":"CB4*100/CB430","v":0},{"$f":"CC4*100/CB430","v":0}]
[{"$f":"Equipamiento!AP433","v":"ÁREA TECNICA - ADMISIÓN - ESTADÍSTICA Y ARCHIVO"},null,null,null,{"$f":"Equipamiento!$AY$433*25/100/100","v":0},{"$f":"Equipamiento!$AX$433*25/100/100","v":1.8018018018018018E-2},{"$f":"IF(Equipamiento!$E$432=Equipamiento!$F$432, \"CUMPLE\", \"NO CUMPLE\")","v":"NO CUMPLE"},null,null,null,null,null,null,null,null,null,null,null,null,null,null,null,null,null,null,null,null,null,null,null,null,null,null,null,null,null,null,null,null,null,null,"ADMISIÓN Y ESTADÍSTICA",null,null,null,null,null,null,null,{"$f":"AX5*100/AX430","v":7.2072072072072073},{"$f":"AY5*100/AX430","v":0},{"$f":"AZ5*100/AZ430","v":33.333333333333336},{"$f":"BA5*100/AZ430","v":0},{"$f":"BB5*100/BB430","v":33.333333333333336},{"$f":"BC5*100/BB430","v":0},{"$f":"BD5*100/BD430","v":0},{"$f":"BE5*100/BD430","v":0},{"$f":"BF5*100/BF430","v":0},{"$f":"BG5*100/BF430","v":0},{"$f":"BH5*100/BH430","v":0},{"$f":"BI5*100/BH430","v":0},{"$f":"BJ5*100/BJ430","v":0},{"$f":"BK5*100/BJ430","v":0},{"$f":"BL5*100/BL430","v":{"$error":"#DIV/0!"}},{"$f":"BM5*100/BL430","v":{"$error":"#DIV/0!"}},{"$f":"BN5*100/BN430","v":6.25},{"$f":"BO5*100/BN430","v":0},{"$f":"BP5*100/BP430","v":33.333333333333336},{"$f":"BQ5*100/BP430","v":0},{"$f":"BR5*100/BR430","v":33.333333333333336},{"$f":"BS5*100/BR430","v":0},{"$f":"BT5*100/BT430","v":0},{"$f":"BU5*100/BT430","v":0},{"$f":"BV5*100/BV430","v":0},{"$f":"BW5*100/BV430","v":0},{"$f":"BX5*100/BX430","v":0},{"$f":"BY5*100/BX430","v":0},{"$f":"BZ5*100/BZ430","v":0},{"$f":"CA5*100/BZ430","v":0},{"$f":"CB5*100/CB430","v":0},{"$f":"CC5*100/CB430","v":0}]
[{"$f":"Equipamiento!AP434","v":"ASISTENCIAL"},null,{"$f":"Equipamiento!$AY$434*25/100/100","v":0},null,null,{"$f":"Equipamiento!$AX$434*25/100/100","v":6.9819819819819828E-2},{"$f":"IF(Equipamiento!$C$433=Equipamiento!$F$433, \"CUMPLE\", \"NO CUMPLE\")","v":"NO CUMPLE"},null,null,null,null,null,null,null,null,null,null,null,null,null,null,null,null,null,null,null,null,null,null,null,null,null,null,null,null,null,null,null,null,null,null,"ÁREA TECNICA - ADMISIÓN - ESTADÍSTICA Y ARCHIVO",null,null,null,null,null,null,null,{"$f":"AX6*100/AX430","v":7.2072072072072073},{"$f":"AY6*100/AX430","v":0},{"$f":"AZ6*100/AZ430","v":33.333333333333336},{"$f":"BA6*100/AZ430","v":0},{"$f":"BB6*100/BB430","v":33.333333333333336},{"$f":"BC6*100/BB430","v":0},{"$f":"BD6*100/BD430","v":0},{"$f":"BE6*100/BD430","v":0},{"$f":"BF6*100/BF430","v":0},{"$f":"BG6*100/BF430","v":0},{"$f":"BH6*100/BH430","v":0},{"$f":"BI6*100/BH430","v":0},{"$f":"BJ6*100/BJ430","v":0},{"$f":"BK6*100/BJ430","v":0},{"$f":"BL6*100/BL430","v":{"$error":"#DIV/0!"}},{"$f":"BM6*100/BL430","v":{"$error":"#DIV/0!"}},{"$f":"BN6*100/BN430","v":6.25},{"$f":"BO6*100/BN430","v":0},{"$f":"BP6*100/BP430","v":33.333333333333336},{"$f":"BQ6*100/BP430","v":0},{"$f":"BR6*100/BR430","v":33.333333333333336},{"$f":"BS6*100/BR430","v":0},{"$f":"BT6*100/BT430","v":0},{"$f":"BU6*100/BT430","v":0},{"$f":"BV6*100/BV430","v":0},{"$f":"BW6*100/BV430","v":0},{"$f":"BX6*100/BX430","v":0},{"$f":"BY6*100/BX430","v":0},{"$f":"BZ6*100/BZ430","v":0},{"$f":"CA6*100/BZ430","v":0},{"$f":"CB6*100/CB430","v":0},{"$f":"CC6*100/CB430","v":0}]
[{"$f":"Equipamiento!AP435","v":"CONSULTA EXTERNA"},null,null,{"$f":"Equipamiento!$AY$435*25/100/100","v":0},null,{"$f":"Equipamiento!$AX$435*25/100/100","v":6.9819819819819828E-2},{"$f":"IF(Equipamiento!$D$434=Equipamiento!$F$434, \"CUMPLE\", \"NO CUMPLE\")","v":"NO CUMPLE"},null,null,null,null,null,null,null,null,null,null,null,null,null,null,null,null,null,null,null,null,null,null,null,null,null,null,null,null,null,null,null,null,null,null,"ASISTENCIAL",null,null,null,null,null,null,null,{"$f":"AX25*100/AX430","v":27.927927927927929},{"$f":"AY25*100/AX430","v":0},{"$f":"AZ25*100/AZ430","v":22.222222222222221},{"$f":"BA25*100/AZ430","v":0},{"$f":"BB25*100/BB430","v":22.222222222222221},{"$f":"BC25*100/BB430","v":0},76.470588235294116,{"$f":"BE25*100/BD430","v":0},33.333333333333336,{"$f":"BG25*100/BF430","v":0},{"$f":"BH25*100/BH430","v":50},{"$f":"BI25*100/BH430","v":0},{"$f":"BJ25*100/BJ430","v":50},{"$f":"BK25*100/BJ430","v":0},{"$f":"BL25*100/BL430","v":{"$error":"#DIV/0!"}},{"$f":"BM25*100/BL430","v":{"$error":"#DIV/0!"}},{"$f":"BN25*100/BN430","v":27.083333333333332},{"$f":"BO25*100/BN430","v":0},{"$f":"BP25*100/BP430","v":0},{"$f":"BQ25*100/BP430","v":0},{"$f":"BR25*100/BR430","v":0},{"$f":"BS25*100/BR430","v":0},{"$f":"BT25*100/BT430","v":100},{"$f":"BU25*100/BT430","v":0},{"$f":"BV25*100/BV430","v":69.230769230769226},{"$f":"BW25*100/BV430","v":0},{"$f":"BX25*100/BX430","v":71.428571428571431},{"$f":"BY25*100/BX430","v":0},{"$f":"BZ25*100/BZ430","v":71.428571428571431},{"$f":"CA25*100/BZ430","v":0},{"$f":"CB25*100/CB430","v":0},{"$f":"CC25*100/CB430","v":0}]
[{"$f":"Equipamiento!AP436","v":"AREA DE CONSULTAS"},null,null,null,{"$f":"Equipamiento!$AY$436*25/100/100","v":0},{"$f":"Equipamiento!$AX$436*25/100/100","v":6.9819819819819828E-2},{"$f":"IF(Equipamiento!$E$435=Equipamiento!$F$435, \"CUMPLE\", \"NO CUMPLE\")","v":"NO CUMPLE"},null,null,null,null,null,null,null,null,null,null,null,null,null,null,null,null,null,null,null,null,null,null,null,null,null,null,null,null,null,null,null,null,null,null,"CONSULTA EXTERNA",null,null,null,null,null,null,null,{"$f":"AX26*100/AX430","v":27.927927927927929},{"$f":"AY26*100/AX430","v":0},{"$f":"AZ26*100/AZ430","v":22.222222222222221},{"$f":"BA26*100/AZ430","v":0},{"$f":"BB26*100/BB430","v":22.222222222222221},{"$f":"BC26*100/BB430","v":0},76.470588235294116,{"$f":"BE26*100/BD430","v":0},33.333333333333336,{"$f":"BG26*100/BF430","v":0},{"$f":"BH26*100/BH430","v":50},{"$f":"BI26*100/BH430","v":0},{"$f":"BJ26*100/BJ430","v":50},{"$f":"BK26*100/BJ430","v":0},{"$f":"BL26*100/BL430","v":{"$error":"#DIV/0!"}},{"$f":"BM26*100/BL430","v":{"$error":"#DIV/0!"}},{"$f":"BN26*100/BN430","v":27.083333333333332},{"$f":"BO26*100/BN430","v":0},{"$f":"BP26*100/BP430","v":0},{"$f":"BQ26*100/BP430","v":0},{"$f":"BR26*100/BR430","v":0},{"$f":"BS26*100/BR430","v":0},{"$f":"BT26*100/BT430","v":100},{"$f":"BU26*100/BT430","v":0},{"$f":"BV26*100/BV430","v":69.230769230769226},{"$f":"BW26*100/BV430","v":0},{"$f":"BX26*100/BX430","v":71.428571428571431},{"$f":"BY26*100/BX430","v":0},{"$f":"BZ26*100/BZ430","v":71.428571428571431},{"$f":"CA26*100/BZ430","v":0},{"$f":"CB26*100/CB430","v":0},{"$f":"CC26*100/CB430","v":0}]
[{"$f":"Equipamiento!AP437","v":"ASISTENCIAL"},null,{"$f":"Equipamiento!$AY$437*25/100/100","v":0},null,null,{"$f":"Equipamiento!$AX$437*25/100/100","v":5.18018018018018E-2},{"$f":"IF(Equipamiento!$C$436=Equipamiento!$F$436, \"CUMPLE\", \"NO CUMPLE\")","v":"NO CUMPLE"},null,null,null,null,null,null,null,null,null,null,null,null,null,null,null,null,null,null,null,null,null,null,null,null,null,null,null,null,null,null,null,null,null,null,"AREA DE CONSULTAS",null,null,null,null,null,null,null,{"$f":"AX27*100/AX430","v":27.927927927927929},{"$f":"AY27*100/AX430","v":0},{"$f":"AZ27*100/AZ430","v":22.222222222222221},{"$f":"BA27*100/AZ430","v":0},{"$f":"BB27*100/BB430","v":22.222222222222221},{"$f":"BC27*100/BB430","v":0},76.470588235294116,{"$f":"BE27*100/BD430","v":0},33.333333333333336,{"$f":"BG27*100/BF430","v":0},{"$f":"BH27*100/BH430","v":50},{"$f":"BI27*100/BH430","v":0},{"$f":"BJ27*100/BJ430","v":50},{"$f":"BK27*100/BJ430","v":0},{"$f":"BL27*100/BL430","v":{"$error":"#DIV/0!"}},{"$f":"BM27*100/BL430","v":{"$error":"#DIV/0!"}},{"$f":"BN27*100/BN430","v":27.083333333333332},{"$f":"BO27*100/BN430","v":0},{"$f":"BP27*100/BP430","v":0},{"$f":"BQ27*100/BP430","v":0},{"$f":"BR27*100/BR430","v":0},{"$f":"BS27*100/BR430","v":0},{"$f":"BT27*100/BT430","v":100},{"$f":"BU27*100/BT430","v":0},{"$f":"BV27*100/BV430","v":69.230769230769226},{"$f":"BW27*100/BV430","v":0},{"$f":"BX27*100/BX430","v":71.428571428571431},{"$f":"BY27*100/BX430","v":0},{"$f":"BZ27*100/BZ430","v":71.428571428571431},{"$f":"CA27*100/BZ430","v":0},{"$f":"CB27*100/CB430","v":0},{"$f":"CC27*100/CB430","v":0}]
[{"$f":"Equipamiento!AP438","v":"INTERNACIÓN/RESIDENCIA"},null,null,{"$f":"Equipamiento!$AY$438*25/100/100","v":0},null,{"$f":"Equipamiento!$AX$438*25/100/100","v":5.18018018018018E-2},{"$f":"IF(Equipamiento!$D$437=Equipamiento!$F$437, \"CUMPLE\", \"NO CUMPLE\")","v":"NO CUMPLE"},null,null,null,null,null,null,null,null,null,null,null,null,null,null,null,null,null,null,null,null,null,null,null,null,null,null,null,null,null,null,null,null,null,null,"ASISTENCIAL",null,null,null,null,null,null,null,{"$f":"AX106*100/AX430","v":20.72072072072072},{"$f":"AY106*100/AX430","v":0},{"$f":"AZ106*100/AZ430","v":11.111111111111111},{"$f":"BA106*100/AZ430","v":0},{"$f":"BB106*100/BB430","v":11.111111111111111},{"$f":"BC106*100/BB430","v":0},17.647058823529413,{"$f":"BE106*100/BD430","v":0},0,{"$f":"BG106*100/BF430","v":0},{"$f":"BH106*100/BH430","v":0},{"$f":"BI106*100/BH430","v":0},{"$f":"BJ106*100/BJ430","v":0},{"$f":"BK106*100/BJ430","v":0},{"$f":"BL106*100/BL430","v":{"$error":"#DIV/0!"}},{"$f":"BM106*100/BL430","v":{"$error":"#DIV/0!"}},{"$f":"BN106*100/BN430","v":8.3333333333333339},{"$f":"BO106*100/BN430","v":0},{"$f":"BP106*100/BP430","v":0},{"$f":"BQ106*100/BP430","v":0},{"$f":"BR106*100/BR430","v":0},{"$f":"BS106*100/BR430","v":0},{"$f":"BT106*100/BT430","v":0},{"$f":"BU106*100/BT430","v":0},{"$f":"BV106*100/BV430","v":0},{"$f":"BW106*100/BV430","v":0},{"$f":"BX106*100/BX430","v":0},{"$f":"BY106*100/BX430","v":0},{"$f":"BZ106*100/BZ430","v":0},{"$f":"CA106*100/BZ430","v":0},{"$f":"CB106*100/CB430","v":0},{"$f":"CC106*100/CB430","v":0}]
[{"$f":"Equipamiento!AP439","v":"ÁREA DE INTERNACIÓN RESIDENCIA"},null,null,null,{"$f":"Equipamiento!$AY$439*25/100/100","v":0},{"$f":"Equipamiento!$AX$439*25/100/100","v":3.8288288288288286E-2},{"$f":"IF(Equipamiento!$E$438=Equipamiento!$F$438, \"CUMPLE\", \"NO CUMPLE\")","v":"NO CUMPLE"},null,null,null,null,null,null,null,null,null,null,null,null,null,null,null,null,null,null,null,null,null,null,null,null,null,null,null,null,null,null,null,null,null,null,"INTERNACIÓN/RESIDENCIA",null,null,null,null,null,null,null,{"$f":"AX107*100/AX430","v":20.72072072072072},{"$f":"AY107*100/AX430","v":0},{"$f":"AZ107*100/AZ430","v":11.111111111111111},{"$f":"BA107*100/AZ430","v":0},{"$f":"BB107*100/BB430","v":11.111111111111111},{"$f":"BC107*100/BB430","v":0},17.647058823529413,{"$f":"BE107*100/BD430","v":0},0,{"$f":"BG107*100/BF430","v":0},{"$f":"BH107*100/BH430","v":0},{"$f":"BI7*100/BH430","v":0},{"$f":"BJ107*100/BJ430","v":0},{"$f":"BK107*100/BJ430","v":0},{"$f":"BL107*100/BL430","v":{"$error":"#DIV/0!"}},{"$f":"BM107*100/BL430","v":{"$error":"#DIV/0!"}},{"$f":"BN107*100/BN430","v":8.3333333333333339},{"$f":"BO107*100/BN430","v":0},{"$f":"BP107*100/BP430","v":0},{"$f":"BQ107*100/BP430","v":0},{"$f":"BR107*100/BR430","v":0},{"$f":"BS107*100/BR430","v":0},{"$f":"BT107*100/BT430","v":0},{"$f":"BU107*100/BT430","v":0},{"$f":"BV107*100/BV430","v":0},{"$f":"BW107*100/BV430","v":0},{"$f":"BX107*100/BX430","v":0},{"$f":"BY107*100/BX430","v":0},{"$f":"BZ107*100/BZ430","v":0},{"$f":"CA107*100/BZ430","v":0},{"$f":"CB107*100/CB430","v":0},{"$f":"CC107*100/CB430","v":0}]
[{"$f":"Equipamiento!AP440","v":"ÁREA DE SOPORTE Y SUMINISTROS"},null,null,null,{"$f":"Equipamiento!$AY$440*25/100/100","v":0},{"$f":"Equipamiento!$AX$440*25/100/100","v":1.3513513513513513E-2},{"$f":"IF(Equipamiento!$E$439=Equipamiento!$F$439, \"CUMPLE\", \"NO CUMPLE\")","v":"NO CUMPLE"},null,null,null,null,null,null,null,null,null,null,null,null,null,null,null,null,null,null,null,null,null,null,null,null,null,null,null,null,null,null,null,null,null,null,"ÁREA DE INTERNACIÓN RESIDENCIA",null,null,null,null,null,null,null,{"$f":"AX108*100/AX430","v":15.315315315315315},{"$f":"AY108*100/AX430","v":0},{"$f":"AZ108*100/AZ430","v":0},{"$f":"BA108*100/AZ430","v":0},{"$f":"BB108*100/BB430","v":0},{"$f":"BC108*100/BB430","v":0},{"$f":"BD108*100/BD430","v":17.647058823529413},{"$f":"BE108*100/BD430","v":0},{"$f":"BF108*100/BF430","v":0},{"$f":"BG108*100/BF430","v":0},{"$f":"BH108*100/BH430","v":0},{"$f":"BI108*100/BH430","v":0},{"$f":"BJ108*100/BJ430","v":0},{"$f":"BK108*100/BJ430","v":0},{"$f":"BL108*100/BL430","v":{"$error":"#DIV/0!"}},{"$f":"BM108*100/BL430","v":{"$error":"#DIV/0!"}},{"$f":"BN108*100/BN430","v":6.25},{"$f":"BO108*100/BN430","v":0},{"$f":"BP108*100/BP430","v":0},{"$f":"BQ108*100/BP430","v":0},{"$f":"BR108*100/BR430","v":0},{"$f":"BS108*100/BR430","v":0},{"$f":"BT108*100/BT430","v":0},{"$f":"BU108*100/BT430","v":0},{"$f":"BV108*100/BV430","v":0},{"$f":"BW108*100/BV430","v":0},{"$f":"BX108*100/BX430","v":0},{"$f":"BY108*100/BX430","v":0},{"$f":"BZ108*100/BZ430","v":0},{"$f":"CA108*100/BZ430","v":0},{"$f":"CB108*100/CB430","v":0},{"$f":"CC108*100/CB430","v":0}]
[{"$f":"AP442","v":"APOYO TERAPEUTICO"},null,{"$f":"Equipamiento!$AY$442*25/100/100","v":0},null,null,{"$f":"Equipamiento!$AX$442*25/100/100","v":2.2522522522522525E-2},{"$f":"IF(Equipamiento!$C$440=Equipamiento!$F$440, \"CUMPLE\", \"NO CUMPLE\")","v":"NO CUMPLE"},null,null,null,null,null,null,null,null,null,null,null,null,null,null,null,null,null,null,null,null,null,null,null,null,null,null,null,null,null,null,null,null,null,null,"ÁREA DE SOPORTE Y SUMINISTROS",null,null,null,null,null,null,null,{"$f":"AX151*100/AX430","v":5.4054054054054053},{"$f":"AY151*100/AX430","v":0},{"$f":"AZ151*100/AZ430","v":11.111111111111111},{"$f":"BA151*100/AZ430","v":0},{"$f":"BB151*100/BB430","v":11.111111111111111},{"$f":"BC151*100/BB430","v":0},{"$f":"BD151*100/BD430","v":0},{"$f":"BE151*100/BD430","v":0},{"$f":"BF151*100/BF430","v":0},{"$f":"BG151*100/BF430","v":0},{"$f":"BH151*100/BH430","v":0},{"$f":"BI151*100/BH430","v":0},{"$f":"BJ151*100/BJ430","v":0},{"$f":"BK151*100/BJ430","v":0},{"$f":"BL151*100/BL430","v":{"$error":"#DIV/0!"}},{"$f":"BM151*100/BL430","v":{"$error":"#DIV/0!"}},{"$f":"BN151*100/BN430","v":2.0833333333333335},{"$f":"BO151*100/BN430","v":0},{"$f":"BP151*100/BP430","v":0},{"$f":"BQ151*100/BP430","v":0},{"$f":"BR151*100/BR430","v":0},{"$f":"BS151*100/BR430","v":0},{"$f":"BT151*100/BT430","v":0},{"$f":"BU151*100/BT430","v":0},{"$f":"BV151*100/BV430","v":0},{"$f":"BW151*100/BV430","v":0},{"$f":"BX151*100/BX430","v":0},{"$f":"BY151*100/BX430","v":0},{"$f":"BZ151*100/BZ430","v":0},{"$f":"CA151*100/BZ430","v":0},{"$f":"CB151*100/CB430","v":0},{"$f":"CC151*100/CB430","v":0}]
["DOTACIÓN DE MEDICAMENTOS Y DISPOSITIVOS MÉDICOS  (FARMACIA)",null,null,{"$f":"Equipamiento!$AY$443*25/100/100","v":0},null,{"$f":"Equipamiento!$AX$443*25/100/100","v":2.2522522522522525E-2},{"$f":"IF(Equipamiento!$D$441=Equipamiento!$F$441, \"CUMPLE\", \"NO CUMPLE\")","v":"NO CUMPLE"},null,null,null,null,null,null,null,null,null,null,null,null,null,null,null,null,null,null,null,null,null,null,null,null,null,null,null,null,null,null,null,null,null,null,"ÁREA DE PERSONAL",null,null,null,null,null,null,null,{"$f":"AX178*100/AX430","v":0},{"$f":"AY178*100/AX430","v":0},{"$f":"AZ178*100/AZ430","v":0},{"$f":"BA178*100/AZ430","v":0},{"$f":"BB178*100/BB430","v":0},{"$f":"BC178*100/BB430","v":0},{"$f":"BD178*100/BD430","v":0},{"$f":"BE178*100/BD430","v":0},{"$f":"BF178*100/BF430","v":0},{"$f":"BG178*100/BF430","v":0},{"$f":"BH178*100/BH430","v":0},{"$f":"BI178*100/BH430","v":0},{"$f":"BJ178*100/BJ430","v":0},{"$f":"BK178*100/BJ430","v":0},{"$f":"BL78*100/BL430","v":{"$error":"#DIV/0!"}},{"$f":"BM178*100/BL430","v":{"$error":"#DIV/0!"}},{"$f":"BN178*100/BN430","v":0},{"$f":"BO178*100/BN430","v":0},{"$f":"BP178*100/BP430","v":0},{"$f":"BQ178*100/BP430","v":0},{"$f":"BR178*100/BR430","v":0},{"$f":"BS178*100/BR430","v":0},{"$f":"BT178*100/BT430","v":0},{"$f":"BU178*100/BT430","v":0},{"$f":"BV178*100/BV430","v":0},{"$f":"BW178*100/BV430","v":0},{"$f":"BX178*100/BX430","v":0},{"$f":"BY178*100/BX430","v":0},{"$f":"BZ178*100/BZ430","v":0},{"$f":"CA178*100/BZ430","v":0},{"$f":"CB178*100/CB430","v":0},{"$f":"CC178*100/CB430","v":0}]
["ÁREA DE FARMACIA",null,null,null,{"$f":"Equipamiento!$AY$444*25/100/100","v":0},{"$f":"Equipamiento!$AX$444*25/100/100","v":2.2522522522522525E-2},{"$f":"IF(Equipamiento!$E$442=Equipamiento!$F$442, \"CUMPLE\", \"NO CUMPLE\")","v":"NO CUMPLE"},null,null,null,null,null,null,null,null,null,null,null,null,null,null,null,null,null,null,null,null,null,null,null,null,null,null,null,null,null,null,null,null,null,null,"APOYO TERAPEUTICO",null,null,null,null,null,null,null,{"$f":"AX203*100/AX430","v":9.0090090090090094},{"$f":"AY203*100/AX430","v":0},{"$f":"AZ203*100/AZ430","v":11.111111111111111},{"$f":"BA203*100/AZ430","v":0},{"$f":"BB203*100/BB430","v":11.111111111111111},{"$f":"BC203*100/BB430","v":0},{"$f":"BD203*100/BD430","v":0},{"$f":"BE203*100/BD430","v":0},{"$f":"BF203*100/BF430","v":0},{"$f":"BG203*100/BF430","v":0},{"$f":"BH203*100/BH430","v":50},{"$f":"BI203*100/BH430","v":0},{"$f":"BJ203*100/BJ430","v":50},{"$f":"BK203*100/BJ430","v":0},{"$f":"BL203*100/BL430","v":{"$error":"#DIV/0!"}},{"$f":"BM203*100/BL430","v":{"$error":"#DIV/0!"}},{"$f":"BN203*100/BN430","v":12.5},{"$f":"BO203*100/BN430","v":0},{"$f":"BP203*100/BP430","v":0},{"$f":"BQ203*100/BP430","v":0},{"$f":"BR203*100/BR430","v":0},{"$f":"BS203*100/BR430","v":0},{"$f":"BT203*100/BT430","v":0},{"$f":"BU203*100/BT430","v":0},{"$f":"BV203*100/BV430","v":0},{"$f":"BW203*100/BV430","v":0},{"$f":"BX203*100/BX430","v":0},{"$f":"BY203*100/BX430","v":0},{"$f":"BZ203*100/BZ430","v":0},{"$f":"CA203*100/BZ430","v":0},{"$f":"CB203*100/CB430","v":0},{"$f":"CC203*100/CB430","v":0}]
["APOYO DIAGNOSTICO Y TERAPEÚTICO",null,{"$f":"Equipamiento!$AY$445*25/100/100","v":0},null,null,{"$f":"Equipamiento!$AX$445*25/100/100","v":1.3513513513513513E-2},{"$f":"IF(Equipamiento!$C$443=Equipamiento!$F$443, \"CUMPLE\", \"NO CUMPLE\")","v":"NO CUMPLE"},null,null,null,null,null,null,null,null,null,null,null,null,null,null,null,null,null,null,null,null,null,null,null,null,null,null,null,null,null,null,null,null,null,null,"DOTACIÓN DE MEDICAMENTOS Y DISPOSITIVOS MÉDICOS  (FARMACIA)",null,null,null,null,null,null,null,{"$f":"AX204*100/AX430","v":9.0090090090090094},{"$f":"AY204*100/AX430","v":0},{"$f":"AZ204*100/AZ430","v":11.111111111111111},{"$f":"BA204*100/AZ430","v":0},{"$f":"BB204*100/BB430","v":11.111111111111111},{"$f":"BC204*100/BB430","v":0},{"$f":"BD204*100/BD430","v":0},{"$f":"BE204*100/BD430","v":0},{"$f":"BF204*100/BF430","v":0},{"$f":"BG204*100/BF430","v":0},{"$f":"BH204*100/BH430","v":50},{"$f":"BI204*100/BH430","v":0},{"$f":"BJ204*100/BJ430","v":50},{"$f":"BK204*100/BJ430","v":0},{"$f":"BL204*100/BL430","v":{"$error":"#DIV/0!"}},{"$f":"BM204*100/BL430","v":{"$error":"#DIV/0!"}},{"$f":"BN204*100/BN430","v":12.5},{"$f":"BO204*100/BN430","v":0},{"$f":"BP204*100/BP430","v":0},{"$f":"BQ204*100/BP430","v":0},{"$f":"BR204*100/BR430","v":0},{"$f":"BS204*100/BR430","v":0},{"$f":"BT204*100/BT430","v":0},{"$f":"BU204*100/BT430","v":0},{"$f":"BV204*100/BV430","v":0},{"$f":"BW204*100/BV430","v":0},{"$f":"BX204*100/BX430","v":0},{"$f":"BY204*100/BX430","v":0},{"$f":"BZ204*100/BZ430","v":0},{"$f":"CA204*100/BZ430","v":0},{"$f":"CB204*100/CB430","v":0},{"$f":"CC204*100/CB430","v":0}]
["REHABILITACIÓN",null,null,{"$f":"Equipamiento!$AY$446*25/100/100","v":0},null,{"$f":"Equipamiento!$AX$446*25/100/100","v":1.3513513513513513E-2},{"$f":"IF(Equipamiento!$D$444=Equipamiento!$F$444, \"CUMPLE\", \"NO CUMPLE\")","v":"NO CUMPLE"},null,null,null,null,null,null,null,null,null,null,null,null,null,null,null,null,null,null,null,null,null,null,null,null,null,null,null,null,null,null,null,null,null,null,"ÁREA DE FARMACIA",null,null,null,null,null,null,null,{"$f":"AX205*100/AX430","v":9.0090090090090094},{"$f":"AY205*100/AX430","v":0},{"$f":"AZ205*100/AZ430","v":11.111111111111111},{"$f":"BA205*100/AZ430","v":0},{"$f":"BB205*100/BB430","v":11.111111111111111},{"$f":"BC205*100/BB430","v":0},{"$f":"BD205*100/BD430","v":0},{"$f":"BE205*100/BD430","v":0},{"$f":"BF205*100/BF430","v":0},{"$f":"BG205*100/BF430","v":0},{"$f":"BH205*100/BH430","v":50},{"$f":"BI205*100/BH430","v":0},{"$f":"BJ205*100/BJ430","v":50},{"$f":"BK205*100/BJ430","v":0},{"$f":"BL205*100/BL430","v":{"$error":"#DIV/0!"}},{"$f":"BM205*100/BL430","v":{"$error":"#DIV/0!"}},{"$f":"BN205*100/BN430","v":12.5},{"$f":"BO205*100/BN430","v":0},{"$f":"BP205*100/BP430","v":0},{"$f":"BQ205*100/BP430","v":0},{"$f":"BR205*100/BR430","v":0},{"$f":"BS205*100/BR430","v":0},{"$f":"BT205*100/BT430","v":0},{"$f":"BU205*100/BT430","v":0},{"$f":"BV205*100/BV430","v":0},{"$f":"BW205*100/BV430","v":0},{"$f":"BX205*100/BX430","v":0},{"$f":"BY205*100/BX430","v":0},{"$f":"BZ205*100/BZ430","v":0},{"$f":"CA205*100/BZ430","v":0},{"$f":"CB205*100/CB430","v":0},{"$f":"CC205*100/CB430","v":0}]
["ÁREA DE TERAPIAS",null,null,null,{"$f":"Equipamiento!$AY$447*25/100/100","v":0},{"$f":"Equipamiento!$AX$447*25/100/100","v":1.3513513513513513E-2},{"$f":"IF(Equipamiento!$E$445=Equipamiento!$F$445, \"CUMPLE\", \"NO CUMPLE\")","v":"NO CUMPLE"},null,null,null,null,null,null,null,null,null,null,null,null,null,null,null,null,null,null,null,null,null,null,null,null,null,null,null,null,null,null,null,null,null,null,"APOYO DIAGNOSTICO Y TERAPEÚTICO",null,null,null,null,null,null,null,{"$f":"AX227*100/AX430","v":5.4054054054054053},{"$f":"AY227*100/AX430","v":0},{"$f":"AZ227*100/AZ430","v":11.111111111111111},{"$f":"BA227*100/AZ430","v":0},{"$f":"BB227*100/BB430","v":11.111111111111111},{"$f":"BC227*100/BB430","v":0},{"$f":"BD227*100/BD430","v":0},{"$f":"BE227*100/BD430","v":0},{"$f":"BF227*100/BF430","v":33.333333333333336},{"$f":"BG227*100/BF430","v":0},{"$f":"BH227*100/BH430","v":0},{"$f":"BI227*100/BH430","v":0},{"$f":"BJ227*100/BJ430","v":0},{"$f":"BK227*100/BJ430","v":0},{"$f":"BL227*100/BL430","v":{"$error":"#DIV/0!"}},{"$f":"BM227*100/BL430","v":{"$error":"#DIV/0!"}},{"$f":"BN227*100/BN430","v":8.3333333333333339},{"$f":"BO227*100/BN430","v":0},{"$f":"BP227*100/BP430","v":0},{"$f":"BQ227*100/BP430","v":0},{"$f":"BR227*100/BR430","v":0},{"$f":"BS227*100/BR430","v":0},{"$f":"BT227*100/BT430","v":0},{"$f":"BU227*100/BT430","v":0},{"$f":"BV227*100/BV430","v":30.76923076923077},{"$f":"BW227*100/BV430","v":0},{"$f":"BX227*100/BX430","v":28.571428571428573},{"$f":"BY227*100/BX430","v":0},{"$f":"BZ227*100/BZ430","v":28.571428571428573},{"$f":"CA227*100/BZ430","v":0},{"$f":"CB227*100/CB430","v":100},{"$f":"CC227*100/CB430","v":0}]
["APOYO TERAPEÚTICO",null,{"$f":"Equipamiento!$AY$448*25/100/100","v":0},null,null,{"$f":"Equipamiento!$AX$448*25/100/100","v":2.9279279279279279E-2},{"$f":"IF(Equipamiento!$C$446=Equipamiento!$F$446, \"CUMPLE\", \"NO CUMPLE\")","v":"NO CUMPLE"},null,null,null,null,null,null,null,null,null,null,null,null,null,null,null,null,null,null,null,null,null,null,null,null,null,null,null,null,null,null,null,null,null,null,"REHABILITACIÓN",null,null,null,null,null,null,null,{"$f":"AX228*100/AX430","v":5.4054054054054053},{"$f":"AY228*100/AX430","v":0},{"$f":"AZ228*100/AZ430","v":11.111111111111111},{"$f":"BA228*100/AZ430","v":0},{"$f":"BB228*100/BB430","v":11.111111111111111},{"$f":"BC228*100/BB430","v":0},{"$f":"BD228*100/BD430","v":0},{"$f":"BE228*100/BD430","v":0},{"$f":"BF228*100/BF430","v":33.333333333333336},{"$f":"BG228*100/BF430","v":0},{"$f":"BH228*100/BH430","v":0},{"$f":"BI228*100/BH430","v":0},{"$f":"BJ228*100/BJ430","v":0},{"$f":"BK228*100/BJ430","v":0},{"$f":"BL228*100/BL430","v":{"$error":"#DIV/0!"}},{"$f":"BM228*100/BL430","v":{"$error":"#DIV/0!"}},{"$f":"BN228*100/BN430","v":8.3333333333333339},{"$f":"BO228*100/BN430","v":0},{"$f":"BP228*100/BP430","v":0},{"$f":"BQ228*100/BP430","v":0},{"$f":"BR228*100/BR430","v":0},{"$f":"BS228*100/BR430","v":0},{"$f":"BT228*100/BT430","v":0},{"$f":"BT228*100/BT430","v":0},{"$f":"BV228*100/BV430","v":30.76923076923077},{"$f":"BW228*100/BV430","v":0},{"$f":"BX228*100/BX430","v":28.571428571428573},{"$f":"BY228*100/BX430","v":0},{"$f":"BZ228*100/BZ430","v":28.571428571428573},{"$f":"CA228*100/BZ430","v":0},{"$f":"CB228*100/CB430","v":100},{"$f":"CC228*100/CB430","v":0}]
["NUTRICIÓN DIETÉTICA",null,null,{"$f":"Equipamiento!$AY$449*25/100/100","v":0},null,{"$f":"Equipamiento!$AX$449*25/100/100","v":2.9279279279279279E-2},{"$f":"IF(Equipamiento!$D$447=Equipamiento!$F$447, \"CUMPLE\", \"NO CUMPLE\")","v":"NO CUMPLE"},null,null,null,null,null,null,null,null,null,null,null,null,null,null,null,null,null,null,null,null,null,null,null,null,null,null,null,null,null,null,null,null,null,null,"ÁREA DE TERAPIAS",null,null,null,null,null,null,null,{"$f":"AX229*100/AX430","v":5.4054054054054053},{"$f":"AY229*100/AX430","v":0},{"$f":"AZ229*100/AZ430","v":11.111111111111111},{"$f":"BA229*100/AZ430","v":0},{"$f":"BB229*100/BB430","v":11.111111111111111},{"$f":"BC229*100/BB430","v":0},{"$f":"BD229*100/BD430","v":0},{"$f":"BE229*100/BD430","v":0},{"$f":"BF229*100/BF430","v":33.333333333333336},{"$f":"BG229*100/BF430","v":0},{"$f":"BH229*100/BH430","v":0},{"$f":"BI229*100/BH430","v":0},{"$f":"BJ229*100/BJ430","v":0},{"$f":"BK229*100/BJ430","v":0},{"$f":"BL229*100/BL430","v":{"$error":"#DIV/0!"}},{"$f":"BM229*100/BL430","v":{"$error":"#DIV/0!"}},{"$f":"BN229*100/BN430","v":8.3333333333333339},{"$f":"BO229*100/BN430","v":0},{"$f":"BP229*100/BP430","v":0},{"$f":"BQ229*100/BP430","v":0},{"$f":"BR229*100/BR430","v":0},{"$f":"BS229*100/BR430","v":0},{"$f":"BT229*100/BT430","v":0},{"$f":"BT229*100/BT430","v":0},{"$f":"BV229*100/BV430","v":30.76923076923077},{"$f":"BW229*100/BV430","v":0},{"$f":"BX229*100/BX430","v":28.571428571428573},{"$f":"BY229*100/BX430","v":0},{"$f":"BZ229*100/BZ430","v":28.571428571428573},{"$f":"CA229*100/BZ430","v":0},{"$f":"CB229*100/CB430","v":100},{"$f":"CC229*100/CB430","v":0}]
["ÁREA COMEDOR",null,null,null,{"$f":"Equipamiento!$AY$450*25/100/100","v":0},{"$f":"Equipamiento!$AX$450*25/100/100","v":6.7567567567567563E-3},{"$f":"IF(Equipamiento!$E$448=Equipamiento!$F$448, \"CUMPLE\", \"NO CUMPLE\")","v":"NO CUMPLE"},null,null,null,null,null,null,null,null,null,null,null,null,null,null,null,null,null,null,null,null,null,null,null,null,null,null,null,null,null,null,null,null,null,null,"APOYO TERAPEÚTICO",null,null,null,null,null,null,null,{"$f":"AX286*100/AX430","v":11.711711711711711},{"$f":"AY286*100/AX430","v":0},{"$f":"AZ286*100/AZ430","v":11.111111111111111},{"$f":"BA286*100/AZ430","v":0},{"$f":"BB286*100/BB430","v":11.111111111111111},{"$f":"BC286*100/BB430","v":0},{"$f":"BD286*100/BD430","v":0},{"$f":"BE286*100/BD430","v":0},{"$f":"BF286*100/BF430","v":33.333333333333336},{"$f":"BG286*100/BF430","v":0},{"$f":"BH286*100/BH430","v":0},{"$f":"BI286*100/BH430","v":0},{"$f":"BJ286*100/BJ430","v":0},{"$f":"BK286*100/BJ430","v":0},{"$f":"BL286*100/BL430","v":{"$error":"#DIV/0!"}},{"$f":"BM286*100/BL430","v":{"$error":"#DIV/0!"}},{"$f":"BN286*100/BN430","v":10.416666666666666},{"$f":"BO286*100/BN430","v":0},{"$f":"BP286*100/BP430","v":66.666666666666671},{"$f":"BQ286*100/BP430","v":0},{"$f":"BR286*100/BR430","v":66.666666666666671},{"$f":"BS286*100/BR430","v":0},{"$f":"BT286*100/BT430","v":0},{"$f":"BU286*100/BT430","v":0},{"$f":"BV286*100/BV430","v":0},{"$f":"BW286*100/BV430","v":0},{"$f":"BX286*100/BX430","v":0},{"$f":"BY286*100/BX430","v":0},{"$f":"BZ286*100/BZ430","v":0},{"$f":"CA286*100/BZ430","v":0},{"$f":"CB286*100/CB430","v":0},{"$f":"CC286*100/CB430","v":0}]
["ÁREA TECNICA DE COCINA",null,null,null,{"$f":"Equipamiento!$AY$451*25/100/100","v":0},{"$f":"Equipamiento!$AX$451*25/100/100","v":2.2522522522522525E-2},{"$f":"IF(Equipamiento!$E$449=Equipamiento!$F$449, \"CUMPLE\", \"NO CUMPLE\")","v":"NO CUMPLE"},null,null,null,null,null,null,null,null,null,null,null,null,null,null,null,null,null,null,null,null,null,null,null,null,null,null,null,null,null,null,null,null,null,null,"NUTRICIÓN DIETÉTICA",null,null,null,null,null,null,null,{"$f":"AX287*100/AX430","v":11.711711711711711},{"$f":"AY287*100/AX430","v":0},{"$f":"AZ287*100/AZ430","v":11.111111111111111},{"$f":"BA287*100/AZ430","v":0},{"$f":"BB287*100/BB430","v":11.111111111111111},{"$f":"BC287*100/BB430","v":0},{"$f":"BD287*100/BD430","v":0},{"$f":"BE287*100/BD430","v":0},{"$f":"BF287*100/BF430","v":33.333333333333336},{"$f":"BG287*100/BF430","v":0},{"$f":"BH287*100/BH430","v":0},{"$f":"BI287*100/BH430","v":0},{"$f":"BJ287*100/BJ430","v":0},{"$f":"BK287*100/BJ430","v":0},{"$f":"BL287*100/BL430","v":{"$error":"#DIV/0!"}},{"$f":"BM287*100/BL430","v":{"$error":"#DIV/0!"}},{"$f":"BN287*100/BN430","v":10.416666666666666},{"$f":"BO287*100/BN430","v":0},{"$f":"BP287*100/BP430","v":66.666666666666671},{"$f":"BQ287*100/BP430","v":0},{"$f":"BR287*100/BR430","v":66.666666666666671},{"$f":"BS287*100/BR430","v":0},{"$f":"BT287*100/BT430","v":0},{"$f":"BU287*100/BT430","v":0},{"$f":"BV287*100/BV430","v":0},{"$f":"BW287*100/BV430","v":0},{"$f":"BX287*100/BX430","v":0},{"$f":"BY287*100/BX430","v":0},{"$f":"BZ287*100/BZ430","v":0},{"$f":"CA287*100/BZ430","v":0},{"$f":"CB287*100/CB430","v":0},{"$f":"CC287*100/CB430","v":0}]
["ADMINISTRATIVO",null,{"$f":"Equipamiento!$AY$452*25/100/100","v":0},null,null,{"$f":"Equipamiento!$AX$452*25/100/100","v":2.4774774774774775E-2},{"$f":"IF(C450=F450, \"CUMPLE\", \"NO CUMPLE\")","v":"NO CUMPLE"},null,null,null,null,null,null,null,null,null,null,null,null,null,null,null,null,null,null,null,null,null,null,null,null,null,null,null,null,null,null,null,null,null,null,"ÁREA COMEDOR",null,null,null,null,null,null,null,{"$f":"AX288*100/AX430","v":2.7027027027027026},{"$f":"AY288*100/AX430","v":0},{"$f":"AZ288*100/AZ430","v":11.111111111111111},{"$f":"BA288*100/AZ430","v":0},{"$f":"BB288*100/BB430","v":11.111111111111111},{"$f":"BC288*100/BB430","v":0},{"$f":"BD288*100/BD430","v":0},{"$f":"BE288*100/BD430","v":0},{"$f":"BF288*100/BF430","v":0},{"$f":"BG288*100/BF430","v":0},{"$f":"BH288*100/BH430","v":0},{"$f":"BI288*100/BH430","v":0},{"$f":"BJ288*100/BJ430","v":0},{"$f":"BK288*100/BJ430","v":0},{"$f":"BL288*100/BL430","v":{"$error":"#DIV/0!"}},{"$f":"BM288*100/BL430","v":{"$error":"#DIV/0!"}},{"$f":"BN288*100/BN430","v":0},{"$f":"BO288*100/BN430","v":0},{"$f":"BP288*100/BP430","v":66.666666666666671},{"$f":"BQ288*100/BP430","v":0},{"$f":"BR288*100/BR430","v":66.666666666666671},{"$f":"BS288*100/BR430","v":0},{"$f":"BT288*100/BT430","v":0},{"$f":"BU288*100/BT430","v":0},{"$f":"BV288*100/BV430","v":0},{"$f":"BW288*100/BV430","v":0},{"$f":"BX288*100/BX430","v":0},{"$f":"BY288*100/BX430","v":0},{"$f":"BZ288*100/BZ430","v":0},{"$f":"CA288*100/BZ430","v":0},{"$f":"CB288*100/CB430","v":0},{"$f":"CC288*100/CB430","v":0}]
["ADMINISTRACIÓN TÉCNICA",null,null,{"$f":"Equipamiento!$AY$453*25/100/100","v":0},null,{"$f":"Equipamiento!$AX$453*25/100/100","v":2.4774774774774775E-2},{"$f":"IF(Equipamiento!$D$451=Equipamiento!$F$451, \"CUMPLE\", \"NO CUMPLE\")","v":"NO CUMPLE"},null,null,null,null,null,null,null,null,null,null,null,null,null,null,null,null,null,null,null,null,null,null,null,null,null,null,null,null,null,null,null,null,null,null,"ÁREA TECNICA DE COCINA",null,null,null,null,null,null,null,{"$f":"AX307*100/AX430","v":9.0090090090090094},{"$f":"AY307*100/AX430","v":0},{"$f":"AZ307*100/AZ430","v":0},{"$f":"BA307*100/AZ430","v":0},{"$f":"BB307*100/BB430","v":0},{"$f":"BC307*100/BB430","v":0},{"$f":"BD307*100/BD430","v":0},{"$f":"BE307*100/BD430","v":0},{"$f":"BF307*100/BF430","v":33.333333333333336},{"$f":"BG307*100/BF430","v":0},{"$f":"BH307*100/BH430","v":0},{"$f":"BI307*100/BH430","v":0},{"$f":"BJ307*100/BJ430","v":0},{"$f":"BK307*100/BJ430","v":0},{"$f":"BL307*100/BL430","v":{"$error":"#DIV/0!"}},{"$f":"BM307*100/BL430","v":{"$error":"#DIV/0!"}},{"$f":"BN307*100/BN430","v":10.416666666666666},{"$f":"BO307*100/BN430","v":0},{"$f":"BP307*100/BP430","v":0},{"$f":"BQ307*100/BP430","v":0},{"$f":"BR307*100/BR430","v":0},{"$f":"BS307*100/BR430","v":0},{"$f":"BT307*100/BT430","v":0},{"$f":"BU307*100/BT430","v":0},{"$f":"BV307*100/BV430","v":0},{"$f":"BW307*100/BV430","v":0},{"$f":"BX307*100/BX430","v":0},{"$f":"BY307*100/BX430","v":0},{"$f":"BZ307*100/BZ430","v":0},{"$f":"CA307*100/BZ430","v":0},{"$f":"CB307*100/CB430","v":0},{"$f":"CC307*100/CB430","v":0}]
["ÁREA TÉCNICA",null,null,null,{"$f":"Equipamiento!$AY$454*25/100/100","v":0},{"$f":"Equipamiento!$AX$454*25/100/100","v":2.4774774774774775E-2},{"$f":"IF(E452=F452, \"CUMPLE\", \"NO CUMPLE\")","v":"NO CUMPLE"},null,null,null,null,null,null,null,null,null,null,null,null,null,null,null,null,null,null,null,null,null,null,null,null,null,null,null,null,null,null,null,null,null,null,"ADMINISTRATIVO",null,null,null,null,null,null,null,{"$f":"AX331*100/AX430","v":9.9099099099099099},{"$f":"AY331*100/AX430","v":0},{"$f":"AZ331*100/AZ430","v":0},{"$f":"BA331*100/AZ430","v":0},{"$f":"BB331*100/BB430","v":0},{"$f":"BC331*100/BB430","v":0},{"$f":"BD331*100/BD430","v":5.882352941176471},{"$f":"BE331*100/BD430","v":0},{"$f":"BF331*100/BF430","v":0},{"$f":"BG331*100/BF430","v":0},{"$f":"BH331*100/BH430","v":0},{"$f":"BI331*100/BH430","v":0},{"$f":"BJ331*100/BJ430","v":0},{"$f":"BK331*100/BJ430","v":0},{"$f":"BL331*100/BL430","v":{"$error":"#DIV/0!"}},{"$f":"BM331*100/BL430","v":{"$error":"#DIV/0!"}},{"$f":"BN331*100/BN430","v":4.166666666666667},{"$f":"BO331*100/BN430","v":0},{"$f":"BP331*100/BP430","v":0},{"$f":"BQ331*100/BP430","v":0},{"$f":"BR331*100/BR430","v":0},{"$f":"BS331*100/BR430","v":0},{"$f":"BT331*100/BT430","v":0},{"$f":"BU331*100/BT430","v":0},{"$f":"BV331*100/BV430","v":0},{"$f":"BW331*100/BV430","v":0},{"$f":"BX331*100/BX430","v":0},{"$f":"BY331*100/BX430","v":0},{"$f":"BZ331*100/BZ430","v":0},{"$f":"CA331*100/BZ430","v":0},{"$f":"CB331*100/CB430","v":0},{"$f":"CC331*100/CB430","v":0}]
["GENERAL",null,{"$f":"Equipamiento!$AY$455*25/100/100","v":0},null,null,{"$f":"Equipamiento!$AX$455*25/100/100","v":2.0270270270270271E-2},{"$f":"IF(Equipamiento!$C$453=Equipamiento!$F$453, \"CUMPLE\", \"NO CUMPLE\")","v":"NO CUMPLE"},null,null,null,null,null,null,null,null,null,null,null,null,null,null,null,null,null,null,null,null,null,null,null,null,null,null,null,null,null,null,null,null,null,null,"ADMINISTRACIÓN TÉCNICA",null,null,null,null,null,null,null,{"$f":"AX332*100/AX430","v":9.9099099099099099},{"$f":"AY332*100/AX430","v":0},{"$f":"AZ332*100/AZ430","v":0},{"$f":"BA332*100/AZ430","v":0},{"$f":"BB332*100/BB430","v":0},{"$f":"BC332*100/BB430","v":0},{"$f":"BD332*100/BD430","v":5.882352941176471},{"$f":"BE332*100/BD430","v":0},{"$f":"BF332*100/BF430","v":0},{"$f":"BG332*100/BF430","v":0},{"$f":"BH332*100/BH430","v":0},{"$f":"BI332*100/BH430","v":0},{"$f":"BJ332*100/BJ430","v":0},{"$f":"BK332*100/BJ430","v":0},{"$f":"BL332*100/BL430","v":{"$error":"#DIV/0!"}},{"$f":"BM332*100/BL430","v":{"$error":"#DIV/0!"}},{"$f":"BN332*100/BN430","v":4.166666666666667},{"$f":"BO332*100/BN430","v":0},{"$f":"BP332*100/BP430","v":0},{"$f":"BQ332*100/BP430","v":0},{"$f":"BR332*100/BR430","v":0},{"$f":"BS332*100/BR430","v":0},{"$f":"BT332*100/BT430","v":0},{"$f":"BU332*100/BT430","v":0},{"$f":"BV332*100/BV430","v":0},{"$f":"BW332*100/BV430","v":0},{"$f":"BX332*100/BX430","v":0},{"$f":"BY332*100/BX430","v":0},{"$f":"BZ332*100/BZ430","v":0},{"$f":"CA332*100/BZ430","v":0},{"$f":"CB332*100/CB430","v":0},{"$f":"CC332*100/CB430","v":0}]
["SERVICIOS INTERNOS DE APOYO",null,null,{"$f":"Equipamiento!$AY$456*25/100/100","v":0},null,{"$f":"Equipamiento!$AX$456*25/100/100","v":2.0270270270270271E-2},{"$f":"IF(Equipamiento!$D$454=Equipamiento!$F$454, \"CUMPLE\", \"NO CUMPLE\")","v":"NO CUMPLE"},null,null,null,null,null,null,null,null,null,null,null,null,null,null,null,null,null,null,null,null,null,null,null,null,null,null,null,null,null,null,null,null,null,null,"ÁREA TÉCNICA",null,null,null,null,null,null,null,{"$f":"AX333*100/AX430","v":9.9099099099099099},{"$f":"AY333*100/AX430","v":0},{"$f":"AZ333*100/AZ430","v":0},{"$f":"BA333*100/AZ430","v":0},{"$f":"BB333*100/BB430","v":0},{"$f":"BC333*100/BB430","v":0},{"$f":"BD333*100/BD430","v":5.882352941176471},{"$f":"BE333*100/BD430","v":0},{"$f":"BF333*100/BF430","v":0},{"$f":"BG333*100/BF430","v":0},{"$f":"BH333*100/BH430","v":0},{"$f":"BI333*100/BH430","v":0},{"$f":"BJ333*100/BJ430","v":0},{"$f":"BK333*100/BJ430","v":0},{"$f":"BL333*100/BL430","v":{"$error":"#DIV/0!"}},{"$f":"BM333*100/BL430","v":{"$error":"#DIV/0!"}},{"$f":"BN333*100/BN430","v":4.166666666666667},{"$f":"BO333*100/BN430","v":0},{"$f":"BP333*100/BP430","v":0},{"$f":"BQ333*100/BP430","v":0},{"$f":"BR333*100/BR430","v":0},{"$f":"BS333*100/BR430","v":0},{"$f":"BT333*100/BT430","v":0},{"$f":"BU333*100/BT430","v":0},{"$f":"BV333*100/BV430","v":0},{"$f":"BW333*100/BV430","v":0},{"$f":"BX333*100/BX430","v":0},{"$f":"BY333*100/BX430","v":0},{"$f":"BZ333*100/BZ430","v":0},{"$f":"CA333*100/BZ430","v":0},{"$f":"CB333*100/CB430","v":0},{"$f":"CC333*100/CB430","v":0}]
["LAVANDERÍA",null,null,null,{"$f":"Equipamiento!$AY$457*25/100/100","v":0},{"$f":"Equipamiento!$AX$457*25/100/100","v":1.1261261261261262E-2},{"$f":"IF(Equipamiento!$E$455=Equipamiento!$F$455, \"CUMPLE\", \"NO CUMPLE\")","v":"NO CUMPLE"},null,null,null,null,null,null,null,null,null,null,null,null,null,null,null,null,null,null,null,null,null,null,null,null,null,null,null,null,null,null,null,null,null,null,"GENERAL",null,null,null,null,null,null,null,{"$f":"AX363*100/AX430","v":8.1081081081081088},{"$f":"AY363*100/AX430","v":0},{"$f":"AZ363*100/AZ430","v":0},{"$f":"BA363*100/AZ430","v":0},{"$f":"BB363*100/BB430","v":0},{"$f":"BC363*100/BB430","v":0},{"$f":"BD363*100/BD430","v":0},{"$f":"BE363*100/BD430","v":0},{"$f":"BF363*100/BF430","v":0},{"$f":"BG363*100/BF430","v":0},{"$f":"BH363*100/BH430","v":0},{"$f":"BI363*100/BH430","v":0},{"$f":"BJ363*100/BJ430","v":0},{"$f":"BK363*100/BJ430","v":0},{"$f":"BL363*100/BL430","v":{"$error":"#DIV/0!"}},{"$f":"BM363*100/BL430","v":{"$error":"#DIV/0!"}},{"$f":"BN363*100/BN430","v":22.916666666666668},{"$f":"BO363*100/BN430","v":0},{"$f":"BP363*100/BP430","v":0},{"$f":"BQ363*100/BP430","v":0},{"$f":"BR363*100/BR430","v":0},{"$f":"BS363*100/BR430","v":0},{"$f":"BT363*100/BT430","v":0},{"$f":"BU363*100/BT430","v":0},{"$f":"BV363*100/BV430","v":0},{"$f":"BW363*100/BV430","v":0},{"$f":"BX363*100/BX430","v":0},{"$f":"BY363*100/BX430","v":0},{"$f":"BZ363*100/BZ430","v":0},{"$f":"CA363*100/BZ430","v":0},{"$f":"CB363*100/CB430","v":0},{"$f":"CC363*100/CB430","v":0}]
["LIMPIEZA",null,null,null,{"$f":"Equipamiento!$AY$458*25/100/100","v":0},{"$f":"Equipamiento!$AX$458*25/100/100","v":2.2522522522522522E-3},{"$f":"IF(Equipamiento!$E$456=Equipamiento!$F$456, \"CUMPLE\", \"NO CUMPLE\")","v":"NO CUMPLE"},null,null,null,null,null,null,null,null,null,null,null,null,null,null,null,null,null,null,null,null,null,null,null,null,null,null,null,null,null,null,null,null,null,null,"SERVICIOS INTERNOS DE APOYO",null,null,null,null,null,null,null,{"$f":"AX364*100/AX430","v":8.1081081081081088},{"$f":"AY364*100/AX430","v":0},{"$f":"AZ364*100/AZ430","v":0},{"$f":"BA364*100/AZ430","v":0},{"$f":"BB364*100/BB430","v":0},{"$f":"BC364*100/BB430","v":0},{"$f":"BD364*100/BD430","v":0},{"$f":"BE364*100/BD430","v":0},{"$f":"BF364*100/BF430","v":0},{"$f":"BG364*100/BF430","v":0},{"$f":"BH364*100/BH430","v":0},{"$f":"BI364*100/BH430","v":0},{"$f":"BJ364*100/BJ430","v":0},{"$f":"BK364*100/BJ430","v":0},{"$f":"BL364*100/BL430","v":{"$error":"#DIV/0!"}},{"$f":"BM364*100/BL430","v":{"$error":"#DIV/0!"}},{"$f":"BN364*100/BN430","v":22.916666666666668},{"$f":"BO364*100/BN430","v":0},{"$f":"BP364*100/BP430","v":0},{"$f":"BQ364*100/BP430","v":0},{"$f":"BR364*100/BR430","v":0},{"$f":"BS364*100/BR430","v":0},{"$f":"BT364*100/BT430","v":0},{"$f":"BU364*100/BT430","v":0},{"$f":"BV364*100/BV430","v":0},{"$f":"BW364*100/BV430","v":0},{"$f":"BX364*100/BX430","v":0},{"$f":"BY364*100/BX430","v":0},{"$f":"BZ364*100/BZ430","v":0},{"$f":"CA364*100/BZ430","v":0},{"$f":"CB364*100/CB430","v":0},{"$f":"CC364*100/CB430","v":0}]
["ÁREA DE ALMACENAMIENTO FINAL DE DESECHOS",null,null,null,{"$f":"Equipamiento!$AY$459*25/100/100","v":0},{"$f":"Equipamiento!$AX$459*25/100/100","v":6.7567567567567563E-3},{"$f":"IF(Equipamiento!$E$457=Equipamiento!$F$457, \"CUMPLE\", \"NO CUMPLE\")","v":"NO CUMPLE"},null,null,null,null,null,null,null,null,null,null,null,null,null,null,null,null,null,null,null,null,null,null,null,null,null,null,null,null,null,null,null,null,null,null,"LAVANDERÍA",null,null,null,null,null,null,null,{"$f":"AX365*100/AX430","v":4.5045045045045047},{"$f":"AY365*100/AX430","v":0},{"$f":"AZ365*100/AZ430","v":0},{"$f":"BA365*100/AZ430","v":0},{"$f":"BB365*100/BB430","v":0},{"$f":"BC365*100/BB430","v":0},{"$f":"BD365*100/BD430","v":0},{"$f":"BE365*100/BD430","v":0},{"$f":"BF365*100/BF430","v":0},{"$f":"BG365*100/BF430","v":0},{"$f":"BH365*100/BH430","v":0},{"$f":"BI365*100/BH430","v":0},{"$f":"BJ365*100/BJ430","v":0},{"$f":"BK365*100/BJ430","v":0},{"$f":"BL365*100/BL430","v":{"$error":"#DIV/0!"}},{"$f":"BM365*100/BL430","v":{"$error":"#DIV/0!"}},{"$f":"BN365*100/BN430","v":22.916666666666668},{"$f":"BO365*100/BN430","v":0},{"$f":"BP365*100/BP430","v":0},{"$f":"BQ365*100/BP430","v":0},{"$f":"BR365*100/BR430","v":0},{"$f":"BS365*100/BR430","v":0},{"$f":"BT365*100/BT430","v":0},{"$f":"BU365*100/BT430","v":0},{"$f":"BV365*100/BV430","v":0},{"$f":"BW365*100/BV430","v":0},{"$f":"BX365*100/BX430","v":0},{"$f":"BY365*100/BX430","v":0},{"$f":"BZ365*100/BZ430","v":0},{"$f":"CA365*100/BZ430","v":0},{"$f":"CB365*100/CB430","v":0},{"$f":"CC365*100/CB430","v":0}]
["ÁREA DE APOYO",null,null,null,{"$f":"Equipamiento!$AY$460*25/100/100","v":0},{"$f":"Equipamiento!$AX$460*25/100/100","v":0},{"$f":"IF(Equipamiento!$E$458=Equipamiento!$F$458, \"CUMPLE\", \"NO CUMPLE\")","v":"CUMPLE"},null,null,null,null,null,null,null,null,null,null,null,null,null,null,null,null,null,null,null,null,null,null,null,null,null,null,null,null,null,null,null,null,null,null,"LIMPIEZA",null,null,null,null,null,null,null,{"$f":"AX387*100/AX430","v":0.90090090090090091},{"$f":"AY387*100/AX430","v":0},{"$f":"AZ387*100/AZ430","v":0},{"$f":"BA387*100/AZ430","v":0},{"$f":"BB387*100/BB430","v":0},{"$f":"BC387*100/BB430","v":0},{"$f":"BD387*100/BD430","v":0},{"$f":"BE387*100/BD430","v":0},{"$f":"BF387*100/BF430","v":0},{"$f":"BG387*100/BF430","v":0},{"$f":"BH387*100/BH430","v":0},{"$f":"BI387*100/BH430","v":0},{"$f":"BJ387*100/BJ430","v":0},{"$f":"BK387*100/BJ430","v":0},{"$f":"BL387*100/BL430","v":{"$error":"#DIV/0!"}},{"$f":"BM387*100/BL430","v":{"$error":"#DIV/0!"}},{"$f":"BN387*100/BN430","v":0},{"$f":"BO387*100/BN430","v":0},{"$f":"BP387*100/BP430","v":0},{"$f":"BQ387*100/BP430","v":0},{"$f":"BR387*100/BR430","v":0},{"$f":"BS387*100/BR430","v":0},{"$f":"BT387*100/BT430","v":0},{"$f":"BU387*100/BT430","v":0},{"$f":"BV387*100/BV430","v":0},{"$f":"BW387*100/BV430","v":0},{"$f":"BX387*100/BX430","v":0},{"$f":"BY387*100/BX430","v":0},{"$f":"BZ387*100/BZ430","v":0},{"$f":"CA387*100/BZ430","v":0},{"$f":"CB387*100/CB430","v":0},{"$f":"CC387*100/CB430","v":0}]
["TOTAL REQUERIDO:",null,null,null,null,0.25,{"$f":"SUM(Equipamiento!$C$430                                                                                                                                                                      : Equipamiento!$C$458)","v":0},null,null,null,null,null,null,null,null,null,null,null,null,null,null,null,null,null,null,null,null,null,null,null,null,null,null,null,null,null,null,null,null,null,null,"ÁREA DE ALMACENAMIENTO FINAL DE DESECHOS",null,null,null,null,null,null,null,{"$f":"AX411*100/AX430","v":2.7027027027027026},{"$f":"AY411*100/AX430","v":0},{"$f":"AZ411*100/AZ430","v":0},{"$f":"BA411*100/AZ430","v":0},{"$f":"BB411*100/BB430","v":0},{"$f":"BC411*100/BB430","v":0},{"$f":"BD411*100/BD430","v":0},{"$f":"BE411*100/BD430","v":0},{"$f":"BF411*100/BF430","v":0},{"$f":"BG411*100/BF430","v":0},{"$f":"BH411*100/BH430","v":0},{"$f":"BI411*100/BH430","v":0},{"$f":"BJ411*100/BJ430","v":0},{"$f":"BK411*100/BJ430","v":0},{"$f":"BL411*100/BL430","v":{"$error":"#DIV/0!"}},{"$f":"BM411*100/BL430","v":{"$error":"#DIV/0!"}},{"$f":"BN411*100/BN430","v":0},{"$f":"BO411*100/BN430","v":0},{"$f":"BP411*100/BP430","v":0},{"$f":"BQ411*100/BP430","v":0},{"$f":"BR411*100/BR430","v":0},{"$f":"BS411*100/BR430","v":0},{"$f":"BT411*100/BT430","v":0},{"$f":"BU411*100/BT430","v":0},{"$f":"BV411*100/BV430","v":0},{"$f":"BW411*100/BV430","v":0},{"$f":"BX411*100/BX430","v":0},{"$f":"BY411*100/BX430","v":0},{"$f":"BZ411*100/BZ430","v":0},{"$f":"CA411*100/BZ430","v":0},{"$f":"CB411*100/CB430","v":0},{"$f":"CC411*100/CB430","v":0}]
["MOBILIARIO MÉDICO:",null,"% Obtenido:","% Obtenido:","% Obtenido:","% A Cumplir:","% Final:",null,null,null,null,null,null,null,null,null,null,null,null,null,null,null,null,null,null,null,null,null,null,null,null,null,null,null,null,null,null,null,null,null,null,"ÁREA DE APOYO",null,null,null,null,null,null,null,{"$f":"AX420*100/AX430","v":0},{"$f":"AY420*100/AX430","v":0},{"$f":"AZ420*100/AZ430","v":0},{"$f":"BA420*100/AZ430","v":0},{"$f":"BB420*100/BB430","v":0},{"$f":"BC420*100/BB430","v":0},{"$f":"BD420*100/BD430","v":0},{"$f":"BE420*100/BD430","v":0},{"$f":"BF420*100/BF430","v":0},{"$f":"BG420*100/BF430","v":0},{"$f":"BH420*100/BH430","v":0},{"$f":"BI420*100/BH430","v":0},{"$f":"BJ420*100/BJ430","v":0},{"$f":"BK420*100/BJ430","v":0},{"$f":"BL420*100/BL430","v":{"$error":"#DIV/0!"}},{"$f":"BM420*100/BL430","v":{"$error":"#DIV/0!"}},{"$f":"BN420*100/BN430","v":0},{"$f":"BO420*100/BN430","v":0},{"$f":"BP420*100/BP430","v":0},{"$f":"BQ420*100/BP430","v":0},{"$f":"BR420*100/BR430","v":0},{"$f":"BS420*100/BR430","v":0},{"$f":"BT420*100/BT430","v":0},{"$f":"BU420*100/BT430","v":0},{"$f":"BV420*100/BV430","v":0},{"$f":"BW420*100/BV430","v":0},{"$f":"BX420*100/BX430","v":0},{"$f":"BY420*100/BX430","v":0},{"$f":"BZ420*100/BZ430","v":0},{"$f":"CA420*100/BZ430","v":0},{"$f":"CB420*100/CB430","v":0},{"$f":"CC420*100/CB430","v":0}]
[{"$f":"Equipamiento!$AP$434","v":"ASISTENCIAL"},null,{"$f":"Equipamiento!$BG$434*25/100/100","v":0},null,null,{"$f":"Equipamiento!$BF$434*25/100/100","v":8.3333333333333343E-2},{"$f":"IF(Equipamiento!$C$461=Equipamiento!$F$461, \"CUMPLE\", \"NO CUMPLE\")","v":"NO CUMPLE"}]
[{"$f":"Equipamiento!$AP$435","v":"CONSULTA EXTERNA"},null,null,{"$f":"Equipamiento!$BG$435*25/100/100","v":0},null,{"$f":"Equipamiento!$BF$435*25/100/100","v":8.3333333333333343E-2},{"$f":"IF(Equipamiento!$D$462=Equipamiento!$F$462, \"CUMPLE\", \"NO CUMPLE\")","v":"NO CUMPLE"}]
[{"$f":"Equipamiento!$AP$436","v":"AREA DE CONSULTAS"},null,null,null,{"$f":"Equipamiento!$BG$436*25/100/100","v":0},{"$f":"Equipamiento!$BF$436*25/100/100","v":8.3333333333333343E-2},{"$f":"IF(Equipamiento!$E$463=Equipamiento!$F$463, \"CUMPLE\", \"NO CUMPLE\")","v":"NO CUMPLE"}]
[{"$f":"AP445","v":"APOYO DIAGNOSTICO Y TERAPEÚTICO"},null,{"$f":"Equipamiento!$BG$445*25/100/100","v":0},null,null,{"$f":"Equipamiento!$BF$445*25/100/100","v":8.3333333333333343E-2},{"$f":"IF(Equipamiento!$C$464=Equipamiento!$F$464, \"CUMPLE\", \"NO CUMPLE\")","v":"NO CUMPLE"}]
[{"$f":"AP446","v":"REHABILITACIÓN"},null,null,{"$f":"Equipamiento!$BG$445*25/100/100","v":0},null,{"$f":"Equipamiento!$BF$445*25/100/100","v":8.3333333333333343E-2},{"$f":"IF(Equipamiento!$D$465=Equipamiento!$F$465, \"CUMPLE\", \"NO CUMPLE\")","v":"NO CUMPLE"}]
[{"$f":"AP447","v":"ÁREA DE TERAPIAS"},null,null,null,{"$f":"Equipamiento!$BG$445*25/100/100","v":0},{"$f":"Equipamiento!$BF$445*25/100/100","v":8.3333333333333343E-2},{"$f":"IF(Equipamiento!$E$466=Equipamiento!$F$466, \"CUMPLE\", \"NO CUMPLE\")","v":"NO CUMPLE"}]
[{"$f":"AP448","v":"APOYO TERAPEÚTICO"},null,{"$f":"Equipamiento!$BG$448*25/100/100","v":0},null,null,{"$f":"Equipamiento!$BF$448*25/100/100","v":8.3333333333333343E-2},{"$f":"IF(Equipamiento!$C$467=Equipamiento!$F$467, \"CUMPLE\", \"NO CUMPLE\")","v":"NO CUMPLE"}]
[{"$f":"AP449","v":"NUTRICIÓN DIETÉTICA"},null,null,{"$f":"Equipamiento!$BG$448*25/100/100","v":0},null,{"$f":"Equipamiento!$BF$448*25/100/100","v":8.3333333333333343E-2},{"$f":"IF(Equipamiento!$D$468=Equipamiento!$F$468, \"CUMPLE\", \"NO CUMPLE\")","v":"NO CUMPLE"}]
[{"$f":"AP451","v":"ÁREA TECNICA DE COCINA"},null,null,null,{"$f":"Equipamiento!$BG$448*25/100/100","v":0},{"$f":"Equipamiento!$BF$448*25/100/100","v":8.3333333333333343E-2},{"$f":"IF(Equipamiento!$E$469=Equipamiento!$F$469, \"CUMPLE\", \"NO CUMPLE\")","v":"NO CUMPLE"}]
[{"$f":"A450","v":"ADMINISTRATIVO"},null,{"$f":"Equipamiento!$BG$452*25/100/100","v":0},null,null,{"$f":"Equipamiento!$BF$452*25/100/100","v":0},{"$f":"IF(Equipamiento!$C$470=Equipamiento!$F$470, \"CUMPLE\", \"NO CUMPLE\")","v":"CUMPLE"}]
[{"$f":"AP453","v":"ADMINISTRACIÓN TÉCNICA"},null,null,{"$f":"Equipamiento!$BG$453*25/100/100","v":0},null,{"$f":"Equipamiento!$BF$453*25/100/100","v":0},{"$f":"IF(Equipamiento!$D$471=Equipamiento!$F$471, \"CUMPLE\", \"NO CUMPLE\")","v":"CUMPLE"}]
[{"$f":"AP454","v":"ÁREA TÉCNICA"},null,null,null,{"$f":"Equipamiento!$BG$454*25/100/100","v":0},{"$f":"Equipamiento!$BF$454*25/100/100","v":0},{"$f":"IF(Equipamiento!$E$472=Equipamiento!$F$472, \"CUMPLE\", \"NO CUMPLE\")","v":"CUMPLE"}]
["TOTAL REQUERIDO:",null,null,null,null,0.25,{"$f":"SUM(Equipamiento!$C$461                                                                                                                                                                        : Equipamiento!$C$472)","v":0}]
["EQUIPO GENERAL:",null,"% Obtenido:","% Obtenido:","% Obtenido:","% A Cumplir:","% Final:"]
[{"$f":"Equipamiento!AP431","v":"ADMINISTRATIVO"},null,{"$f":"Equipamiento!$BO$431*25/100/100","v":0},null,null,{"$f":"Equipamiento!$BN$431*25/100/100","v":1.5625E-2},{"$f":"IF(Equipamiento!$C$475=Equipamiento!$F$475, \"CUMPLE\", \"NO CUMPLE\")","v":"NO CUMPLE"}]
[{"$f":"Equipamiento!AP432","v":"ADMISIÓN Y ESTADÍSTICA"},null,null,{"$f":"Equipamiento!$BO$432*25/100/100","v":0},null,{"$f":"Equipamiento!$BN$432*25/100/100","v":1.5625E-2},{"$f":"IF(Equipamiento!$D$476=Equipamiento!$F$476, \"CUMPLE\", \"NO CUMPLE\")","v":"NO CUMPLE"}]
[{"$f":"Equipamiento!AP433","v":"ÁREA TECNICA - ADMISIÓN - ESTADÍSTICA Y ARCHIVO"},null,null,null,{"$f":"Equipamiento!$BO$433*25/100/100","v":0},{"$f":"Equipamiento!$BN$433*25/100/100","v":1.5625E-2},{"$f":"IF(Equipamiento!$E$477=Equipamiento!$F$477, \"CUMPLE\", \"NO CUMPLE\")","v":"NO CUMPLE"}]
[{"$f":"Equipamiento!AP434","v":"ASISTENCIAL"},null,{"$f":"Equipamiento!$BO$434*25/100/100","v":0},null,null,{"$f":"Equipamiento!$BN$434*25/100/100","v":6.7708333333333315E-2},{"$f":"IF(Equipamiento!$C$478=Equipamiento!$F$478, \"CUMPLE\", \"NO CUMPLE\")","v":"NO CUMPLE"}]
[{"$f":"Equipamiento!AP435","v":"CONSULTA EXTERNA"},null,null,{"$f":"Equipamiento!$BO$435*25/100/100","v":0},null,{"$f":"Equipamiento!$BN$435*25/100/100","v":6.7708333333333315E-2},{"$f":"IF(Equipamiento!$D$479=Equipamiento!$F$479, \"CUMPLE\", \"NO CUMPLE\")","v":"NO CUMPLE"}]
[{"$f":"Equipamiento!AP436","v":"AREA DE CONSULTAS"},null,null,null,{"$f":"Equipamiento!$BO$436*25/100/100","v":0},{"$f":"Equipamiento!$BN$436*25/100/100","v":6.7708333333333315E-2},{"$f":"IF(Equipamiento!$E$480=Equipamiento!$F$480, \"CUMPLE\", \"NO CUMPLE\")","v":"NO CUMPLE"}]
[{"$f":"Equipamiento!AP437","v":"ASISTENCIAL"},null,{"$f":"Equipamiento!$BO$437*25/100/100","v":0},null,null,{"$f":"Equipamiento!$BN$437*25/100/100","v":2.0833333333333336E-2},{"$f":"IF(Equipamiento!$C$481=Equipamiento!$F$481, \"CUMPLE\", \"NO CUMPLE\")","v":"NO CUMPLE"}]
[{"$f":"Equipamiento!AP438","v":"INTERNACIÓN/RESIDENCIA"},null,null,{"$f":"Equipamiento!$BO$437*25/100/100","v":0},null,{"$f":"Equipamiento!$BN$437*25/100/100","v":2.0833333333333336E-2},{"$f":"IF(Equipamiento!$D$482=Equipamiento!$F$482, \"CUMPLE\", \"NO CUMPLE\")","v":"NO CUMPLE"}]
[{"$f":"Equipamiento!AP439","v":"ÁREA DE INTERNACIÓN RESIDENCIA"},null,null,null,{"$f":"Equipamiento!$BO$439*25/100/100","v":0},{"$f":"Equipamiento!$BN$439*25/100/100","v":1.5625E-2},{"$f":"IF(Equipamiento!$E$483=Equipamiento!$F$483, \"CUMPLE\", \"NO CUMPLE\")","v":"NO CUMPLE"}]
[{"$f":"Equipamiento!AP440","v":"ÁREA DE SOPORTE Y SUMINISTROS"},null,null,null,{"$f":"Equipamiento!$BO$440*25/100/100","v":0},{"$f":"Equipamiento!$BN$440*25/100/100","v":5.2083333333333339E-3},{"$f":"IF(Equipamiento!$E$484=Equipamiento!$F$484, \"CUMPLE\", \"NO CUMPLE\")","v":"NO CUMPLE"}]
[{"$f":"AP441","v":"ÁREA DE PERSONAL"},null,null,null,{"$f":"Equipamiento!$BO$441*25/100/100","v":0},{"$f":"Equipamiento!$BN$441*25/100/100","v":0},{"$f":"IF(Equipamiento!$E$485=Equipamiento!$F$485, \"CUMPLE\", \"NO CUMPLE\")","v":"CUMPLE"}]
["APOYO TERAPEUTICO",null,{"$f":"Equipamiento!$BO$442*25/100/100","v":0},null,null,{"$f":"Equipamiento!$BN$442*25/100/100","v":3.125E-2},{"$f":"IF(Equipamiento!$C$486=Equipamiento!$F$486, \"CUMPLE\", \"NO CUMPLE\")","v":"NO CUMPLE"}]
["DOTACIÓN DE MEDICAMENTOS Y DISPOSITIVOS MÉDICOS  (FARMACIA)",null,null,{"$f":"Equipamiento!$BO443*25/100/100","v":0},null,{"$f":"Equipamiento!$BN$443*25/100/100","v":3.125E-2},{"$f":"IF(Equipamiento!$D$487=Equipamiento!$F$487, \"CUMPLE\", \"NO CUMPLE\")","v":"NO CUMPLE"}]
["ÁREA DE FARMACIA",null,null,null,{"$f":"Equipamiento!$BO$444*25/100/100","v":0},{"$f":"Equipamiento!$BN$444*25/100/100","v":3.125E-2},{"$f":"IF(Equipamiento!$E$488=Equipamiento!$F$488, \"CUMPLE\", \"NO CUMPLE\")","v":"NO CUMPLE"}]
["APOYO DIAGNOSTICO Y TERAPEÚTICO",null,{"$f":"Equipamiento!$BO$445*25/100/100","v":0},null,null,{"$f":"Equipamiento!$BN$445*25/100/100","v":2.0833333333333336E-2},{"$f":"IF(Equipamiento!$C$489=Equipamiento!$F$489, \"CUMPLE\", \"NO CUMPLE\")","v":"NO CUMPLE"}]
["REHABILITACIÓN",null,null,{"$f":"Equipamiento!$BO$446*25/100/100","v":0},null,{"$f":"Equipamiento!$BN$446*25/100/100","v":2.0833333333333336E-2},{"$f":"IF(Equipamiento!$D$490=Equipamiento!$F$490, \"CUMPLE\", \"NO CUMPLE\")","v":"NO CUMPLE"}]
["ÁREA DE TERAPIAS",null,null,null,{"$f":"Equipamiento!$BO$447*25/100/100","v":0},{"$f":"Equipamiento!$BN$447*25/100/100","v":2.0833333333333336E-2},{"$f":"IF(Equipamiento!$E$491=Equipamiento!$F$491, \"CUMPLE\", \"NO CUMPLE\")","v":"NO CUMPLE"}]
["APOYO TERAPEÚTICO",null,{"$f":"Equipamiento!$BO$448*25/100/100","v":0},null,null,{"$f":"Equipamiento!$BN$448*25/100/100","v":2.6041666666666661E-2},{"$f":"IF(Equipamiento!$C$492=Equipamiento!$F$492, \"CUMPLE\", \"NO CUMPLE\")","v":"NO CUMPLE"}]
["NUTRICIÓN DIETÉTICA",null,null,{"$f":"Equipamiento!$BO$449*25/100/100","v":0},null,{"$f":"Equipamiento!$BN$449*25/100/100","v":2.6041666666666661E-2},{"$f":"IF(Equipamiento!$D$493=Equipamiento!$F$493, \"CUMPLE\", \"NO CUMPLE\")","v":"NO CUMPLE"}]
[{"$f":"AP451","v":"ÁREA TECNICA DE COCINA"},null,null,null,{"$f":"Equipamiento!$BO$451*25/100/100","v":0},{"$f":"Equipamiento!$BN$451*25/100/100","v":2.6041666666666661E-2},{"$f":"IF(Equipamiento!$E$494=Equipamiento!$F$494, \"CUMPLE\", \"NO CUMPLE\")","v":"NO CUMPLE"}]
["ADMINISTRATIVO",null,{"$f":"Equipamiento!$BO$452*25/100/100","v":0},null,null,{"$f":"Equipamiento!$BN$452*25/100/100","v":1.0416666666666668E-2},{"$f":"IF(Equipamiento!$C$495=Equipamiento!$F$495, \"CUMPLE\", \"NO CUMPLE\")","v":"NO CUMPLE"}]
["ADMINISTRACIÓN TÉCNICA",null,null,{"$f":"Equipamiento!$BO$453*25/100/100","v":0},null,{"$f":"Equipamiento!$BN$453*25/100/100","v":1.0416666666666668E-2},{"$f":"IF(Equipamiento!$D$496=Equipamiento!$F$496, \"CUMPLE\", \"NO CUMPLE\")","v":"NO CUMPLE"}]
["ÁREA TÉCNICA",null,null,null,{"$f":"Equipamiento!$BO$454*25/100/100","v":0},{"$f":"Equipamiento!$BN$454*25/100/100","v":1.0416666666666668E-2},{"$f":"IF(Equipamiento!$E$497=Equipamiento!$F$497, \"CUMPLE\", \"NO CUMPLE\")","v":"NO CUMPLE"}]
["GENERAL",null,{"$f":"Equipamiento!$BO$455*25/100/100","v":0},null,null,{"$f":"Equipamiento!$BN$455*25/100/100","v":5.7291666666666678E-2},{"$f":"IF(Equipamiento!$C$498=Equipamiento!$F$498, \"CUMPLE\", \"NO CUMPLE\")","v":"NO CUMPLE"}]
["SERVICIOS INTERNOS DE APOYO",null,null,{"$f":"Equipamiento!$BO$456*25/100/100","v":0},null,{"$f":"Equipamiento!$BN$456*25/100/100","v":5.7291666666666678E-2},{"$f":"IF(Equipamiento!$D$499=Equipamiento!$F$499, \"CUMPLE\", \"NO CUMPLE\")","v":"NO CUMPLE"}]
["LAVANDERÍA",null,null,null,{"$f":"Equipamiento!$BO$457*25/100/100","v":0},{"$f":"Equipamiento!$BN$457*25/100/100","v":5.7291666666666678E-2},{"$f":"IF(Equipamiento!$E$500=Equipamiento!$F$500, \"CUMPLE\", \"NO CUMPLE\")","v":"NO CUMPLE"}]
["LIMPIEZA",null,null,null,{"$f":"Equipamiento!$BO$458*25/100/100","v":0},{"$f":"Equipamiento!$BN$458*25/100/100","v":0},{"$f":"IF(Equipamiento!$E$501=Equipamiento!$F$501, \"CUMPLE\", \"NO CUMPLE\")","v":"CUMPLE"}]
[{"$f":"AP460","v":"ÁREA DE APOYO"},null,null,null,{"$f":"Equipamiento!$BO$460*25/100/100","v":0},{"$f":"Equipamiento!$BN$460*25/100/100","v":0},{"$f":"IF(Equipamiento!$E$502=Equipamiento!$F$502, \"CUMPLE\", \"NO CUMPLE\")","v":"CUMPLE"}]
["TOTAL REQUERIDO:",null,null,null,null,0.25,{"$f":"SUM(Equipamiento!$C$475                                                                                                                                                                   : Equipamiento!$C$502)","v":0}]
["EQUIPO MEDICO:",null,"% Obtenido:","% Obtenido:","% Obtenido:","% A Cumplir:","% Final:"]
[{"$f":"Equipamiento!$AP$434","v":"ASISTENCIAL"},null,{"$f":"Equipamiento!$BW$434*25/100/100","v":0},null,null,{"$f":"Equipamiento!$BV$434*25/100/100","v":0.17307692307692307},{"$f":"IF(Equipamiento!$C$505=Equipamiento!$F$505, \"CUMPLE\", \"NO CUMPLE\")","v":"NO CUMPLE"}]
[{"$f":"Equipamiento!$AP$435","v":"CONSULTA EXTERNA"},null,null,{"$f":"Equipamiento!$BW$435*25/100/100","v":0},null,{"$f":"Equipamiento!$BV$435*25/100/100","v":0.17307692307692307},{"$f":"IF(Equipamiento!$D$506=Equipamiento!$F$506, \"CUMPLE\", \"NO CUMPLE\")","v":"NO CUMPLE"}]
[{"$f":"Equipamiento!$AP$436","v":"AREA DE CONSULTAS"},null,null,null,{"$f":"Equipamiento!$BW$436*25/100/100","v":0},{"$f":"Equipamiento!$BV$436*25/100/100","v":0.17307692307692307},{"$f":"IF(Equipamiento!$E$507=Equipamiento!$F$507, \"CUMPLE\", \"NO CUMPLE\")","v":"NO CUMPLE"}]
[{"$f":"Equipamiento!$AP$445","v":"APOYO DIAGNOSTICO Y TERAPEÚTICO"},null,{"$f":"Equipamiento!$BW$445*25/100/100","v":0},null,null,{"$f":"Equipamiento!$BV$445*25/100/100","v":7.6923076923076927E-2},{"$f":"IF(Equipamiento!$C$508=Equipamiento!$F$508, \"CUMPLE\", \"NO CUMPLE\")","v":"NO CUMPLE"},null,null,null,null,null,null,null,null,null," "]
[{"$f":"Equipamiento!$AP$446","v":"REHABILITACIÓN"},null,null,{"$f":"Equipamiento!$BW$446*25/100/100","v":0},null,{"$f":"Equipamiento!$BV$446*25/100/100","v":7.6923076923076927E-2},{"$f":"IF(Equipamiento!$D$509=Equipamiento!$F$509, \"CUMPLE\", \"NO CUMPLE\")","v":"NO CUMPLE"}]
[{"$f":"Equipamiento!$AP$447","v":"ÁREA DE TERAPIAS"},null,null,null,{"$f":"Equipamiento!$BW$447*25/100/100","v":0},{"$f":"Equipamiento!$BV$447*25/100/100","v":7.6923076923076927E-2},{"$f":"IF(Equipamiento!$E$510=Equipamiento!$F$510, \"CUMPLE\", \"NO CUMPLE\")","v":"NO CUMPLE"}]
["TOTAL REQUERIDO:",null,null,null,null,0.25,{"$f":"SUM(Equipamiento!$C$505                                                                                                                                                                      : Equipamiento!$C$510)","v":0}]
["TOTAL ITEMS REQUERIDOS:"]
["TOTAL % REQUERIDO:",null,null,null,null,0.7,{"$f":"(+Equipamiento!$G$459+Equipamiento!$G$473+Equipamiento!$G$503+Equipamiento!$G$511)*30/100","v":0}]
[]
["TOTALES PARCIALES CONDICIONADOS +"]
["MOBILIARIO GENERAL:",null,"% Obtenido:","% Obtenido:","% Obtenido:","% A Cumplir:","% Final:"]
["ADMINISTRATIVO",null,{"$f":"Equipamiento!$BA$431*25/100/100","v":0},null,null,{"$f":"Equipamiento!$AZ$431*25/100/100","v":8.3333333333333343E-2},{"$f":"IF(C517=F517, \"CUMPLE\", \"NO CUMPLE\")","v":"NO CUMPLE"}]
["ADMISIÓN Y ESTADÍSTICA",null,null,{"$f":"Equipamiento!$BA$432*25/100/100","v":0},null,{"$f":"Equipamiento!$AZ$432*25/100/100","v":8.3333333333333343E-2},{"$f":"IF(D518=F518, \"CUMPLE\", \"NO CUMPLE\")","v":"NO CUMPLE"}]
["ÁREA TECNICA - ADMISIÓN - ESTADÍSTICA Y ARCHIVO",null,null,null,{"$f":"Equipamiento!$BA$433*25/100/100","v":0},{"$f":"Equipamiento!$AZ$433*25/100/100","v":8.3333333333333343E-2},{"$f":"IF(E519=F519, \"CUMPLE\", \"NO CUMPLE\")","v":"NO CUMPLE"}]
["ASISTENCIAL",null,{"$f":"Equipamiento!$BA$434*25/100/100","v":0},null,null,{"$f":"Equipamiento!$AZ$434*25/100/100","v":5.5555555555555552E-2},{"$f":"IF(C520=F520, \"CUMPLE\", \"NO CUMPLE\")","v":"NO CUMPLE"}]
["CONSULTA EXTERNA",null,null,{"$f":"Equipamiento!$BA$435*25/100/100","v":0},null,{"$f":"Equipamiento!$AZ$435*25/100/100","v":5.5555555555555552E-2},{"$f":"IF(D521=F521, \"CUMPLE\", \"NO CUMPLE\")","v":"NO CUMPLE"}]
["AREA DE CONSULTAS",null,null,null,{"$f":"Equipamiento!$BA$436*25/100/100","v":0},{"$f":"Equipamiento!$AZ$436*25/100/100","v":5.5555555555555552E-2},{"$f":"IF(E522=F522, \"CUMPLE\", \"NO CUMPLE\")","v":"NO CUMPLE"}]
["ASISTENCIAL",null,{"$f":"Equipamiento!$BA$437*25/100/100","v":0},null,null,{"$f":"Equipamiento!$AZ$437*25/100/100","v":2.7777777777777776E-2},{"$f":"IF(C523=F523, \"CUMPLE\", \"NO CUMPLE\")","v":"NO CUMPLE"}]
["INTERNACIÓN/RESIDENCIA",null,null,{"$f":"Equipamiento!$BA$438*25/100/100","v":0},null,{"$f":"Equipamiento!$AZ$438*25/100/100","v":2.7777777777777776E-2},{"$f":"IF(D524=F524, \"CUMPLE\", \"NO CUMPLE\")","v":"NO CUMPLE"}]
["ÁREA DE INTERNACIÓN RESIDENCIA",null,null,null,{"$f":"Equipamiento!$BA$439*25/100/100","v":0},{"$f":"Equipamiento!$AZ$439*25/100/100","v":0},{"$f":"IF(E525=F525, \"CUMPLE\", \"NO CUMPLE\")","v":"CUMPLE"}]
["ÁREA DE SOPORTE Y SUMINISTROS",null,null,null,{"$f":"Equipamiento!$BA$440*25/100/100","v":0},{"$f":"Equipamiento!$AZ$440*25/100/100","v":2.7777777777777776E-2},{"$f":"IF(E526=F526, \"CUMPLE\", \"NO CUMPLE\")","v":"NO CUMPLE"}]
["APOYO TERAPEUTICO",null,{"$f":"Equipamiento!$BA$442*25/100/100","v":0},null,null,{"$f":"Equipamiento!$AZ$442*25/100/100","v":2.7777777777777776E-2},{"$f":"IF(C527=F527, \"CUMPLE\", \"NO CUMPLE\")","v":"NO CUMPLE"}]
["DOTACIÓN DE MEDICAMENTOS Y DISPOSITIVOS MÉDICOS  (FARMACIA)",null,null,{"$f":"Equipamiento!$BA$443*25/100/100","v":0},null,{"$f":"Equipamiento!$AZ$443*25/100/100","v":2.7777777777777776E-2},{"$f":"IF(D528=F528, \"CUMPLE\", \"NO CUMPLE\")","v":"NO CUMPLE"}]
["ÁREA DE FARMACIA",null,null,null,{"$f":"Equipamiento!$BA$444*25/100/100","v":0},{"$f":"Equipamiento!$AZ$444*25/100/100","v":2.7777777777777776E-2},{"$f":"IF(E529=F529, \"CUMPLE\", \"NO CUMPLE\")","v":"NO CUMPLE"}]
["APOYO DIAGNOSTICO Y TERAPEÚTICO",null,{"$f":"Equipamiento!$BA$445*25/100/100","v":0},null,null,{"$f":"Equipamiento!$AZ$445*25/100/100","v":2.7777777777777776E-2},{"$f":"IF(C530=F530, \"CUMPLE\", \"NO CUMPLE\")","v":"NO CUMPLE"}]
["REHABILITACIÓN",null,null,{"$f":"Equipamiento!$BA$446*25/100/100","v":0},null,{"$f":"Equipamiento!$AZ$446*25/100/100","v":2.7777777777777776E-2},{"$f":"IF(D531=F531, \"CUMPLE\", \"NO CUMPLE\")","v":"NO CUMPLE"}]
["ÁREA DE TERAPIAS",null,null,null,{"$f":"Equipamiento!$BA$447*25/100/100","v":0},{"$f":"Equipamiento!$AZ$447*25/100/100","v":2.7777777777777776E-2},{"$f":"IF(E532=F532, \"CUMPLE\", \"NO CUMPLE\")","v":"NO CUMPLE"}]
["APOYO TERAPEÚTICO",null,{"$f":"Equipamiento!$BA$448*25/100/100","v":0},null,null,{"$f":"Equipamiento!$AZ$448*25/100/100","v":2.7777777777777776E-2},{"$f":"IF(C533=F533, \"CUMPLE\", \"NO CUMPLE\")","v":"NO CUMPLE"}]
["NUTRICIÓN DIETÉTICA",null,null,{"$f":"Equipamiento!$BA$449*25/100/100","v":0},null,{"$f":"Equipamiento!$AZ$449*25/100/100","v":2.7777777777777776E-2},{"$f":"IF(D534=F534, \"CUMPLE\", \"NO CUMPLE\")","v":"NO CUMPLE"}]
["ÁREA COMEDOR",null,null,null,{"$f":"Equipamiento!$BA$450*25/100/100","v":0},{"$f":"Equipamiento!$AZ$450*25/100/100","v":2.7777777777777776E-2},{"$f":"IF(E535=F535, \"CUMPLE\", \"NO CUMPLE\")","v":"NO CUMPLE"}]
["TOTAL CONDICIÓN:",null,null,null,null,0.25,{"$f":"SUM(C517:C535)","v":0}]
["MOBILIARIO MÉDICO:",null,"% Obtenido:","% Obtenido:","% Obtenido:","% A Cumplir:","% Final:"]
["ASISTENCIAL",null,{"$f":"Equipamiento!BI434*25/100/100","v":0},null,null,{"$f":"Equipamiento!BH434*25/100/100","v":0.125},{"$f":"IF(C538=F538, \"CUMPLE\", \"NO CUMPLE\")","v":"NO CUMPLE"}]
["CONSULTA EXTERNA",null,null,{"$f":"Equipamiento!BI435*25/100/100","v":0},null,{"$f":"Equipamiento!BH435*25/100/100","v":0.125},{"$f":"IF(D539=F539, \"CUMPLE\", \"NO CUMPLE\")","v":"NO CUMPLE"}]
["AREA DE CONSULTAS",null,null,null,{"$f":"Equipamiento!BI436*25/100/100","v":0},{"$f":"Equipamiento!BH436*25/100/100","v":0.125},{"$f":"IF(E540=F540, \"CUMPLE\", \"NO CUMPLE\")","v":"NO CUMPLE"}]
["APOYO TERAPEUTICO",null,{"$f":"Equipamiento!BI442*25/100/100","v":0},null,null,{"$f":"Equipamiento!BH442*25/100/100","v":0.125},{"$f":"IF(C541=F541, \"CUMPLE\", \"NO CUMPLE\")","v":"NO CUMPLE"}]
["DOTACIÓN DE MEDICAMENTOS Y DISPOSITIVOS MÉDICOS  (FARMACIA)",null,null,{"$f":"Equipamiento!BI443*25/100/100","v":0},null,{"$f":"Equipamiento!BH443*25/100/100","v":0.125},{"$f":"IF(D542=F542, \"CUMPLE\", \"NO CUMPLE\")","v":"NO CUMPLE"}]
["ÁREA DE FARMACIA",null,null,null,{"$f":"Equipamiento!BI444*25/100/100","v":0},{"$f":"Equipamiento!BH444*25/100/100","v":0.125},{"$f":"IF(E543=F543, \"CUMPLE\", \"NO CUMPLE\")","v":"NO CUMPLE"}]
["APOYO DIAGNOSTICO Y TERAPEÚTICO",null,{"$f":"Equipamiento!BI445*25/100/100","v":0},null,null,{"$f":"Equipamiento!BH445*25/100/100","v":0},{"$f":"IF(C544=F544, \"CUMPLE\", \"NO CUMPLE\")","v":"CUMPLE"}]
["REHABILITACIÓN",null,null,{"$f":"Equipamiento!BI446*25/100/100","v":0},null,{"$f":"Equipamiento!BH446*25/100/100","v":0},{"$f":"IF(D545=F545, \"CUMPLE\", \"NO CUMPLE\")","v":"CUMPLE"}]
["ÁREA DE TERAPIAS",null,null,null,{"$f":"Equipamiento!BI447*25/100/100","v":0},{"$f":"Equipamiento!BH447*25/100/100","v":0},{"$f":"IF(E546=F546, \"CUMPLE\", \"NO CUMPLE\")","v":"CUMPLE"}]
["TOTAL CONDICIÓN:",null,null,null,null,0.25,{"$f":"SUM(C538:C546)","v":0}]
["EQUIPO GENERAL:",null,"% Obtenido:","% Obtenido:","% Obtenido:","% A Cumplir:","% Final:"]
["ADMINISTRATIVO",null,{"$f":"BQ431*25/100/100","v":0},null,null,{"$f":"BP431*25/100/100","v":8.3333333333333343E-2},{"$f":"IF(C549=F549, \"CUMPLE\", \"NO CUMPLE\")","v":"NO CUMPLE"}]
["ADMISIÓN Y ESTADÍSTICA",null,null,{"$f":"BQ432*25/100/100","v":0},null,{"$f":"BP432*25/100/100","v":8.3333333333333343E-2},{"$f":"IF(D550=F550, \"CUMPLE\", \"NO CUMPLE\")","v":"NO CUMPLE"}]
["ÁREA TECNICA - ADMISIÓN - ESTADÍSTICA Y ARCHIVO",null,null,null,{"$f":"BQ433*25/100/100","v":0},{"$f":"BP433*25/100/100","v":8.3333333333333343E-2},{"$f":"IF(E551=F551, \"CUMPLE\", \"NO CUMPLE\")","v":"NO CUMPLE"}]
["ASISTENCIAL",null,{"$f":"BQ437*25/100/100","v":0},null,null,{"$f":"BP437*25/100/100","v":0},{"$f":"IF(C552=F552, \"CUMPLE\", \"NO CUMPLE\")","v":"CUMPLE"}]
["INTERNACIÓN/RESIDENCIA",null,null,{"$f":"BQ438*25/100/100","v":0},null,{"$f":"BP438*25/100/100","v":0},{"$f":"IF(D553=F553, \"CUMPLE\", \"NO CUMPLE\")","v":"CUMPLE"}]
["ÁREA TECNICA - ADMISIÓN - ESTADÍSTICA Y ARCHIVO",null,null,null,{"$f":"BQ439*25/100/100","v":0},{"$f":"BP439*25/100/100","v":0},{"$f":"IF(E554=F554, \"CUMPLE\", \"NO CUMPLE\")","v":"CUMPLE"}]
["ÁREA DE PERSONAL",null,null,null,{"$f":"BQ441*25/100/100","v":0},{"$f":"BP441*25/100/100","v":0},{"$f":"IF(E555=F555, \"CUMPLE\", \"NO CUMPLE\")","v":"CUMPLE"}]
["APOYO TERAPEÚTICO",null,{"$f":"BQ448*25/100/100","v":0},null,null,{"$f":"BP448*25/100/100","v":0.16666666666666669},{"$f":"IF(C556=F556, \"CUMPLE\", \"NO CUMPLE\")","v":"NO CUMPLE"}]
["NUTRICIÓN DIETÉTICA",null,null,{"$f":"BQ449*25/100/100","v":0},null,{"$f":"BP449*25/100/100","v":0.16666666666666669},{"$f":"IF(D557=F557, \"CUMPLE\", \"NO CUMPLE\")","v":"NO CUMPLE"}]
["ÁREA COMEDOR",null,null,null,{"$f":"BQ450*25/100/100","v":0},{"$f":"BP450*25/100/100","v":0.16666666666666669},{"$f":"IF(E558=F558, \"CUMPLE\", \"NO CUMPLE\")","v":"NO CUMPLE"}]
["GENERAL",null,{"$f":"BQ455*25/100/100","v":0},null,null,{"$f":"BP455*25/100/100","v":0},{"$f":"IF(C559=F559, \"CUMPLE\", \"NO CUMPLE\")","v":"CUMPLE"}]
["SERVICIOS INTERNOS DE APOYO",null,null,{"$f":"BQ456*25/100/100","v":0},null,{"$f":"BP456*25/100/100","v":0},{"$f":"IF(D560=F560, \"CUMPLE\", \"NO CUMPLE\")","v":"CUMPLE"}]
["AREA DE APOYO",null,null,null,{"$f":"BQ460*25/100/100","v":0},{"$f":"BP460*25/100/100","v":0},{"$f":"IF(E561=F561, \"CUMPLE\", \"NO CUMPLE\")","v":"CUMPLE"}]
["TOTAL REQUERIDO:",null,null,null,null,0.25,{"$f":"SUM(C549:C561)","v":0}]
["EQUIPO MEDICO:",null,"% Obtenido:","% Obtenido:","% Obtenido:","% A Cumplir:","% Final:"]
["ASISTENCIAL",null,{"$f":"BY434*25/100/100","v":0},null,null,{"$f":"Equipamiento!BX434*25/100/100","v":0.17857142857142858},{"$f":"IF(C564=F564, \"CUMPLE\", \"NO CUMPLE\")","v":"NO CUMPLE"}]
["CONSULTA EXTERNA",null,null,{"$f":"BY435*25/100/100","v":0},null,{"$f":"Equipamiento!BX435*25/100/100","v":0.17857142857142858},{"$f":"IF(D565=F565, \"CUMPLE\", \"NO CUMPLE\")","v":"NO CUMPLE"}]
["AREA DE CONSULTAS",null,null,null,{"$f":"BY436*25/100/100","v":0},{"$f":"Equipamiento!BX436*25/100/100","v":0.17857142857142858},{"$f":"IF(E566=F566, \"CUMPLE\", \"NO CUMPLE\")","v":"NO CUMPLE"}]
["ASISTENCIAL",null,{"$f":"BY437*25/100/100","v":0},null,null,{"$f":"Equipamiento!BX437*25/100/100","v":0},{"$f":"IF(C567=F567, \"CUMPLE\", \"NO CUMPLE\")","v":"CUMPLE"}]
["INTERNACIÓN/RESIDENCIA",null,null,{"$f":"BY438*25/100/100","v":0},null,{"$f":"Equipamiento!BX438*25/100/100","v":0},{"$f":"IF(D568=F568, \"CUMPLE\", \"NO CUMPLE\")","v":"CUMPLE"}]
["AREA DE SOPORTE Y SUMINISTROS",null,null,null,{"$f":"BY440*25/100/100","v":0},{"$f":"Equipamiento!BX440*25/100/100","v":0},{"$f":"IF(E569=F569, \"CUMPLE\", \"NO CUMPLE\")","v":"CUMPLE"}]
["APOYO DIAGNOSTICO Y TERAPEÚTICO",null,{"$f":"BY445*25/100/100","v":0},null,null,{"$f":"Equipamiento!BX445*25/100/100","v":7.1428571428571438E-2},{"$f":"IF(C570=F570, \"CUMPLE\", \"NO CUMPLE\")","v":"NO CUMPLE"}]
["REHABILITACIÓN",null,null,{"$f":"BY446*25/100/100","v":0},null,{"$f":"Equipamiento!BX446*25/100/100","v":7.1428571428571438E-2},{"$f":"IF(D571=F571, \"CUMPLE\", \"NO CUMPLE\")","v":"NO CUMPLE"}]
["AREA DE TERAPIAS",null,null,null,{"$f":"BY447*25/100/100","v":0},{"$f":"Equipamiento!BX447*25/100/100","v":7.1428571428571438E-2},{"$f":"IF(E572=F572, \"CUMPLE\", \"NO CUMPLE\")","v":"NO CUMPLE"}]
["TOTAL CONDICIÓN:",null,null,null,null,0.25,{"$f":"SUM(C564:C572)","v":0}]
["TOTAL ITEMS CONDIDIONADOS +:"]
["TOTAL % CONDICIÓN:",null,null,null,null,0.3,{"$f":"(G536+G547+G562+G573)*30/100","v":0}]
[]
["TOTALES PARCIALES CONDICIONADOS -"]
["MOBILIARIO GENERAL:",null,"% Obtenido:","% Obtenido:","% Obtenido:","% A Cumplir:","% Final:"]
["ADMINISTRATIVO",null,{"$f":"-BC431*25/100/100","v":0},null,null,{"$f":"-BB431*25/100/100","v":-8.3333333333333343E-2},{"$f":"IF(C579=F579, \"CUMPLE\", \"NO CUMPLE\")","v":"NO CUMPLE"}]
["ADMISIÓN Y ESTADÍSTICA",null,null,{"$f":"-BC432*25/100/100","v":0},null,{"$f":"-Equipamiento!$BB$432*25/100/100","v":-8.3333333333333343E-2},{"$f":"IF(D580=F580, \"CUMPLE\", \"NO CUMPLE\")","v":"NO CUMPLE"}]
["ÁREA TECNICA - ADMISIÓN - ESTADÍSTICA Y ARCHIVO",null,null,null,{"$f":"-Equipamiento!BC433*25/100/100","v":0},{"$f":"-Equipamiento!$BB$433*25/100/100","v":-8.3333333333333343E-2},{"$f":"IF(E581=F581, \"CUMPLE\", \"NO CUMPLE\")","v":"NO CUMPLE"}]
["ASISTENCIAL",null,{"$f":"-BC434*25/100/100","v":0},null,null,{"$f":"-BB434*25/100/100","v":-5.5555555555555552E-2},{"$f":"IF(C582=F582, \"CUMPLE\", \"NO CUMPLE\")","v":"NO CUMPLE"}]
["CONSULTA EXTERNA",null,null,{"$f":"-BC435*25/100/100","v":0},null,{"$f":"-BB435*25/100/100","v":-5.5555555555555552E-2},{"$f":"IF(D583=F583, \"CUMPLE\", \"NO CUMPLE\")","v":"NO CUMPLE"}]
["AREA DE CONSULTAS",null,null,null,{"$f":"-Equipamiento!BC436*25/100/100","v":0},{"$f":"-BB436*25/100/100","v":-5.5555555555555552E-2},{"$f":"IF(E584=F584, \"CUMPLE\", \"NO CUMPLE\")","v":"NO CUMPLE"}]
["ASISTENCIAL",null,{"$f":"-BC437*25/100/100","v":0},null,null,{"$f":"-BB437*25/100/100","v":-2.7777777777777776E-2},{"$f":"IF(C585=F585, \"CUMPLE\", \"NO CUMPLE\")","v":"NO CUMPLE"}]
["INTERNACIÓN/RESIDENCIA",null,null,{"$f":"-BC438*25/100/100","v":0},null,{"$f":"-BB438*25/100/100","v":-2.7777777777777776E-2},{"$f":"IF(D586=F586, \"CUMPLE\", \"NO CUMPLE\")","v":"NO CUMPLE"}]
["ÁREA DE SOPORTE Y SUMINISTROS",null,null,null,{"$f":"-BC440*25/100/100","v":0},{"$f":"-BB440*25/100/100","v":-2.7777777777777776E-2},{"$f":"IF(E587=F587, \"CUMPLE\", \"NO CUMPLE\")","v":"NO CUMPLE"}]
["APOYO TERAPEUTICO",null,{"$f":"-BC442*25/100/100","v":0},null,null,{"$f":"-BB442*25/100/100","v":-2.7777777777777776E-2},{"$f":"IF(C588=F588, \"CUMPLE\", \"NO CUMPLE\")","v":"NO CUMPLE"}]
["DOTACIÓN DE MEDICAMENTOS Y DISPOSITIVOS MÉDICOS  (FARMACIA)",null,null,{"$f":"-BC443*25/100/100","v":0},null,-2.7777777777777776E-2,{"$f":"IF(D589=F589, \"CUMPLE\", \"NO CUMPLE\")","v":"NO CUMPLE"}]
["ÁREA DE FARMACIA",null,null,null,{"$f":"-BC444*25/100/100","v":0},-2.7777777777777776E-2,{"$f":"IF(E590=F590, \"CUMPLE\", \"NO CUMPLE\")","v":"NO CUMPLE"}]
["APOYO DIAGNOSTICO Y TERAPEÚTICO",null,{"$f":"-BC445*25/100/100","v":0},null,null,-2.7777777777777776E-2,{"$f":"IF(C591=F591, \"CUMPLE\", \"NO CUMPLE\")","v":"NO CUMPLE"}]
["REHABILITACIÓN",null,null,{"$f":"-BC446*25/100/100","v":0},null,-2.7777777777777776E-2,{"$f":"IF(D592=F592, \"CUMPLE\", \"NO CUMPLE\")","v":"NO CUMPLE"}]
["ÁREA DE TERAPIAS",null,null,null,{"$f":"-BC447*25/100/100","v":0},-2.7777777777777776E-2,{"$f":"IF(E593=F593, \"CUMPLE\", \"NO CUMPLE\")","v":"NO CUMPLE"}]
["APOYO TERAPEÚTICO",null,{"$f":"-BC448*25/100/100","v":0},null,null,-2.7777777777777776E-2,{"$f":"IF(C594=F594, \"CUMPLE\", \"NO CUMPLE\")","v":"NO CUMPLE"}]
["NUTRICIÓN DIETÉTICA",null,null,{"$f":"-BC449*25/100/100","v":0},null,-2.7777777777777776E-2,{"$f":"IF(D595=F595, \"CUMPLE\", \"NO CUMPLE\")","v":"NO CUMPLE"}]
["ÁREA COMEDOR",null,null,null,{"$f":"-BC450*25/100/100","v":0},-2.7777777777777776E-2,{"$f":"IF(E596=F596, \"CUMPLE\", \"NO CUMPLE\")","v":"NO CUMPLE"}]
["TOTAL CONDICIÓN:",null,null,null,null,0.25,{"$f":"(C579+C582+C585+C588+C591+C594)","v":0}]
["MOBILIARIO MÉDICO:",null,"% Obtenido:","% Obtenido:","% Obtenido:","% A Cumplir:","% Final:"]
["ASISTENCIAL",null,{"$f":"-BK434*25/100/100","v":0},null,null,{"$f":"-BJ434*25/100/100","v":-0.125},{"$f":"IF(C599=F599, \"CUMPLE\", \"NO CUMPLE\")","v":"NO CUMPLE"}]
["CONSULTA EXTERNA",null,null,{"$f":"-Equipamiento!BJ497*25/100/100","v":0},null,{"$f":"-Equipamiento!BI497*25/100/100","v":0},{"$f":"IF(D600=F600, \"CUMPLE\", \"NO CUMPLE\")","v":"CUMPLE"}]
["AREA DE CONSULTAS",null,null,null,{"$f":"-Equipamiento!BJ498*25/100/100","v":0},{"$f":"-Equipamiento!BI498*25/100/100","v":0},{"$f":"IF(E601=F601, \"CUMPLE\", \"NO CUMPLE\")","v":"CUMPLE"}]
["APOYO TERAPEUTICO",null,{"$f":"-Equipamiento!BJ504*25/100/100","v":0},null,null,{"$f":"-Equipamiento!BI504*25/100/100","v":0},{"$f":"IF(C602=F602, \"CUMPLE\", \"NO CUMPLE\")","v":"CUMPLE"}]
["CONSULTA EXTERNA",null,null,{"$f":"-BK435*25/100/100","v":0},null,{"$f":"-BJ435*25/100/100","v":-0.125},{"$f":"IF(D603=F603, \"CUMPLE\", \"NO CUMPLE\")","v":"NO CUMPLE"}]
["AREA DE CONSULTAS",null,null,null,{"$f":"-BK436*25/100/100","v":0},{"$f":"-BJ436*25/100/100","v":-0.125},{"$f":"IF(E604=F604, \"CUMPLE\", \"NO CUMPLE\")","v":"NO CUMPLE"}]
["APOYOTERAPEÚTICO",null,{"$f":"-BK442*25/100/100","v":0},null,null,{"$f":"-BJ442*25/100/100","v":-0.125},{"$f":"IF(C605=F605, \"CUMPLE\", \"NO CUMPLE\")","v":"NO CUMPLE"}]
["REHABILITACIÓN",null,null,{"$f":"-Equipamiento!BJ508*25/100/100","v":0},null,{"$f":"-Equipamiento!BI508*25/100/100","v":0},{"$f":"IF(D606=F606, \"CUMPLE\", \"NO CUMPLE\")","v":"CUMPLE"}]
["DOTACIÓN DE MEDICAMENTOS Y DISPOSITIVOS MÉDICOS  (FARMACIA)",null,null,{"$f":"-BK443*25/100/100","v":0},null,{"$f":"-BJ443*25/100/100","v":-0.125},{"$f":"IF(D607=F607, \"CUMPLE\", \"NO CUMPLE\")","v":"NO CUMPLE"}]
["TOTAL CONDICIÓN:",null,null,null,null,0.25,{"$f":"SUM(C599:C607)","v":0}]
["EQUIPO GENERAL:",null,"% Obtenido:","% Obtenido:","% Obtenido:","% A Cumplir:","% Final:"]
["ADMINISTRATIVO",null,{"$f":"-BR493*25/100/100","v":0},null,null,{"$f":"-BQ493*25/100/100","v":0},{"$f":"IF(C610=F610, \"CUMPLE\", \"NO CUMPLE\")","v":"CUMPLE"}]
["ADMISIÓN Y ESTADÍSTICA",null,null,{"$f":"-BR494*25/100/100","v":0},null,{"$f":"-BQ494*25/100/100","v":0},{"$f":"IF(D611=F611, \"CUMPLE\", \"NO CUMPLE\")","v":"CUMPLE"}]
["ÁREA TECNICA - ADMISIÓN - ESTADÍSTICA Y ARCHIVO",null,null,null,{"$f":"-BR495*25/100/100","v":0},{"$f":"-BQ495*25/100/100","v":0},{"$f":"IF(E612=F612, \"CUMPLE\", \"NO CUMPLE\")","v":"CUMPLE"}]
["ASISTENCIAL",null,{"$f":"-BR499*25/100/100","v":0},null,null,{"$f":"-BQ499*25/100/100","v":0},{"$f":"IF(C613=F613, \"CUMPLE\", \"NO CUMPLE\")","v":"CUMPLE"}]
["ÁREA DE FARMACIA",null,null,null,{"$f":"-BK444*25/100/100","v":0},{"$f":"-BJ444*25/100/100","v":-0.125},{"$f":"IF(E614=F614, \"CUMPLE\", \"NO CUMPLE\")","v":"NO CUMPLE"}]
["APOYO DIAGNÓSTICO Y TERAPÚTICO",null,{"$f":"-BK445*25/100/100","v":0},null,null,{"$f":"-BJ445*25/100/100","v":0},{"$f":"IF(C615=F615, \"CUMPLE\", \"NO CUMPLE\")","v":"CUMPLE"}]
["REHABILITACIÓN",null,null,{"$f":"-BK446*25/100/100","v":0},null,{"$f":"-BJ446*25/100/100","v":0},{"$f":"IF(D616=F616, \"CUMPLE\", \"NO CUMPLE\")","v":"CUMPLE"}]
["ÁREA COMEDOR",null,null,null,{"$f":"-BR512*25/100/100","v":0},{"$f":"-BQ512*25/100/100","v":0},{"$f":"IF(E617=F617, \"CUMPLE\", \"NO CUMPLE\")","v":"CUMPLE"}]
["GENERAL",null,{"$f":"-BR517*25/100/100","v":0},null,null,{"$f":"-BQ517*25/100/100","v":0},{"$f":"IF(C618=F618, \"CUMPLE\", \"NO CUMPLE\")","v":"CUMPLE"}]
["SERVICIOS INTERNOS DE APOYO",null,null,{"$f":"-BK518*25/100/100","v":0},null,{"$f":"-BJ518*25/100/100","v":0},{"$f":"IF(D619=F619, \"CUMPLE\", \"NO CUMPLE\")","v":"CUMPLE"}]
["AREA DE TERAPIAS",null,null,null,{"$f":"-BK522*25/100/100","v":0},{"$f":"-BJ522*25/100/100","v":0},{"$f":"IF(E620=F620, \"CUMPLE\", \"NO CUMPLE\")","v":"CUMPLE"}]
["ÁREA DE FARMACIA",null,null,null,{"$f":"-BK447*25/100/100","v":0},{"$f":"-BJ447*25/100/100","v":0},{"$f":"IF(E621=F621, \"CUMPLE\", \"NO CUMPLE\")","v":"CUMPLE"}]
["TOTAL CONDICIÓN:",null,null,null,null,0.25,{"$f":"SUM(C599:C621)","v":0}]
["EQUIPO MEDICO:",null,"% Obtenido:","% Obtenido:","% Obtenido:","% A Cumplir:","% Final:"]
["ASISTENCIAL",null,{"$f":"-BZ496*25/100/100","v":0},null,null,{"$f":"-Equipamiento!BY496*25/100/100","v":0},{"$f":"IF(C624=F624, \"CUMPLE\", \"NO CUMPLE\")","v":"CUMPLE"}]
["CONSULTA EXTERNA",null,null,{"$f":"-BZ497*25/100/100","v":0},null,{"$f":"-Equipamiento!BY497*25/100/100","v":0},{"$f":"IF(D625=F625, \"CUMPLE\", \"NO CUMPLE\")","v":"CUMPLE"}]
["AREA DE CONSULTAS",null,null,null,{"$f":"-BK498*25/100/100","v":0},{"$f":"-BJ498*25/100/100","v":0},{"$f":"IF(E626=F626, \"CUMPLE\", \"NO CUMPLE\")","v":"CUMPLE"}]
["EQUIPO GENERAL:",null,"% Obtenido:","% Obtenido:","% Obtenido:","% A Cumplir:","% Final:"]
["ADMINISTRATIVO",null,{"$f":"-BS431*25/100/100","v":0},null,null,{"$f":"-BR431*25/100/100","v":-8.3333333333333343E-2},{"$f":"IF(C628=F628, \"CUMPLE\", \"NO CUMPLE\")","v":"NO CUMPLE"}]
["ADMISIÓN Y ESTADÍSTICA",null,null,{"$f":"-BS432*25/100/100","v":0},null,{"$f":"-BR432*25/100/100","v":-8.3333333333333343E-2},{"$f":"IF(D629=F629, \"CUMPLE\", \"NO CUMPLE\")","v":"NO CUMPLE"}]
["ÁREA TECNICA - ADMISIÓN - ESTADÍSTICA Y ARCHIVO",null,null,null,{"$f":"-BS433*25/100/100","v":0},{"$f":"-BR433*25/100/100","v":-8.3333333333333343E-2},{"$f":"IF(E630=F630, \"CUMPLE\", \"NO CUMPLE\")","v":"NO CUMPLE"}]
["ASISTENCIAL",null,{"$f":"-BS437*25/100/100","v":0},null,null,{"$f":"-BR437*25/100/100","v":0},{"$f":"IF(C631=F631, \"CUMPLE\", \"NO CUMPLE\")","v":"CUMPLE"}]
["INTERNACIÓN/RESIDENCIA",null,null,{"$f":"-BS438*25/100/100","v":0},null,{"$f":"-BR438*25/100/100","v":0},{"$f":"IF(D632=F632, \"CUMPLE\", \"NO CUMPLE\")","v":"CUMPLE"}]
["ÁRES DE INTERNACIÓN RESIDENCIA",null,null,null,{"$f":"-BS439*25/100/100","v":0},{"$f":"-BR439*25/100/100","v":0},{"$f":"IF(E633=F633, \"CUMPLE\", \"NO CUMPLE\")","v":"CUMPLE"}]
["ÁREA DE PERSONAL",null,null,null,{"$f":"-BS441*25/100/100","v":0},{"$f":"-BR441*25/100/100","v":0},{"$f":"IF(E634=F634, \"CUMPLE\", \"NO CUMPLE\")","v":"CUMPLE"}]
["APOYO TERAPEÚTICO",null,{"$f":"-BS448*25/100/100","v":0},null,null,{"$f":"-BR448*25/100/100","v":-0.16666666666666669},{"$f":"IF(C635=F635, \"CUMPLE\", \"NO CUMPLE\")","v":"NO CUMPLE"}]
["NUTRICIÓN DIETÉTICA",null,null,{"$f":"-BS449*25/100/100","v":0},null,{"$f":"-BR449*25/100/100","v":-0.16666666666666669},{"$f":"IF(D636=F636, \"CUMPLE\", \"NO CUMPLE\")","v":"NO CUMPLE"}]
["ÁREA COMEDOR",null,null,null,{"$f":"-BS450*25/100/100","v":0},{"$f":"-BR450*25/100/100","v":-0.16666666666666669},{"$f":"IF(E637=F637, \"CUMPLE\", \"NO CUMPLE\")","v":"NO CUMPLE"}]
["GENERAL",null,{"$f":"-BS455*25/100/100","v":0},null,null,{"$f":"-BR455*25/100/100","v":0},{"$f":"IF(C638=F638, \"CUMPLE\", \"NO CUMPLE\")","v":"CUMPLE"}]
["SERVICIOS INTERNOS DE APOYO",null,null,{"$f":"-BS456*25/100/100","v":0},null,{"$f":"-BR456*25/100/100","v":0},{"$f":"IF(D639=F639, \"CUMPLE\", \"NO CUMPLE\")","v":"CUMPLE"}]
["AREA DE APOYO",null,null,null,{"$f":"-BS460*25/100/100","v":0},{"$f":"-BR460*25/100/100","v":0},{"$f":"IF(E640=F640, \"CUMPLE\", \"NO CUMPLE\")","v":"CUMPLE"}]
["TOTAL CONDICIÓN:",null,null,null,null,0.25,{"$f":"SUM(C628:C640)","v":0}]
["EQUIPO MEDICO:",null,"% Obtenido:","% Obtenido:","% Obtenido:","% A Cumplir:","% Final:"]
["ASISTENCIAL",null,{"$f":"-CA434*25/100/100","v":0},null,null,{"$f":"-BZ434*25/100/100","v":-0.17857142857142858},{"$f":"IF(C643=F643, \"CUMPLE\", \"NO CUMPLE\")","v":"NO CUMPLE"}]
["CONSULTA EXTERNA",null,null,{"$f":"-CA435*25/100/100","v":0},null,{"$f":"-BZ435*25/100/100","v":-0.17857142857142858},{"$f":"IF(D644=F644, \"CUMPLE\", \"NO CUMPLE\")","v":"NO CUMPLE"}]
["AREA DE CONSULTAS",null,null,null,{"$f":"-CA436*25/100/100","v":0},{"$f":"-BZ436*25/100/100","v":-0.17857142857142858},{"$f":"IF(E645=F645, \"CUMPLE\", \"NO CUMPLE\")","v":"NO CUMPLE"}]
["ASISTENCIAL",null,{"$f":"-CA437*25/100/100","v":0},null,null,{"$f":"-BZ437*25/100/100","v":0},{"$f":"IF(C646=F646, \"CUMPLE\", \"NO CUMPLE\")","v":"CUMPLE"}]
["INTERNACIÓN/RESIDENCIA",null,null,{"$f":"-CA438*25/100/100","v":0},null,{"$f":"-BZ438*25/100/100","v":0},{"$f":"IF(D647=F647, \"CUMPLE\", \"NO CUMPLE\")","v":"CUMPLE"}]
["AREA DE SOPORTE Y SUMINISTROS",null,null,null,{"$f":"-CA440*25/100/100","v":0},{"$f":"-BZ440*25/100/100","v":0},{"$f":"IF(E648=F648, \"CUMPLE\", \"NO CUMPLE\")","v":"CUMPLE"}]
["APOYO DIAGNOSTICO Y TERAPEÚTICO",null,{"$f":"-CA445*25/100/100","v":0},null,null,{"$f":"-BZ445*25/100/100","v":-7.1428571428571438E-2},{"$f":"IF(C649=F649, \"CUMPLE\", \"NO CUMPLE\")","v":"NO CUMPLE"}]
["REHABILITACIÓN",null,null,{"$f":"-CA446*25/100/100","v":0},null,{"$f":"-BZ446*25/100/100","v":-7.1428571428571438E-2},{"$f":"IF(D650=F650, \"CUMPLE\", \"NO CUMPLE\")","v":"NO CUMPLE"}]
["AREA DE TERAPIAS",null,null,null,{"$f":"-CA447*25/100/100","v":0},{"$f":"-BZ447*25/100/100","v":-7.1428571428571438E-2},{"$f":"IF(E651=F651, \"CUMPLE\", \"NO CUMPLE\")","v":"NO CUMPLE"}]
["TOTAL CONDICIÓN:",null,null,null,null,0.25,{"$f":"SUM(C643:C651)","v":0}]
["TOTAL % CONDICIÓN:",null,null,null,null,0.3,{"$f":"(G597+G622+G641+G652)*30/100","v":0}]
["TOTALES COMPONENTE:"]
["TOTAL % REQUERIDO:",null,null,null,null,0.30000001192092896,{"$f":"(G513)","v":0}]
["TOTAL % CONDICIÓN:",null,null,null,null,0.30000001192092896,{"$f":"(G575+G653)","v":0}]
["TOTAL % DESEABLE:",null,null,null,null,0.30000001192092896,{"$f":"(BE430+BM430+BU430+CC430)*0.3/(BD430+BL430+BT430+CB430)","v":0}]

{"sheet":"Norma","index":6,"n_rows":332,"n_cols":32,"rows_kept":332,"cut":false,"hidden":false,"merged":[[1,20,1,21],[269,30,269,31],[325,0,325,6],[326,0,326,4],[1,30,1,31],[269,24,269,25],[269,26,269,27],[269,28,269,29],[328,0,328,6],[270,0,270,6],[290,0,290,6],[291,0,291,1],[292,0,292,1],[293,0,293,1],[286,15,286,21],[287,15,287,21],[281,15,281,21],[282,15,282,21],[283,15,283,21],[284,15,284,21],[285,15,285,21],[271,15,271,21],[272,15,272,21],[273,15,273,21],[1,22,1,23],[2,16,2,23],[2,24,2,31],[4,0,4,10],[24,0,24,10],[114,0,114,10],[23,0,23,10],[113,0,113,10],[282,0,282,1],[1,28,1,29],[1,26,1,27],[1,24,1,25],[279,15,279,21],[280,15,280,21],[274,15,274,21],[275,15,275,21],[276,15,276,21],[278,15,278,21],[277,15,277,21],[1,0,1,10],[2,0,2,10],[3,0,3,10],[1,18,1,19],[1,16,1,17],[283,0,283,1],[284,0,284,1],[285,0,285,1],[152,0,152,10],[271,0,271,1],[171,0,171,10],[210,0,210,10],[211,0,211,10],[261,0,261,10],[262,0,262,10],[153,0,153,10],[170,0,170,10],[189,0,189,10],[190,0,190,10],[277,0,277,1],[278,0,278,1],[279,0,279,1],[280,0,280,1],[281,0,281,1],[272,0,272,1],[273,0,273,1],[274,0,274,1],[275,0,275,1],[276,0,276,1],[299,0,299,1],[289,0,289,4],[294,0,294,1],[295,0,295,1],[296,0,296,1],[286,0,286,1],[287,0,287,1],[288,0,288,1],[297,0,297,1],[298,0,298,1],[302,0,302,1],[303,0,303,1],[304,0,304,1],[305,0,305,1],[300,0,300,1],[301,0,301,1],[309,0,309,6],[310,0,310,1],[311,0,311,1],[312,0,312,1],[306,0,306,6],[307,0,307,4],[331,0,331,4],[313,0,313,1],[314,0,314,1],[315,0,315,1],[316,0,316,1],[317,0,317,1],[323,0,323,1],[324,0,324,1],[318,0,318,1],[319,0,319,1],[320,0,320,1],[321,0,321,1],[322,0,322,1],[330,0,330,4],[329,0,329,4]]}
["FILTROS:","Anx:","Requerido:","Servicios /  Consultorios:","Tipo:","Posee:","No Posee:","Calif:",null,null,"Observaciones:"]
[{"$f":"Menu!$A$5","v":"CENTRO ESPECIALIZADO EN TRATAMIENTO PARA PERSONAS CON CONSUMO PROBLEMÁTICO DE ALCOHOL Y OTRAS DROGAS (CETADS)"},null,null,null,null,null,null,null,null,null,null,null,null,null,null,null,"req",null,"des",null,"cond",null,"cond -",null,"req",null,"des",null,"COND + ",null,"cond -"]
["NORMA",null,null,null,null,null,null,null,null,null,null,null,null,null,null,null,"NORMAS",null,null,null,null,null,null,null,"TOTAL NORMAS"]
["NORMA",null,null,null,null,null,null,null,null,null,null,null,null,null,null,null,null,null,null,null,null,null,null,null,{"$f":"SUM(Q5:Q23)","v":130},0,0,0,40,0,40,0]
["ADMINISTRATIVO",null,null,null,null,null,null,null,null,null,null,null,null,null,null,null,null,null,null,null,null,null,null,null,{"$f":"SUM(Q6:Q23)","v":130},0,0,0,40,0,40,0]
["Admisión, Información y Recepción",{"$f":"B1","v":"Anx:"},{"$f":"C$1","v":"Requerido:"},"Servicios /  Consultorios:","Tipo:","Posee:","No Posee:",null,null,{"$f":"H$1","v":"Calif:"},"Observaciones:",null,null,null,null,null,null,null,null,null,null,null,null,null,{"$f":"SUM(Q7:Q23)","v":130},0,0,0,40,0,40,0]
["Instructivo para el Llenado del Registro Diario Automatizado de Consultas y Atenciones Ambulatorias (RDACAA). 2013",null,1,null,"Condición",0,0,{"$f":"IF(AND(F7>=C7,C7>0,F7>=1),10,0)","v":0},{"$f":"IF(AND(G7>=C7,C7>0,G7>=1),10,0)","v":0},{"$f":"H7-I7","v":0},null,null,null,null,null,null,null,null,null,null,{"$f":"IF(UPPER(E7)=\"CONDICIÓN\", 10, \"\")","v":10},{"$f":"IF(UPPER(E7)=\"CONDICIÓN\", H7, \"\")","v":0},{"$f":"IF(UPPER(E7)=\"CONDICIÓN\", 10, \"\")","v":10},{"$f":"IF(UPPER(E7)=\"CONDICIÓN\", I7, \"\")","v":0}]
["Manual de Instalación del Tarjetero índice",null,1,null,"Condición",0,0,{"$f":"IF(AND(F8>=C8,C8>0,F8>=1),10,0)","v":0},{"$f":"IF(AND(G8>=C8,C8>0,G8>=1),10,0)","v":0},{"$f":"H8-I8","v":0},null,null,null,null,null,null,null,null,null,null,{"$f":"IF(UPPER(E8)=\"CONDICIÓN\", 10, \"\")","v":10},{"$f":"IF(UPPER(E8)=\"CONDICIÓN\", H8, \"\")","v":0},{"$f":"IF(UPPER(E8)=\"CONDICIÓN\", 10, \"\")","v":10},{"$f":"IF(UPPER(E8)=\"CONDICIÓN\", I8, \"\")","v":0}]
["Manual del Usuario del Tarjetero Indice",null,1,null,"Condición",0,0,0,0,0,null,null,null,null,null,null,null,null,null,null,{"$f":"IF(UPPER(E9)=\"CONDICIÓN\", 10, \"\")","v":10},{"$f":"IF(UPPER(E9)=\"CONDICIÓN\", H9, \"\")","v":0},{"$f":"IF(UPPER(E9)=\"CONDICIÓN\", 10, \"\")","v":10},{"$f":"IF(UPPER(E9)=\"CONDICIÓN\", I9, \"\")","v":0}]
["Manual de Manejo, Archivo de las Historias Clínicas",null,1,null,"Requerido",0,0,0,0,0,null,null,null,null,null,null,{"$f":"IF(UPPER(E10)=\"REQUERIDO\", 10, \"\")","v":10},{"$f":"IF(UPPER(E10)=\"REQUERIDO\", H10, \"\")","v":0}]
["Norma Técnica: Subsistema de Referencia, Derivación, Contrareferencia, Referencia inversa y Transferencia del Sistema Nacional de Salud. 2014",null,1,null,"Requerido",0,0,0,0,0,null,null,null,null,null,null,{"$f":"IF(UPPER(E11)=\"REQUERIDO\", 10, \"\")","v":10},0]
["Políticas Uso de Servicios de Red y Servicios Informáticos del Ministerio de Salud Pública",null,1,null,"Condición",0,0,0,0,0,null,null,null,null,null,null,null,null,null,null,{"$f":"IF(UPPER(E12)=\"CONDICIÓN\", 10, \"\")","v":10},{"$f":"IF(UPPER(E12)=\"CONDICIÓN\", H12, \"\")","v":0},{"$f":"IF(UPPER(E12)=\"CONDICIÓN\", 10, \"\")","v":10},{"$f":"IF(UPPER(E12)=\"CONDICIÓN\", I12, \"\")","v":0}]
["Modelo de Gestión de requerimientos e inconformidades ciudadanas para mejorar los servicios de salud a nivel nacional",null,1,null,"Requerido",0,0,0,0,0,null,null,null,null,null,null,10,0]
["Registro de visitas a usuarios/pacientes",null,1,null,"Requerido",0,0,0,0,0,null,null,null,null,null,null,10,0]
["Reglamento de Señalización de Seguridad para Establecimientos de Salud",null,1,null,"Requerido",0,0,0,0,0,null,null,null,null,null,null,10,0]
["Acuerdo Ministerial 5212: Tipología Sustitutiva para Homologar los Establecimientos de Salud por Niveles de Atención y Servicios de Apoyo del Sistema Nacional de Salud",null,1,null,"Requerido",0,0,0,0,0,null,null,null,null,null,null,10,0]
["Manual de Normas de Bioseguridad para la Red de Servicios de Salud en el Ecuador",null,1,null,"Requerido",0,0,0,0,0,null,null,null,null,null,null,10,0]
["Norma Técnica: Atención Integral en Violencia de Género. 2014",null,1,null,"Requerido",0,0,0,0,0,null,null,null,null,null,null,10,0]
["Ley Derechos y Amparo al Paciente impreso en formato A0",null,1,null,"Requerido",0,0,0,0,0,null,null,null,null,null,null,10,0]
["Protocolos de Procedimientos de Limpieza",null,1,null,"Requerido",0,0,0,0,0,null,null,null,null,null,null,10,0]
["Registro de limpieza del área funcional del Establecimiento",null,1,null,"Requerido",0,0,0,0,0,null,null,null,null,null,null,10,0]
["Registro de Mantenimiento de Equipos: Preventivo y/o Correctivo",null,1,null,"Requerido",0,0,0,0,0,null,null,null,null,null,null,10,0]
["Acuerdo Ministerial 5186: Reglamento Interministerial para la Gestión Integral de Desechos Sanitarios",null,1,null,"Requerido",0,0,0,0,0,null,null,null,null,null,null,10,0]
["ASISTENCIAL",null,null,null,null,null,null,null,null,null,null,null,null,null,null,null,null,null,null,null,null,null,null,null,{"$f":"SUM(Q25:Q113)","v":580},0,0,0,270,0,270,0]
["CONSULTA EXTERNA",null,null,null,null,null,null,null,null,null,null,null,null,null,null,null,null,null,null,null,null,null,null,null,{"$f":"SUM(Q26:Q113)","v":580},0,0,0,270,0,270,0]
["Consultorio polivalente (Psiquiatría/Medicina Interna/Familiar y Comunitaria/General)",{"$f":"B1","v":"Anx:"},{"$f":"C$1","v":"Requerido:"},"Servicios /  Consultorios:","Tipo:","Posee:","No Posee:",null,null,{"$f":"H$1","v":"Calif:"},"Observaciones:",null,null,null,null,null,null,null,null,null,null,null,null,null,{"$f":"SUM(Q27:Q56)","v":200},0,0,0,100,0,100,0]
["Instructivo para el Llenado del Registro Diario Automatizado de Consultas y Atenciones Ambulatorias (RDACAA). 2013",null,1,null,"Condición",0,0,{"$f":"IF(AND(F27>=C27,C27>0,F27>=1),10,0)","v":0},{"$f":"IF(AND(G27>=C27,C27>0,G27>=1),10,0)","v":0},{"$f":"H27-I27","v":0},null,null,null,null,null,null,null,null,null,null,{"$f":"IF(UPPER(E27)=\"CONDICIÓN\", 10, \"\")","v":10},{"$f":"IF(UPPER(E27)=\"CONDICIÓN\", H27, \"\")","v":0},{"$f":"IF(UPPER(E27)=\"CONDICIÓN\", 10, \"\")","v":10},{"$f":"IF(UPPER(E27)=\"CONDICIÓN\", I27, \"\")","v":0}]
["Clasificación Estadística Internacional de Enfermedades y Problemas Relacionados con la Salud. Décima Revisión - CIE10 ",null,1,null,"Requerido",0,0,0,0,0,null,null,null,null,null,null,{"$f":"IF(UPPER(E28)=\"REQUERIDO\", 10, \"\")","v":10},{"$f":"IF(UPPER(E28)=\"REQUERIDO\", H28, \"\")","v":0}]
["Reglamento a la Ley Organica de Salud",null,1,null,"Requerido",0,0,0,0,0,null,null,null,null,null,null,10,0]
["Guía para la adecuación cultural de los servicios de salud. 2006",null,1,null,"Requerido",0,0,0,0,0,null,null,null,null,null,null,10,0]
["Manual del modelo de atención integral en salud - MAIS. 2013",null,1,null,"Requerido",0,0,0,0,0,null,null,null,null,null,null,10,0]
["Ley Derechos y Amparo al Paciente",null,1,null,"Requerido",0,0,0,0,0,null,null,null,null,null,null,10,0]
["Ley de sustancias estupefacientes y Psicotrópicas",null,1,null,"Requerido",0,0,0,0,0,null,null,null,null,null,null,10,0]
["Cuadro nacional de medicamentos básicos y registro terapéutico. 9na revisión",null,1,null,"Requerido",0,0,0,0,0,null,null,null,null,null,null,10,0]
["Acuerdo Ministerial 4693: Reforma a la 9na. Revisión del Cuadro Nacional de Medicamentos Básicos y Registro Terapéutico",null,1,null,"Requerido",0,0,0,0,0,null,null,null,null,null,null,10,0]
["Norma Técnica: Subsistema de Referencia, Derivación, Contrareferencia, Referencia inversa y Transferencia del Sistema Nacional de Salud. 2014",null,1,null,"Requerido",0,0,0,0,0,null,null,null,null,null,null,10,0]
["Registro de Evolución de la Atención Médica y Modelo Terapéutico",null,1,null,"Requerido",0,0,{"$f":"IF(AND(F37>=C37,C37>0,F37>=1),10,0)","v":0},0,0,null,null,null,null,null,null,10,0]
["Registro de Indicadores para la Satisfacción del Usuario",null,1,null,"Requerido",0,0,{"$f":"IF(AND(F38>=C38,C38>0,F38>=1),10,0)","v":0},0,0,null,null,null,null,null,null,{"$f":"IF(UPPER(E38)=\"REQUERIDO\", 10, \"\")","v":10},{"$f":"IF(UPPER(E38)=\"REQUERIDO\", H38, \"\")","v":0}]
["Protocolo: Atención integral del consumo nocivo de alcohol, tabaco y otras drogas. 2016",null,1,null,"Requerido",0,0,{"$f":"IF(AND(F39>=C39,C39>0,F39>=1),10,0)","v":0},0,0,null,null,null,null,null,null,{"$f":"IF(UPPER(E39)=\"REQUERIDO\", 10, \"\")","v":10},{"$f":"IF(UPPER(E39)=\"REQUERIDO\", H39, \"\")","v":0}]
["Guía de atención integral de adultos y Adolescentes con infección por VIH/SIDA. 2012",null,1,null,"Condición",0,0,{"$f":"IF(AND(F40>=C40,C40>0,F40>=1),10,0)","v":0},0,0,null,null,null,null,null,null,null,null,null,null,{"$f":"IF(UPPER(E40)=\"CONDICIÓN\", 10, \"\")","v":10},{"$f":"IF(UPPER(E40)=\"CONDICIÓN\", H40, \"\")","v":0},{"$f":"IF(UPPER(E40)=\"CONDICIÓN\", 10, \"\")","v":10},{"$f":"IF(UPPER(E40)=\"CONDICIÓN\", I40, \"\")","v":0}]
["Guía de Práctica Clínica: Prevención, Diagnóstico, Tratamiento y Control de la Tuberculosis. 2015",null,1,null,"Requerido",0,0,{"$f":"IF(AND(F41>=C41,C32>0,F32>=1),10,0)","v":0},0,0,null,null,null,null,null,null,{"$f":"IF(UPPER(E41)=\"REQUERIDO\", 10, \"\")","v":10},{"$f":"IF(UPPER(E41)=\"REQUERIDO\", H41, \"\")","v":0}]
["Manual de Normas y Procedimientos para el Control de la Tuberculosis en Ecuador. 2010",null,1,null,"Requerido",0,0,{"$f":"IF(AND(F42>=C42,C42>0,F42>=1),10,0)","v":0},0,0,null,null,null,null,null,null,{"$f":"IF(UPPER(E42)=\"REQUERIDO\", 10, \"\")","v":10},{"$f":"IF(UPPER(E42)=\"REQUERIDO\", H42, \"\")","v":0}]
["Normas y protocolos para la alimentación y nutrición en la atención integral a personas que viven con VIH/SIDA. 2010",null,1,null,"Condición",0,0,0,0,0,null,null,null,null,null,null,null,null,null,null,{"$f":"IF(UPPER(E43)=\"CONDICIÓN\", 10, \"\")","v":10},{"$f":"IF(UPPER(E43)=\"CONDICIÓN\", H43, \"\")","v":0},{"$f":"IF(UPPER(E43)=\"CONDICIÓN\", 10, \"\")","v":10},{"$f":"IF(UPPER(E43)=\"CONDICIÓN\", I43, \"\")","v":0}]
["Normas y protocolos de atención integral de salud de las y los adultos mayores - 1. 2010",null,1,null,"Condición",0,0,0,0,0,null,null,null,null,null,null,null,null,null,null,10,0,10,0]
["Normas y protocolos de atención integral de salud de las y los adultos mayores - 2. 2010",null,1,null,"Condición",0,0,0,0,0,null,null,null,null,null,null,null,null,null,null,10,0,10,0]
["Normas y protocolos de atención integral de salud de las y los adultos mayores - 3. 2010",null,1,null,"Condición",0,0,0,0,0,null,null,null,null,null,null,null,null,null,null,10,0,10,0]
["Normas y procedimientos para la atención integral de salud a adolescentes. 2009",null,1,null,"Condición",0,0,0,0,0,null,null,null,null,null,null,null,null,null,null,10,0,10,0]
["Guía de Supervisión: Salud de Adolescentes. 2014",null,1,null,"Condición",0,0,0,0,0,null,null,null,null,null,null,null,null,null,null,10,0,10,0]
["Manual de procedimientos de antropometría y determinación de la presión arterial. 2012",null,1,null,"Requerido",0,0,0,0,0,null,null,null,null,null,null,{"$f":"IF(UPPER(E49)=\"REQUERIDO\", 10, \"\")","v":10},{"$f":"IF(UPPER(E49)=\"REQUERIDO\", H49, \"\")","v":0}]
["Acuerdo Ministerial 1124: Instructivo para el uso de la Receta Médica. ",null,1,null,"Condición",0,0,0,0,0,null,null,null,null,null,null,null,null,null,null,{"$f":"IF(UPPER(E50)=\"CONDICIÓN\", 10, \"\")","v":10},{"$f":"IF(UPPER(E50)=\"CONDICIÓN\", H50, \"\")","v":0},{"$f":"IF(UPPER(E50)=\"CONDICIÓN\", 10, \"\")","v":10},{"$f":"IF(UPPER(E50)=\"CONDICIÓN\", I50, \"\")","v":0}]
["Acuerdo Ministerial 4912: Reforma al Reglamento para la Gestión del Suministro de Medicamentos y Control Administrativo Financiero, y el Instructivo  para el uso de la Receta Médica.",null,1,null,"Condición",0,0,0,0,0,null,null,null,null,null,null,null,null,null,null,{"$f":"IF(UPPER(E51)=\"CONDICIÓN\", 10, \"\")","v":10},{"$f":"IF(UPPER(E51)=\"CONDICIÓN\", H51, \"\")","v":0},{"$f":"IF(UPPER(E51)=\"CONDICIÓN\", 10, \"\")","v":10},{"$f":"IF(UPPER(E51)=\"CONDICIÓN\", I51, \"\")","v":0}]
["Acuerdo Ministerial 5186: Reglamento Interministerial para la Gestión Integral de Desechos Sanitarios",null,1,null,"Requerido",0,0,0,0,0,null,null,null,null,null,null,{"$f":"IF(UPPER(E52)=\"REQUERIDO\", 10, \"\")","v":10},{"$f":"IF(UPPER(E52)=\"REQUERIDO\", H52, \"\")","v":0}]
["Manual de Normas de Bioseguridad para la Red de Servicios de Salud en el Ecuador",null,1,null,"Requerido",0,0,0,0,0,null,null,null,null,null,null,{"$f":"IF(UPPER(E53)=\"REQUERIDO\", 10, \"\")","v":10},{"$f":"IF(UPPER(E53)=\"REQUERIDO\", H53, \"\")","v":0}]
["Protocolos de Procedimientos de Limpieza y Desinfección",null,1,null,"Requerido",0,0,0,0,0,null,null,null,null,null,null,{"$f":"IF(UPPER(E54)=\"REQUERIDO\", 10, \"\")","v":10},{"$f":"IF(UPPER(E54)=\"REQUERIDO\", H54, \"\")","v":0}]
["Registro de limpieza y desinfección del área funcional del Establecimiento",null,1,null,"Requerido",0,0,0,0,0,null,null,null,null,null,null,{"$f":"IF(UPPER(E55)=\"REQUERIDO\", 10, \"\")","v":10},{"$f":"IF(UPPER(E55)=\"REQUERIDO\", H55, \"\")","v":0}]
["Registro de Mantenimiento de Equipos: Preventivo y/o Correctivo",null,1,null,"Requerido",0,0,0,0,0,null,null,null,null,null,null,{"$f":"IF(UPPER(E56)=\"REQUERIDO\", 10, \"\")","v":10},{"$f":"IF(UPPER(E56)=\"REQUERIDO\", H56, \"\")","v":0}]
["Consultorio psicología",{"$f":"B1","v":"Anx:"},{"$f":"C$1","v":"Requerido:"},"Servicios /  Consultorios:","Tipo:","Posee:","No Posee:",null,null,{"$f":"H$1","v":"Calif:"},"Observaciones:",null,null,null,null,null,null,null,null,null,null,null,null,null,{"$f":"SUM(Q58:Q79)","v":170},0,0,0,50,0,50,0]
["Instructivo para el Llenado del Registro Diario Automatizado de Consultas y Atenciones Ambulatorias (RDACAA). 2013",null,1,null,"Condición",0,0,{"$f":"IF(AND(F58>=C58,C58>0,F58>=1),10,0)","v":0},0,0,null,null,null,null,null,null,null,null,null,null,{"$f":"IF(UPPER(E58)=\"CONDICIÓN\", 10, \"\")","v":10},{"$f":"IF(UPPER(E58)=\"CONDICIÓN\", H58, \"\")","v":0},{"$f":"IF(UPPER(E58)=\"CONDICIÓN\", 10, \"\")","v":10},{"$f":"IF(UPPER(E58)=\"CONDICIÓN\", I58, \"\")","v":0}]
["Clasificación Estadística Internacional de Enfermedades y Problemas Relacionados con la Salud. Décima Revisión - CIE10 ",null,1,null,"Requerido",0,0,0,0,0,null,null,null,null,null,null,{"$f":"IF(UPPER(E59)=\"REQUERIDO\", 10, \"\")","v":10},{"$f":"IF(UPPER(E59)=\"REQUERIDO\", H59, \"\")","v":0}]
["Reglamento a la Ley Organica de Salud",null,1,null,"Requerido",0,0,0,0,0,null,null,null,null,null,null,10,0]
["Guía para la adecuación cultural de los servicios de salud. 2006",null,1,null,"Requerido",0,0,0,0,0,null,null,null,null,null,null,10,0]
["Manual del modelo de atención integral en salud - MAIS. 2013",null,1,null,"Requerido",0,0,0,0,0,null,null,null,null,null,null,10,0]
["Ley Derechos y Amparo al Paciente",null,1,null,"Requerido",0,0,0,0,0,null,null,null,null,null,null,10,0]
["Ley de sustancias estupefacientes y Psicotrópicas",null,1,null,"Requerido",0,0,0,0,0,null,null,null,null,null,null,10,0]
["Cuadro nacional de medicamentos básicos y registro terapéutico. 9na revisión",null,1,null,"Requerido",0,0,0,0,0,null,null,null,null,null,null,10,0]
["Acuerdo Ministerial 4693: Reforma a la 9na. Revisión del Cuadro Nacional de Medicamentos Básicos y Registro Terapéutico",null,1,null,"Requerido",0,0,0,0,0,null,null,null,null,null,null,10,0]
["Norma Técnica: Subsistema de Referencia, Derivación, Contrareferencia, Referencia inversa y Transferencia del Sistema Nacional de Salud. 2014",null,1,null,"Requerido",0,0,0,0,0,null,null,null,null,null,null,10,0]
["Protocolo: Atención integral del consumo nocivo de alcohol, tabaco y otras drogas. 2016",null,1,null,"Requerido",0,0,0,0,0,null,null,null,null,null,null,10,0]
["Fundamentos de la Prevención en Materia de Drogas",null,1,null,"Condición",0,0,0,0,0,null,null,null,null,null,null,null,null,null,null,{"$f":"IF(UPPER(E69)=\"CONDICIÓN\", 10, \"\")","v":10},{"$f":"IF(UPPER(E69)=\"CONDICIÓN\", H69, \"\")","v":0},{"$f":"IF(UPPER(E69)=\"CONDICIÓN\", 10, \"\")","v":10},{"$f":"IF(UPPER(E69)=\"CONDICIÓN\", I69, \"\")","v":0}]
["Guía de Abordaje del Tabaquismo en Atención Primaria de Salud",null,1,null,"Condición",0,0,0,0,0,null,null,null,null,null,null,null,null,null,null,{"$f":"IF(UPPER(E70)=\"CONDICIÓN\", 10, \"\")","v":10},{"$f":"IF(UPPER(E70)=\"CONDICIÓN\", H70, \"\")","v":0},{"$f":"IF(UPPER(E70)=\"CONDICIÓN\", 10, \"\")","v":10},{"$f":"IF(UPPER(E70)=\"CONDICIÓN\", I70, \"\")","v":0}]
["Plan Estratégico Nacional de Salud Mental 2015 - 2017",null,1,null,"Requerido",0,0,0,0,0,null,null,null,null,null,null,10,{"$f":"IF(UPPER(E71)=\"REQUERIDO\", H71, \"\")","v":0}]
["Modelo de Atención de Salud Mental, en el Marco del Modelo de Atención Integral de Salud (MAIS) - con enfoque familiar, comunitario e intercultural",null,1,null,"Requerido",0,0,0,0,0,null,null,null,null,null,null,10,{"$f":"IF(UPPER(E72)=\"REQUERIDO\", H72, \"\")","v":0}]
["Acuerdo Ministerial 1124: Instructivo para el uso de la Receta Médica. ",null,1,null,"Condición",0,0,0,0,0,null,null,null,null,null,null,null,null,null,null,{"$f":"IF(UPPER(E73)=\"CONDICIÓN\", 10, \"\")","v":10},{"$f":"IF(UPPER(E73)=\"CONDICIÓN\", H73, \"\")","v":0},{"$f":"IF(UPPER(E73)=\"CONDICIÓN\", 10, \"\")","v":10},{"$f":"IF(UPPER(E73)=\"CONDICIÓN\", I73, \"\")","v":0}]
["Acuerdo Ministerial 4912: Reforma al Reglamento para la Gestión del Suministro de Medicamentos y Control Administrativo Financiero, y el Instructivo  para el uso de la Receta Médica.",null,1,null,"Condición",0,0,0,0,0,null,null,null,null,null,null,null,null,null,null,{"$f":"IF(UPPER(E74)=\"CONDICIÓN\", 10, \"\")","v":10},{"$f":"IF(UPPER(E74)=\"CONDICIÓN\", H74, \"\")","v":0},{"$f":"IF(UPPER(E74)=\"CONDICIÓN\", 10, \"\")","v":10},{"$f":"IF(UPPER(E74)=\"CONDICIÓN\", I74, \"\")","v":0}]
["Acuerdo Ministerial 5186: Reglamento Interministerial para la Gestión Integral de Desechos Sanitarios",null,1,null,"Requerido",0,0,0,0,0,null,null,null,null,null,null,10,0]
["Manual de Normas de Bioseguridad para la Red de Servicios de Salud en el Ecuador",null,1,null,"Requerido",0,0,0,0,0,null,null,null,null,null,null,10,0]
["Protocolos de Procedimientos de Limpieza y Desinfección",null,1,null,"Requerido",0,0,0,0,0,null,null,null,null,null,null,10,0]
["Registro de limpieza y desinfección del área funcional del Establecimiento",null,1,null,"Requerido",0,0,0,0,0,null,null,null,null,null,null,10,0]
["Registro de Mantenimiento de Equipos: Preventivo y/o Correctivo",null,1,null,"Requerido",0,0,0,0,0,null,null,null,null,null,null,10,0]
["Enfermería",{"$f":"B1","v":"Anx:"},{"$f":"C$1","v":"Requerido:"},"Servicios /  Consultorios:","Tipo:",{"$f":"F$1","v":"Posee:"},"No Posee:",null,null,{"$f":"H$1","v":"Calif:"},"Observaciones:",null,null,null,null,null,null,null,null,null,null,null,null,null,{"$f":"SUM(Q81:Q113)","v":210},0,0,0,120,0,120,0]
["Instructivo para el Llenado del Registro Diario Automatizado de Consultas y Atenciones Ambulatorias (RDACAA). 2013",null,1,null,"Condición",0,0,{"$f":"IF(AND(F81>=C81,C81>0,F81>=1),10,0)","v":0},0,0,null,null,null,null,null,null,null,null,null,null,{"$f":"IF(UPPER(E81)=\"CONDICIÓN\", 10, \"\")","v":10},{"$f":"IF(UPPER(E81)=\"CONDICIÓN\", H81, \"\")","v":0},{"$f":"IF(UPPER(E81)=\"CONDICIÓN\", 10, \"\")","v":10},{"$f":"IF(UPPER(E81)=\"CONDICIÓN\", I81, \"\")","v":0}]
["Clasificación Estadística Internacional de Enfermedades y Problemas Relacionados con la Salud. Décima Revisión - CIE10 ",null,1,null,"Requerido",0,0,0,0,0,null,null,null,null,null,null,{"$f":"IF(UPPER(E82)=\"REQUERIDO\", 10, \"\")","v":10},{"$f":"IF(UPPER(E82)=\"REQUERIDO\", H82, \"\")","v":0}]
["Reglamento a la Ley Organica de Salud",null,1,null,"Requerido",0,0,0,0,0,null,null,null,null,null,null,{"$f":"IF(UPPER(E83)=\"REQUERIDO\", 10, \"\")","v":10},{"$f":"IF(UPPER(E83)=\"REQUERIDO\", H83, \"\")","v":0}]
["Guía para la adecuación cultural de los servicios de salud. 2006",null,1,null,"Requerido",0,0,0,0,0,null,null,null,null,null,null,{"$f":"IF(UPPER(E84)=\"REQUERIDO\", 10, \"\")","v":10},{"$f":"IF(UPPER(E84)=\"REQUERIDO\", H84, \"\")","v":0}]
["Manual del modelo de atención integral en salud - MAIS. 2013",null,1,null,"Requerido",0,0,0,0,0,null,null,null,null,null,null,{"$f":"IF(UPPER(E85)=\"REQUERIDO\", 10, \"\")","v":10},{"$f":"IF(UPPER(E85)=\"REQUERIDO\", H85, \"\")","v":0}]
["Ley Derechos y Amparo al Paciente",null,1,null,"Requerido",0,0,0,0,0,null,null,null,null,null,null,10,0]
["Cuadro nacional de medicamentos básicos y registro terapéutico. 9na revisión",null,1,null,"Requerido",0,0,0,0,0,null,null,null,null,null,null,10,0]
["Acuerdo Ministerial 4693: Reforma a la 9na. Revisión del Cuadro Nacional de Medicamentos Básicos y Registro Terapéutico",null,1,null,"Requerido",0,0,0,0,0,null,null,null,null,null,null,10,0]
["Modelo de gestión de aplicación de consentimiento informado en práctica asistencial. 2015",null,1,null,"Requerido",0,0,0,0,0,null,null,null,null,null,null,10,0]
["Guía de Práctica Clínica: Cuidados Paliativos. 2014",null,1,null,"Requerido",0,0,0,0,0,null,null,null,null,null,null,10,0]
["Manual de procedimientos de Enfermería",null,1,null,"Requerido",0,0,0,{"$f":"IF(AND(G91>=C91,C91>0,G91>=1),10,0)","v":0},{"$f":"H91-I91","v":0},null,null,null,null,null,null,10,0]
["Protocolo: Atención integral del consumo nocivo de alcohol, tabaco y otras drogas. 2016",null,1,null,"Requerido",0,0,0,0,0,null,null,null,null,null,null,10,0]
["Guía de Práctica Clínica: Prevención, Diagnóstico, Tratamiento y Control de la Tuberculosis. 2015",null,1,null,"Requerido",0,0,0,0,0,null,null,null,null,null,null,10,0]
["Manual de Normas y Procedimientos para el Control de la Tuberculosis en Ecuador. 2010",null,1,null,"Requerido",0,0,0,0,0,null,null,null,null,null,null,10,0]
["Guía de atención integral de adultos y Adolescentes con infección por VIH/SIDA. 2012",null,1,null,"Condición",0,0,0,0,0,null,null,null,null,null,null,null,null,null,null,{"$f":"IF(UPPER(E95)=\"CONDICIÓN\", 10, \"\")","v":10},{"$f":"IF(UPPER(E95)=\"CONDICIÓN\", H95, \"\")","v":0},{"$f":"IF(UPPER(E95)=\"CONDICIÓN\", 10, \"\")","v":10},{"$f":"IF(UPPER(E95)=\"CONDICIÓN\", I95, \"\")","v":0}]
["Normas y protocolos de atención integral de salud de las y los adultos mayores - 1. 2010",null,1,null,"Condición",0,0,0,0,0,null,null,null,null,null,null,null,null,null,null,10,0,10,0]
["Normas y protocolos de atención integral de salud de las y los adultos mayores - 2. 2010",null,1,null,"Condición",0,0,0,0,0,null,null,null,null,null,null,null,null,null,null,10,0,10,0]
["Normas y protocolos de atención integral de salud de las y los adultos mayores - 3. 2010",null,1,null,"Condición",0,0,0,0,0,null,null,null,null,null,null,null,null,null,null,10,0,10,0]
["Manual para cuidadores de la persona adulta mayor dependiente",null,1,null,"Condición",0,0,0,0,0,null,null,null,null,null,null,null,null,null,null,10,0,10,0]
["Normas de atención integral a la niñez. 2011 ",null,1,null,"Condición",0,0,0,0,0,null,null,null,null,null,null,null,null,null,null,10,0,10,0]
["Normas y procedimientos para la atención integral de salud a adolescentes. 2009",null,1,null,"Condición",0,0,0,0,0,null,null,null,null,null,null,null,null,null,null,10,0,10,0]
["Guía de Supervisión: Salud de Adolescentes. 2014",null,1,null,"Condición",0,0,{"$f":"IF(AND(F102>=C102,C102>0,F102>=1),10,0)","v":0},0,0,null,null,null,null,null,null,null,null,null,null,10,0,10,0]
["Promoción de la Salud Mental: Manejo del Estrés",null,1,null,"Requerido",0,0,{"$f":"IF(AND(F103>=C103,C103>0,F103>=1),10,0)","v":0},0,0,null,null,null,null,null,null,10,0]
["Guía de Abordaje del Tabaquismo en Atención Primaria de Salud",null,1,null,"Requerido",0,0,{"$f":"IF(AND(F104>=C104,C104>0,F104>=1),10,0)","v":0},0,0,null,null,null,null,null,null,10,0]
["Manual de procedimientos de antropometría y determinación de la presión arterial. 2012",null,1,null,"Requerido",0,0,{"$f":"IF(AND(F105>=C105,C105>0,F105>=1),10,0)","v":0},0,0,null,null,null,null,null,null,10,0]
["Acuerdo Ministerial 1124: Instructivo para el uso de la Receta Médica. ",null,1,null,"Condición",0,0,{"$f":"IF(AND(F106>=C106,C106>0,F106>=1),10,0)","v":0},0,0,null,null,null,null,null,null,null,null,null,null,{"$f":"IF(UPPER(E106)=\"CONDICIÓN\", 10, \"\")","v":10},{"$f":"IF(UPPER(E106)=\"CONDICIÓN\", H106, \"\")","v":0},{"$f":"IF(UPPER(E106)=\"CONDICIÓN\", 10, \"\")","v":10},{"$f":"IF(UPPER(E106)=\"CONDICIÓN\", I106, \"\")","v":0}]
["Acuerdo Ministerial 4912: Reforma al Reglamento para la Gestión del Suministro de Medicamentos y Control Administrativo Financiero, y el Instructivo  para el uso de la Receta Médica.",null,1,null,"Condición",0,0,{"$f":"IF(AND(F107>=C107,C107>0,F107>=1),10,0)","v":0},0,0,null,null,null,null,null,null,null,null,null,null,{"$f":"IF(UPPER(E107)=\"CONDICIÓN\", 10, \"\")","v":10},{"$f":"IF(UPPER(E107)=\"CONDICIÓN\", H107, \"\")","v":0},{"$f":"IF(UPPER(E107)=\"CONDICIÓN\", 10, \"\")","v":10},{"$f":"IF(UPPER(E107)=\"CONDICIÓN\", I107, \"\")","v":0}]
["Acuerdo Ministerial 5186: Reglamento Interministerial para la Gestión Integral de Desechos Sanitarios",null,1,null,"Requerido",0,0,0,0,0,null,null,null,null,null,null,10,0]
["Manual de lencería sanitaria para los establecimientos de salud pertenecientes al MSP. 2014",null,1,null,"Condición",0,0,0,0,0,null,null,null,null,null,null,null,null,null,null,{"$f":"IF(UPPER(E109)=\"CONDICIÓN\", 10, \"\")","v":10},{"$f":"IF(UPPER(E109)=\"CONDICIÓN\", H109, \"\")","v":0},{"$f":"IF(UPPER(E109)=\"CONDICIÓN\", 10, \"\")","v":10},{"$f":"IF(UPPER(E109)=\"CONDICIÓN\", I109, \"\")","v":0}]
["Manual de Normas de Bioseguridad para la Red de Servicios de Salud en el Ecuador",null,1,null,"Requerido",0,0,0,0,0,null,null,null,null,null,null,10,0]
["Protocolos de Procedimientos de Limpieza y Desinfección",null,1,null,"Requerido",0,0,0,0,0,null,null,null,null,null,null,10,0]
["Registro de limpieza y desinfección del área funcional del Establecimiento",null,1,null,"Requerido",0,0,0,0,0,null,null,null,null,null,null,10,0]
["Registro de Mantenimiento de Equipos: Preventivo y/o Correctivo",null,1,null,"Requerido",0,0,0,0,0,null,null,null,null,null,null,10,0]
["ASISTENCIAL",null,null,null,null,null,null,null,null,null,null,null,null,null,null,null,null,null,null,null,null,null,null,null,{"$f":"SUM(Q115:Q152)","v":240},0,0,0,120,0,120,0]
["INTERNACIÓN / RESIDENCIA",null,null,null,null,null,null,null,null,null,null,null,null,null,null,null,null,null,null,null,null,null,null,null,{"$f":"SUM(Q116:Q152)","v":240},0,0,0,120,0,120,0]
["Área de Internación/Residencia",{"$f":"B1","v":"Anx:"},{"$f":"C$1","v":"Requerido:"},"Servicios /  Consultorios:","Tipo:","Posee:","No Posee:",null,null,{"$f":"H$1","v":"Calif:"},"Observaciones:",null,null,null,null,null,null,null,null,null,null,null,null,null,{"$f":"SUM(Q117:Q152)","v":240},0,0,0,120,0,120,0]
["Instructivo para el Llenado del Registro Diario Automatizado de Consultas y Atenciones Ambulatorias (RDACAA). 2013",null,1,null,"Condición",0,0,{"$f":"IF(AND(F117>=C117,C117>0,F117>=1),10,0)","v":0},{"$f":"IF(AND(G117>=C117,C117>0,G117>=1),10,0)","v":0},{"$f":"H117-I117","v":0},null,null,null,null,null,null,null,null,null,null,{"$f":"IF(UPPER(E117)=\"CONDICIÓN\", 10, \"\")","v":10},{"$f":"IF(UPPER(E117)=\"CONDICIÓN\", H117, \"\")","v":0},{"$f":"IF(UPPER(E117)=\"CONDICIÓN\", 10, \"\")","v":10},{"$f":"IF(UPPER(E117)=\"CONDICIÓN\", I117, \"\")","v":0}]
["Clasificación Estadística Internacional de Enfermedades y Problemas Relacionados con la Salud. Décima Revisión - CIE10 ",null,1,null,"Requerido",0,0,{"$f":"IF(AND(F118>=C118,C118>0,F118>=1),10,0)","v":0},0,0,null,null,null,null,null,null,{"$f":"IF(UPPER(E118)=\"REQUERIDO\", 10, \"\")","v":10},{"$f":"IF(UPPER(E118)=\"REQUERIDO\", H118, \"\")","v":0}]
["Reglamento a la Ley Organica de Salud",null,1,null,"Requerido",0,0,{"$f":"IF(AND(F119>=C119,C119>0,F119>=1),10,0)","v":0},0,0,null,null,null,null,null,null,{"$f":"IF(UPPER(E119)=\"REQUERIDO\", 10, \"\")","v":10},{"$f":"IF(UPPER(E119)=\"REQUERIDO\", H119, \"\")","v":0}]
["Guía para la adecuación cultural de los servicios de salud. 2006",null,1,null,"Requerido",0,0,{"$f":"IF(AND(F120>=C120,C120>0,F120>=1),10,0)","v":0},0,0,null,null,null,null,null,null,{"$f":"IF(UPPER(E120)=\"REQUERIDO\", 10, \"\")","v":10},{"$f":"IF(UPPER(E120)=\"REQUERIDO\", H120, \"\")","v":0}]
["Manual del modelo de atención integral en salud - MAIS. 2013",null,1,null,"Requerido",0,0,{"$f":"IF(AND(F121>=C121,C121>0,F121>=1),10,0)","v":0},0,0,null,null,null,null,null,null,{"$f":"IF(UPPER(E121)=\"REQUERIDO\", 10, \"\")","v":10},{"$f":"IF(UPPER(E121)=\"REQUERIDO\", H121, \"\")","v":0}]
["Ley Derechos y Amparo al Paciente",null,1,null,"Requerido",0,0,0,0,0,null,null,null,null,null,null,10,0]
["Ley de sustancias estupefacientes y Psicotrópicas",null,1,null,"Requerido",0,0,0,0,0,null,null,null,null,null,null,10,0]
["Cuadro nacional de medicamentos básicos y registro terapéutico. 9na revisión",null,1,null,"Requerido",0,0,0,0,0,null,null,null,null,null,null,10,0]
["Acuerdo Ministerial 4693: Reforma a la 9na. Revisión del Cuadro Nacional de Medicamentos Básicos y Registro Terapéutico",null,1,null,"Requerido",0,0,0,0,0,null,null,null,null,null,null,10,0]
["Norma Técnica: Subsistema de Referencia, Derivación, Contrareferencia, Referencia inversa y Transferencia del Sistema Nacional de Salud. 2014",null,1,null,"Requerido",0,0,0,0,0,null,null,null,null,null,null,10,0]
["Manual de Procedimientos del Subsistema Alerta Acción (SIVE) - Alerta. 2014",null,1,null,"Requerido",0,0,0,0,0,null,null,null,null,null,null,10,0]
["Guía de atención integral de adultos y Adolescentes con infección por VIH/SIDA. 2012",null,1,null,"Condición",0,0,0,0,0,null,null,null,null,null,null,null,null,null,null,{"$f":"IF(UPPER(E128)=\"CONDICIÓN\", 10, \"\")","v":10},{"$f":"IF(UPPER(E128)=\"CONDICIÓN\", H128, \"\")","v":0},{"$f":"IF(UPPER(E128)=\"CONDICIÓN\", 10, \"\")","v":10},{"$f":"IF(UPPER(E128)=\"CONDICIÓN\", I128, \"\")","v":0}]
["Protocolo: Atención integral del consumo nocivo de alcohol, tabaco y otras drogas. 2016",null,1,null,"Requerido",0,0,0,0,0,null,null,null,null,null,null,10,0]
["Guía de Práctica Clínica: Prevención, Diagnóstico, Tratamiento y Control de la Tuberculosis. 2015",null,1,null,"Requerido",0,0,0,0,0,null,null,null,null,null,null,10,0]
["Manual de Normas y Procedimientos para el Control de la Tuberculosis en Ecuador. 2010",null,1,null,"Requerido",0,0,0,0,0,null,null,null,null,null,null,10,0]
["Protocolo de atención en intoxicación aguda por opioides y sindrome de abstinencia. 2015",null,1,null,"Requerido",0,0,0,0,0,null,null,null,null,null,null,10,0]
["Normas y protocolos de atención integral de salud de las y los adultos mayores - 1. 2010",null,1,null,"Condición",0,0,0,0,0,null,null,null,null,null,null,null,null,null,null,{"$f":"IF(UPPER(E133)=\"CONDICIÓN\", 10, \"\")","v":10},{"$f":"IF(UPPER(E133)=\"CONDICIÓN\", H133, \"\")","v":0},{"$f":"IF(UPPER(E133)=\"CONDICIÓN\", 10, \"\")","v":10},{"$f":"IF(UPPER(E133)=\"CONDICIÓN\", I133, \"\")","v":0}]
["Normas y protocolos de atención integral de salud de las y los adultos mayores - 2. 2010",null,1,null,"Condición",0,0,0,0,0,null,null,null,null,null,null,null,null,null,null,10,0,10,0]
["Normas y protocolos de atención integral de salud de las y los adultos mayores - 3. 2010",null,1,null,"Condición",0,0,0,0,0,null,null,null,null,null,null,null,null,null,null,10,0,10,0]
["Carné Socio - Sanitario del Adulto Mayor",null,1,null,"Condición",0,0,0,0,0,null,null,null,null,null,null,null,null,null,null,10,0,10,0]
["Normas y procedimientos para la atención integral de salud a adolescentes. 2009",null,1,null,"Condición",0,0,0,0,0,null,null,null,null,null,null,null,null,null,null,10,0,10,0]
["Caja de herramientas. Documentos de Apoyo Técnico. Normas y protocolos de Atención Integral a los/las Adolescentes",null,1,null,"Condición",0,0,0,0,0,null,null,null,null,null,null,null,null,null,null,10,0,10,0]
["Guía de Supervisión: Salud de Adolescentes. 2014",null,1,null,"Condición",0,0,0,0,0,null,null,null,null,null,null,null,null,null,null,10,0,10,0]
["Norma Técnica de Atención Integral en Violencia de Género. 2014",null,1,null,"Requerido",0,0,0,0,0,null,null,null,null,null,null,10,0]
["Norma y protocolos de atención integral a la violencia de género, intrafamiliar y sexual por ciclos de vida. 2011",null,1,null,"Requerido",0,0,0,0,0,null,null,null,null,null,null,10,0]
["Introducción a la Guía de actividad Física dirigido al personal de salud I. 2011",null,1,null,"Requerido",0,0,0,0,0,null,null,null,null,null,null,10,0]
["Guía de actividad Física dirigido al personal de salud II. 2011",null,1,null,"Requerido",0,0,0,0,0,null,null,null,null,null,null,10,0]
["Manual de lencería sanitaria para los establecimientos de salud pertenecientes al MSP. 2014",null,1,null,"Condición",0,0,0,0,0,null,null,null,null,null,null,null,null,null,null,{"$f":"IF(UPPER(E144)=\"CONDICIÓN\", 10, \"\")","v":10},{"$f":"IF(UPPER(E144)=\"CONDICIÓN\", H144, \"\")","v":0},{"$f":"IF(UPPER(E144)=\"CONDICIÓN\", 10, \"\")","v":10},{"$f":"IF(UPPER(E144)=\"CONDICIÓN\", I144, \"\")","v":0}]
["Manual de procedimientos de antropometría y determinación de la presión arterial. 2012",null,1,null,"Requerido",0,0,0,0,0,null,null,null,null,null,null,10,0]
["Acuerdo Ministerial 1124: Instructivo para el uso de la Receta Médica. ",null,1,null,"Condición",0,0,0,0,0,null,null,null,null,null,null,null,null,null,null,{"$f":"IF(UPPER(E146)=\"CONDICIÓN\", 10, \"\")","v":10},{"$f":"IF(UPPER(E146)=\"CONDICIÓN\", H146, \"\")","v":0},{"$f":"IF(UPPER(E146)=\"CONDICIÓN\", 10, \"\")","v":10},{"$f":"IF(UPPER(E146)=\"CONDICIÓN\", I146, \"\")","v":0}]
["Acuerdo Ministerial 4912: Reforma al Reglamento para la Gestión del Suministro de Medicamentos y Control Administrativo Financiero, y el Instructivo  para el uso de la Receta Médica.",null,1,null,"Condición",0,0,0,0,0,null,null,null,null,null,null,null,null,null,null,{"$f":"IF(UPPER(E147)=\"CONDICIÓN\", 10, \"\")","v":10},{"$f":"IF(UPPER(E147)=\"CONDICIÓN\", H147, \"\")","v":0},{"$f":"IF(UPPER(E147)=\"CONDICIÓN\", 10, \"\")","v":10},{"$f":"IF(UPPER(E147)=\"CONDICIÓN\", I147, \"\")","v":0}]
["Acuerdo Ministerial 5186: Reglamento Interministerial para la Gestión Integral de Desechos Sanitarios",null,1,null,"Requerido",0,0,0,0,0,null,null,null,null,null,null,10,0]
["Manual de Normas de Bioseguridad para la Red de Servicios de Salud en el Ecuador",null,1,null,"Requerido",0,0,0,0,0,null,null,null,null,null,null,10,0]
["Protocolos de Procedimientos de Limpieza y Desinfección",null,1,null,"Requerido",0,0,0,0,0,null,null,null,null,null,null,10,0]
["Registro de limpieza y desinfección del área funcional del Establecimiento",null,1,null,"Requerido",0,0,0,0,0,null,null,null,null,null,null,10,0]
["Registro de Mantenimiento de Equipos: Preventivo y/o Correctivo",null,1,null,"Requerido",0,0,0,0,0,null,null,null,null,null,null,10,0]
["APOYO TERAPEÚTICO",null,null,null,null,null,null,null,null,null,null,null,null,null,null,null,null,null,null,null,null,null,null,null,{"$f":"SUM(Q154:Q170)","v":130},0,0,0,0,0,0,0]
["DOTACIÓN DE MEDICAMENTOS Y DISPOSITIVOS MÉDICOS (FARMACIA)",null,null,null,null,null,null,null,null,null,null,null,null,null,null,null,null,null,null,null,null,null,null,null,{"$f":"SUM(Q155:Q170)","v":130},0,0,0,0,0,0,0]
[" Área de Farmacia",{"$f":"B1","v":"Anx:"},{"$f":"C$1","v":"Requerido:"},"Servicios /  Consultorios:","Tipo:","Posee:","No Posee:",null,null,{"$f":"H$1","v":"Calif:"},"Observaciones:",null,null,null,null,null,null,null,null,null,null,null,null,null,{"$f":"SUM(Q156:Q170)","v":130},0,0,0,0,0,0,0]
["Guia Recepción de Medicamentos",null,1,null,"Requerido",0,0,{"$f":"IF(AND(F156>=C156,C156>0,F156>=1),10,0)","v":0},{"$f":"IF(AND(G156>=C156,C156>0,G156>=1),10,0)","v":0},{"$f":"H156-I156","v":0},null,null,null,null,null,null,{"$f":"IF(UPPER(E156)=\"REQUERIDO\", 10, \"\")","v":10},{"$f":"IF(UPPER(E156)=\"REQUERIDO\", H156, \"\")","v":0}]
["Manual de Procesos para la Gestión de Suministros de Medicamentos",null,1,null,"Requerido",0,0,{"$f":"IF(AND(F157>=C157,C157>0,F157>=1),10,0)","v":0},0,0,null,null,null,null,null,null,{"$f":"IF(UPPER(E157)=\"REQUERIDO\", 10, \"\")","v":10},{"$f":"IF(UPPER(E157)=\"REQUERIDO\", H157, \"\")","v":0}]
["Acuerdo Ministerial 1124: Instructivo para el uso de la Receta Médica. ",null,1,null,"Condición",0,0,{"$f":"IF(AND(F158>=C158,C158>0,F158>=1),10,0)","v":0},0,0,null,null,null,null,null,null,"",""]
["Acuerdo Ministerial 4912: Reforma al Reglamento para la Gestión del Suministro de Medicamentos y Control Administrativo Financiero, y el Instructivo  para el uso de la Receta Médica.",null,1,null,"Condición",0,0,{"$f":"IF(AND(F159>=C159,C159>0,F159>=1),10,0)","v":0},0,0,null,null,null,null,null,null,"",""]
["Cuadro nacional de medicamentos básicos y registro terapéutico. 9na revisión",null,1,null,"Requerido",0,0,0,0,0,null,null,null,null,null,null,10,0]
["Acuerdo Ministerial 4693: Reforma a la 9na. Revisión del Cuadro Nacional de Medicamentos Básicos y Registro Terapéutico",null,1,null,"Requerido",0,0,0,0,0,null,null,null,null,null,null,10,0]
["Acuerdo Ministerial 205: Reglamento para el registro y control sanitario de dispositivos médicos, reactivos bioquímicos y de diagnóstico; y, productos dentales",null,1,null,"Requerido",0,0,0,0,0,null,null,null,null,null,null,10,0]
["Acuerdo Ministerial 4872: Reglamento de buenas prácticas de almacenamiento, distribución y transporte para establecimientos farmacéuticos",null,1,null,"Requerido",0,0,0,0,0,null,null,null,null,null,null,10,0]
["Registro de Temperatura de los refrigeradores ",null,1,null,"Requerido",0,0,0,0,0,null,null,null,null,null,null,10,0]
["Registro de Temperatura y Humedad ambiental",null,1,null,"Requerido",0,0,0,0,0,null,null,null,null,null,null,10,0]
["Acuerdo Ministerial 5186: Reglamento Interministerial para la Gestión Integral de Desechos Sanitarios",null,1,null,"Requerido",0,0,0,0,0,null,null,null,null,null,null,10,0]
["Manual de Normas de Bioseguridad para la Red de Servicios de Salud en el Ecuador",null,1,null,"Requerido",0,0,{"$f":"IF(AND(F167>=C167,C167>0,F167>=1),10,0)","v":0},0,0,null,null,null,null,null,null,10,0]
["Protocolos de Procedimientos de Limpieza y Desinfección",null,1,null,"Requerido",0,0,{"$f":"IF(AND(F168>=C168,C168>0,F168>=1),10,0)","v":0},0,0,null,null,null,null,null,null,{"$f":"IF(UPPER(E168)=\"REQUERIDO\", 10, \"\")","v":10},{"$f":"IF(UPPER(E168)=\"REQUERIDO\", H168, \"\")","v":0}]
["Registro de limpieza y desinfección del área funcional del Establecimiento",null,1,null,"Requerido",0,0,{"$f":"IF(AND(F169>=C169,C169>0,F169>=1),10,0)","v":0},0,0,null,null,null,null,null,null,10,0]
["Registro de Mantenimiento de Equipos: Preventivo y/o Correctivo",null,1,null,"Requerido",0,0,{"$f":"IF(AND(F170>=C170,C170>0,F170>=1),10,0)","v":0},0,0,null,null,null,null,null,null,10,0]
["APOYO DIAGNÓSTICO Y TERAPEÚTICO",null,null,null,null,null,null,null,null,null,null,null,null,null,null,null,null,null,null,null,null,null,null,null,{"$f":"SUM(Q172:Q189)","v":10},0,0,0,140,0,140,0]
["REHABILITACIÓN",null,null,null,null,null,null,null,null,null,null,null,null,null,null,null,null,null,null,null,null,null,null,null,{"$f":"SUM(Q173:Q189)","v":10},0,0,0,140,0,140,0]
["Taller ocupacional  y de uso múltiple",{"$f":"B1","v":"Anx:"},{"$f":"C$1","v":"Requerido:"},"Servicios /  Consultorios:","Tipo:","Posee:","No Posee:",null,null,{"$f":"H$1","v":"Calif:"},"Observaciones:",null,null,null,null,null,null,null,null,null,null,null,null,null,{"$f":"SUM(Q174:Q189)","v":10},0,0,0,140,0,140,0]
["Instructivo para el Llenado del Registro Diario Automatizado de Consultas y Atenciones Ambulatorias (RDACAA). 2013",null,1,null,"Condición",0,0,{"$f":"IF(AND(F174>=C174,C174>0,F174>=1),10,0)","v":0},{"$f":"IF(AND(G174>=C174,C174>0,G174>=1),10,0)","v":0},{"$f":"H174-I174","v":0},null,null,null,null,null,null,null,null,null,null,{"$f":"IF(UPPER(E174)=\"CONDICIÓN\", 10, 0)","v":10},{"$f":"IF(UPPER(E174)=\"CONDICIÓN\", H174, \"\")","v":0},{"$f":"IF(UPPER(E174)=\"CONDICIÓN\", 10, \"\")","v":10},{"$f":"IF(UPPER(E174)=\"CONDICIÓN\", I174, \"\")","v":0}]
["Ley Derechos y Amparo al Paciente impreso en formato A0",null,1,null,"Requerido",0,0,0,0,0,null,null,null,null,null,null,{"$f":"IF(UPPER(E175)=\"REQUERIDO\", 10, \"\")","v":10},{"$f":"IF(UPPER(E175)=\"REQUERIDO\", H175, \"\")","v":0}]
["Acuerdo Ministerial 5186: Reglamento Interministerial para la Gestión Integral de Desechos Sanitarios",null,1,null,"Condición",0,0,0,0,0,null,null,null,null,null,null,null,null,null,null,{"$f":"IF(UPPER(E176)=\"CONDICIÓN\", 10, 0)","v":10},{"$f":"IF(UPPER(E176)=\"CONDICIÓN\", H176, \"\")","v":0},{"$f":"IF(UPPER(E176)=\"CONDICIÓN\", 10, \"\")","v":10},{"$f":"IF(UPPER(E176)=\"CONDICIÓN\", I176, \"\")","v":0}]
["Manual de Normas de Bioseguridad para la Red de Servicios de Salud en el Ecuador",null,1,null,"Condición",0,0,0,0,0,null,null,null,null,null,null,null,null,null,null,10,0,10,0]
["Protocolos de Procedimientos de Limpieza y Desinfección",null,1,null,"Condición",0,0,0,0,0,null,null,null,null,null,null,null,null,null,null,10,0,10,0]
["Registro de limpieza y desinfección del área funcional del Establecimiento",null,1,null,"Condición",0,0,0,0,0,null,null,null,null,null,null,null,null,null,null,10,0,10,0]
["Registro de Mantenimiento de Equipos: Preventivo y/o Correctivo",null,1,null,"Condición",0,0,0,0,0,null,null,null,null,null,null,null,null,null,null,10,0,10,0]
["Registro Diario de Terapias ",null,1,null,"Condición",0,0,0,0,0,null,null,null,null,null,null,null,null,null,null,10,0,10,0]
["Sala de cinesiterapia",{"$f":"B1","v":"Anx:"},{"$f":"C$1","v":"Requerido:"},"Servicios /  Consultorios:","Tipo:","Posee:","No Posee:",null,null,{"$f":"H$1","v":"Calif:"},"Observaciones:",null,null,null,null,null,null,null,null,null,null,null,null,null,{"$f":"SUM(Q183:Q189)","v":0},0,0,0,70,0,70,0]
["Instructivo para el Llenado del Registro Diario Automatizado de Consultas y Atenciones Ambulatorias (RDACAA). 2013",null,1,null,"Condición",0,0,{"$f":"IF(AND(F183>=C183,C183>0,F183>=1),10,0)","v":0},0,0,null,null,null,null,null,null,null,null,null,null,{"$f":"IF(UPPER(E183)=\"CONDICIÓN\", 10, 0)","v":10},{"$f":"IF(UPPER(E183)=\"CONDICIÓN\", H183, \"\")","v":0},{"$f":"IF(UPPER(E183)=\"CONDICIÓN\", 10, \"\")","v":10},{"$f":"IF(UPPER(E183)=\"CONDICIÓN\", I183, \"\")","v":0}]
["Acuerdo Ministerial 5186: Reglamento Interministerial para la Gestión Integral de Desechos Sanitarios",null,1,null,"Condición",0,0,0,0,0,null,null,null,null,null,null,null,null,null,null,10,0,10,0]
["Manual de Normas de Bioseguridad para la Red de Servicios de Salud en el Ecuador",null,1,null,"Condición",0,0,0,0,0,null,null,null,null,null,null,null,null,null,null,10,0,10,0]
["Protocolos de Procedimientos de Limpieza y Desinfección",null,1,null,"Condición",0,0,0,0,0,null,null,null,null,null,null,null,null,null,null,10,0,10,0]
["Registro de limpieza y desinfección del área funcional del Establecimiento",null,1,null,"Condición",0,0,0,0,0,null,null,null,null,null,null,null,null,null,null,10,0,10,0]
["Registro de Mantenimiento de Equipos: Preventivo y/o Correctivo",null,1,null,"Condición",0,0,0,0,0,null,null,null,null,null,null,null,null,null,null,10,0,10,0]
["Registro Diario de Terapias ",null,1,null,"Condición",0,0,0,0,0,null,null,null,null,null,null,null,null,null,null,10,0,10,0]
["APOYO TERAPEUTICO",null,null,null,null,null,null,null,null,null,null,null,null,null,null,null,null,null,null,null,null,null,null,null,{"$f":"SUM(Q191:Q210)","v":120},0,0,0,50,0,50,0]
["NUTRICIÓN Y DIETETICA",null,null,null,null,null,null,null,null,null,null,null,null,null,null,null,null,null,null,null,null,null,null,null,{"$f":"SUM(Q192:Q210)","v":120},0,0,0,50,0,50,0]
["AREA DE COMEDOR",{"$f":"B1","v":"Anx:"},{"$f":"C$1","v":"Requerido:"},"Servicios /  Consultorios:","Tipo:","Posee:","No Posee:",null,null,{"$f":"H$1","v":"Calif:"},"Observaciones:",null,null,null,null,null,null,null,null,null,null,null,null,null,{"$f":"SUM(Q193:Q196)","v":40},0,0,0,0,0,0,0]
["Ley Derechos y Amparo al Paciente impreso en formato A0",null,1,null,"Requerido",0,0,{"$f":"IF(AND(F193>=C193,C193>0,F193>=1),10,0)","v":0},{"$f":"IF(AND(G193>=C193,C193>0,G193>=1),10,0)","v":0},{"$f":"H193-I193","v":0},null,null,null,null,null,null,{"$f":"IF(UPPER(E193)=\"REQUERIDO\", 10, \"\")","v":10},{"$f":"IF(UPPER(E193)=\"REQUERIDO\", H193, \"\")","v":0}]
["Acuerdo Ministerial 5186: Reglamento Interministerial para la Gestión Integral de Desechos Sanitarios",null,1,null,"Requerido",0,0,{"$f":"IF(AND(F194>=C194,C194>0,F194>=1),10,0)","v":0},0,0,null,null,null,null,null,null,{"$f":"IF(UPPER(E194)=\"REQUERIDO\", 10, \"\")","v":10},{"$f":"IF(UPPER(E194)=\"REQUERIDO\", H194, \"\")","v":0}]
["Manual de Normas de Bioseguridad para la Red de Servicios de Salud en el Ecuador",null,1,null,"Requerido",0,0,{"$f":"IF(AND(F195>=C195,C195>0,F195>=1),10,0)","v":0},0,0,null,null,null,null,null,null,{"$f":"IF(UPPER(E195)=\"REQUERIDO\", 10, \"\")","v":10},{"$f":"IF(UPPER(E195)=\"REQUERIDO\", H195, \"\")","v":0}]
["Protocolos de Procedimientos de Limpieza",null,1,null,"Requerido",0,0,{"$f":"IF(AND(F196>=C196,C196>0,F196>=1),10,0)","v":0},0,0,null,null,null,null,null,null,{"$f":"IF(UPPER(E196)=\"REQUERIDO\", 10, \"\")","v":10},{"$f":"IF(UPPER(E196)=\"REQUERIDO\", H196, \"\")","v":0}]
["AREA TECNICA DE COCINA",{"$f":"B1","v":"Anx:"},{"$f":"C$1","v":"Requerido:"},"Servicios /  Consultorios:","Tipo:",{"$f":"F$1","v":"Posee:"},"No Posee:",null,null,{"$f":"H$1","v":"Calif:"},"Observaciones:",null,null,null,null,null,null,null,null,null,null,null,null,null,{"$f":"SUM(Q198:Q210)","v":80},0,0,0,50,0,50,0]
["Ley Derechos y Amparo al Paciente",null,1,null,"Requerido",0,0,{"$f":"IF(AND(F198>=C198,C198>0,F198>=1),10,0)","v":0},0,0,null,null,null,null,null,null,{"$f":"IF(UPPER(E198)=\"REQUERIDO\", 10, \"\")","v":10},{"$f":"IF(UPPER(E198)=\"REQUERIDO\", H198, \"\")","v":0},null,null,null,{"$f":"IF(UPPER(E198)=\"CONDICIÓN\", H198, \"\")","v":""},null,{"$f":"IF(UPPER(G198)=\"CONDICIÓN\", K198, \"\")","v":""}]
["Guía para la adecuación cultural de los servicios de salud. 2006",null,1,null,"Requerido",0,0,{"$f":"IF(AND(F199>=C199,C199>0,F199>=1),10,0)","v":0},0,0,null,null,null,null,null,null,10,0]
["Manual del modelo de atención integral en salud - MAIS. 2013",null,1,null,"Requerido",0,0,0,0,0,null,null,null,null,null,null,10,0]
["Normas y protocolos para la alimentación y nutrición en la atención integral a personas que viven con VIH/SIDA. 2010",null,1,null,"Condición",0,0,0,0,0,null,{"$f":"IF(AND(G201>=C201,G201>0,G201>=0),10,0)","v":0},null,null,null,null,null,null,null,null,{"$f":"IF(UPPER(E201)=\"CONDICIÓN\", 10, 0)","v":10},{"$f":"IF(UPPER(E201)=\"CONDICIÓN\", H201, \"\")","v":0},{"$f":"IF(UPPER(E201)=\"CONDICIÓN\", 10, \"\")","v":10},{"$f":"IF(UPPER(E201)=\"CONDICIÓN\", I201, \"\")","v":0}]
["Procolo de Atención y Manual de Consejería para el Crecimiento del niño y la niña. 2011",null,1,null,"Condición",0,0,0,0,0,null,{"$f":"IF(AND(G202>=C202,G202>0,G202>=0),10,0)","v":0},null,null,null,null,null,null,null,null,{"$f":"IF(UPPER(E202)=\"CONDICIÓN\", 10, 0)","v":10},{"$f":"IF(UPPER(E202)=\"CONDICIÓN\", H202, \"\")","v":0},{"$f":"IF(UPPER(E202)=\"CONDICIÓN\", 10, \"\")","v":10},{"$f":"IF(UPPER(E202)=\"CONDICIÓN\", I202, \"\")","v":0}]
["Normas de nutrición para la prevención primaria y control del sobrepeso y la obesidad en niñas, niños y adolescentes. 2011",null,1,null,"Condición",0,0,0,0,0,null,{"$f":"IF(AND(G203>=C203,G203>0,G203>=0),10,0)","v":0},null,null,null,null,null,null,null,null,{"$f":"IF(UPPER(E203)=\"CONDICIÓN\", 10, 0)","v":10},{"$f":"IF(UPPER(E203)=\"CONDICIÓN\", H203, \"\")","v":0},{"$f":"IF(UPPER(E203)=\"CONDICIÓN\", 10, \"\")","v":10},{"$f":"IF(UPPER(E203)=\"CONDICIÓN\", I203, \"\")","v":0}]
["Normas de nutrición para la prevención secundaria y control del sobrepeso y la obesidad en niñas, niños y adolescentes. 2011",null,1,null,"Condición",0,0,0,0,0,null,{"$f":"IF(AND(G204>=C204,G204>0,G204>=0),10,0)","v":0},null,null,null,null,null,null,null,null,{"$f":"IF(UPPER(E204)=\"CONDICIÓN\", 10, 0)","v":10},{"$f":"IF(UPPER(E204)=\"CONDICIÓN\", H204, \"\")","v":0},{"$f":"IF(UPPER(E204)=\"CONDICIÓN\", 10, \"\")","v":10},{"$f":"IF(UPPER(E204)=\"CONDICIÓN\", I204, \"\")","v":0}]
["Manual de consejería nutricional para el crecimiento y alimentacion de niños y niñas menores de cinco años y de cinco a nueve años. 2011",null,1,null,"Condición",0,0,0,0,0,null,{"$f":"IF(AND(G205>=C205,G205>0,G205>=0),10,0)","v":0},null,null,null,null,null,null,null,null,{"$f":"IF(UPPER(E205)=\"CONDICIÓN\", 10, 0)","v":10},{"$f":"IF(UPPER(E205)=\"CONDICIÓN\", H205, \"\")","v":0},{"$f":"IF(UPPER(E205)=\"CONDICIÓN\", 10, \"\")","v":10},{"$f":"IF(UPPER(E205)=\"CONDICIÓN\", I205, \"\")","v":0}]
["Acuerdo Ministerial 5186: Reglamento Interministerial para la Gestión Integral de Desechos Sanitarios",null,1,null,"Requerido",0,0,0,0,0,null,null,null,null,null,null,10,0]
["Manual de Normas de Bioseguridad para la Red de Servicios de Salud en el Ecuador",null,1,null,"Requerido",0,0,0,0,0,null,null,null,null,null,null,10,0]
["Protocolos de Procedimientos de Limpieza y Desinfección",null,1,null,"Requerido",0,0,0,0,0,null,null,null,null,null,null,10,0]
["Registro de limpieza y desinfección del área funcional del Establecimiento",null,1,null,"Requerido",0,0,0,0,0,null,null,null,null,null,null,10,0]
["Registro de Mantenimiento de Equipos: Preventivo y/o Correctivo",null,1,null,"Requerido",0,0,0,0,0,null,null,null,null,null,null,10,0]
["ADMINISTRATIVO",null,null,null,null,null,null,null,null,null,null," ",null,null,null,null,null,null,null,null,null,null,null,null,{"$f":"SUM(Q212:Q261)","v":430},0,0,0,40,0,40,0]
["ADMINISTRACIÓN TÉCNICA",null,null,null,null,null,null,null,null,null,null,null,null,null,null,null,null,null,null,null,null,null,null,null,{"$f":"SUM(Q213:Q261)","v":430},0,0,0,40,0,40,0]
["Despacho del Responsable Técnico",{"$f":"B1","v":"Anx:"},{"$f":"C$1","v":"Requerido:"},"Servicios /  Consultorios:","Tipo:","Posee:","No Posee:",null,null,{"$f":"H$1","v":"Calif:"},"Observaciones:",null,null,null,null,null,null,null,null,null,null,null,null,null,{"$f":"SUM(Q214:Q250)","v":330},0,0,0,40,0,40,0]
["Constitución de la Republica del Ecuador",null,1,null,"Requerido",0,0,{"$f":"IF(AND(F214>=C214,C214>0,F214>=1),10,0)","v":0},{"$f":"IF(AND(G214>=C214,C214>0,G214>=1),10,0)","v":0},{"$f":"H214-I214","v":0},null,null,null,null,null,null,{"$f":"IF(UPPER(E214)=\"REQUERIDO\", 10, \"\")","v":10},{"$f":"IF(UPPER(E214)=\"REQUERIDO\", H214, \"\")","v":0}]
["Plan Nacional del Buen Vivir 2013-2017",null,1,null,"Requerido",0,0,{"$f":"IF(AND(F215>=C215,C215>0,F215>=1),10,0)","v":0},0,0,null,null,null,null,null,null,{"$f":"IF(UPPER(E215)=\"REQUERIDO\", 10, \"\")","v":10},{"$f":"IF(UPPER(E215)=\"REQUERIDO\", H215, \"\")","v":0}]
["Agenda Social 2017",null,1,null,"Requerido",0,0,{"$f":"IF(AND(F216>=C216,C216>0,F216>=1),10,0)","v":0},0,0,null,null,null,null,null,null,10,0]
["Código Orgánico Integral Penal - COIP",null,1,null,"Requerido",0,0,0,0,0,null,null,null,null,null,null,10,0]
["Ley Orgánica del Servidor Publico - LOSEP",null,1,null,"Condición",0,0,0,0,0,null,null,null,null,null,null,null,null,null,null,{"$f":"IF(UPPER(E218)=\"CONDICIÓN\", 10, 0)","v":10},{"$f":"IF(UPPER(E218)=\"CONDICIÓN\", H218, \"\")","v":0},{"$f":"IF(UPPER(E218)=\"CONDICIÓN\", 10, \"\")","v":10},{"$f":"IF(UPPER(E218)=\"CONDICIÓN\", I218, \"\")","v":0}]
["Reglamento a Ley Orgánica del Servidor Publico - LOSEP",null,1,null,"Condición",0,0,0,0,0,null,null,null,null,null,null,null,null,null,null,{"$f":"IF(UPPER(E219)=\"CONDICIÓN\", 10, 0)","v":10},{"$f":"IF(UPPER(E219)=\"CONDICIÓN\", H219, \"\")","v":0},{"$f":"IF(UPPER(E219)=\"CONDICIÓN\", 10, \"\")","v":10},{"$f":"IF(UPPER(E219)=\"CONDICIÓN\", I219, \"\")","v":0}]
["Codificación del Código del Trabajo (2005)",null,1,null,"Requerido",0,0,0,0,0,null,null,null,null,null,null,10,0]
["Código Orgánico de Organización Territorial, Autonomia y Descentralización - COOTAD",null,1,null,"Requerido",0,0,0,0,0,null,null,null,null,null,null,10,0]
["Instructivo para el Llenado del Registro Diario Automatizado de Consultas y Atenciones Ambulatorias (RDACAA). 2013",null,1,null,"Condición",0,0,0,0,0,null,null,null,null,null,null,null,null,null,null,{"$f":"IF(UPPER(E222)=\"CONDICIÓN\", 10, 0)","v":10},{"$f":"IF(UPPER(E222)=\"CONDICIÓN\", H222, \"\")","v":0},{"$f":"IF(UPPER(E222)=\"CONDICIÓN\", 10, \"\")","v":10},{"$f":"IF(UPPER(E222)=\"CONDICIÓN\", I222, \"\")","v":0}]
["Distribución Zonas Distritos 2011",null,1,null,"Requerido",0,0,0,0,0,null,null,null,null,null,null,10,0]
["Manual del Sistema Organizado de la Red de Servicios de Salud",null,1,null,"Requerido",0,0,0,0,0,null,null,null,null,null,null,10,0]
["Acuerdo Ministerial 80: Normativa Sanitaria para el control y vigilancia de los establecimientos de salud que prestan servicios de tratamiento a personas con consumo problemático de alcohol y otras drogas (ESTAD)",null,1,null,"Requerido",0,0,0,0,0,null,null,null,null,null,null,10,0]
["Guía para la adecuación cultural de los servicios de salud. 2006",null,1,null,"Requerido",0,0,0,0,0,null,null,null,null,null,null,10,0]
["Norma Técnica: Subsistema de Referencia, Derivación, Contrareferencia, Referencia inversa y Transferencia del Sistema Nacional de Salud. 2014",null,1,null,"Requerido",0,0,0,0,0,null,null,null,null,null,null,10,0]
["Políticas Uso de Servicios de Red y Servicios Informáticos del Ministerio de Salud Pública",null,1,null,"Condición",0,0,0,0,0,null,null,null,null,null,null,null,null,null,null,{"$f":"IF(UPPER(E228)=\"CONDICIÓN\", 10, 0)","v":10},{"$f":"IF(UPPER(E228)=\"CONDICIÓN\", H228, \"\")","v":0},{"$f":"IF(UPPER(E228)=\"CONDICIÓN\", 10, \"\")","v":10},{"$f":"IF(UPPER(E228)=\"CONDICIÓN\", I228, \"\")","v":0}]
["Modelo de Gestión de requerimientos e inconformidades ciudadanas para mejorar los servicios de salud a nivel nacional",null,1,null,"Requerido",0,0,0,0,0,null,null,null,null,null,null,10,0]
["Reglamento de Señalización de Seguridad para Establecimientos de Salud",null,1,null,"Requerido",0,0,0,0,0,null,null,null,null,null,null,10,0]
["Registro de Atenciones de Morbilidad y Mortalidad",null,1,null,"Requerido",0,0,0,0,0,null,null,null,null,null,null,10,0]
["Acuerdo Ministerial 5212: Tipología Sustitutiva para Homologar los Establecimientos de Salud por Niveles de Atención y Servicios de Apoyo del Sistema Nacional de Salud",null,1,null,"Requerido",0,0,0,0,0,null,null,null,null,null,null,10,0]
["Registro de Mantenimiento de Equipos: Preventivo o Correctivo ",null,1,null,"Requerido",0,0,0,0,0,null,null,null,null,null,null,10,0]
["Registro Consolidado de mantenimiento de equipos: preventio y/o correctivo",null,1,null,"Requerido",0,0,0,0,0,null,null,null,null,null,null,10,0]
["Protocolo de procedimientos de enfermería",null,1,null,"Requerido",0,0,0,0,0,null,null,null,null,null,null,10,0]
["Plan de Gestión Integral de Desechos Sanitarios",null,1,null,"Requerido",0,0,0,0,0,null,null,null,null,null,null,10,0]
["Protocolos de Limpieza y Desinfección",null,1,null,"Requerido",0,0,0,0,0,null,null,null,null,null,null,10,0]
["Registro Consolidado de limpieza de las áreas funcionales del Establecimiento",null,1,null,"Requerido",0,0,0,0,0,null,null,null,null,null,null,10,0]
["Programa anual de capacitación continua para el personal del Establecimiento",null,1,null,"Requerido",0,0,0,0,0,null,null,null,null,null,null,10,0]
["Registros de asistencias del personal del Establecimiento a capacitaciones",null,1,null,"Requerido",0,0,0,0,0,null,null,null,null,null,null,10,0]
["Programa Terapéutico del Establecimiento",null,1,null,"Requerido",0,0,0,0,0,null,null,null,null,null,null,10,0]
["Registro de Evolución de la Atención Médica y Procedimientos Efectuados",null,1,null,"Requerido",0,0,0,0,0,null,null,null,null,null,null,10,0]
["Reglamento interno",null,1,null,"Requerido",0,0,0,0,0,null,null,null,null,null,null,10,0]
["Organigrama del establecimiento",null,1,null,"Requerido",0,0,0,0,0,null,null,null,null,null,null,10,0]
["Protocolo interno de medidas de seguridad para la protección física e integridad de los usuarios/pacientes",null,1,null,"Requerido",0,0,0,0,0,null,null,null,null,null,null,10,0]
["Bitácora  de las actividades que desarrollan los usuarios/pacientes",null,1,null,"Requerido",0,0,0,0,0,null,null,null,null,null,null,10,0]
["Registro de visitas a usuarios/pacientes",null,1,null,"Requerido",0,0,0,0,0,null,null,null,null,null,null,10,0]
["Manual de Normas de Bioseguridad para la Red de Servicios de Salud en el Ecuador.",null,1,null,"Requerido",0,0,0,0,0,null,null,null,null,null,null,10,0]
["Plan de Gestión Integral de Desechos Sanitarios",null,1,null,"Requerido",0,0,0,0,0,null,null,null,null,null,null,10,0]
["Acuerdo Ministerial 5186: Reglamento Interministerial para la Gestión Integral de Desechos Sanitarios",null,1,null,"Requerido",0,0,0,0,0,null,null,null,null,null,null,10,0]
["Oficina de Trabajo Social",{"$f":"B1","v":"Anx:"},{"$f":"C$1","v":"Requerido:"},"Servicios /  Consultorios:","Tipo:","Posee:","No Posee:",null,null,{"$f":"H$1","v":"Calif:"},"Observaciones:",null,null,null,null,null,null,null,null,null,null,null,null,null,{"$f":"SUM(Q252:Q261)","v":100},0,0,0,0,0,0,0]
["Reglamento a la Ley Organica de Salud",null,1,null,"Requerido",0,0,{"$f":"IF(AND(F252>=C252,C252>0,F252>=1),10,0)","v":0},0,0,null,null,null,null,null,null,{"$f":"IF(UPPER(E252)=\"REQUERIDO\", 10, \"\")","v":10},{"$f":"IF(UPPER(E252)=\"REQUERIDO\", H252, \"\")","v":0}]
["Guía para la adecuación cultural de los servicios de salud. 2006",null,1,null,"Requerido",0,0,{"$f":"IF(AND(F253>=C253,C253>0,F253>=1),10,0)","v":0},0,0,null,null,null,null,null,null,{"$f":"IF(UPPER(E253)=\"REQUERIDO\", 10, \"\")","v":10},{"$f":"IF(UPPER(E253)=\"REQUERIDO\", H253, \"\")","v":0}]
["Manual del modelo de atención integral en salud - MAIS. 2013",null,1,null,"Requerido",0,0,0,0,0,null,null,null,null,null,null,10,0]
["Ley Derechos y Amparo al Paciente",null,1,null,"Requerido",0,0,0,0,0,null,null,null,null,null,null,10,0]
["Cuadro nacional de medicamentos básicos y registro terapéutico. 9na revisión",null,1,null,"Requerido",0,0,0,0,0,null,null,null,null,null,null,10,0]
["Acuerdo Ministerial 5186: Reglamento Interministerial para la Gestión Integral de Desechos Sanitarios",null,1,null,"Requerido",0,0,0,0,0,null,null,null,null,null,null,10,0]
["Manual de Normas de Bioseguridad para la Red de Servicios de Salud en el Ecuador",null,1,null,"Requerido",0,0,0,0,0,null,null,null,null,null,null,10,0]
["Protocolos de Procedimientos de Limpieza, Desinfección y Esterilización",null,1,null,"Requerido",0,0,0,0,0,null,null,null,null,null,null,10,0]
["Registro de limpieza y desinfección del área funcional del Establecimiento",null,1,null,"Requerido",0,0,0,0,0,null,null,null,null,null,null,10,0]
["Registro de Mantenimiento de Equipos: Preventivo y/o Correctivo",null,1,null,"Requerido",0,0,0,0,0,null,null,null,null,null,null,{"$f":"IF(UPPER(E261)=\"REQUERIDO\", 10, \"0\")","v":10},0]
["GENERAL",null,null,null,null,null,null,null,null,null,null,null,null,null,null,null,null,null,null,null,null,null,null,null,{"$f":"SUM(Q263:Q270)","v":50},0,0,0,10,0,10,0]
["SERVICIOS INTERNOS DE APOYO",null,null,null,null,null,null,null,null,null,null,null,null,null,null,null,null,null,null,null,null,null,null,null,{"$f":"SUM(Q264:Q270)","v":50},0,0,0,10,0,10,0]
["SERVICIOS INTERNOS DE APOYO",{"$f":"B1","v":"Anx:"},{"$f":"C$1","v":"Requerido:"},"Servicios /  Consultorios:","Tipo:","Posee:","No Posee:",null,null,{"$f":"H$1","v":"Calif:"},"Observaciones:",null,null,null,null,null,null,null,null,null,null,null,null,null,{"$f":"SUM(Q265:Q270)","v":50},0,0,0,10,0,10,0]
["Acuerdo Ministerial 5186: Reglamento Interministerial para la Gestión Integral de Desechos Sanitarios",null,1,null,"Requerido",0,0,{"$f":"IF(AND(F265>=C265,C265>0,F265>=1),10,0)","v":0},{"$f":"IF(AND(G265>=C265,C265>0,G265>=1),10,0)","v":0},{"$f":"H265-I265","v":0},null,null,null,null,null,null,{"$f":"IF(UPPER(E265)=\"REQUERIDO\", 10, \"0\")","v":10},{"$f":"IF(UPPER(E265)=\"REQUERIDO\", H265, \"\")","v":0}]
["Manual de Normas de Bioseguridad para la Red de Servicios de Salud en el Ecuador",null,1,null,"Requerido",0,0,0,0,0,null,null,null,null,null,null,{"$f":"IF(UPPER(E266)=\"REQUERIDO\", 10, \"\")","v":10},{"$f":"IF(UPPER(E266)=\"REQUERIDO\", H266, \"\")","v":0}]
["Protocolos de Procedimientos de Limpieza, Desinfección y Esterilización",null,1,null,"Requerido",0,0,0,0,0,null,null,null,null,null,null,{"$f":"IF(UPPER(E267)=\"REQUERIDO\", 10, \"\")","v":10},{"$f":"IF(UPPER(E267)=\"REQUERIDO\", H267, \"\")","v":0}]
["Registro de limpieza y desinfección del área funcional del Establecimiento",null,1,null,"Requerido",0,0,0,0,0,null,null,null,null,null,null,{"$f":"IF(UPPER(E268)=\"REQUERIDO\", 10, \"\")","v":10},{"$f":"IF(UPPER(E268)=\"REQUERIDO\", H268, \"\")","v":0}]
["Registro de Mantenimiento de Equipos: Preventivo y/o Correctivo",null,1,null,"Requerido",0,0,0,0,0,null,null,null,null,null,null,{"$f":"IF(UPPER(E269)=\"REQUERIDO\", 10, \"\")","v":10},{"$f":"IF(UPPER(E269)=\"REQUERIDO\", H269, \"\")","v":0}]
["Acuerdo Ministerial 5186 - Reglamento Interministerial para la Gestión Integral de Desechos Sanitarios Manejo de los Desechos Sanitarios",null,1,null,"Condición",0,0,0,0,0,null,null,null,null,null,null,null,null,null,null,{"$f":"IF(UPPER(E270)=\"CONDICIÓN\", 10, 0)","v":10},{"$f":"IF(UPPER(E270)=\"CONDICIÓN\", H270, \"\")","v":0},{"$f":"IF(UPPER(E270)=\"CONDICIÓN\", 10, \"\")","v":10},{"$f":"IF(UPPER(E270)=\"CONDICIÓN\", I270, \"\")","v":0},"REQ",null,"DFES",null,"COND + ",null,"COND -"]
["TOTAL  ITEMS REQUERIDOS:",null,null,null,null,null,null,null,null,null,null,null,null,null,null,null,"TOTAL GENERAL:",null,null,null,null,null,null,null,{"$f":"(+Norma!$Y4+Norma!$Y24+Norma!$Y114+Norma!$Y153+Norma!$Y171+Norma!$Y190+Norma!$Y211+Norma!$Y262)","v":1690},{"$f":"(+Norma!$Z4+Norma!$Z24+Norma!$Z114+Norma!$Z153+Norma!$Z171+Norma!$Z190+Norma!$Z211+Norma!$Z262)","v":0},{"$f":"(+Norma!$AA$4++Norma!$AA$24++Norma!$AA$114++Norma!$AA$153++Norma!$AA$171++Norma!$AA$190++Norma!$AA$211++Norma!$AA$262)","v":0},{"$f":"(+Norma!$AB$4+Norma!$AB$24+Norma!$AB$114+Norma!$AB$153+Norma!$AB$171+Norma!$AB$190+Norma!$AB$211+Norma!$AB$262)","v":0},{"$f":"(+Norma!$AC$4+Norma!$AC$24+Norma!$AC$114+Norma!$AC$153+Norma!$AC$171+Norma!$AC$190+Norma!$AC$211+Norma!$AC$262)","v":670},{"$f":"(+Norma!$AD$4+Norma!$AD$24+Norma!$AD$114+Norma!$AD$153+Norma!$AD$171+Norma!$AD$190+Norma!$AD$211+Norma!$AD$262)","v":0},{"$f":"(+Norma!$AE4+Norma!$AE24+Norma!$AE114+Norma!$AE153+Norma!$AE171+Norma!$AE190+Norma!$AE211+Norma!$AE262)","v":670},{"$f":"(+Norma!$AF4+Norma!$AF24+Norma!$AF114+Norma!$AF153+Norma!$AF171+Norma!$AF190+Norma!$AF211+Norma!$AF262)","v":0}]
["NORMAS:",null,"% Obtenido:","% Obtenido:","% Obtenido:","% A Cumplir:","% Final:",null,null,null,null,null,null,null,null,"ADMINISTRATIVO",null,null,null,null,null,null,null,null,{"$f":"Y4*100/Y271","v":7.6923076923076925},{"$f":"Z4*100/Y271","v":0},{"$f":"AA4*100/AA271","v":{"$error":"#DIV/0!"}},{"$f":"AB4*100/AB271","v":{"$error":"#DIV/0!"}},{"$f":"AC4*100/AC271","v":5.9701492537313436},{"$f":"AD4*100/AC271","v":0},{"$f":"AE4*100/AE271","v":5.9701492537313436},{"$f":"AF4*100/AE271","v":0}]
[{"$f":"Norma!$P$272","v":"ADMINISTRATIVO"},null,{"$f":"Norma!$Z$272*100/100/100","v":0},null,null,{"$f":"Norma!$Y$272*100/100/100","v":7.6923076923076927E-2},{"$f":"IF(Norma!$C$273=Norma!$F$273, \"CUMPLE\", \"NO CUMPLE\")","v":"NO CUMPLE"},null,null,null,null,null,null,null,null,"ADMISIÓN Y ESTADÍSTICA",null,null,null,null,null,null,null,null,{"$f":"Y5*100/Y271","v":7.6923076923076925},{"$f":"Z5*100/Y271","v":0},{"$f":"AA5*100/AA271","v":{"$error":"#DIV/0!"}},{"$f":"AB5*100/AB271","v":{"$error":"#DIV/0!"}},{"$f":"AC5*100/AC271","v":5.9701492537313436},{"$f":"AD5*100/AC271","v":0},{"$f":"AE5*100/AE271","v":5.9701492537313436},{"$f":"AF5*100/AE271","v":0}]
[{"$f":"Norma!$P$273","v":"ADMISIÓN Y ESTADÍSTICA"},null,null,{"$f":"Norma!$Z$273*100/100/100","v":0},null,{"$f":"Norma!$Y$273*100/100/100","v":7.6923076923076927E-2},{"$f":"IF(Norma!$D$274=Norma!$F$274, \"CUMPLE\", \"NO CUMPLE\")","v":"NO CUMPLE"},null,null,null,null,null,null,null,null,"ADMISIÓN Y ESTADISTICA",null,null,null,null,null,null,null,null,{"$f":"Y6*100/Y271","v":7.6923076923076925},{"$f":"Z6*100/Y271","v":0},{"$f":"AA6*100/AA271","v":{"$error":"#DIV/0!"}},{"$f":"AA6*100/AA271","v":{"$error":"#DIV/0!"}},{"$f":"AA6*100/AC271","v":0},{"$f":"AD6*100/AC271","v":0},{"$f":"AE6*100/AE271","v":5.9701492537313436},{"$f":"AF6*100/AE271","v":0}]
[{"$f":"Norma!$P$274","v":"ADMISIÓN Y ESTADISTICA"},null,null,null,{"$f":"Norma!$Z$274*100/100/100","v":0},{"$f":"Norma!$Y$274*100/100/100","v":7.6923076923076927E-2},{"$f":"IF(Norma!$E$275=Norma!$F$275, \"CUMPLE\", \"NO CUMPLE\")","v":"NO CUMPLE"},null,null,null,null,null,null,null,null,"ASISTENCIAL",null,null,null,null,null,null,null,null,{"$f":"Y24*100/Y271","v":34.319526627218934},{"$f":"Z24*100/Y271","v":0},{"$f":"AA24*100/AA271","v":{"$error":"#DIV/0!"}},{"$f":"AB24*100/AA271","v":{"$error":"#DIV/0!"}},{"$f":"AC24*100/AC271","v":40.298507462686565},{"$f":"AD24*100/AC271","v":0},{"$f":"AE24*100/AE271","v":40.298507462686565},{"$f":"AF24*100/AE271","v":0}]
[{"$f":"P275","v":"ASISTENCIAL"},null,{"$f":"Norma!$Z$276*100/100/100","v":0},null,null,{"$f":"Norma!$Y$276*100/100/100","v":0.34319526627218933},{"$f":"IF(Norma!$C$276=Norma!$F$276, \"CUMPLE\", \"NO CUMPLE\")","v":"NO CUMPLE"},null,null,null,null,null,null,null,null,"CONSULTA EXTERNA",null,null,null,null,null,null,null,null,{"$f":"Y25*100/Y271","v":34.319526627218934},{"$f":"Z25*100/Y271","v":0},{"$f":"AA25*100/AA271","v":{"$error":"#DIV/0!"}},{"$f":"AB25*100/AA271","v":{"$error":"#DIV/0!"}},{"$f":"AC25*100/AC271","v":40.298507462686565},{"$f":"AD25*100/AC271","v":0},{"$f":"AE25*100/AE271","v":40.298507462686565},{"$f":"AF25*100/AE271","v":0}]
["CONSULTA EXTERNA",null,null,{"$f":"Norma!$Z$276*100/100/100","v":0},null,{"$f":"Norma!$Y$276*100/100/100","v":0.34319526627218933},{"$f":"IF(Norma!$D$277=Norma!$F$277, \"CUMPLE\", \"NO CUMPLE\")","v":"NO CUMPLE"},null,null,null,null,null,null,null,null,"ASISTENCIAL",null,null,null,null,null,null,null,null,{"$f":"Y114*100/Y271","v":14.201183431952662},{"$f":"Z114*100/Y271","v":0},{"$f":"AA114*100/AA271","v":{"$error":"#DIV/0!"}},{"$f":"AB114*100/AA271","v":{"$error":"#DIV/0!"}},{"$f":"AC114*100/AC271","v":17.910447761194028},{"$f":"AD114*100/AC271","v":0},{"$f":"AE114*100/AE271","v":17.910447761194028},{"$f":"AF114*100/AE271","v":0}]
["ASISTENCIAL",null,{"$f":"Norma!$Z$277*100/100/100","v":0},null,null,{"$f":"Norma!$Y$277*100/100/100","v":0.14201183431952663},{"$f":"IF(Norma!$C$278=Norma!$F$278, \"CUMPLE\", \"NO CUMPLE\")","v":"NO CUMPLE"},null,null,null,null,null,null,null,null,"INTERNACIÓN RESIDENCIA",null,null,null,null,null,null,null,null,{"$f":"Y115*100/Y271","v":14.201183431952662},{"$f":"Z115*100/Y271","v":0},{"$f":"AA115*100/AA271","v":{"$error":"#DIV/0!"}},{"$f":"AB115*100/AA271","v":{"$error":"#DIV/0!"}},{"$f":"AC115*100/AC271","v":17.910447761194028},{"$f":"AD115*100/AC271","v":0},{"$f":"AE115*100/AE271","v":17.910447761194028},{"$f":"AF115*100/AE271","v":0}]
["INTERNACIÓN RESIDENCIA",null,null,{"$f":"Norma!$Z$278*100/100/100","v":0},null,{"$f":"Norma!$Y$278*100/100/100","v":0.14201183431952663},{"$f":"IF(Norma!$D$279=Norma!$F$279, \"CUMPLE\", \"NO CUMPLE\")","v":"NO CUMPLE"},null,null,null,null,null,null,null,null,"APOYO TERAPEUTICO",null,null,null,null,null,null,null,null,{"$f":"Y153*100/Y271","v":7.6923076923076925},{"$f":"Z153*100/Y271","v":0},{"$f":"AA153*100/AA271","v":{"$error":"#DIV/0!"}},{"$f":"AB153*100/AA271","v":{"$error":"#DIV/0!"}},{"$f":"AC153*100/AC271","v":0},{"$f":"AD153*100/AC271","v":0},{"$f":"AE153*100/AE271","v":0},{"$f":"AF153*100/AE271","v":0}]
["APOYO TERAPEUTICO",null,{"$f":"Norma!$Z$279*100/100/100","v":0},null,null,{"$f":"Norma!$Y$279*100/100/100","v":7.6923076923076927E-2},{"$f":"IF(Norma!$C$280=Norma!$F$280, \"CUMPLE\", \"NO CUMPLE\")","v":"NO CUMPLE"},null,null,null,null,null,null,null,null,"DOTACIÓN DE MEDICAMENTOS Y DISPOSITIVOS MÉDICOS",null,null,null,null,null,null,null,null,{"$f":"Y154*100/Y271","v":7.6923076923076925},{"$f":"Z154*100/Y271","v":0},{"$f":"Y154*100/AA271","v":{"$error":"#DIV/0!"}},{"$f":"Y154*100/AA271","v":{"$error":"#DIV/0!"}},{"$f":"AC154*100/AC271","v":0},{"$f":"AD154*100/AC271","v":0},{"$f":"AE154*100/AE271","v":0},{"$f":"AF154*100/AE271","v":0}]
["DOTACIÓN DE MEDICAMENTOS Y DISPOSITIVOS MÉDICOS",null,null,{"$f":"Norma!$Z$280*100/100/100","v":0},null,{"$f":"Norma!$Y$280*100/100/100","v":7.6923076923076927E-2},{"$f":"IF(Norma!$D$281=Norma!$F$281, \"CUMPLE\", \"NO CUMPLE\")","v":"NO CUMPLE"},null,null,null,null,null,null,null,null,"APOYO DIAGNÓSTICO Y TERAPEÚTICO",null,null,null,null,null,null,null,null,{"$f":"Y171*100/Y271","v":0.59171597633136097},{"$f":"Z171*100/Y271","v":0},{"$f":"AA171*100/AA271","v":{"$error":"#DIV/0!"}},{"$f":"AB171*100/AA271","v":{"$error":"#DIV/0!"}},{"$f":"AC171*100/AC271","v":20.895522388059703},{"$f":"AD171*100/AC271","v":0},{"$f":"AE171*100/AE271","v":20.895522388059703},{"$f":"AF171*100/AE271","v":0}]
["APOYO DIAGNÓSTICO Y TERAPEÚTICO",null,{"$f":"Norma!$Z$281*100/100/100","v":0},null,null,{"$f":"Norma!$Y$281*100/100/100","v":5.9171597633136093E-3},{"$f":"IF(Norma!$C$282=Norma!$F$282, \"CUMPLE\", \"NO CUMPLE\")","v":"NO CUMPLE"},null,null,null,null,null,null,null,null,"REHABILITACIÓN ",null,null,null,null,null,null,null,null,{"$f":"Y172*100/Y271","v":0.59171597633136097},{"$f":"Z172*100/Y271","v":0},{"$f":"AA172*100/AA271","v":{"$error":"#DIV/0!"}},{"$f":"AB172*100/AA271","v":{"$error":"#DIV/0!"}},{"$f":"AC172*100/AC271","v":20.895522388059703},{"$f":"AD172*100/AC271","v":0},{"$f":"AE172*100/AE271","v":20.895522388059703},{"$f":"AF172*100/AE271","v":0}]
["REHABILITACIÓN ",null,null,{"$f":"Norma!$Z$282*100/100/100","v":0},null,{"$f":"Norma!$Y$282*100/100/100","v":5.9171597633136093E-3},{"$f":"IF(Norma!$D$283=Norma!$F$283, \"CUMPLE\", \"NO CUMPLE\")","v":"NO CUMPLE"},null,null,null,null,null,null,null,null,"APOYO TERAPEUTICO",null,null,null,null,null,null,null,null,{"$f":"Y190*100/Y271","v":7.1005917159763312},{"$f":"Z190*100/Y271","v":0},{"$f":"AA190*100/AA271","v":{"$error":"#DIV/0!"}},{"$f":"AB190*100/AA271","v":{"$error":"#DIV/0!"}},{"$f":"AC190*100/AC271","v":7.4626865671641793},{"$f":"AD190*100/AC271","v":0},{"$f":"AE190*100/AE271","v":7.4626865671641793},{"$f":"AF190*100/AE271","v":0}]
["APOYO TERAPEUTICO",null,{"$f":"Norma!$Z$283*100/100/100","v":0},null,null,{"$f":"Norma!$Y$283*100/100/100","v":7.1005917159763315E-2},{"$f":"IF(Norma!$C$284=Norma!$F$284, \"CUMPLE\", \"NO CUMPLE\")","v":"NO CUMPLE"},null,null,null,null,null,null,null,null,"NUTRICIÓN Y DIETÉTICA",null,null,null,null,null,null,null,null,{"$f":"Y191*100/Y271","v":7.1005917159763312},{"$f":"Z191*100/Y271","v":0},{"$f":"AA191*100/AA271","v":{"$error":"#DIV/0!"}},{"$f":"AB191*100/AA271","v":{"$error":"#DIV/0!"}},{"$f":"AC191*100/AC271","v":7.4626865671641793},{"$f":"AD191*100/AC271","v":0},{"$f":"AE191*100/AE271","v":7.4626865671641793},{"$f":"AF191*100/AE271","v":0}]
["NUTRICIÓN Y DIETÉTICA",null,null,{"$f":"Norma!$Z$284*100/100/100","v":0},null,{"$f":"Norma!$Y$284*100/100/100","v":7.1005917159763315E-2},{"$f":"IF(Norma!$D$285=Norma!$F$285, \"CUMPLE\", \"NO CUMPLE\")","v":"NO CUMPLE"},null,null,null,null,null,null,null,null,"ADMINISTRATIVO",null,null,null,null,null,null,null,null,{"$f":"Y211*100/Y271","v":25.443786982248522},{"$f":"Z211*100/Y271","v":0},{"$f":"AA211*100/AA271","v":{"$error":"#DIV/0!"}},{"$f":"AB211*100/AA271","v":{"$error":"#DIV/0!"}},{"$f":"AC211*100/AC271","v":5.9701492537313436},{"$f":"AD211*100/AC271","v":0},{"$f":"AE211*100/AE271","v":5.9701492537313436},{"$f":"AF211*100/AE271","v":0}]
["ADMINISTRATIVO",null,{"$f":"Norma!$Z$285*100/100/100","v":0},null,null,{"$f":"Norma!$Y$285*100/100/100","v":0.25443786982248523},{"$f":"IF(Norma!$C$286=Norma!$F$286, \"CUMPLE\", \"NO CUMPLE\")","v":"NO CUMPLE"},null,null,null,null,null,null,null,null,"ADMINISTRACIÓN TECNICA",null,null,null,null,null,null,null,null,{"$f":"Y212*100/Y271","v":25.443786982248522},{"$f":"Z212*100/Y271","v":0},{"$f":"AA212*100/AA271","v":{"$error":"#DIV/0!"}},{"$f":"AB212*100/AA271","v":{"$error":"#DIV/0!"}},{"$f":"AC212*100/AC271","v":5.9701492537313436},{"$f":"AD212*100/AC271","v":0},{"$f":"AE212*100/AE271","v":5.9701492537313436},{"$f":"AF212*100/AE271","v":0}]
["ADMINISTRACIÓN TECNICA",null,null,{"$f":"Norma!$Z$286*100/100/100","v":0},null,{"$f":"Norma!$Y$286*100/100/100","v":0.25443786982248523},{"$f":"IF(Norma!$D$287=Norma!$F$287, \"CUMPLE\", \"NO CUMPLE\")","v":"NO CUMPLE"},null,null,null,null,null,null,null,null,"GENERAL",null,null,null,null,null,null,null,null,{"$f":"Y262*100/Y271","v":2.9585798816568047},{"$f":"Z262*100/Y271","v":0},{"$f":"AA262*100/AA271","v":{"$error":"#DIV/0!"}},{"$f":"AB262*100/AA271","v":{"$error":"#DIV/0!"}},{"$f":"AC262*100/AC271","v":1.4925373134328359},{"$f":"AD262*100/AC271","v":0},{"$f":"AE262*100/AE271","v":1.4925373134328359},{"$f":"AF262*100/AE271","v":0}]
["GENERAL",null,{"$f":"Norma!$Z$287*100/100/100","v":0},null,null,{"$f":"Norma!$Y$287*100/100/100","v":2.9585798816568046E-2},{"$f":"IF(Norma!$C$288=Norma!$F$288, \"CUMPLE\", \"NO CUMPLE\")","v":"NO CUMPLE"},null,null,null,null,null,null,null,null,"SERVICIOS INTERNOS DE APOYO",null,null,null,null,null,null,null,null,{"$f":"Y263*100/Y271","v":2.9585798816568047},{"$f":"Z263*100/Y271","v":0},{"$f":"AA263*100/AA271","v":{"$error":"#DIV/0!"}},{"$f":"AB263*100/AA271","v":{"$error":"#DIV/0!"}},{"$f":"AC263*100/AC271","v":1.4925373134328359},{"$f":"AD263*100/AC271","v":0},{"$f":"AE263*100/AE271","v":1.4925373134328359},{"$f":"AF263*100/AE271","v":0}]
["SERVICIOS INTERNOS DE APOYO",null,null,{"$f":"Norma!$Z$288*100/100/100","v":0},null,{"$f":"Norma!$Y$288*100/100/100","v":2.9585798816568046E-2},{"$f":"IF(Norma!$D$289=Norma!$F$289, \"CUMPLE\", \"NO CUMPLE\")","v":"NO CUMPLE"}]
["TOTAL REQUERIDO:",null,null,null,null,1,{"$f":"SUM(Norma!$C$273                                                                                                                                                                      : Norma!$C$288)*0.05","v":0}]
["TOTAL  ITEMS CONDICIONADOS +:"]
["NORMAS:",null,"% Obtenido:","% Obtenido:","% Obtenido:","% A Cumplir:","% Final:"]
[{"$f":"Norma!$P$272","v":"ADMINISTRATIVO"},null,{"$f":"AD272*100/100/100","v":0},null,null,{"$f":"AC272*100/100/100","v":5.9701492537313439E-2},{"$f":"IF(C293=F293, \"CUMPLE\", \"NO CUMPLE\")","v":"NO CUMPLE"}]
[{"$f":"Norma!$P$273","v":"ADMISIÓN Y ESTADÍSTICA"},null,null,{"$f":"AD273*100/100/100","v":0},null,{"$f":"AC273*100/100/100","v":5.9701492537313439E-2},{"$f":"IF(D294=F294, \"CUMPLE\", \"NO CUMPLE\")","v":"NO CUMPLE"}]
[{"$f":"P275","v":"ASISTENCIAL"},null,{"$f":"AD275*100/100/100","v":0},null,null,{"$f":"AC275*100/100/100","v":0.40298507462686567},{"$f":"IF(C295=F295, \"CUMPLE\", \"NO CUMPLE\")","v":"NO CUMPLE"}]
[{"$f":"P276","v":"CONSULTA EXTERNA"},null,null,{"$f":"AD276*100/100/100","v":0},null,{"$f":"AC276*100/100/100","v":0.40298507462686567},{"$f":"IF(D296=F296, \"CUMPLE\", \"NO CUMPLE\")","v":"NO CUMPLE"}]
[{"$f":"P277","v":"ASISTENCIAL"},null,{"$f":"AD277*100/100/100","v":0},null,null,{"$f":"AC277*100/100/100","v":0.17910447761194029},{"$f":"IF(C297=F297, \"CUMPLE\", \"NO CUMPLE\")","v":"NO CUMPLE"}]
[{"$f":"P278","v":"INTERNACIÓN RESIDENCIA"},null,null,{"$f":"AD278*100/100/100","v":0},null,{"$f":"AC278*100/100/100","v":0.17910447761194029},{"$f":"IF(D298=F298, \"CUMPLE\", \"NO CUMPLE\")","v":"NO CUMPLE"}]
[{"$f":"P281","v":"APOYO DIAGNÓSTICO Y TERAPEÚTICO"},null,{"$f":"AD281*100/100/100","v":0},null,null,{"$f":"AC281*100/100/100","v":0.20895522388059704},{"$f":"IF(C299=F299, \"CUMPLE\", \"NO CUMPLE\")","v":"NO CUMPLE"}]
["REHABILITACIÓN ",null,null,{"$f":"AD282*100/100/100","v":0},null,0.20895522388059704,{"$f":"IF(D300=F300, \"CUMPLE\", \"NO CUMPLE\")","v":"NO CUMPLE"}]
["APOYO TERAPEUTICO",null,{"$f":"AD283*100/100/100","v":0},null,null,7.4626865671641798E-2,{"$f":"IF(C301=F301, \"CUMPLE\", \"NO CUMPLE\")","v":"NO CUMPLE"}]
["NUTRICIÓN Y DIETÉTICA",null,null,{"$f":"AD284*100/100/100","v":0},null,7.4626865671641798E-2,{"$f":"IF(D302=F302, \"CUMPLE\", \"NO CUMPLE\")","v":"NO CUMPLE"}]
["ADMINISTRATIVO",null,{"$f":"AD285*100/100/100","v":0},null,null,5.9701492537313439E-2,{"$f":"IF(C303=F303, \"CUMPLE\", \"NO CUMPLE\")","v":"NO CUMPLE"}]
["ADMINISTRACIÓN TECNICA",null,null,{"$f":"AD286*100/100/100","v":0},null,5.9701492537313439E-2,{"$f":"IF(D304=F304, \"CUMPLE\", \"NO CUMPLE\")","v":"NO CUMPLE"}]
["GENERAL",null,{"$f":"AD287*100/100/100","v":0},null,null,1.492537313432836E-2,{"$f":"IF(C305=F305, \"CUMPLE\", \"NO CUMPLE\")","v":"NO CUMPLE"}]
["SERVICIOS INTERNOS DE APOYO",null,null,{"$f":"AD288*100/100/100","v":0},null,1.492537313432836E-2,{"$f":"IF(D306=F306, \"CUMPLE\", \"NO CUMPLE\")","v":"NO CUMPLE"}]
["TOTAL COMPONENTE:"]
["TOTAL % CONDICIONADO+:",null,null,null,null,0.3,{"$f":"SUM(C293:C306)*0.05","v":0}]
[null,null,null,null,null,0]
["TOTAL  ITEMS CONDICIONADOS -:"]
["NORMAS:",null,"% Obtenido:","% Obtenido:","% Obtenido:","% A Cumplir:","% Final:"]
["ADMINISTRATIVO",null,{"$f":"-(AF272*100/100/100)","v":0},null,null,{"$f":"-(AE272*100/100/100)","v":-5.9701492537313439E-2},{"$f":"IF(C312=F312, \"CUMPLE\", \"NO CUMPLE\")","v":"NO CUMPLE"}]
["ADMISIÓN Y ESTADÍSTICA",null,null,{"$f":"-(AF273*100/100/100)","v":0},null,{"$f":"-(AE273*100/100/100)","v":-5.9701492537313439E-2},{"$f":"IF(D313=F313, \"CUMPLE\", \"NO CUMPLE\")","v":"NO CUMPLE"}]
["ASISTENCIAL",null,{"$f":"-(AF275*100/100/100)","v":0},null,null,{"$f":"-(AE275*100/100/100)","v":-0.40298507462686567},{"$f":"IF(C314=F314, \"CUMPLE\", \"NO CUMPLE\")","v":"NO CUMPLE"}]
["CONSULTA EXTERNA",null,null,{"$f":"-(AF276*100/100/100)","v":0},null,{"$f":"-(AE276*100/100/100)","v":-0.40298507462686567},{"$f":"IF(D315=F315, \"CUMPLE\", \"NO CUMPLE\")","v":"NO CUMPLE"}]
["ASISTENCIAL",null,{"$f":"-(AF277*100/100/100)","v":0},null,null,{"$f":"-(AE277*100/100/100)","v":-0.17910447761194029},{"$f":"IF(C316=F316, \"CUMPLE\", \"NO CUMPLE\")","v":"NO CUMPLE"}]
["INTERNAEIÓN RESIDENCIA",null,null,{"$f":"-(AF278*100/100/100)","v":0},null,{"$f":"-(AE278*100/100/100)","v":-0.17910447761194029},{"$f":"IF(D317=F317, \"CUMPLE\", \"NO CUMPLE\")","v":"NO CUMPLE"}]
["APOYO DIAGNÓSTICO Y TERAPEÚTICO",null,{"$f":"-(AF281*100/100/100)","v":0},null,null,{"$f":"-(AE281*100/100/100)","v":-0.20895522388059704},{"$f":"IF(C318=F318, \"CUMPLE\", \"NO CUMPLE\")","v":"NO CUMPLE"}]
["REHABILITACIÓN ",null,null,{"$f":"-(AF282*100/100/100)","v":0},null,-0.20895522388059704,{"$f":"IF(D319=F319, \"CUMPLE\", \"NO CUMPLE\")","v":"NO CUMPLE"}]
["APOYO TERAPEUTICO",null,{"$f":"-(AF283*100/100/100)","v":0},null,null,-7.4626865671641798E-2,{"$f":"IF(C320=F320, \"CUMPLE\", \"NO CUMPLE\")","v":"NO CUMPLE"}]
["NUTRICIÓN Y DIETÉTICA",null,null,{"$f":"-(AF284*100/100/100)","v":0},null,-7.4626865671641798E-2,{"$f":"IF(D321=F321, \"CUMPLE\", \"NO CUMPLE\")","v":"NO CUMPLE"}]
["ADMINISTRATIVO",null,{"$f":"-(AF285*100/100/100)","v":0},null,null,-5.9701492537313439E-2,{"$f":"IF(C322=F322, \"CUMPLE\", \"NO CUMPLE\")","v":"NO CUMPLE"}]
["ADMINISTRACIÓN TECNICA",null,null,{"$f":"-(AF286*100/100/100)","v":0},null,-5.9701492537313439E-2,{"$f":"IF(D323=F323, \"CUMPLE\", \"NO CUMPLE\")","v":"NO CUMPLE"}]
["GENERAL",null,{"$f":"-(AF287*100/100/100)","v":0},null,null,-1.492537313432836E-2,{"$f":"IF(C324=F324, \"CUMPLE\", \"NO CUMPLE\")","v":"NO CUMPLE"}]
["SERVICIOS INTERNOS DE APOYO",null,null,{"$f":"-(AF288*100/100/100)","v":0},null,-1.492537313432836E-2,{"$f":"IF(D325=F325, \"CUMPLE\", \"NO CUMPLE\")","v":"NO CUMPLE"}]
["TOTAL COMPONENTE:"]
["TOTAL % CONDICIONADO -:",null,null,null,null,0.3,{"$f":"SUM(C312:C325)*0.05","v":0}]
[]
["TOTALES COMPONENTE:"]
["TOTAL % REQUERIDO:",null,null,null,null,0.05,{"$f":"(G290)","v":0}]
["TOTAL % CONDICIÓN:",null,null,null,null,0.05,{"$f":"(G308+G327)","v":0}]
["TOTAL % DESEABLE:",null,null,null,null,0.05,0.05]

{"sheet":"TalentoHumano","index":7,"n_rows":117,"n_cols":48,"rows_kept":117,"cut":false,"hidden":false,"merged":[[114,0,114,4],[116,0,116,4],[1,24,1,25],[1,28,1,29],[1,26,1,27],[66,0,66,4],[67,0,67,1],[68,0,68,1],[69,0,69,1],[70,0,70,1],[78,0,78,4],[57,0,57,1],[72,0,72,1],[88,0,88,4],[73,0,73,1],[74,0,74,1],[75,0,75,1],[76,0,76,1],[77,0,77,1],[83,0,83,1],[94,0,94,4],[109,0,109,6],[65,0,65,1],[89,0,89,1],[110,0,110,4],[113,0,113,6],[35,0,35,10],[46,0,46,10],[54,0,54,6],[71,0,71,1],[47,0,47,10],[61,0,61,1],[64,0,64,1],[58,0,58,1],[59,0,59,1],[62,0,62,1],[63,0,63,1],[60,0,60,1],[48,0,48,10],[55,0,55,1],[56,0,56,1],[51,0,51,10],[40,0,40,10],[41,0,41,10],[82,0,82,6],[107,0,107,1],[108,0,108,4],[95,0,95,4],[9,0,9,10],[5,0,5,10],[17,0,17,10],[23,0,23,10],[1,38,1,39],[30,0,30,10],[10,0,10,10],[28,0,28,10],[34,0,34,10],[16,0,16,10],[22,0,22,10],[29,0,29,10],[15,0,15,10],[21,0,21,10],[1,20,1,21],[3,0,3,10],[4,0,4,10],[8,0,8,10],[1,0,1,10],[2,0,2,10],[2,16,2,23],[1,16,1,17],[1,18,1,19],[1,22,1,23],[1,46,1,47],[2,40,2,47],[53,36,53,37],[53,46,53,47],[55,23,55,31],[56,23,56,31],[57,23,57,31],[58,23,58,31],[59,23,59,31],[53,44,53,45],[53,42,53,43],[53,32,53,33],[53,34,53,35],[53,40,53,41],[1,42,1,43],[1,44,1,45],[53,38,53,39],[2,32,2,39],[1,30,1,31],[2,24,2,31],[1,36,1,37],[1,32,1,33],[1,34,1,35],[1,40,1,41],[60,23,60,31],[61,23,61,31],[62,23,62,31],[63,23,63,31],[64,23,64,31],[65,23,65,31],[66,23,66,31],[67,23,67,31],[68,23,68,31],[115,0,115,4],[69,23,69,31],[70,23,70,31],[96,0,96,6],[101,0,101,1],[102,0,102,4],[103,0,103,1],[104,0,104,1],[105,0,105,1],[106,0,106,1],[99,0,99,1],[93,0,93,1],[90,0,90,1],[91,0,91,1],[92,0,92,1],[87,0,87,1],[79,0,79,6],[80,0,80,4],[84,0,84,1],[85,0,85,1],[86,0,86,1],[100,0,100,1],[97,0,97,1],[98,0,98,1]]}
["FILTROS:","Anx:","Requerido:","Puestos; Pacientes o Servicios:","Tipo:","Cumple:","No Cumple:","Calif:",null,null,"Observaciones:",null,null,null,null,null,null,null,"                                         ",null,"                                         "]
[{"$f":"Menu!$A$5","v":"CENTRO ESPECIALIZADO EN TRATAMIENTO PARA PERSONAS CON CONSUMO PROBLEMÁTICO DE ALCOHOL Y OTRAS DROGAS (CETADS)"},null,null,null,null,null,null,null,null,null,null,null,null,null,null,null,"REQ",null,"COND+",null,"COND-",null,"DES",null,"REQ",null,"DES",null,"COND",null,"COND-",null,"REQ",null,"CON",null,"CON-",null,"DES",null,"REQ",null,"DES",null,"COND",null,"COND-"]
["TALENTO HUMANO",null,null,null,null,null,null,null,null,null,null,null,null,null,null,null,"ADMINISTRATIVOS",null,null,null,null,null,null,null,"ASISTENCIALES",null,null,null,null,null,null,null,"TOTAL ADMINISTRATIVOS",null,null,null,null,null,null,null,"TOTAL ASISTENCIALES"]
["ADMINISTRATIVO",null,null,null,null,null,null,null,null,null,null,{"$f":"ROW(A4)","v":4},null,null,null,null,null,null,null,null,null,null,null,null,null,null,null,null,null,null,null,null,{"$f":"SUM(Q4:Q8)","v":10},{"$f":"SUM(R4:R8)","v":0},{"$f":"SUM(S4:S8)","v":0},{"$f":"SUM(T4:T8)","v":0},{"$f":"SUM(U4:U8)","v":0},{"$f":"SUM(V4:V8)","v":0},0,0,0,0,0,0,0,0,0,0]
["ADMISIÓN Y ESTADÍSTICA",null,null,null,null,null,null,null,null,null,null,{"$f":"ROW(A5)","v":5},null,null,null,null,null,null,null,null,null,null,null,null,null,null,null,null,null,null,null,null,{"$f":"SUM(Q7:Q8)","v":10},{"$f":"SUM(R7:R8)","v":0},{"$f":"SUM(S7:S8)","v":0},{"$f":"SUM(T7:T8)","v":0},{"$f":"SUM(U7:U8)","v":0},0,0,0,0,0,0,0,0,0,0,0]
["ADMISIÓN, INFORMACIÓN Y RECEPCIÓN",null,null,null,null,null,null,null,null,null,null,null,null,null,null,null,null,null,null,null,null,null,null,null,null,null,null,null,null,null,null,null,{"$f":"SUM(Q8)","v":10},{"$f":"SUM(R8)","v":0},{"$f":"SUM(S8)","v":0},{"$f":"SUM(T8)","v":0},0,0,0,0,0,0,0,0,0,0,0,0]
["Administrativos:",{"$f":"B1","v":"Anx:"},{"$f":"C$1","v":"Requerido:"},"Puestos; Pacientes o Servicios:","Tipo:",{"$f":"F$1","v":"Cumple:"},{"$f":"G1","v":"No Cumple:"},null,null,{"$f":"H$1","v":"Calif:"},"Observaciones:"]
["Asistente de Admisiones y Estadísticas",null,1,null,"Requerido",0,0,{"$f":"IF(AND(F8>=C8,C8>0,F8>=1),10,0)","v":0},{"$f":"IF(AND(G8>=C8,C8>0,G8>=1),10,0)","v":0},{"$f":"H8-I8","v":0},null,null,"ADMINISTRATIVO",null,null,null,{"$f":"IF(UPPER(E8)=\"REQUERIDO\", 10, \"\")","v":10},{"$f":"IF(UPPER(E8)=\"REQUERIDO\", H8, \"\")","v":0}]
["ASISTENCIAL",null,null,null,null,null,null,null,null,null,null,{"$f":"ROW(A9)","v":9},null,null,null,null,null,null,null,null,null,null,null,null,null,null,null,null,null,null,null,null,{"$f":"SUM(Q11:Q16)","v":0},{"$f":"SUM(R10:R16)","v":0},{"$f":"SUM(S11:S16)","v":0},{"$f":"SUM(T10:T16)","v":0},{"$f":"SUM(U11:U16)","v":0},{"$f":"SUM(V10:V16)","v":0},{"$f":"SUM(W11:W16)","v":0},{"$f":"SUM(X10:X16)","v":0},{"$f":"SUM(Y11:Y16)","v":30},{"$f":"SUM(Z10:Z16)","v":0},{"$f":"SUM(AA11:AA16)","v":0},{"$f":"SUM(AB10:AB16)","v":0},{"$f":"SUM(AC11:AC16)","v":0},{"$f":"SUM(AD10:AD16)","v":0},{"$f":"SUM(AE11:AE16)","v":0},{"$f":"SUM(AF10:AF16)","v":0}]
["CONSULTA EXTERNA",null,null,null,null,null,null,null,null,null,null,{"$f":"ROW(A10)","v":10},null,null,null,null,null,null,null,null,null,null,null,null,null,null,null,null,null,null,null,null,{"$f":"SUM(Q11:Q16)","v":0},{"$f":"SUM(R11:R16)","v":0},{"$f":"SUM(S11:S16)","v":0},{"$f":"SUM(T11:T16)","v":0},{"$f":"SUM(U11:U16)","v":0},0,0,0,30,0,0,0,0,0,0,0]
["ÁREA DE ATENCIÓN Y CONSULTA",null,null,null,null,null,null,null,null,null,null,null,null,null,null,null,null,null,null,null,null,null,null,null,null,null,null,null,null,null,null,null,{"$f":"SUM(Q13:Q16)","v":0},{"$f":"SUM(R13:R16)","v":0},{"$f":"SUM(S13:S16)","v":0},{"$f":"SUM(T13:T16)","v":0},{"$f":"SUM(U13:U16)","v":0},0,0,0,30,0,0,0,0,0,0,0]
["Operativos",{"$f":"B1","v":"Anx:"},{"$f":"C$1","v":"Requerido:"},"Puestos; Pacientes o Servicios:","Tipo:","Cumple:","No Cumple:",null,null,{"$f":"H$1","v":"Calif:"},"Observaciones:"]
["Medico especialista en: Psiquiatría, Medicina Interna, Familiar o General, además con conocimientos en drogodependencia",null,1,null,"Requerido",0,0,{"$f":"IF(AND(F13>=C13,C13>0,F13>=1),10,0)","v":0},{"$f":"IF(AND(G13>=C13,C13>0,G13>=1),10,0)","v":0},{"$f":"H13-I13","v":0},null,null,"ASISTENCIAL",null,null,null,null,null,null,null,null,null,null,null,{"$f":"IF(UPPER(E13)=\"REQUERIDO\", 10, 0)","v":10},{"$f":"IF(UPPER(E13)=\"REQUERIDO\", H13, \"\")","v":0}]
["Psicólogo clínico",null,1,null,"Requerido",0,0,{"$f":"IF(AND(F14>=C14,C14>0,F14>=1),10,0)","v":0},{"$f":"IF(AND(G14>=C14,C14>0,G14>=1),10,0)","v":0},{"$f":"H14-I14","v":0},null,null,"ASISTENCIAL",null,null,null,null,null,null,null,null,null,null,null,{"$f":"IF(UPPER(E14)=\"REQUERIDO\", 10, 0)","v":10},{"$f":"IF(UPPER(E14)=\"REQUERIDO\", H14, \"\")","v":0}]
["Lcda(o). En Enfermería",null,1,null,"Requerido",0,0,{"$f":"IF(AND(F15>=C15,C15>0,F15>=1),10,0)","v":0},{"$f":"IF(AND(G15>=C15,C15>0,G15>=1),10,0)","v":0},{"$f":"H15-I15","v":0},null,null,"ASISTENCIAL",null,null,null,null,null,null,null,null,null,null,null,{"$f":"IF(UPPER(E15)=\"REQUERIDO\", 10, 0)","v":10},{"$f":"IF(UPPER(E15)=\"REQUERIDO\", H15, \"\")","v":0}]
[" ASISTENCIAL",null,null,null,null,null,null,null,null,null,null,{"$f":"ROW(A16)","v":16},null,null,null,null,null,null,null,null,null,null,null,null,null,null,null,null,null,null,null,null,{"$f":"SUM(Q17:Q22)","v":0},{"$f":"SUM(R17:R22)","v":0},{"$f":"SUM(S17:S22)","v":0},{"$f":"SUM(T17:T22)","v":0},{"$f":"SUM(U17:U22)","v":0},0,0,0,10,0,0,0,10,0,10,0]
["INTERNACIÓN /RESIDENCIA\nEl establecimiento contará con talento humano adecuado diferenciado para el tratamiento de adultos, adultas, niños y adolescentes hombres, niñas y adolescentes mujeres",null,null,null,null,null,null,null,null,null,null,{"$f":"ROW(A17)","v":17},null,null,null,null,null,null,null,null,null,null,null,null,null,null,null,null,null,null,null,null,{"$f":"SUM(Q18:Q22)","v":0},{"$f":"SUM(R18:R22)","v":0},{"$f":"SUM(S18:S22)","v":0},{"$f":"SUM(T18:T22)","v":0},{"$f":"SUM(U18:U22)","v":0},0,0,0,10,0,0,0,10,0,10,0]
["ÁREA DE INTERNACIÓN Y RESIDENCIA",null,null,null,null,null,null,null,null,null,null,null,null,null,null,null,null,null,null,null,null,null,null,null,null,null,null,null,null,null,null,null,{"$f":"SUM(Q20:Q22)","v":0},{"$f":"SUM(R20:R22)","v":0},{"$f":"SUM(S20:S22)","v":0},{"$f":"SUM(T20:T22)","v":0},{"$f":"SUM(U20:U22)","v":0},0,0,0,10,0,0,0,10,0,10,0]
["Operativos",{"$f":"B1","v":"Anx:"},{"$f":"C$1","v":"Requerido:"},"Puestos; Pacientes o Servicios:","Tipo:","Cumple:","No Cumple:",null,null,{"$f":"H$1","v":"Calif:"},"Observaciones:"]
["Lcda(o). En Enfermería",null,1,null,"Requerido",0,0,{"$f":"IF(AND(F20>=C20,C20>0,F20>=1),10,0)","v":0},{"$f":"IF(AND(G20>=C20,C20>0,G20>=1),10,0)","v":0},{"$f":"H20-I20","v":0},null,null,"ASISTENCIAL",null,null,null,null,null,null,null,null,null,null,null,{"$f":"IF(UPPER(E20)=\"REQUERIDO\", 10, \"\")","v":10},{"$f":"IF(UPPER(E20)=\"REQUERIDO\", H20, \"\")","v":0}]
["Personal / Monitor Vivencial ",null,1,null,"Condición",0,0,{"$f":"IF(AND(F21>=C21,C21>0,F21>=1),10,0)","v":0},{"$f":"IF(AND(G21>=C21,C21>0,G21>=1),10,0)","v":0},{"$f":"H21-I21","v":0},null,null,"ASISTENCIAL",null,null,null,null,null,null,null,null,null,null,null,null,null,null,null,{"$f":"IF(UPPER(E21)=\"CONDICIÓN\", 10, \"\")","v":10},{"$f":"IF(UPPER(E21)=\"CONDICIÓN\", H21, \"\")","v":0},{"$f":"IF(UPPER(E21)=\"CONDICIÓN\", 10, \"\")","v":10},{"$f":"IF(UPPER(E21)=\"CONDICIÓN\", I21, \"\")","v":0}]
["APOYO TERAPEUTICO",null,null,null,null,null,null,null,null,null,null,{"$f":"ROW(A22)","v":22},null,null,null,null,null,null,null,null,null,null,null,null,null,null,null,null,null,null,null,null,{"$f":"SUM(Q23:Q28)","v":10},{"$f":"SUM(R23:R28)","v":0},{"$f":"SUM(S23:S28)","v":0},{"$f":"SUM(T23:T28)","v":0},{"$f":"SUM(U23:U28)","v":0},0,0,0,10,0,0,0,0,0,0,0]
["DOTACIÓN DE MEDICAMENTOS Y DISPOSITIVOS MÉDICOS (FARMACIA)",null,null,null,null,null,null,null,null,null,null,{"$f":"ROW(A23)","v":23},null,null,null,null,null,null,null,null,null,null,null,null,null,null,null,null,null,null,null,null,{"$f":"SUM(Q24:Q28)","v":10},{"$f":"SUM(R24:R28)","v":0},{"$f":"SUM(S24:S28)","v":0},{"$f":"SUM(T24:T28)","v":0},{"$f":"SUM(U24:U28)","v":0},0,0,0,10,0,0,0,0,0,0,0]
["Área de Farmacia",null,null,null,null,null,null,null,null,null,null,null,null,null,null,null,null,null,null,null,null,null,null,null,null,null,null,null,null,null,null,null,{"$f":"SUM(Q26:Q28)","v":10},{"$f":"SUM(R26:R28)","v":0},{"$f":"SUM(S26:S28)","v":0},{"$f":"SUM(T26:T28)","v":0},{"$f":"SUM(U26:U28)","v":0},0,0,0,10,0,0,0,0,0,0,0]
["Operativos",{"$f":"B1","v":"Anx:"},{"$f":"C$1","v":"Requerido:"},{"$f":"D$1","v":"Puestos; Pacientes o Servicios:"},{"$f":"E$1","v":"Tipo:"},{"$f":"F$1","v":"Cumple:"},{"$f":"G$1","v":"No Cumple:"},null,null,{"$f":"H$1","v":"Calif:"},{"$f":"K$1","v":"Observaciones:"}]
["Químico o Bioquímico Farmacéutico Responsable de la Gestión del suministro de Medicamentos y Dispositivos Médicos",null,1,null,"Requerido",0,0,{"$f":"IF(AND(F26>=C26,C26>0,F26>=1),10,0)","v":0},{"$f":"IF(AND(G26>=C26,C26>0,G26>=1),10,0)","v":0},{"$f":"H26-I26","v":0},null,null,"ASISTENCIAL",null,null,null,null,null,null,null,null,null,null,null,{"$f":"IF(UPPER(E26)=\"REQUERIDO\", 10, \"\")","v":10},{"$f":"IF(UPPER(E26)=\"REQUERIDO\", H26, \"\")","v":0}]
["Administrativos",{"$f":"B1","v":"Anx:"},{"$f":"C$1","v":"Requerido:"},{"$f":"D$1","v":"Puestos; Pacientes o Servicios:"},{"$f":"E$1","v":"Tipo:"},{"$f":"F$1","v":"Cumple:"},{"$f":"G$1","v":"No Cumple:"},null,null,{"$f":"H$1","v":"Calif:"},{"$f":"K$1","v":"Observaciones:"}]
["Auxiliar de Farmacia",null,1,null,"Requerido",0,0,{"$f":"IF(AND(F28>=C28,C28>0,F28>=1),10,0)","v":0},{"$f":"IF(AND(G28>=C28,C28>0,G28>=1),10,0)","v":0},{"$f":"H28-I28","v":0},null,null,"ADMINISTRATIVO",null,null,null,{"$f":"IF(UPPER(E28)=\"REQUERIDO\", 10, \"\")","v":10},{"$f":"IF(UPPER(E26:E28)=\"REQUERIDO\", H26:H28, \"\")","v":0}]
["APOYO DIAGNÓSTICO Y TERAPEÚTICO ",null,null,null,null,null,null,null,null,null,null,{"$f":"ROW(A29)","v":29},null,null,null,null,null,null,null,null,null,null,null,null,null,null,null,null,null,null,null,null,{"$f":"SUM(Q29:Q34)","v":0},{"$f":"SUM(R29:R34)","v":0},{"$f":"SUM(S29:S34)","v":0},{"$f":"SUM(T29:T34)","v":0},{"$f":"SUM(U29:U34)","v":0},0,0,0,10,0,0,0,10,0,10,0]
["REHABILITACIÓN",null,null,null,null,null,null,null,null,null,null,{"$f":"ROW(A30)","v":30},null,null,null,null,null,null,null,null,null,null,null,null,null,null,null,null,null,null,null,null,{"$f":"SUM(Q31:Q34)","v":0},{"$f":"SUM(R31:R34)","v":0},{"$f":"SUM(S31:S34)","v":0},{"$f":"SUM(T31:T34)","v":0},{"$f":"SUM(U31:U34)","v":0},0,0,0,10,0,0,0,10,0,10,0]
["Área de Terapias",null,null,null,null,null,null,null,null,null,null,null,null,null,null,null,null,null,null,null,null,null,null,null,null,null,null,null,null,null,null,null,{"$f":"SUM(Q33:Q34)","v":0},{"$f":"SUM(R33:R34)","v":0},{"$f":"SUM(S33:S34)","v":0},{"$f":"SUM(T33:T34)","v":0},{"$f":"SUM(U33:U34)","v":0},0,0,0,10,0,0,0,10,0,10,0]
["Operativos",{"$f":"B1","v":"Anx:"},{"$f":"C$1","v":"Requerido:"},"Puestos; Pacientes o Servicios:","Tipo:","Cumple:","No Cumple:",null,null,{"$f":"H$1","v":"Calif:"},"Observaciones:"]
["Terapista Ocupacional",null,1,null,"Requerido",0,0,{"$f":"IF(AND(F33>=C33,C33>0,F33>=1),10,0)","v":0},{"$f":"IF(AND(G33>=C33,C33>0,G33>=1),10,0)","v":0},{"$f":"H33-I33","v":0},null,null,"ASISTENCIAL",null,null,null,null,null,null,null,null,null,null,null,{"$f":"IF(UPPER(E33)=\"REQUERIDO\", 10, \"\")","v":10},{"$f":"IF(UPPER(E33)=\"REQUERIDO\", H33, \"\")","v":0}]
["Terapista Físico",null,1,null,"Condición",0,0,{"$f":"IF(AND(F34>=C34,C34>0,F34>=1),10,0)","v":0},{"$f":"IF(AND(G34>=C34,C34>0,G34>=1),10,0)","v":0},{"$f":"H34-I34","v":0},null,null,"ASISTENCIAL",null,null,null,null,null,null,null,null,null,null,null,null,null,null,null,{"$f":"IF(UPPER(E34)=\"CONDICIÓN\", 10, \"\")","v":10},{"$f":"IF(UPPER(E34)=\"CONDICIÓN\", H34, \"\")","v":0},{"$f":"IF(UPPER(E34)=\"CONDICIÓN\", 10, \"\")","v":10},{"$f":"IF(UPPER(E34)=\"CONDICIÓN\", I34, \"\")","v":0}]
["APOYO TERAPEÚTICO",null,null,null,null,null,null,null,null,null,null,{"$f":"ROW(A35)","v":35},null,null,null,null,null,null,null,null,null,null,null,null,null,null,null,null,null,null,null,null,{"$f":"SUM(Q36:Q40)","v":10},{"$f":"SUM(R36:R40)","v":0},{"$f":"SUM(S36:S40)","v":0},{"$f":"SUM(T36:T40)","v":0},{"$f":"SUM(U36:U40)","v":0},0,0,0,10,0,0,0,0,0,0,0]
["NUTRICIÓN Y  DIETÉTICA",null,null,null,null,null,null,null,null,null,null,{"$f":"ROW(A36)","v":36},null,null,null,null,null,null,null,null,null,null,null,null,null,null,null,null,null,null,null,null,{"$f":"SUM(Q37:Q40)","v":10},{"$f":"SUM(R37:R40)","v":0},{"$f":"SUM(S37:S40)","v":0},{"$f":"SUM(T37:T40)","v":0},{"$f":"SUM(U37:U40)","v":0},0,0,0,10,0,0,0,0,0,0,0]
["Operativos",{"$f":"B1","v":"Anx:"},{"$f":"C$1","v":"Requerido:"},"Puestos; Pacientes o Servicios:","Tipo:","Cumple:","No Cumple:",null,null,{"$f":"H$1","v":"Calif:"},"Observaciones:",null,null,null,null,null,null,null,null,null,null,null,null,null,null,null,null,null,null,null,null,null,{"$f":"SUM(Q38:Q40)","v":10},{"$f":"SUM(R38:R40)","v":0},{"$f":"SUM(S38:S40)","v":0},{"$f":"SUM(T38:T40)","v":0},{"$f":"SUM(U38:U40)","v":0},0,0,0,10,0,0,0,0,0,0,0]
["Nutricionista",null,1,null,"Requerido",0,0,{"$f":"IF(AND(F38>=C38,C38>0,F38>=1),10,0)","v":0},{"$f":"IF(AND(G38>=C38,C38>0,G38>=1),10,0)","v":0},{"$f":"H38-I38","v":0},null,null,"ASISTENCIAL",null,null,null,null,null,null,null,null,null,null,null,{"$f":"IF(UPPER(E38)=\"REQUERIDO\", 10, \"\")","v":10},{"$f":"IF(UPPER(E38)=\"REQUERIDO\", H38, \"\")","v":0}]
["Administrativos",{"$f":"B1","v":"Anx:"},{"$f":"C$1","v":"Requerido:"},"Puestos; Pacientes o Servicios:","Tipo:","Cumple:","No Cumple:","Calif:",null,null,"Observaciones:"]
["Personal de cocina",null,1,null,"Requerido",0,0,{"$f":"IF(AND(F40>=C40,C40>0,F40>=1),10,0)","v":0},{"$f":"IF(AND(G40>=C40,C40>0,G40>=1),10,0)","v":0},{"$f":"H40-I40","v":0},null,null,"ADMINISTRATIVO",null,null,null,{"$f":"IF(UPPER(E40)=\"REQUERIDO\", 10, \"\")","v":10},{"$f":"IF(UPPER(E40)=\"REQUERIDO\", H40, \"\")","v":0}]
["ADMINISTRATIVO",null,null,null,null,null,null,null,null,null,null,{"$f":"ROW(A41)","v":41},null,null,null,null,null,null,null,null,null,null,null,null,null,null,null,null,null,null,null,null,{"$f":"SUM(Q42:Q46)","v":20},{"$f":"SUM(R42:R46)","v":0},{"$f":"SUM(S42:S46)","v":10},0,10,0,0,0,0,0,0,0,0,0,0,0]
["ADMINISTRACIÓN TECNICA",null,null,null,null,null,null,null,null,null,null,{"$f":"ROW(A42)","v":42},null,null,null,null,null,null,null,null,null,null,null,null,null,null,null,null,null,null,null,null,{"$f":"SUM(Q43:Q46)","v":20},{"$f":"SUM(R43:R46)","v":0},{"$f":"SUM(S43:S46)","v":10},0,10,0,0,0,0,0,0,0,0,0,0,0]
["Administrativos",{"$f":"B1","v":"Anx:"},{"$f":"C$1","v":"Requerido:"},"Puestos; Pacientes o Servicios:","Tipo:","Cumple:","No Cumple:",null,null,{"$f":"H$1","v":"Calif:"},"Observaciones:"]
["Responsable Técnico del Establecimiento(psiquiatra, médico o psicólogo  especialista o con experiencia en drogodependencias)",null,1,null,"Requerido",0,0,{"$f":"IF(AND(F44>=C44,C44>0,F44>=1),10,0)","v":0},{"$f":"IF(AND(G44>=C44,C44>0,G44>=1),10,0)","v":0},{"$f":"H44-I44","v":0},null,null,"ADMINISTRATIVO",null,null,null,{"$f":"IF(UPPER(E44)=\"REQUERIDO\", 10, \"\")","v":10},{"$f":"IF(UPPER(E44)=\"REQUERIDO\", H44, \"\")","v":0},null,null,null,null,null,null,null,null,null,null,null,null,null,null,{"$f":"SUM(Q44:Q46)","v":20},{"$f":"SUM(R44:R46)","v":0},{"$f":"SUM(S44:S46)","v":10},{"$f":"SUM(T44:T46)","v":0},{"$f":"SUM(U44:U46)","v":10},0,0,0,0,0,0,0,0,0,0,0]
["Trabajador Social",null,{"$f":"ROUND(D45/60,0)","v":1},60,"Requerido",0,0,{"$f":"IF(AND(F45>=C45,C45>0,F45>=1),10,0)","v":0},{"$f":"IF(AND(G45>=C45,C45>0,G45>=1),10,0)","v":0},{"$f":"H45-I45","v":0},null,null,"ADMINISTRATIVO",null,null,null,{"$f":"IF(UPPER(E45)=\"REQUERIDO\", 10, \"\")","v":10},{"$f":"IF(UPPER(E45)=\"REQUERIDO\", H45, \"\")","v":0}]
["Asistente de administrativo",null,1,null,"Condición",0,0,{"$f":"IF(AND(F46>=C46,C46>0,F46>=1),10,0)","v":0},{"$f":"IF(AND(G46>=C46,C46>0,G46>=1),10,0)","v":0},{"$f":"H46-I46","v":0},null,null,"ADMINISTRATIVO",null,null,null,null,null,{"$f":"IF(UPPER(E46)=\"CONDICIÓN\", 10, \"\")","v":10},{"$f":"IF(UPPER(E46)=\"CONDICIÓN\", H46, \"\")","v":0},{"$f":"IF(UPPER(E46)=\"CONDICIÓN\", 10, \"\")","v":10},{"$f":"IF(UPPER(E46)=\"CONDICIÓN\", I46, \"\")","v":0}]
["GENERAL",null,null,null,null,null,null,null,null,null,null,{"$f":"ROW(A47)","v":47},null,null,null,null,null,null,null,null,null,null,null,null,null,null,null,null,null,null,null,null,{"$f":"SUM(Q49:Q54)","v":10},{"$f":"SUM(R49:R54)","v":0},{"$f":"SUM(S49:S54)","v":10},{"$f":"SUM(T49:T54)","v":0},{"$f":"SUM(U49:U54)","v":10},0,0,0,0,0,0,0,0,0,0,0]
["SERVICIOS INTERNOS DE APOYO",null,null,null,null,null,null,null,null,null,null,{"$f":"ROW(A48)","v":48},null,null,null,null,null,null,null,null,null,null,null,null,null,null,null,null,null,null,null,null,{"$f":"SUM(Q49:Q54)","v":10},{"$f":"SUM(R49:R54)","v":0},{"$f":"SUM(S49:S54)","v":10},{"$f":"SUM(T49:T54)","v":0},{"$f":"SUM(U49:U54)","v":10},0,0,0,0,0,0,0,0,0,0,0]
["LAVANDERÍA/LIMPIEZA",null,null,null,null,null,null,null,null,null,null,null,null,null,null,null,null,null,null,null,null,null,null,null,null,null,null,null,null,null,null,null,{"$f":"SUM(Q50:Q51)","v":10},{"$f":"SUM(R50:R51)","v":0},{"$f":"SUM(S50:S51)","v":0},{"$f":"SUM(T50:T51)","v":0},{"$f":"SUM(U50:U51)","v":0},0,0,0,0,0,0,0,0,0,0,0]
["Operativos",{"$f":"B7","v":"Anx:"},{"$f":"C$1","v":"Requerido:"},"Puestos; Pacientes o Servicios:","Tipo:","Cumple:","No Cumple:",null,null,{"$f":"H$1","v":"Calif:"},"Observaciones:",null,null,null,null,null,null,null,null,null,null,null,null,null,null,null,null,null,null,null,null,null,{"$f":"SUM(Q51:Q51)","v":10},{"$f":"SUM(R51:R51)","v":0},{"$f":"SUM(S51:S51)","v":0},{"$f":"SUM(T51:T51)","v":0},{"$f":"SUM(U51:U51)","v":0},0,0,0,0,0,0,0,0,0,0,0]
["Auxiliar de Servicios",null,1,null,"Requerido",0,0,{"$f":"IF(AND(F51>=C51,C51>0,F51>=1),10,0)","v":0},{"$f":"IF(AND(G51>=C51,C51>0,G51>=1),10,0)","v":0},{"$f":"H51-I51","v":0},null,null,"ADMINISTRATIVO",null,null,null,{"$f":"IF(UPPER(E51)=\"REQUERIDO\", 10, \"\")","v":10},{"$f":"IF(UPPER(E51)=\"REQUERIDO\", H51, \"\")","v":0}]
["GUARDIANIA",null,null,null,null,null,null,null,null,null,null,null,null,null,null,null,null,null,null,null,null,null,null,null,null,null,null,null,null,null,null,null,{"$f":"SUM(Q52:Q54)","v":0},{"$f":"SUM(R52:R54)","v":0},{"$f":"SUM(S52:S54)","v":10},{"$f":"SUM(T52:T54)","v":0},{"$f":"SUM(U52:U54)","v":10},0,0,0,0,0,0,0,0,0,0,0]
["Operativos",{"$f":"B10","v":0},{"$f":"C$1","v":"Requerido:"},"Puestos; Pacientes o Servicios:","Tipo:","Cumple:","No Cumple:",null,null,{"$f":"H$1","v":"Calif:"},"Observaciones:",null,null,null,null,null,null,null,null,null,null,null,null,null,null,null,null,null,null,null,null,null,{"$f":"SUM(Q53:Q54)","v":0},{"$f":"SUM(R53:R54)","v":0},{"$f":"SUM(S53:S54)","v":10},{"$f":"SUM(T53:T54)","v":0},{"$f":"SUM(U53:U54)","v":10},0,0,0,0,0,0,0,0,0,0,0]
["Seguridad y Guardianía",null,1,null,"Condición",0,0,{"$f":"IF(AND(F54>=C54,C54>0,F54>=1),10,0)","v":0},{"$f":"IF(AND(G54>=C54,C54>0,G54>=1),10,0)","v":0},{"$f":"H54-I54","v":0},null,null,"ADMINISTRATIVO",null,null,null,null,null,{"$f":"IF(UPPER(E54)=\"CONDICIÓN\", 10, \"\")","v":10},{"$f":"IF(UPPER(E54)=\"CONDICIÓN\", H54, \"\")","v":0},{"$f":"IF(UPPER(E54)=\"CONDICIÓN\", 10, \"\")","v":10},{"$f":"IF(UPPER(E54)=\"CONDICIÓN\", I54, \"\")","v":0},null,null,null,null,null,null,null,null,null,null,"REQ",null,"COND",null,"COND-",null,"DES",null,"REQ",null,"DES",null,"COND",null,"COND-"]
["TOTAL ITEMS REQUERIDOS:",null,null,null,null,null,null,null,null,null,null,null,null,null,null,null,null,null,null,null,null,null,null,null,"TOTAL GENERAL:",null,null,null,null,null,null,null,{"$f":"AG4+AG9+AG16+AG22+AG29+AG41+AG35+AG47","v":60},0,20,0,20,0,0,0,70,0,0,0,20,0,20,0]
["ADMINISTRATIVOS:",null,"% Obtenido:","% Obtenido:","% Obtenido:","% A Cumplir:","% Final:",null,null,null,null,null,null,null,null,null,null,null,null,null,null,null,4,"ADMINISTRATIVO",null,null,null,null,null,null,null,null,{"$f":"AG4*100/$AG$55","v":16.666666666666668},{"$f":"AH4*100/AG55","v":0},{"$f":"AI4*100/AI55","v":0},{"$f":"AJ4*100/AI55","v":0},{"$f":"AK4*100/$AK$55","v":0},{"$f":"AL4*100/AK55","v":0},{"$f":"AM4*100/AM55","v":{"$error":"#DIV/0!"}},{"$f":"AN4*100/AM55","v":{"$error":"#DIV/0!"}},{"$f":"AO4*100/$AO$55","v":0},{"$f":"AP4*100/AO55","v":0},{"$f":"AQ4*100/AQ55","v":{"$error":"#DIV/0!"}},{"$f":"AR4*100/AQ55","v":{"$error":"#DIV/0!"}},{"$f":"AS4*100/$AS$55","v":0},{"$f":"AT4*100/AS55","v":0},{"$f":"AU4*100/AU55","v":0},{"$f":"AV4*100/AU55","v":0}]
[{"$f":"X56","v":"ADMINISTRATIVO"},null,{"$f":"TalentoHumano!$AH$56*30/100/100","v":0},null,null,{"$f":"TalentoHumano!$AG$56*30/100/100","v":5.000000000000001E-2},{"$f":"IF(TalentoHumano!$C$57=TalentoHumano!$F$57, \"CUMPLE\", \"NO CUMPLE\")","v":"NO CUMPLE"},null,null,null,null,null,null,null,null,null,null,null,null,null,null,null,5,"ADMISIÓN Y ESTADÍSTICA",null,null,null,null,null,null,null,null,{"$f":"AG5*100/AG55","v":16.666666666666668},{"$f":"AH5*100/AG55","v":0},{"$f":"AI5*100/AI55","v":0},{"$f":"AJ5*100/AI55","v":0},{"$f":"AK5*100/AK55","v":0},{"$f":"AL5*100/AK55","v":0},{"$f":"AM5*100/AM55","v":{"$error":"#DIV/0!"}},{"$f":"AN5*100/AM55","v":{"$error":"#DIV/0!"}},{"$f":"AO5*100/AO55","v":0},{"$f":"AP5*100/AO55","v":0},{"$f":"AQ5*100/AQ55","v":{"$error":"#DIV/0!"}},{"$f":"AR5*100/AQ55","v":{"$error":"#DIV/0!"}},{"$f":"AS5*100/AS55","v":0},{"$f":"AT5*100/AS55","v":0},{"$f":"AU5*100/AU55","v":0},{"$f":"AV5*100/AU55","v":0}]
[{"$f":"X57","v":"ADMISIÓN Y ESTADÍSTICA"},null,null,{"$f":"TalentoHumano!$AH$57*30/100/100","v":0},null,{"$f":"TalentoHumano!$AG$57*30/100/100","v":5.000000000000001E-2},{"$f":"IF(TalentoHumano!$D$58=TalentoHumano!$F$58, \"CUMPLE\", \"NO CUMPLE\")","v":"NO CUMPLE"},null,null,null,null,null,null,null,null,null,null,null,null,null,null,null,9,"ASISTENCIAL",null,null,null,null,null,null,null,null,{"$f":"AG9*100/$AG$55","v":0},{"$f":"AH9*100/AG55","v":0},{"$f":"AI9*100/AI55","v":0},{"$f":"AJ9*100/AI55","v":0},{"$f":"AK9*100/$AK$55","v":0},{"$f":"AL9*100/AK55","v":0},{"$f":"AM9*100/AM55","v":{"$error":"#DIV/0!"}},{"$f":"AN9*100/AM55","v":{"$error":"#DIV/0!"}},{"$f":"AO9*100/$AO$55","v":42.857142857142854},{"$f":"AP9*100/AO55","v":0},{"$f":"AQ9*100/AQ55","v":{"$error":"#DIV/0!"}},{"$f":"AR9*100/AQ55","v":{"$error":"#DIV/0!"}},{"$f":"AS9*100/$AG$55","v":0},{"$f":"AT9*100/AS55","v":0},{"$f":"AU9*100/AU55","v":0},{"$f":"AV9*100/AU55","v":0}]
[{"$f":"X62","v":"APOYO TERAPEUTICO"},null,{"$f":"TalentoHumano!$AH$62*30/100/100","v":0},null,null,{"$f":"TalentoHumano!$AG$62*30/100/100","v":5.000000000000001E-2},{"$f":"IF(TalentoHumano!$C$59=TalentoHumano!$F$59, \"CUMPLE\", \"NO CUMPLE\")","v":"NO CUMPLE"},null,null,null,null,null,null,null,null,null,null,null,null,null,null,null,10,"CONSULTA EXTERNA",null,null,null,null,null,null,null,null,{"$f":"AG10*100/AG55","v":0},{"$f":"AH10*100/AG55","v":0},{"$f":"AI10*100/AI55","v":0},{"$f":"AJ10*100/AI55","v":0},{"$f":"AK10*100/AK55","v":0},{"$f":"AL10*100/AK55","v":0},{"$f":"AM10*100/AM55","v":{"$error":"#DIV/0!"}},{"$f":"AN10*100/AM55","v":{"$error":"#DIV/0!"}},{"$f":"AO10*100/AO55","v":42.857142857142854},{"$f":"AP10*100/AO55","v":0},{"$f":"AQ10*100/AQ55","v":{"$error":"#DIV/0!"}},{"$f":"AR10*100/AQ55","v":{"$error":"#DIV/0!"}},{"$f":"AS10*100/AS55","v":0},{"$f":"AT10*100/AS55","v":0},{"$f":"AU10*100/AU55","v":0},{"$f":"AV10*100/AU55","v":0}]
[{"$f":"X63","v":"DOTACIÓN DE MEDICAMENTOS Y DISPOSITIVOS MÉDICOS"},null,null,{"$f":"TalentoHumano!$AH$63*30/100/100","v":0},null,{"$f":"TalentoHumano!$AG$63*30/100/100","v":5.000000000000001E-2},{"$f":"IF(TalentoHumano!$D$60=TalentoHumano!$F$60, \"CUMPLE\", \"NO CUMPLE\")","v":"NO CUMPLE"},null,null,null,null,null,null,null,null,null,null,null,null,null,null,null,16,"ASISTENCIALES:",null,null,null,null,null,null,null,null,{"$f":"AG16*100/AG55","v":0},{"$f":"AH16*100/AG55","v":0},{"$f":"AI16*100/AI55","v":0},{"$f":"AJ16*100/AI55","v":0},{"$f":"AK16*100/AK55","v":0},{"$f":"AL16*100/AK55","v":0},{"$f":"AM16*100/AM55","v":{"$error":"#DIV/0!"}},{"$f":"AN16*100/AM55","v":{"$error":"#DIV/0!"}},{"$f":"AO16*100/AO55","v":14.285714285714286},{"$f":"AP16*100/AO55","v":0},{"$f":"AQ16*100/AQ55","v":{"$error":"#DIV/0!"}},{"$f":"AR16*100/AQ55","v":{"$error":"#DIV/0!"}},{"$f":"AS16*100/AS55","v":50},{"$f":"AT16*100/AS55","v":0},{"$f":"AU16*100/AU55","v":50},{"$f":"AV16*100/AU55","v":0}]
[{"$f":"X66","v":"ADMINISTRATIVO"},null,{"$f":"TalentoHumano!$AH$66*30/100/100","v":0},null,null,{"$f":"TalentoHumano!$AG$66*30/100/100","v":5.000000000000001E-2},{"$f":"IF(TalentoHumano!$C$61=TalentoHumano!$F$61, \"CUMPLE\", \"NO CUMPLE\")","v":"NO CUMPLE"},null,null,null,null,null,null,null,null,null,null,null,null,null,null,null,17,"INTERNACIÓN /RESIDENCIA",null,null,null,null,null,null,null,null,{"$f":"AG17*100/AG55","v":0},{"$f":"AH17*100/AG55","v":0},{"$f":"AI17*100/AI55","v":0},{"$f":"AJ17*100/AI55","v":0},{"$f":"AK17*100/AK55","v":0},{"$f":"AL17*100/AK55","v":0},{"$f":"AM17*100/AM55","v":{"$error":"#DIV/0!"}},{"$f":"AN17*100/AM55","v":{"$error":"#DIV/0!"}},{"$f":"AO17*100/AO55","v":14.285714285714286},{"$f":"AP17*100/AO55","v":0},{"$f":"AQ17*100/AQ55","v":{"$error":"#DIV/0!"}},{"$f":"AR17*100/AQ55","v":{"$error":"#DIV/0!"}},{"$f":"AS17*100/AS55","v":50},{"$f":"AT17*100/AS55","v":0},{"$f":"AU17*100/AU55","v":50},{"$f":"AV17*100/AU55","v":0}]
["ADMINISTRACIÓN TECNICA",null,null,{"$f":"TalentoHumano!$AH$67*30/100/100","v":0},null,{"$f":"TalentoHumano!$AG$67*30/100/100","v":5.000000000000001E-2},{"$f":"IF(TalentoHumano!$D$62=TalentoHumano!$F$62, \"CUMPLE\", \"NO CUMPLE\")","v":"NO CUMPLE"},null,null,null,null,null,null,null,null,null,null,null,null,null,null,null,22,"APOYO TERAPEUTICO",null,null,null,null,null,null,null,null,{"$f":"AG22*100/AG55","v":16.666666666666668},{"$f":"AH22*100/AG55","v":0},{"$f":"AI22*100/AI55","v":0},{"$f":"AJ22*100/AI55","v":0},{"$f":"AK22*100/AK55","v":0},{"$f":"AL22*100/AK55","v":0},{"$f":"AM22*100/AM55","v":{"$error":"#DIV/0!"}},{"$f":"AN22*100/AM55","v":{"$error":"#DIV/0!"}},{"$f":"AO22*100/AO55","v":14.285714285714286},{"$f":"AP22*100/AO55","v":0},{"$f":"AQ22*100/AQ55","v":{"$error":"#DIV/0!"}},{"$f":"AR22*100/AQ55","v":{"$error":"#DIV/0!"}},{"$f":"AS22*100/AS55","v":0},{"$f":"AT22*100/AS55","v":0},{"$f":"AU22*100/AU55","v":0},{"$f":"AV22*100/AU55","v":0}]
["APOYO TERAPEÚTICO",null,{"$f":"TalentoHumano!$AH$68*30/100/100","v":0},null,null,{"$f":"TalentoHumano!$AG$68*30/100/100","v":0.10000000000000002},{"$f":"IF(TalentoHumano!$C$63=TalentoHumano!$F$63, \"CUMPLE\", \"NO CUMPLE\")","v":"NO CUMPLE"},null,null,null,null,null,null,null,null,null,null,null,null,null,null,null,23,"DOTACIÓN DE MEDICAMENTOS Y DISPOSITIVOS MÉDICOS",null,null,null,null,null,null,null,null,{"$f":"AG23*100/AG55","v":16.666666666666668},{"$f":"AH23*100/AG55","v":0},{"$f":"AI23*100/AI55","v":0},{"$f":"AJ23*100/AI55","v":0},{"$f":"AK23*100/AK55","v":0},{"$f":"AL23*100/AK55","v":0},{"$f":"AM23*100/AM55","v":{"$error":"#DIV/0!"}},{"$f":"AN23*100/AM55","v":{"$error":"#DIV/0!"}},{"$f":"AO23*100/AO55","v":14.285714285714286},{"$f":"AP23*100/AO55","v":0},{"$f":"AQ23*100/AQ55","v":{"$error":"#DIV/0!"}},{"$f":"AR23*100/AQ55","v":{"$error":"#DIV/0!"}},{"$f":"AS23*100/AS55","v":0},{"$f":"AT23*100/AS55","v":0},{"$f":"AU23*100/AU55","v":0},{"$f":"AV23*100/AU55","v":0}]
["NUTRICIÓN Y  DIETÉTICA",null,null,{"$f":"TalentoHumano!$AH$69*30/100/100","v":0},null,{"$f":"TalentoHumano!$AG$69*30/100/100","v":0.10000000000000002},{"$f":"IF(TalentoHumano!$D$64=TalentoHumano!$F$64, \"CUMPLE\", \"NO CUMPLE\")","v":"NO CUMPLE"},null,null,null,null,null,null,null,null,null,null,null,null,null,null,null,29,"APOYO DIAGNÓSTICO Y TERAPEÚTICO",null,null,null,null,null,null,null,null,{"$f":"AG29*100/AG55","v":0},{"$f":"AH29*100/AG55","v":0},{"$f":"AI29*100/AI55","v":0},{"$f":"AJ29*100/AI55","v":0},{"$f":"AK29*100/AK55","v":0},{"$f":"AL29*100/AK55","v":0},{"$f":"AM29*100/AM55","v":{"$error":"#DIV/0!"}},{"$f":"AN29*100/AM55","v":{"$error":"#DIV/0!"}},{"$f":"AO29*100/AO55","v":14.285714285714286},{"$f":"AP29*100/AO55","v":0},{"$f":"AQ29*100/AQ55","v":{"$error":"#DIV/0!"}},{"$f":"AR29*100/AQ55","v":{"$error":"#DIV/0!"}},{"$f":"AS29*100/AS55","v":50},{"$f":"AT29*100/AS55","v":0},{"$f":"AU29*100/AU55","v":50},{"$f":"AV29*100/AU55","v":0}]
["GENERAL",null,{"$f":"TalentoHumano!$AH$70*30/100/100","v":0},null,null,{"$f":"TalentoHumano!$AG$70*30/100/100","v":5.000000000000001E-2},{"$f":"IF(TalentoHumano!$C$65=TalentoHumano!$F$65, \"CUMPLE\", \"NO CUMPLE\")","v":"NO CUMPLE"},null,null,null,null,null,null,null,null,null,null,null,null,null,null,null,30,"REHABILITACIÓN",null,null,null,null,null,null,null,null,{"$f":"AG30*100/AG55","v":0},{"$f":"AH30*100/AG55","v":0},{"$f":"AI30*100/AI55","v":0},{"$f":"AJ30*100/AI55","v":0},{"$f":"AK30*100/AK55","v":0},{"$f":"AL30*100/AK55","v":0},{"$f":"AM30*100/AM55","v":{"$error":"#DIV/0!"}},{"$f":"AN30*100/AM55","v":{"$error":"#DIV/0!"}},{"$f":"AO30*100/AO55","v":14.285714285714286},{"$f":"AP30*100/AO55","v":0},{"$f":"AQ30*100/AQ55","v":{"$error":"#DIV/0!"}},{"$f":"AR30*100/AQ55","v":{"$error":"#DIV/0!"}},{"$f":"AS30*100/AS55","v":50},{"$f":"AT30*100/AS55","v":0},{"$f":"AU30*100/AU55","v":50},{"$f":"AV30*100/AU55","v":0}]
["SERVICIOS INTERNOS DE APOYO",null,null,{"$f":"TalentoHumano!$AH$71*30/100/100","v":0},null,{"$f":"TalentoHumano!$AG$71*30/100/100","v":5.000000000000001E-2},{"$f":"IF(TalentoHumano!$D$66=TalentoHumano!$F$66, \"CUMPLE\", \"NO CUMPLE\")","v":"NO CUMPLE"},null,null,null,null,null,null,null,null,null,null,null,null,null,null,null,35,"ADMINISTRATIVO",null,null,null,null,null,null,null,null,{"$f":"AG35*100/AG55","v":16.666666666666668},{"$f":"AH35*100/AG55","v":0},{"$f":"AI35*100/AI55","v":0},{"$f":"AJ35*100/AI55","v":0},{"$f":"AK35*100/AK55","v":0},{"$f":"AL35*100/AK55","v":0},{"$f":"AM35*100/AM55","v":{"$error":"#DIV/0!"}},{"$f":"AN35*100/AM55","v":{"$error":"#DIV/0!"}},{"$f":"AO35*100/AO55","v":14.285714285714286},{"$f":"AP35*100/AO55","v":0},{"$f":"AQ35*100/AQ55","v":{"$error":"#DIV/0!"}},{"$f":"AR35*100/AQ55","v":{"$error":"#DIV/0!"}},{"$f":"AS35*100/AS55","v":0},{"$f":"AT35*100/AS55","v":0},{"$f":"AU35*100/AU55","v":0},{"$f":"AV35*100/AU55","v":0}]
["TOTAL REQUERIDO:",null,null,null,null,0.30000001192092896,{"$f":"SUM(TalentoHumano!$C$57                                                                                                                                                                 : TalentoHumano!C66)","v":0},null,null,null,null,null,null,null,null,null,null,null,null,null,null,null,36,"ADMINISTRACIÓN TECNICA",null,null,null,null,null,null,null,null,{"$f":"AG36*100/AG55","v":16.666666666666668},{"$f":"AH36*100/AG55","v":0},{"$f":"AI36*100/AI55","v":0},{"$f":"AJ36*100/AI55","v":0},{"$f":"AK36*100/AK55","v":0},{"$f":"AL36*100/AK55","v":0},{"$f":"AM36*100/AM55","v":{"$error":"#DIV/0!"}},{"$f":"AN36*100/AM55","v":{"$error":"#DIV/0!"}},{"$f":"AO36*100/AO55","v":14.285714285714286},{"$f":"AP36*100/AO55","v":0},{"$f":"AQ36*100/AQ55","v":{"$error":"#DIV/0!"}},{"$f":"AR36*100/AQ55","v":{"$error":"#DIV/0!"}},{"$f":"AS36*100/AS55","v":0},{"$f":"AT36*100/AS55","v":0},{"$f":"AU36*100/AU55","v":0},{"$f":"AV36*100/AU55","v":0}]
["ASISTENCIALES:",null,"% Obtenido:","% Obtenido:","% Obtenido:","% A Cumplir:","% Final:",null,null,null,null,null,null,null,null,null,null,null,null,null,null,null,41,"APOYO TERAPEÚTICO",null,null,null,null,null,null,null,null,{"$f":"AG41*100/AG55","v":33.333333333333336},{"$f":"AH41*100/AG55","v":0},{"$f":"AI41*100/AI55","v":50},{"$f":"AJ41*100/AI55","v":0},{"$f":"AK41*100/AK55","v":50},{"$f":"AL41*100/AK55","v":0},{"$f":"AM41*100/AM55","v":{"$error":"#DIV/0!"}},{"$f":"AN41*100/AM55","v":{"$error":"#DIV/0!"}},{"$f":"AO41*100/AO55","v":0},{"$f":"AP41*100/AO55","v":0},{"$f":"AQ41*100/AQ55","v":{"$error":"#DIV/0!"}},{"$f":"AR41*100/AQ55","v":{"$error":"#DIV/0!"}},{"$f":"AS41*100/AS55","v":0},{"$f":"AT41*100/AS55","v":0},{"$f":"AU41*100/AU55","v":0},{"$f":"AV41*100/AU55","v":0}]
[{"$f":"X58","v":"ASISTENCIAL"},null,{"$f":"TalentoHumano!$AP$58*70/100/100","v":0},null,null,{"$f":"AO58*70/100/100","v":0.3},{"$f":"IF(TalentoHumano!$C$69=TalentoHumano!$F$69, \"CUMPLE\", \"NO CUMPLE\")","v":"NO CUMPLE"},null,null,null,null,null,null,null,null,null,null,null,null,null,null,null,42,"NUTRICIÓN Y  DIETÉTICA",null,null,null,null,null,null,null,null,{"$f":"AG42*100/AG55","v":33.333333333333336},{"$f":"AH42*100/AG55","v":0},{"$f":"AI42*100/AI55","v":50},{"$f":"AJ42*100/AI55","v":0},{"$f":"AK42*100/AK55","v":50},{"$f":"AL42*100/AK55","v":0},{"$f":"AM42*100/AM55","v":{"$error":"#DIV/0!"}},{"$f":"AN42*100/AM55","v":{"$error":"#DIV/0!"}},{"$f":"AO42*100/AO55","v":0},{"$f":"AP42*100/AO55","v":0},{"$f":"AQ42*100/AQ55","v":{"$error":"#DIV/0!"}},{"$f":"AR42*100/AQ55","v":{"$error":"#DIV/0!"}},{"$f":"AS42*100/AS55","v":0},{"$f":"AT42*100/AS55","v":0},{"$f":"AU42*100/AU55","v":0},{"$f":"AV42*100/AU55","v":0}]
[{"$f":"TalentoHumano!$X$59","v":"CONSULTA EXTERNA"},null,null,{"$f":"TalentoHumano!$AP$59*70/100/100","v":0},null,{"$f":"AO59*70/100/100","v":0.3},{"$f":"IF(TalentoHumano!$D$70=TalentoHumano!$F$70, \"CUMPLE\", \"NO CUMPLE\")","v":"NO CUMPLE"},null,null,null,null,null,null,null,null,null,null,null,null,null,null,null,47,"GENERAL",null,null,null,null,null,null,null,null,{"$f":"AG47*100/AG55","v":16.666666666666668},{"$f":"AH47*100/AG55","v":0},{"$f":"AI47*100/AI55","v":50},{"$f":"AJ47*100/AI55","v":0},{"$f":"AK47*100/AK55","v":50},{"$f":"AL47*100/AK55","v":0},{"$f":"AM47*100/AM55","v":{"$error":"#DIV/0!"}},{"$f":"AN47*100/AM55","v":{"$error":"#DIV/0!"}},{"$f":"AO47*100/AO55","v":0},{"$f":"AP47*100/AO55","v":0},{"$f":"AQ47*100/AQ55","v":{"$error":"#DIV/0!"}},{"$f":"AR47*100/AQ55","v":{"$error":"#DIV/0!"}},{"$f":"AS47*100/AS55","v":0},{"$f":"AT47*100/AS55","v":0},{"$f":"AU47*100/AU55","v":0},{"$f":"AV47*100/AU55","v":0}]
[{"$f":"X60","v":"ASISTENCIALES:"},null,{"$f":"TalentoHumano!$AP$60*70/100/100","v":0},null,null,0.1,{"$f":"IF(TalentoHumano!$C$71=TalentoHumano!$F$71, \"CUMPLE\", \"NO CUMPLE\")","v":"NO CUMPLE"},null,null,null,null,null,null,null,null,null,null,null,null,null,null,null,48,"SERVICIOS INTERNOS DE APOYO",null,null,null,null,null,null,null,null,{"$f":"AG48*100/AG55","v":16.666666666666668},{"$f":"AH48*100/AG55","v":0},{"$f":"AI48*100/AI55","v":50},{"$f":"AJ48*100/AI55","v":0},{"$f":"AK48*100/AK55","v":50},{"$f":"AL48*100/AK55","v":0},{"$f":"AM48*100/AM55","v":{"$error":"#DIV/0!"}},{"$f":"AN48*100/AM55","v":{"$error":"#DIV/0!"}},{"$f":"AO48*100/AO55","v":0},{"$f":"AP48*100/AO55","v":0},{"$f":"AQ48*100/AQ55","v":{"$error":"#DIV/0!"}},{"$f":"AR48*100/AQ55","v":{"$error":"#DIV/0!"}},{"$f":"AS48*100/AS55","v":0},{"$f":"AT48*100/AS55","v":0},{"$f":"AU48*100/AU55","v":0},{"$f":"AV48*100/AU55","v":0}]
["INTERNACIÓN /RESIDENCIA",null,null,{"$f":"TalentoHumano!$AP$61*70/100/100","v":0},null,0.1,{"$f":"IF(TalentoHumano!$D$72=TalentoHumano!$F$72, \"CUMPLE\", \"NO CUMPLE\")","v":"NO CUMPLE"}]
["APOYO TERAPEUTICO",null,{"$f":"TalentoHumano!$AP$62*70/100/100","v":0},null,null,0.1,{"$f":"IF(TalentoHumano!$C$73=TalentoHumano!$F$73, \"CUMPLE\", \"NO CUMPLE\")","v":"NO CUMPLE"}]
["DOTACIÓN DE MEDICAMENTOS Y DISPOSITIVOS MÉDICOS",null,null,{"$f":"TalentoHumano!$AP$63*70/100/100","v":0},null,0.1,{"$f":"IF(TalentoHumano!$D$74=TalentoHumano!$F$74, \"CUMPLE\", \"NO CUMPLE\")","v":"NO CUMPLE"}]
["APOYO DIAGNÓSTICO Y TERAPEÚTICO",null,{"$f":"TalentoHumano!$AP$64*70/100/100","v":0},null,null,0.1,{"$f":"IF(TalentoHumano!$C$75=TalentoHumano!$F$75, \"CUMPLE\", \"NO CUMPLE\")","v":"NO CUMPLE"}]
["REHABILITACIÓN",null,null,{"$f":"TalentoHumano!$AP$65*70/100/100","v":0},null,0.1,{"$f":"IF(TalentoHumano!$D$76=TalentoHumano!$F$76, \"CUMPLE\", \"NO CUMPLE\")","v":"NO CUMPLE"}]
[{"$f":"X68","v":"APOYO TERAPEÚTICO"},null,{"$f":"TalentoHumano!$AP$66*70/100/100","v":0},null,null,0.1,{"$f":"IF(TalentoHumano!$C$77=TalentoHumano!$F$77, \"CUMPLE\", \"NO CUMPLE\")","v":"NO CUMPLE"}]
[{"$f":"X69","v":"NUTRICIÓN Y  DIETÉTICA"},null,null,{"$f":"TalentoHumano!$AP$67*70/100/100","v":0},null,0.1,{"$f":"IF(TalentoHumano!$D$78=TalentoHumano!$F$78, \"CUMPLE\", \"NO CUMPLE\")","v":"NO CUMPLE"}]
["TOTAL REQUERIDO:",null,null,null,null,0.69999998807907104,{"$f":"SUM(TalentoHumano!$C$69                                                                                                                                                                : TalentoHumano!$C$78)","v":0}]
["TOTAL ITEMS REQUERIDOS:"]
["TOTAL % REQUERIDO:",null,null,null,null,1,{"$f":"(G67+G79)","v":0}]
[]
["TOTAL ITEMS CONDICIONADOS  +:"]
["ADMINISTRATIVOS:",null,"% Obtenido:","% Obtenido:","% Obtenido:","% A Cumplir:","% Final:"]
[{"$f":"X68","v":"APOYO TERAPEÚTICO"},null,{"$f":"AJ68*70/100/100","v":0},null,null,{"$f":"AI68*70/100/100","v":0.35},{"$f":"IF(C85=F85, \"CUMPLE\", \"NO CUMPLE\")","v":"NO CUMPLE"}]
[{"$f":"X69","v":"NUTRICIÓN Y  DIETÉTICA"},null,null,{"$f":"AJ69*70/100/100","v":0},null,{"$f":"AI69*70/100/100","v":0.35},{"$f":"IF(D86=F86, \"CUMPLE\", \"NO CUMPLE\")","v":"NO CUMPLE"}]
[{"$f":"X70","v":"GENERAL"},null,{"$f":"AJ70*70/100/100","v":0},null,null,{"$f":"AI70*70/100/100","v":0.35},{"$f":"IF(C87=F87, \"CUMPLE\", \"NO CUMPLE\")","v":"NO CUMPLE"}]
[{"$f":"X71","v":"SERVICIOS INTERNOS DE APOYO"},null,null,{"$f":"AJ71*70/100/100","v":0},null,{"$f":"AI71*70/100/100","v":0.35},{"$f":"IF(D88=F88, \"CUMPLE\", \"NO CUMPLE\")","v":"NO CUMPLE"}]
["TOTAL % CONDICIONADO:",null,null,null,null,0.7,{"$f":"SUM(C85:C88)","v":0}]
["ASISTENCIALES:",null,"% Obtenido:","% Obtenido:","% Obtenido:","% A Cumplir:","% Final:"]
["ASISTENCIALES:",null,{"$f":"AT60*30/100/100","v":0},null,null,{"$f":"AS60*30/100/100","v":0.15},{"$f":"IF(C91=F91, \"CUMPLE\", \"NO CUMPLE\")","v":"NO CUMPLE"}]
["INTERNACIÓN /RESIDENCIA",null,null,{"$f":"AT61*30/100/100","v":0},null,{"$f":"AS61*30/100/100","v":0.15},{"$f":"IF(D92=F92, \"CUMPLE\", \"NO CUMPLE\")","v":"NO CUMPLE"}]
["APOYO DIAGNÓSTICO Y TERAPEÚTICO",null,{"$f":"AT64*30/100/100","v":0},null,null,{"$f":"AS64*30/100/100","v":0.15},{"$f":"IF(C93=F93, \"CUMPLE\", \"NO CUMPLE\")","v":"NO CUMPLE"}]
["REHABILITACIÓN",null,null,{"$f":"AT65*30/100/100","v":0},null,{"$f":"AS65*30/100/100","v":0.15},{"$f":"IF(D94=F94, \"CUMPLE\", \"NO CUMPLE\")","v":"NO CUMPLE"}]
["TOTAL % CONDICIONADO:",null,null,null,null,0.35,{"$f":"SUM(C91:C94)","v":0}]
["TOTAL % CONDICIONADO +:",null,null,null,null,1,{"$f":"G89+G95","v":0}]
["TOTAL ITEMS CONDICIONADOS -:"]
["ADMINISTRATIVOS:",null,"% Obtenido:","% Obtenido:","% Obtenido:","% A Cumplir:","% Final:"]
["APOYO TERAPEÚTICO",null,{"$f":"-AL68*70/100/100","v":0},null,null,{"$f":"-AK68*70/100/100","v":-0.35},{"$f":"IF(C99=F99, \"CUMPLE\", \"NO CUMPLE\")","v":"NO CUMPLE"}]
["NUTRICIÓN Y  DIETÉTICA",null,null,{"$f":"-AL69*70/100/100","v":0},null,{"$f":"-AK69*70/100/100","v":-0.35},{"$f":"IF(D100=F100, \"CUMPLE\", \"NO CUMPLE\")","v":"NO CUMPLE"}]
["GENERAL",null,{"$f":"-AL70*70/100/100","v":0},null,null,{"$f":"-AK70*70/100/100","v":-0.35},{"$f":"IF(C101=F101, \"CUMPLE\", \"NO CUMPLE\")","v":"NO CUMPLE"}]
["SERVICIOS INTERNOS DE APOYO",null,null,{"$f":"-AL71*70/100/100","v":0},null,{"$f":"-AK71*70/100/100","v":-0.35},{"$f":"IF(D102=F102, \"CUMPLE\", \"NO CUMPLE\")","v":"NO CUMPLE"}]
["TOTAL % CONDICIONADO:",null,null,null,null,0.7,{"$f":"SUM(C99:C102)","v":0}]
["ASISTENCIALES:",null,"% Obtenido:","% Obtenido:","% Obtenido:","% A Cumplir:","% Final:"]
["ASISTENCIALES:",null,{"$f":"-AV60*30/100/100","v":0},null,null,{"$f":"-AU60*30/100/100","v":-0.15},{"$f":"IF(C105=F105, \"CUMPLE\", \"NO CUMPLE\")","v":"NO CUMPLE"}]
["INTERNACIÓN /RESIDENCIA",null,null,{"$f":"-AV61*30/100/100","v":0},null,{"$f":"-AU61*30/100/100","v":-0.15},{"$f":"IF(D106=F106, \"CUMPLE\", \"NO CUMPLE\")","v":"NO CUMPLE"}]
["APOYO DIAGNÓSTICO Y TERAPEÚTICO",null,{"$f":"-AV64*30/100/100","v":0},null,null,{"$f":"-AU64*30/100/100","v":-0.15},{"$f":"IF(C107=F107, \"CUMPLE\", \"NO CUMPLE\")","v":"NO CUMPLE"}]
["REHABILITACIÓN",null,null,{"$f":"-AV65*30/100/100","v":0},null,{"$f":"-AU65*30/100/100","v":-0.15},{"$f":"IF(D108=F108, \"CUMPLE\", \"NO CUMPLE\")","v":"NO CUMPLE"}]
["TOTAL % CONDICIONADO:",null,null,null,null,0.3,{"$f":"SUM(C105:C108)","v":0}]
["TOTAL ITEMS CONDICIONADOS:"]
["TOTAL % CONDICIONADO:",null,null,null,null,0.3,{"$f":"(G103+G109)","v":0}]
[]
[]
["TOTALES COMPONENTE:"]
["TOTAL % REQUERIDO:",null,null,null,null,0.35,{"$f":"(G81)*0.35","v":0}]
["TOTAL % CONDICIÓN:",null,null,null,null,0.35,{"$f":"(G96+G111)*0.35","v":0}]
["TOTAL % DESEABLE:",null,null,null,null,0.35,0.35]

{"sheet":"Reportes","index":8,"n_rows":57,"n_cols":15,"rows_kept":57,"cut":false,"hidden":false,"merged":[[52,9,52,10],[19,0,19,2],[19,3,19,14],[52,4,52,5],[46,1,46,7],[47,9,47,10],[47,11,47,12],[48,9,48,10],[49,9,49,10],[50,9,50,10],[51,9,51,10],[48,11,48,12],[49,11,49,12],[50,11,50,12],[51,11,51,12],[48,4,48,5],[46,9,46,13],[15,3,15,14],[16,3,16,14],[17,3,17,14],[18,3,18,14],[42,11,42,12],[42,8,42,9],[20,13,21,14],[21,4,21,5],[21,7,21,8],[42,5,42,6],[25,14,26,14],[27,14,28,14],[29,14,30,14],[31,14,32,14],[20,10,20,12],[20,1,20,3],[56,9,62,9],[56,6,62,8],[55,9,55,11],[56,10,62,11],[47,2,47,3],[47,4,47,5],[47,6,47,7],[48,6,52,7],[48,2,48,3],[49,2,49,3],[50,2,50,3],[51,2,51,3],[52,2,52,3],[49,4,49,5],[50,4,50,5],[51,4,51,5],[7,0,7,2],[8,0,8,2],[4,0,4,14],[5,0,5,14],[6,0,6,14],[7,3,7,14],[8,3,8,14],[9,3,9,14],[10,3,10,14],[17,0,17,2],[18,0,18,2],[15,0,15,2],[16,0,16,2],[12,0,12,2],[13,0,13,2],[14,0,14,2],[9,0,9,2],[10,0,10,2],[11,0,11,2],[11,3,11,14],[12,3,12,14],[13,3,13,14],[14,3,14,14],[20,4,20,6],[20,7,20,9],[21,10,21,11],[37,14,38,14],[23,14,24,14],[33,14,34,14],[35,14,36,14],[43,11,43,12],[43,8,43,9],[21,1,21,2],[42,0,43,0],[42,2,42,3],[43,2,43,3],[43,5,43,6]]}
[]
[]
[]
[]
["MATRIZ DE LICENCIAMIENTO:"]
["CALIFICACIÓN POR SERVICIOS"]
[{"$f":"Menu!A5","v":"CENTRO ESPECIALIZADO EN TRATAMIENTO PARA PERSONAS CON CONSUMO PROBLEMÁTICO DE ALCOHOL Y OTRAS DROGAS (CETADS)"}]
["ENTIDAD DEL SISTEMA:",null,null,"Pública"]
["NOMBRE UNIDAD OPERATIVA:"]
["UNICODIGO:"]
["REGION:",null,null,"SIERRA"]
["PROVINCIA:",null,null,"TUNGURAHUA"]
["CANTON:",null,null,"MOCHA"]
["PARROQUIA:"]
["DISTRIBUCIÓN ZONAL SENPLADES:",null,null,"1"]
["DIRECCIÓN:"]
["AREA/DISTRITO:"]
["RESPRESENTANTE LEGAL / CORREO ELECTRÓNICO UNIDAD OPERATIVA:",null,null," / "]
["FECHA:"]
["TELÉFONO:"]
["COMPONENTES:","INFRAESTRUCTURA",null,null,"EQUIPAMIENTO",null,null,"NORMA",null,null,"TALENTO HUMANO",null,null,"CALIFICACIÓN POR SERVICIO"]
[null,"REQUERIDOS",null,"TOTAL","REQUERIDOS",null,"TOTAL","REQUERIDOS",null,"TOTAL","REQUERIDOS",null,"TOTAL"]
["                                                      PORCENTAJES \n\n      \n         \n SERVICIOS","% A CUMPLIR","% OBTENIDO","% CALIFICACIÓN","% A CUMPLIR","% OBTENIDO","% CALIFICACIÓN","% A CUMPLIR","% OBTENIDO","% CALIFICACIÓN","% A CUMPLIR","% OBTENIDO","% CALIFICACIÓN","% ÍNDICE GLOBAL DE LICENCIAMIENTO POR SERVICIO","CALIFICACIÓN POR SERVICIO"]
["ADMINISTRATIVO",{"$f":"(Infraestructura!F183*85)","v":2.3611111111111112},{"$f":"(Infraestructura!C183*85)","v":0},{"$f":"(C24*100/B24)*0.3","v":0},{"$f":"(Equipamiento!F430+Equipamiento!F475)*85","v":2.8596565315315314},{"$f":"(Equipamiento!C430+Equipamiento!C475)*85","v":0},{"$f":"(F24*100/E24)*0.3","v":0},{"$f":"(Norma!F273*85)","v":6.5384615384615392},{"$f":"(Norma!C273*85)*1","v":0},{"$f":"(I24*100/H24)*0.05","v":0},{"$f":"TalentoHumano!F57*85*1","v":4.2500000000000009},{"$f":"TalentoHumano!C57*85*1","v":0},{"$f":"(L24*100/K24)*0.35","v":0},{"$f":"(D24+G24+J24+M24)*0.85/100*1","v":0},{"$f":"IF(N24<0.7, \"NO LICENCIA\", IF(N24<0.85,\"LICENCIA CONDICIONADA\", IF(N24<=1, \"SI LICENCIA\", \"\")))","v":"NO LICENCIA"}]
["ADMISIÓN Y ESTADÍSTICA",{"$f":"Infraestructura!F184*85","v":2.3611111111111112},{"$f":"Infraestructura!D184*85*1","v":0},{"$f":"(C25*100/B25)*0.3","v":0},{"$f":"(Equipamiento!F431+Equipamiento!F476)*85","v":2.8596565315315314},{"$f":"(Equipamiento!D431+Equipamiento!D476)*85","v":0},{"$f":"(F25*100/E25)*0.3","v":0},{"$f":"(Norma!F274*85)*1","v":6.5384615384615392},{"$f":"(Norma!D274*85)*1","v":0},{"$f":"(I25*100/H25)*0.05","v":0},{"$f":"TalentoHumano!F58*85*1","v":4.2500000000000009},{"$f":"TalentoHumano!D58*85*1","v":0},{"$f":"(L25*100/K25)*0.35","v":0},0]
["ASISTENCIAL",{"$f":"(Infraestructura!F186*85)","v":7.0833333333333339},{"$f":"(Infraestructura!C186*85)*1","v":0},{"$f":"(C26*100/B26)*0.3","v":0},{"$f":"(Equipamiento!F433+Equipamiento!F461+Equipamiento!F478+Equipamiento!F505)*85","v":33.484764812889807},{"$f":"(Equipamiento!C433+Equipamiento!C461+Equipamiento!C478+Equipamiento!C505)*85","v":0},{"$f":"(F26*100/E26)*0.3","v":0},{"$f":"(Norma!F276*85)*1","v":29.171597633136091},{"$f":"(Norma!C276*85)*1","v":0},{"$f":"(I26*100/H26)*0.05","v":0},{"$f":"TalentoHumano!F69*85*1","v":25.5},{"$f":"TalentoHumano!C69*85*1","v":0},{"$f":"(L26*100/K26)*0.35","v":0},0,{"$f":"IF(N26<0.7, \"NO LICENCIA\", IF(N26<0.85,\"LICENCIA CONDICIONADA\", IF(N26<=1, \"SI LICENCIA\", \"\")))","v":"NO LICENCIA"}]
["CONSULTA EXTERNA",{"$f":"(Infraestructura!F187*85)","v":7.0833333333333339},{"$f":"(Infraestructura!D187*85)*1","v":0},{"$f":"(C27*100/B27)*0.3","v":0},{"$f":"(Equipamiento!F434+Equipamiento!F462+Equipamiento!F479+Equipamiento!F506)*85","v":33.484764812889807},{"$f":"(Equipamiento!D434+Equipamiento!D462+Equipamiento!D479+Equipamiento!D506)*85","v":0},{"$f":"(F27*100/E27)*0.3","v":0},{"$f":"(Norma!F277*85)*1","v":29.171597633136091},{"$f":"(Norma!D277*85)*1","v":0},0,{"$f":"TalentoHumano!F70*85*1","v":25.5},{"$f":"TalentoHumano!D70*85*1","v":0},0,0]
["ASISTENCIAL",{"$f":"(Infraestructura!F189*85)*1","v":8.2638888888888875},{"$f":"(Infraestructura!C189*85)*1","v":0},0,{"$f":"(Equipamiento!F436+Equipamiento!F481)*85","v":6.1739864864864868},{"$f":"(Equipamiento!C436+Equipamiento!C481)*85","v":0},{"$f":"(F28*100/E28)*0.3","v":0},{"$f":"(Norma!F278*85)*1","v":12.071005917159763},{"$f":"(Norma!C278*85)*1","v":0},0,{"$f":"TalentoHumano!F71*85*1","v":8.5},{"$f":"TalentoHumano!C71*85*1","v":0},0,0,{"$f":"IF(N28<0.7, \"NO LICENCIA\", IF(N28<0.85,\"LICENCIA CONDICIONADA\", IF(N28<=1, \"SI LICENCIA\", \"\")))","v":"NO LICENCIA"}]
["INTERNACIÓN /RESIDENCIA",{"$f":"(Infraestructura!F190*85)*1","v":8.2638888888888875},{"$f":"(Infraestructura!D190*85)*1","v":0},0,{"$f":"(Equipamiento!F437+Equipamiento!F482)*85","v":6.1739864864864868},{"$f":"(Equipamiento!D437+Equipamiento!D482)*85","v":0},{"$f":"(F29*100/E29)*0.3","v":0},{"$f":"(Norma!F279*85)*1","v":12.071005917159763},{"$f":"(Norma!D279*85)*1","v":0},{"$f":"(I29*100/H29)*0.05","v":0},{"$f":"TalentoHumano!F72*85*1","v":8.5},{"$f":"TalentoHumano!D72*85*1","v":0},0,0]
["APOYO TERAPEUTICO",{"$f":"(Infraestructura!F193*85)*1","v":2.3611111111111112},{"$f":"(Infraestructura!C193*85)*1","v":0},0,{"$f":"(Equipamiento!F440+Equipamiento!F486)*85","v":4.5706644144144146},{"$f":"(Equipamiento!C440+Equipamiento!C486)*85","v":0},0,{"$f":"(Norma!F280*85)*1","v":6.5384615384615392},{"$f":"(Norma!C280*85)*1","v":0},0,{"$f":"(TalentoHumano!F59+TalentoHumano!F73)*85*1","v":12.750000000000002},{"$f":"(TalentoHumano!C59+TalentoHumano!C73)*85*1","v":0},0,0,{"$f":"IF(N30<0.7, \"NO LICENCIA\", IF(N30<0.85,\"LICENCIA CONDICIONADA\", IF(N30<=1, \"SI LICENCIA\", \"\")))","v":"NO LICENCIA"}]
["DOTACIÓN DE MEDICAMENTOS Y DISPOSITIVOS MÉDICOS",{"$f":"(Infraestructura!F194*85)*1","v":2.3611111111111112},{"$f":"(Infraestructura!D194*85)*1","v":0},0,{"$f":"(Equipamiento!F441+Equipamiento!F487)*85","v":4.5706644144144146},{"$f":"(Equipamiento!D441+Equipamiento!D487)*85","v":0},0,{"$f":"(Norma!F281*85)*1","v":6.5384615384615392},{"$f":"(Norma!D281*85)*1","v":0},0,{"$f":"(TalentoHumano!F60+TalentoHumano!F74)*85*1","v":12.750000000000002},{"$f":"(TalentoHumano!D60+TalentoHumano!D74)*85*1","v":0},0,0]
["APOYO DIAGNÓSTICO Y TERAPEÚTICO",{"$f":"(Infraestructura!F196*85)*1","v":2.3611111111111112},{"$f":"(Infraestructura!C196*85)*1","v":0},0,{"$f":"(Equipamiento!F443+Equipamiento!F464+Equipamiento!F489+Equipamiento!F508)*85","v":16.541276853776857},{"$f":"(Equipamiento!C443+Equipamiento!C464+Equipamiento!C489+Equipamiento!C508)*85","v":0},0,{"$f":"(Norma!F282*85)*1","v":0.50295857988165682},{"$f":"Norma!C282*85*1","v":0},0,{"$f":"TalentoHumano!F75*85*1","v":8.5},{"$f":"TalentoHumano!C75*85*1","v":0},0,0,{"$f":"IF(N32<0.7, \"NO LICENCIA\", IF(N32<0.85,\"LICENCIA CONDICIONADA\", IF(N32<=1, \"SI LICENCIA\", \"\")))","v":"NO LICENCIA"}]
["REHABILITACIÓN",{"$f":"(Infraestructura!F197*85)*1","v":2.3611111111111112},{"$f":"(Infraestructura!D197*85)*1","v":0},0,{"$f":"(Equipamiento!F444+Equipamiento!F465+Equipamiento!F490+Equipamiento!F509)*85","v":16.541276853776857},{"$f":"(Equipamiento!D444+Equipamiento!D465+Equipamiento!D490+Equipamiento!D509)*85","v":0},0,{"$f":"(Norma!F283*85)*1","v":0.50295857988165682},{"$f":"Norma!D283*85*1","v":0},0,{"$f":"TalentoHumano!F76*85*1","v":8.5},{"$f":"TalentoHumano!D76*85*1","v":0},0,0]
["APOYO TERAPEÚTICO",{"$f":"(Infraestructura!F199*85)*1","v":8.2638888888888875},{"$f":"(Infraestructura!C199*85)*1","v":0},0,{"$f":"(Equipamiento!F446+Equipamiento!F467+Equipamiento!F492)*85","v":11.785613738738739},{"$f":"(Equipamiento!C446+Equipamiento!C467+Equipamiento!C492)*85","v":0},0,{"$f":"(Norma!F284*85)*1","v":6.0355029585798814},{"$f":"Norma!C284*85*1","v":0},0,{"$f":"(TalentoHumano!F77+TalentoHumano!F63)*85*1","v":17},{"$f":"(TalentoHumano!C77+TalentoHumano!C63)*85*1","v":0},0,0,{"$f":"IF(N34<0.7, \"NO LICENCIA\", IF(N34<0.85,\"LICENCIA CONDICIONADA\", IF(N34<=1, \"SI LICENCIA\", \"\")))","v":"NO LICENCIA"}]
["NUTRICIÓN Y DIETÉTICA",{"$f":"(Infraestructura!F200*85)*1","v":8.2638888888888875},{"$f":"(Infraestructura!D200*85)*1","v":0},0,{"$f":"(Equipamiento!F447+Equipamiento!F468+Equipamiento!F493)*85","v":11.785613738738739},{"$f":"(Equipamiento!D447+Equipamiento!D468+Equipamiento!D493)*85","v":0},0,{"$f":"(Norma!F285*85)*1","v":6.0355029585798814},{"$f":"Norma!D285*85*1","v":0},0,{"$f":"(TalentoHumano!F78+TalentoHumano!F64)*85*1","v":17},{"$f":"(TalentoHumano!D78+TalentoHumano!D64)*85*1","v":0},0,0]
["ADMINISTRATIVO",{"$f":"(Infraestructura!F203*85)*1","v":2.3611111111111112},{"$f":"(Infraestructura!C203*85)*1","v":0},0,{"$f":"(Equipamiento!F450+Equipamiento!F470+Equipamiento!F495)*85","v":2.9912725225225225},{"$f":"(Equipamiento!C450+Equipamiento!C470+Equipamiento!C495)*85","v":0},0,{"$f":"(Norma!F286*85)*1","v":21.627218934911244},{"$f":"Norma!C286*85*1","v":0},0,{"$f":"TalentoHumano!F61*85*1","v":4.2500000000000009},{"$f":"TalentoHumano!C61*85*1","v":0},0,0,{"$f":"IF(N36<0.7, \"NO LICENCIA\", IF(N36<0.85,\"LICENCIA CONDICIONADA\", IF(N36<=1, \"SI LICENCIA\", \"\")))","v":"NO LICENCIA"}]
["ADMINISTRACIÓN TÉCNICA",{"$f":"(Infraestructura!F204*85)*1","v":2.3611111111111112},{"$f":"(Infraestructura!D204*85)*1","v":0},0,{"$f":"(Equipamiento!F451+Equipamiento!F471+Equipamiento!F496)*85","v":2.9912725225225225},{"$f":"(Equipamiento!D451+Equipamiento!D471+Equipamiento!D496)*85","v":0},0,{"$f":"(Norma!F287*85)*1","v":21.627218934911244},{"$f":"Norma!D287*85*1","v":0},0,{"$f":"TalentoHumano!F62*85*1","v":4.2500000000000009},{"$f":"TalentoHumano!D62*85*1","v":0},0,0]
["GENERAL",{"$f":"(Infraestructura!F206*85)*1","v":9.4444444444444446},{"$f":"(Infraestructura!C206*85)*1","v":0},0,{"$f":"(Equipamiento!F453+Equipamiento!F498)*85","v":6.5927646396396398},{"$f":"(Equipamiento!C453+Equipamiento!C498)*85","v":0},0,{"$f":"(Norma!F288*85)*1","v":2.5147928994082838},{"$f":"Norma!C288*85*1","v":0},0,{"$f":"TalentoHumano!F65*85*1","v":4.2500000000000009},{"$f":"TalentoHumano!C65*85*1","v":0},0,0,{"$f":"IF(N38<0.7, \"NO LICENCIA\", IF(N38<0.85,\"LICENCIA CONDICIONADA\", IF(N38<=1, \"SI LICENCIA\", \"\")))","v":"NO LICENCIA"}]
["SERVICIOS INTERNOS DE APOYO",{"$f":"(Infraestructura!F207*85)*1","v":9.4444444444444446},{"$f":"(Infraestructura!D207*85)*1","v":0},0,{"$f":"(Equipamiento!F454+Equipamiento!F499)*85","v":6.5927646396396398},{"$f":"(Equipamiento!D454+Equipamiento!D499)*85","v":0},0,{"$f":"(Norma!F289*85)*1","v":2.5147928994082838},{"$f":"Norma!D289*85*1","v":0},0,{"$f":"TalentoHumano!F66*85*1","v":4.2500000000000009},{"$f":"TalentoHumano!D66*85*1","v":0},0,{"$f":"(D38+G38+J38+M38)*0.85/100*1","v":0}]
["INSTALACIONES",{"$f":"(Infraestructura!F213*85)*1","v":21.25},{"$f":"(Infraestructura!C213*85)*1","v":0},0,"  - ","  - ","  - ","  - ","  - ","  - ","  - ","  - ","  - ","  - "]
["ESTRUCTURA GENERAL",{"$f":"(Infraestructura!F216*85)*1","v":21.25},{"$f":"(Infraestructura!C216*85)*1","v":0},0,"  - ","  - ","  - ","  - ","  - ","  - ","  - ","  - ","  - ","  - "]
[null,{"$f":"SUM(B24+B26+B28+B30+B32+B34+B36+B38+B40+B41)","v":85},{"$f":"SUM(C24+C26+C28+C30+C32+C34+C36+C38+C40+C41)","v":0},{"$f":"SUM(D24+D26+D28+D30+D32+D34+D36+D38+D40+D41)/10","v":0},{"$f":"SUM(E24+E26+E28+E30+E32+E34+E36+E38)","v":85},{"$f":"SUM(F24+F26+F28+F30+F32+F34+F36+F38)","v":0},{"$f":"SUM(G24+G26+G28+G30+G32+G34+G36+G38)/8","v":0},{"$f":"SUM(H24+H26+H28+H30+H32+H34+H36+H38)","v":84.999999999999986},{"$f":"SUM(I24+I26+I28+I30+I32+I34+I36+I38)","v":0},{"$f":"SUM(J24+J26+J28+J30+J32+J34+J36+J38)/8","v":0},{"$f":"SUM(K24+K26+K28+K30+K32+K34+K36+K38)","v":85},{"$f":"SUM(L24+L26+L28+L30+L32+L34+L36+L38)","v":0},{"$f":"SUM(M24+M26+M28+M30+M32+M34+M36+M38)/8","v":0},{"$f":"(N24+N26+N28+N30+N32+N34+N36+N38)/8","v":0},{"$f":"IF(N42<0.7, \"NO LICENCIA\", IF(N42<0.85,\"LICENCIA CONDICIONADA\", IF(N42<=1, \"SI LICENCIA\", \"\")))","v":"NO LICENCIA"}]
["% ÍNDICE GLOBAL DE LICENCIAMEINTO POR COMPONENTE","% A CUMPLIR","% OBTENIDO",null,"% A CUMPLIR","% OBTENIDO",null,"% A CUMPLIR","% OBTENIDO",null,"% A CUMPLIR","% OBTENIDO",null,"% ÍNDICE GLOBAL DE LICENCIAMIENTO POR SERVICIO","CALIFICACIÓN POR COMPONENTE"]
[null,30,{"$f":"D42","v":0},null,30,{"$f":"G42","v":0},null,5,{"$f":"J42","v":0},null,35,{"$f":"M42","v":0},null,{"$f":"SUM(N24:N39)/16*100","v":0},{"$f":"IF(N44<70, \"NO LICENCIA\", IF(N44<85,\"LICENCIA CONDICIONADA\", IF(N44<=100, \"SI LICENCIA\", \"\")))","v":"NO LICENCIA"}]
[]
[]
[null,"RESULTADOS DE ÍTEMS CONDICIONADOS",null,null,null,null,null,null,null,"RESULTADOS DE ÍTEMS DESEABLES"]
[null,"COMPONENTE","% A cumplir",null,"% Obtenido",null,"PUNTAJE TOTAL",null,null,"COMPONENTE",null,"% A cumplir",null,"% Obtenido"]
[null,"INFRAESTRUCTURA",{"$f":"30","v":30},null,{"$f":"Infraestructura!G283*100","v":0},null,{"$f":"IF(E53>0,IF(E53=0,\"0\",IF(E53<=69,\"5\",IF(E53<=84,\"10\",(IF(E53<=100,\"15\"))))),IF(E53=0,\"0\",IF(E53>=-69,-5,IF(E53>=-84,-10,(IF(E53>=-100,-15))))))","v":"0"},null,null,"INFRAESTRUCTURA",null,{"$f":"30/100","v":0.3},null,{"$f":"Infraestructura!G284","v":0}]
[null,"EQUIPAMIENTO",{"$f":"30","v":30},null,{"$f":"Equipamiento!G656*100","v":0},null,null,null,null,"EQUIPAMIENTO",null,{"$f":"30/100","v":0.3},null,{"$f":"Equipamiento!G657","v":0}]
[null,"TALENTO HUMANO",{"$f":"35","v":35},null,{"$f":"TalentoHumano!G116*100","v":0},null,null,null,null,"TALENTO HUMANO",null,{"$f":"35/100","v":0.35},null,{"$f":"TalentoHumano!G117","v":0.35}]
[null,"NORMA TECNICA",{"$f":"5","v":5},null,{"$f":"Norma!G331*100","v":0},null,null,null,null,"NORMA TECNICA",null,{"$f":"5/100","v":0.05},null,{"$f":"Norma!G332","v":0.05}]
[null,"Total",{"$f":"SUM(C49:C52)","v":100},null,{"$f":"E49+E50+E51+E52","v":0},null,null,null,null,"Total",null,{"$f":"SUM(L49:L52)","v":1},null,{"$f":"SUM(N49:N52)","v":0.39999999999999997}]
[]
[]
[null,null,null,null,null,null,null,null,null,"CALIFICACIÓN OBTENIDA"]
[null,null,null,null,null,null,"RESULTADO FINAL % ÍNDICE GLOBAL DE LICENCIAMIENTO",null,null,{"$f":"IF(N44<85,(+N44+G49),100)","v":0},{"$f":"IF(J57<70,\"NO LICENCIA\",IF(AND(J57<=84,N26<=0.84),\"Alto Riesgo NO puede funcionar\",IF(AND(J57<=84,N28<=0.84),\"Alto Riesgo NOO puede funcionar\",IF(J57>84,\"SI LICENCIA\",\"LICENCIA CONDICIONADA\"))))","v":"NO LICENCIA"}]

{"sheet":"Reportes1","index":9,"n_rows":26,"n_cols":8,"rows_kept":26,"cut":false,"hidden":true,"merged":[[10,1,10,3],[11,1,11,3],[12,1,12,3],[10,4,10,9],[11,4,11,9],[12,4,12,9],[7,1,7,3],[8,1,8,3],[9,1,9,3],[7,4,7,9],[8,4,8,9],[9,4,9,9],[5,1,5,3],[5,4,5,9],[6,1,6,3],[6,4,6,9],[3,1,3,9],[4,1,4,9],[31,7,34,9],[29,7,30,9],[20,1,20,2],[21,1,21,2],[13,1,13,3],[15,1,15,3],[16,1,16,3],[17,1,17,3],[28,1,28,9],[13,4,13,9],[14,4,14,9],[15,4,15,9],[16,4,16,9],[17,4,17,9],[19,1,19,9],[20,7,20,9],[21,7,25,9],[22,1,22,2],[23,1,23,2],[24,1,24,2],[25,1,25,2]]}
[]
[]
[]
[null,"MATRIZ DE LICENCIAMIENTO:"]
[null,{"$f":"Menu!A5","v":"CENTRO ESPECIALIZADO EN TRATAMIENTO PARA PERSONAS CON CONSUMO PROBLEMÁTICO DE ALCOHOL Y OTRAS DROGAS (CETADS)"}]
[null,"ENTIDAD DEL SISTEMA:"]
[null,"NOMBRE UNIDAD OPERATIVA:"]
[null,"UNICODIGO:"]
[null,"REGION:"]
[null,"PROVINCIA:"]
[null,"CANTON:"]
[null,"PARROQUIA:"]
[null,"DISTRIBUCIÓN ZONAL SENPLADES:"]
[null,"DIRECCIÓN:"]
[]
[null,"AREA/DISTRITO:"]
[null,"CORREO ELECTRÓNICO UNIDAD OPERATIVA:"]
[null,"FECHA:"]
[]
[null,"RESULTADOS TOTALES"]
[null,"COMPONENTE",null,"% A cumplir","% Requerido","% Deseable","% Condición","RESULTADOS"]
[null,"INFRAESTRUCTURA",null,{"$f":"30/100","v":0.3},{"$f":"Infraestructura!G219","v":0},{"$f":"Infraestructura!#REF!","v":{"$error":"#REF!"}},{"$f":"Infraestructura!#REF!","v":{"$error":"#REF!"}},{"$f":"IF(E26<0.7, \"NO LICENCIA\", IF(E26<0.84,\"LICENCIA CONDICIONADA\", IF(E26<=1, \"SI LICENCIA\", \"\")))","v":"NO LICENCIA"}]
[null,"EQUIPAMIENTO",null,{"$f":"30/100","v":0.3},{"$f":"Equipamiento!G513","v":0},{"$f":"Equipamiento!#REF!","v":{"$error":"#REF!"}},{"$f":"Equipamiento!#REF!","v":{"$error":"#REF!"}}]
[null,"TALENTO HUMANO",null,{"$f":"35/100","v":0.35},{"$f":"TalentoHumano!G89","v":0},{"$f":"TalentoHumano!#REF!","v":{"$error":"#REF!"}},{"$f":"TalentoHumano!#REF!","v":{"$error":"#REF!"}}]
[null,"NORMA TECNICA",null,{"$f":"5/100","v":0.05},{"$f":"Norma!G308","v":0},{"$f":"Norma!#REF!","v":{"$error":"#REF!"}},{"$f":"Norma!#REF!","v":{"$error":"#REF!"}}]
[null,"Total",null,{"$f":"SUM(D22:D25)","v":1},{"$f":"SUM(E22:E25)","v":0},{"$f":"SUM(F22:F25)","v":{"$error":"#REF!"}},{"$f":"SUM(G22:G25)","v":{"$error":"#REF!"}}]

{"sheet":"EQ_01","index":10,"n_rows":15,"n_cols":3,"rows_kept":15,"cut":false,"hidden":false,"merged":[[0,0,0,1],[8,0,8,2],[5,0,5,2]]}
[]
[]
[]
[]
[]
["STOCK DE INSUMOS  ADMINISTRATIVOS"]
[]
[]
["INSUMOS DE CADA STOCK"]
["DESCRIPCIÓN","NÚMERO","OBSERVACIONES"]
[]
["CALCULADORA",1,"Este items se sustituye si cuenta con la computadora "]
["GRAPADORA ",1]
["PERFORADORA",1]
["SACAGRAPAS",1]

{"sheet":"EQ_02","index":11,"n_rows":19,"n_cols":2,"rows_kept":19,"cut":false,"hidden":false,"merged":[[5,0,5,1],[9,0,9,1],[16,0,17,1],[18,0,18,1]]}
[]
[]
[]
[]
[]
["EQUIPO DE COMPUTACIÓN"]
[]
[]
[]
["ELEMENTOS DE CADA EQUIPO"]
["DESCRIPCION","NUMERO"]
[]
["*CPU",1]
["*MONITOR",1]
["TECLADO Y MOUSE",1]
["**IMPRESORA","condición"]
["* Monitor con CPU incorporado sustituye a Items anteriores"]
[]
["** La impresora es una Condición si se encuentra compartida en red y se solicitará solo en los ambientes administrativos y en el Servicio de Farmacia"]

{"sheet":"EQ_03","index":12,"n_rows":12,"n_cols":4,"rows_kept":12,"cut":false,"hidden":false,"merged":[[5,1,5,3],[7,1,7,3]]}
[]
[]
[]
[]
[]
[null,"SISTEMA AUDIOVISUAL DE INFORMACION"]
[]
[null,"ELEMENTOS DE CADA UNO DE LOS EQUIPOS"]
[null,"DESCRIPCION","NUMERO","OBSERVACIONES"]
[]
[null,"PANTALLA DE TV",1]
[null,"DVD","CONDICIÓN","SE SUSTITUYE CUANDO TIENE INCORPORADO WIFI, EN RED (INTERNET) "]

{"sheet":"EQ_04","index":13,"n_rows":20,"n_cols":3,"rows_kept":20,"cut":false,"hidden":false,"merged":[[5,1,5,2],[7,1,7,2]]}
[]
[]
[]
[]
[]
[null,"CONJUNTO DE PAQUETES DE MENAJE DE CAMA "]
[]
[null,"ELEMENTOS DE CADA PAQUETE DE MENAJE"]
[null,"DESCRIPCION","CANTIDAD"]
[]
[null,"COBERTOR","CN"]
[null,"*FRAZADAS","CONDICIÓN"]
[null,"SOBRE SABANA","CN"]
[null,"MEDIA SABANA","CN"]
[null,"SABANA","CN"]
[null,"FUNDAS","CN"]
[null,"FUNDA DE ALMOHADA","CN"]
[]
[null,"CN: CANTIDAD NECESARIA"]
[null,"*  REGION COSTA Y ORIENTE"]

{"sheet":"EQ_05","index":14,"n_rows":17,"n_cols":3,"rows_kept":17,"cut":false,"hidden":false,"merged":[[5,1,5,3],[7,1,7,2]]}
[]
[]
[]
[]
[]
[null,"STOCK DE INSUMOS DE ASEO"]
[]
[null,"INSUMOS DE CADA STOCK"]
[null,"DESCRIPCION","NUMERO"]
[]
[null,"ESCOBAS","CN"]
[null,"TRAPEADORES","CN"]
[null,"LIMPIONES","CN"]
[null,"CEPILLOS ","CN"]
[null,"DETERGENTE/JABON","CN"]
[null,"DESINFECTANTES","CN"]
[null,"CN: CANTIDAD NECESARIA"]

{"sheet":"EQ_07","index":15,"n_rows":15,"n_cols":3,"rows_kept":15,"cut":false,"hidden":false,"merged":[[6,1,6,2],[18,1,18,2],[4,1,4,2],[14,1,14,2]]}
[]
[]
[]
[]
[null,"SET PARA MANEJO DE DESECHOS PELIGROSOS Y NO PELIGROSOS"]
[]
[null,"ELEMENTOS DE CADA SET"]
[null,"DESCRIPCION","NÚMERO"]
[]
[null,"RECIPIENTE PARA DESECHOS PELIGROSOS  INFECCIOSOS","CN"]
[null,"RECIPIENTE PARA DESECHOS PELIGROSOS (QUÍMICOS/FARMACÉUTICOS/RADIACTIVOS) DEPENDERÁ DEL ÁREA FUNCIONAL QUE GESTIONE ESTE TIPO DE RESIDUOS","CONDICIÓN"]
[null,"RECIPIENTE PARA DESECHOS NO PELIGROSOS - COMUNES",1]
[null,"RECIPIENTE PARA DESECHOS PELIGROSOS - CORTOPUNZANTES ","CONDICIÓN"]
[null,"CN: Cantidad Necesaria"]
[null,"LA CANTIDAD, TIPO Y CARACTERISTICAS DEPENDEN DE LO ESTABLECIDO EN EL  REGLAMENTO INTERMINISTERIAL DE GESTION INTEGRAL DE DESECHOS SANITARIOS N° 00005186 "]

{"sheet":"EQ_08","index":16,"n_rows":21,"n_cols":3,"rows_kept":21,"cut":false,"hidden":false,"merged":[[4,1,4,2],[6,1,6,2]]}
[]
[]
[]
[]
[null,"INSTRUMENTAL DE COCHE DE CURACIONES"]
[]
[null,"INSTRUMENTAL DE CADA MESA"]
[null,"DESCRIPCION","NUMERO"]
[]
[null,"FRASCOS DE ANTISEPTICOS IDENTIFICADOS Y ROTULADOS",3]
[null,"PORTA TERMOMETROS",1]
[null,"SEMILUNAS",1]
[null,"TAMBOR PARA GASA ",1]
[null,"TERMOMETROS","CN"]
[null,"TORUNDERO",1]
[]
[]
[]
[]
[]
[null,"CN: CANTIDAD NECESARIA"]

{"sheet":"EQ_09","index":17,"n_rows":60,"n_cols":9,"rows_kept":60,"cut":false,"hidden":false,"merged":[[42,1,42,2],[43,1,43,8],[44,1,44,8],[5,1,5,2],[7,1,7,2],[9,1,9,2],[11,1,11,2]]}
[]
[]
[]
[]
[]
[null,"SE SOLICITARÁ EL REGISTRO DE LOS DISPOSITIVOS MEDICOS Y MEDICAMENTOS DE ACUERDO A LA GESTION DEL ÁREA FUNCIONAL DE ASISTENCIAL Y SEGÚN PERFIL EPIDEMIOLOGICO DEL ESTABLECIMIENTO DE SALUD "]
[]
[null,"COCHE DE PARO Y REANIMACIÓN ADULTO, PEDIATRICO Y NEONATAL"]
[]
[null,"ESPECIFICACIONES PARA CADA COCHE DE PARO"]
[null,"DESCRIPCION","NUMERO"]
[null,"VIA RESPIRATORIA"]
[null,"Kit =BOLSA DE REANIMACIÓN  ADULTOS,PEDIATRICO Y NEONATAL CON JUEGO DE MASCARILLAS",1]
[null,"SET LARINGOSCOPIO HOJAS RECTAS PEDIÁTRICO Y NEONATAL",1]
[null,"SET LARINGOSCOPIO HOJAS CURVAS ADULTO Y PEDIÁTRICO",1]
[null," JUEGO CANULAS DE GUEDEL 20  HASTA 60  PEDIATRICO",1]
[null,"JUEGO CANULAS DE GUEDEL 60 HASTA 120 ADULTO",1]
[null,"TUBOS ENDOTRAQUEALES 2.0 HASTA 4.0 SIN BAG NEONATAL","3 DE CADA NUMERO"]
[null,"TUBOS ENDOTRAQUEALES  4.0 HASTA 6.5 CON BAG PEDIATRICO","3 DE CADA NUMERO"]
[null,"TUBOS ENDOTRAQUEALES  5.0 HASTA 8.5 CON BAG ADULTO","3 DE CADA NUMERO"]
[null,"FIJADORES DE TUBO ENDOTRAQUEAL NEO,PEDIA Y ADULTO",3]
[null,"TUBO TORACICO 14 HASTA EL 32  ADULTO Y PEDIATRICO ","2 DE CADA NUMERO"]
[null,"JUEGO MASCARILLA LARINGEA PEDIATRICO Y ADULTO NO DESCARTABLE",2]
[null,"JUEGO CONDUCTORES DE VÍA AEREA/GUIAS DE ENTUBACIÓN 6,8 HASTA 12 PEDIATRICO / ADULTO 12 Y 14",1]
[null,"SONDAS DE SUCCIÓN PEDIATRICAS Y ADULTOS 8 HASTA 16","3 DE CADA NUMERO"]
[null,"SONDAS DE SUCCIÓN NEONATOLOGIA 4,5,6,7,8","3 DE CADA NUMERO"]
[null,"CATETER INTRAVENOSO PERIFERICO(CATLON) 14 A 16  ACCESO VASCULAR ","2 POR CADA COCHE"]
[null,"SONDAS NASOGASTRICAS 4 HASTA 10 NEONATOLOGIA","3 DE CADA NUMERO"]
[null,"SONDAS NASOGASTRICAS ADULTO Y PEDIATRICO DESDE LA 10 HASTA LA 20","3 DE CADA NUMERO"]
[null,"CATETER INTRAVENOSO PERIFERICO(CATLON) 18,20,22,24 ADULTOS Y PEDIATRICO","5 DE CADA NUMERO"]
[null,"CATETER INTRAVENOSO PERIFERICO(CATLON) 18,20,22,24, 26 Y 28NEONATOLOGIA","5 DE CADA NUMERO"]
[null,"AGUJAS INTRAOSEAS CANTIDAD 2","DESEABLE"]
[null,"PERILLA DE SUCCIÓN PARA NEONATOLOGIA",1]
[null,"TRAMPA DE LEE PARA NEONATOLOGIA",1]
[null,"JERINGUILLAS 1,3,5,10CC","5 DE CADA NUMERO"]
[null,"LLAVES DE TRES VIAS",2]
[null,"GUANTES ESTERILES 6,6.5,7.5,8.5","5 DE CADA NUMERO"]
[null,"CAJA GUANTES DE MANEJO ",1]
[null,"ESPARADRAPO",1]
[null,"TIJERA LISTER/BOTON(ANGULADA) PARA CORTAR LA ROPA",1]
[null,"EQUIPO DE PROTECCIÓN UNIVERSAL(BATA, GORRA, MASCARILLA  Y GAFAS)",1]
[null,"MEDICAMENTOS E INSUMOS NECESARIOS"]
[]
[null,"MEDICAMENTOS PARA COCHE DE PARO Y REANIMACIÓN POLIVALENTE"]
[]
[null,"ITEM","CODIGO ATC","DESCRIPCIÓN","FORMA FARMACÉUTICA","CONCENTRACIÓN","NIVEL DE ATENCIÓN","CANTIDAD (unidades)","NEONATOS/RECIEN NACIDOS-CANTIDAD (unidades)"]
[null,5,"A03BA01","Atropina","Líquido parenteral","1 mg/mL","I",5,"N/A"]
[null,6,"B05XA02","Bicarbonato de sodio","Líquido parenteral","1 mEq/mL (8,4%)","I",15,2]
[null,7,"A12AA03","Calcio gluconato","Líquido parenteral","10 %","I",2,2]
[null,9,"B05BA03","Carbohidratos (Dextrosa en agua)","Líquido parenteral",0.05,"I",1,1]
[null,10,"B05CB01","Cloruro de sodio","Líquido parenteral","0.9 %","I",1,1]
[null,11,"N05BA01","Diazepam","Líquido parenteral","5 mg/mL","I",10,"N/A"]
[null,12,"C01CA24","Epinefrina (adrenalina)","Líquido parenteral","1 mg/mL","I",10,4]
[null,14,"N03AA02","Fenobarbital","Líquido parenteral","60 mg/mL","I",5,2]
[null,15,"N01AH01","Fentanilo","Líquido parenteral","0,5 mg/10 mL",null,2,2]
[null,16,"V03AB25","Flumazenil","Líquido parenteral","0.1 mg/mL","I",2,"N/A"]
[null,17,"N01BB02","Lidocaína (sin epinefrina)","Líquido parenteral *","2 %","I",1,"N/A"]
[null,18,"N01BB52","Lidocaína con epinefrina","Líquido parenteral *","2 % + 1:200.000","I",1,"N/A"]
[null,22,"V03AB15","Naloxona","Líquido parenteral","0.4 mg/mL","I",2,2]
[null,25,"B05XA05","Sulfato de magnesio","Líquido parenteral",0.2,"I",24,"N/A"]

{"sheet":"EQ_10","index":18,"n_rows":14,"n_cols":3,"rows_kept":14,"cut":false,"hidden":false,"merged":[[17,1,17,2],[18,1,18,2],[24,1,24,2],[19,1,19,2],[20,1,20,2],[21,1,21,2],[22,1,22,2],[23,1,23,2],[5,1,5,3],[7,1,7,2],[14,1,14,2],[15,1,15,2],[16,1,16,2]]}
[]
[]
[]
[]
[]
[null,"SET DE DIAGNOSTICO "]
[]
[null,"ESPECIFICACIONES DE CADA EQUIPO"]
[null,"DESCRIPCION","NUMERO"]
[]
[null,"ESPEJO LARINGEO",1]
[null,"OFTALMOSCOPIO",1]
[null,"OTOSCOPIO",1]
[null,"ESTUCHE ","CONDICIÓN"]

{"sheet":"EQ_13","index":19,"n_rows":26,"n_cols":3,"rows_kept":26,"cut":false,"hidden":false,"merged":[[16,0,18,0],[19,0,23,0],[4,0,4,2],[5,0,5,2],[8,0,10,0],[11,0,15,0]]}
[]
[]
[]
[]
["Set para Talleres de Psicoterapia"]
["El Servicio puede brindar una o varios en los talleres de las modalidades indicadas"]
[]
["Talleres","Equipamiento","Cantidad"]
["Musico-terapia (Espacios de expresión musical) ","Instrumentos de viento","CN"]
[null,"Instrumentos de percusión","CN"]
[null,"Instrumentos de cuerdas","CN"]
["Talleres artes plásticas (Espacios de expresión plástica)","Instrumentos para pintura artistica","CN"]
[null,"Instrumentos en arcilla","CN"]
[null,"Juego de mesa( Monopolio, Domino, Ajedrez, Damas Chinas, Jenga, Bingo y Cartas) ","CN"]
[null,"Balones de básket, futbol y voley ball","CN"]
[null,"Mesa de ping pong ","Condición"]
["Talleres expresivos(Espacio de expresión corporal, movimientos corporales y danza)","Colchoneta individualizada","CN"]
[null,"Cuerdas de saltar de mango de madera","CN"]
[null,"Cámara de fotos","CN"]
["Talleres de Repostería y Cocina","Batidora","Condición"]
[null,"Horno/Microondas","Requerido"]
[null,"Cocina","Requerido"]
[null,"Licuadora","Requerido"]
[null,"Menaje de cocina","Requerido"]
[]
["CN: Cantidad Necesaria"]

{"sheet":"EG-01","index":20,"n_rows":52,"n_cols":6,"rows_kept":52,"cut":false,"hidden":false,"merged":[[4,1,4,5],[5,1,5,5],[7,4,7,5],[18,1,18,5],[46,4,46,5],[20,4,20,5],[29,1,29,5],[31,4,31,5],[43,1,43,5],[44,1,44,5]]}
[]
[]
[]
[]
[null,"ESTRUCTURA GENERAL"]
[null,"Areas generales no especializadas ( oficinas, salas de espera,reuniones, consultorios - area de entrevistas)"]
[]
[null,"ESTRUCTURA","MATERIALES","ACABADOS","REVISION"]
[null,null,"ESTRUCTURA GENERAL",null,"PUNTOS CRITICOS","PUNTOS NO CRITICOS"]
[null,"PISOS\n","RESISTENTE A TRÁFICO COMERCIAL. \nEjemplo: PLACAS DE PIEDRA NATURAL PULIDA (GRANITO, MARMOL), PORCELANATO, CERÁMICA,  GRANO DE MARMOL FUNDIDO Y PULIDO (MARMETON), PISOS DE MADERA DURA PULIDOS Y LACADOS (TABLON, DUELA, PARQUET, PISO FLOTANTE, ETC), PISO FLOTANTE, VINYL.\n","SUPERFICIES CON TEXTURA UNIFORME, LISA,DE FACIL LIMPIEZA. \n","DEFORMACIONES EVIDENTES, AFLOJAMIENTOS, FALTANTES\nCONTAMINACION EVIDENTE POR HONGOS O SUCIEDAD ACUMULADA.\n","AFLOJAMIENTOS, GRIETAS, EROSIONES MENORES POR DESGASTE DE CIRCULACIÓN\n\n"]
[null,"PAREDES","RESISTENTES, ADECUADOS Y SEGUROS PARA LIMITAR UN AMBIENTE.\nEjemplo: MAMPOSTERIAS VISTAS SELLADAS, MAMPOSTERIAS ENLUCIDAS Y ESTUCADAS, SELLADAS Y PINTADAS. TABLEROS PREFABRICADOS (MADERA AGLOMERADA-CARTON/YESO) EN  SISTEMAS MODULARES CON ESTRUCTURA VISTA/OCULTA, SISTEMAS DE PUNTO FIJO Y VIDRIO TEMPLADO.      ","SUPERFICIES CON TEXTURA UNIFORME, LISA, IMPERMEABLE, DE FACIL LIMPIEZA Y LAVABLE. ","DEFORMACIONES ESTRUCTURALES EVIDENTES, GRIETAS ESTRUCTURALES, CUARTEAMIENTOS, GRANDES DESPRENDIMIENTOS DE RECUBRIMIENTOS.\nHUMEDAD RECURRENTE CON DETERIORO DE PARED Y/O PISO, CONTAMINACION  EVIDENTE POR HONGOS O SUCIEDAD ACUMULADA.","DEFORMACIONES SUPERFICIALES, GRIETAS Y/O CUARTEAMIENTOS NO ESTRUCTURALES, DESPRENDIMIENTOS LIGEROS DE ESTUCADOS.\nHUMEDAD OCASIONAL."]
[null,"CIELOS RASOS","ADECUADOS, SEGUROS Y RESISTENTES. \nTIPO CONTINUO (ENLUCIDOS, CARTON/YESO- GYPSUM BOARD CON ESTRUCTURA METALICA OCULTA) \nTIPO DESMONTABLE  RETICULADO  (ESTRUCTURA METÁLICA VISTA CON PANELES DE FIBRA MINERAL, YESO, ACERO PINTADO O INOXIDABLE).","TEXTURA UNIFORME, COLOR CLARO, PREFERENTEMENTE BLANCO (PINTURA O COLOR NATURAL EN CASO DE ACERO INOXIDABLE O ALUMINIO ANODIZADO).\n\n ","DEFORMACIONES  ESTRUCTURALES EVIDENTES, GRIETAS Y CUARTEAMIENTOS ESTRUCTURALES, DESPRENDIMIENTOS MAYORES, HUMEDAD RECURRENTE, POR  FILTRACIONES Y GOTERAS, CON DETERIORO DE LOS MATERIALES DEL CIELO FALSO. CONTAMINACION  EVIDENTE POR HONGOS O SUCIEDAD ACUMULADA.\n","DEFORMACIONES MENORES, GRIETAS Y CUARTEAMIENTOS NO ESTRUCTURALES, DESPRENDIMIENTOS MENORES, HUMEDAD OCASIONAL, SUCIEDAD SUPERFICIAL. \n"]
[null,"PUERTAS Y VENTANAS","MARCOS DE PUERTAS: MADERA SÓLIDA O PERFILES METÁLICOS.\nHOJA DE PUERTA: MADERA SÓLIDA O TABLEROS DE PARTÍCULAS DE MADERA. VIDRIO DE SEGURIDAD TEMPLADO/LAMINADO, PANELES DE ALUMINIO.\nVENTANAS\nESTRUCTURA: PERFILES DE ALUMINIO/PVC/ACERO INOXIDABLE. \nVIDRIO CON ESPESORES ADECUADOS SEGÚN DISEÑO. \nHERRAJES ADECUADOS A LA FUNCIÓN.","TEXTURA UNIFORME, LISA, IMPERMEABLE, LAVABLE. \n","DEFORMACIONES ESTRUCTURALES EVIDENTES, FISURAS Y ROTURAS ESTRUCTURALES, AUSENCIA PARCIAL O TOTAL, FALLAS ESTRUCTURALES DE FUNCIONAMIENTO EN ACCESORIOS (BISAGRAS, CERRADURAS, SISTEMAS DE CIERRE). CONTAMINACION  EVIDENTE POR HONGOS O SUCIEDAD ACUMULADA.\n \n","PROBLEMAS NO ESTRUCTURALES: DEFORMACIONES LIGERAS, FISURAS, TRIZAMIENTOS, ROTURAS, FALTANTES. CONTAMINACION OCASIONAL \n"]
[]
[]
[]
[]
[]
[null,"Áreas generales  de cuartos de baño y baterias sanitarias \nDeben contar con suficiente ventilación natural (ventanas) o artificial (sistema de extracción mecánica de aire).  "]
[]
[null,"ESTRUCTURA","MATERIALES","ACABADOS","REVISION"]
[null,null,"USO GENERAL",null,"PUNTOS CRITICOS","PUNTOS NO CRITICOS"]
[null,"PISOS\nCon pendientes o caidas adecuadas para un desalojo de agua completo y rápido. ","RESISTENTE A TRÁFICO COMERCIAL. \nEjemplo: PORCELANATO, CERÁMICA,  GRANO DE MARMOL FUNDIDO Y PULIDO (MARMETON), VINYL.\n","SUPERFICIES CON TEXTURA UNIFORME, LISA,LAVABLE Y DE FACIL LIMPIEZA. \nSUMIDEROS SUFICIENTES Y ADECUADOS.","DEFORMACIONES EVIDENTES, AFLOJAMIENTOS, FALTANTES\nCONTAMINACION EVIDENTE POR HONGOS O SUCIEDAD ACUMULADA.\n","AFLOJAMIENTOS, GRIETAS, EROSIONES MENORES POR DESGASTE DE CIRCULACIÓN\n\n"]
[null,"PAREDES","RESISTENTES, ADECUADOS Y SEGUROS PARA LIMITAR UN AMBIENTE.\nEjemplo: MAMPOSTERIAS CON RECUBRIMIENTO DE  CERÁMICA, PORCELANATO, VINYL HASTA UNA ALTURA MÍNIMA DE 1,00 m, EL RESTO DE ALTURA  PUEDE SER ESTUCADA, SELLADA Y PINTADA.  ","SUPERFICIES CON TEXTURA UNIFORME, LISA, IMPERMEABLE, DE FACIL LIMPIEZA Y LAVABLE. ","DEFORMACIONES ESTRUCTURALES EVIDENTES, GRIETAS ESTRUCTURALES, CUARTEAMIENTOS, GRANDES DESPRENDIMIENTOS DE RECUBRIMIENTOS.\nHUMEDAD RECURRENTE CON DETERIORO DE PARED Y/O PISO, CONTAMINACION  EVIDENTE POR HONGOS O SUCIEDAD ACUMULADA.","DEFORMACIONES SUPERFICIALES, GRIETAS Y/O CUARTEAMIENTOS NO ESTRUCTURALES, DESPRENDIMIENTOS LIGEROS DE ESTUCADOS.\nHUMEDAD OCASIONAL."]
[null,"CIELOS RASOS","ADECUADOS, SEGUROS Y RESISTENTES. \nTIPO CONTINUO (ENLUCIDOS, CARTON/YESO- GYPSUM BOARD CON ESTRUCTURA METALICA OCULTA).\nTIPO DESMONTABLE  RETICULADO  (ESTRUCTURA METÁLICA VISTA CON PANELES DE FIBRA MINERAL, YESO, ACERO PINTADO O INOXIDABLE).","TEXTURA UNIFORME, COLOR CLARO, PREFERENTEMENTE BLANCO (PINTURA O COLOR NATURAL EN CASO DE ACERO INOXIDABLE O ALUMINIO ANODIZADO).\n\n ","DEFORMACIONES  ESTRUCTURALES EVIDENTES, GRIETAS Y CUARTEAMIENTOS ESTRUCTURALES, DESPRENDIMIENTOS MAYORES, HUMEDAD RECURRENTE, POR  FILTRACIONES Y GOTERAS, CON DETERIORO DE LOS MATERIALES DEL CIELO FALSO. CONTAMINACION  EVIDENTE POR HONGOS O SUCIEDAD ACUMULADA.\n","DEFORMACIONES MENORES, GRIETAS Y CUARTEAMIENTOS NO ESTRUCTURALES, DESPRENDIMIENTOS MENORES, HUMEDAD OCASIONAL, SUCIEDAD SUPERFICIAL. \n"]
[null,"PUERTAS Y VENTANAS\nIluminación y ventilación debe cumplir con normativa de arquitectura según los espacios.","MARCOS DE PUERTAS: MADERA SÓLIDA O PERFILES METÁLICOS.\nHOJA DE PUERTA: MADERA SÓLIDA O TABLEROS DE PARTÍCULAS DE MADERA. VIDRIO DE SEGURIDAD TEMPLADO/LAMINADO, PANELES DE ACERO Y/O ALUMINIO.\nVENTANAS\nESTRUCTURA: PERFILES DE ALUMINIO/PVC/ACERO INOXIDABLE. \nVIDRIO CON ESPESORES ADECUADOS SEGÚN DISEÑO. \nHERRAJES ADECUADOS A LA FUNCIÓN.","TEXTURA UNIFORME, LISA, IMPERMEABLE Y DE FACIL LIMPIEZA","DEFORMACIONES ESTRUCTURALES EVIDENTES, FISURAS Y ROTURAS ESTRUCTURALES, AUSENCIA PARCIAL O TOTAL, FALLAS ESTRUCTURALES DE FUNCIONAMIENTO EN ACCESORIOS (BISAGRAS, CERRADURAS, SISTEMAS DE CIERRE). CONTAMINACION  EVIDENTE POR HONGOS O SUCIEDAD ACUMULADA.\n \n","PROBLEMAS NO ESTRUCTURALES: DEFORMACIONES LIGERAS, FISURAS, TRIZADURAS, ROTURAS, FALTANTES. CONTAMINACION OCASIONAL \n"]
[null,"PIEZAS SANITARIAS","PORCELANA ESMALTADA/ACERO INOXIDABLE\nGRIFERIA\nBRONCE/ACERO INOXIDABLE/CROMADO","SUPERFICIES CON TEXTURA UNIFORME, LISA, IMPERMEABLE, LAVABLE. \nCOLORES CLAROS, PREFERENTEMENTE BLANCO O NATURAL EN PIEZAS SANITARIAS.\nCOLORES METALICOS/ESMALTADOS EN GRIFERIA ","FALTANTES, DESPORTILLADOS MAYORES, FISURAS ESTRUCTURALES, EROSIONES,\nCONTAMINACION EVIDENTE POR HONGOS O SUCIEDAD ACUMULADA.","SEDIMENTOS, RAYONES, EROSIONES MENORES DEBIDO A DEPOSITOS CALCÁREOS,\n"]
[]
[]
[null,"Areas especializadas ( Laboratorios, esterilización, salas de procedimientos, Áreas de atención médica )"]
[]
[null,"ESTRUCTURA","MATERIALES","ACABADOS","REVISION"]
[null,null,"USO GENERAL",null,"PUNTOS CRITICOS","PUNTOS NO CRITICOS"]
[null,"PISOS\n","RESISTENTE A TRÁFICO COMERCIAL. \nEjemplo: PORCELANATO, CERÁMICA,  GRANO DE MARMOL FUNDIDO Y PULIDO (MARMETON), VINYL.\nPINTURA EPÓXICA\n","SUPERFICIES CON TEXTURA UNIFORME, LISA,LAVABLE Y DE FACIL LIMPIEZA. \nSUMIDEROS SUFICIENTES Y ADECUADOS.","DEFORMACIONES EVIDENTES, AFLOJAMIENTOS, FALTANTES\nCONTAMINACION EVIDENTE POR HONGOS O SUCIEDAD ACUMULADA.\n","AFLOJAMIENTOS, GRIETAS, EROSIONES MENORES POR DESGASTE DE CIRCULACIÓN\n\n"]
[null,"PAREDES","RESISTENTES, ADECUADOS Y SEGUROS PARA LIMITAR UN AMBIENTE.\nEjemplo: MAMPOSTERIAS CON RECUBRIMIENTO DE  CERÁMICA, PORCELANATO, VINYL HASTA UNA ALTURA MÍNIMA DE 1,20 m, EL RESTO DE ALTURA  PUEDE SER ESTUCADA, SELLADA Y PINTADA.  \nSISTEMAS LIVIANOS PREFABRICADOS  CON TABLEROS SELLADOS CONTRA HUMEDAD.  (MADERA AGLOMERADA-CARTON-YESO)CON ESTRUCTURA VISTA/OCULTA, SISTEMAS DE PUNTO FIJO Y VIDRIO TEMPLADO.","SUPERFICIES CON TEXTURA UNIFORME, LISA, IMPERMEABLE, DE FACIL LIMPIEZA Y LAVABLE. ","DEFORMACIONES ESTRUCTURALES EVIDENTES, GRIETAS ESTRUCTURALES, CUARTEAMIENTOS, GRANDES DESPRENDIMIENTOS DE RECUBRIMIENTOS.\nHUMEDAD RECURRENTE CON DETERIORO DE PARED Y/O PISO, CONTAMINACION  EVIDENTE POR HONGOS O SUCIEDAD ACUMULADA.","DEFORMACIONES SUPERFICIALES, GRIETAS Y/O CUARTEAMIENTOS NO ESTRUCTURALES, DESPRENDIMIENTOS LIGEROS DE ESTUCADOS.\nHUMEDAD OCASIONAL QUE NO PRESENTE HONGOS O SALES MINERALES."]
[null,"CIELOS RASOS","ADECUADOS, SEGUROS Y RESISTENTES. \nTIPO CONTINUO (ENLUCIDOS, CARTON/YESO- GYPSUM BOARD CON ESTRUCTURA METALICA OCULTA).\nTIPO DESMONTABLE  RETICULADO  (ESTRUCTURA METÁLICA VISTA CON PANELES DE FIBRA MINERAL, YESO, ACERO PINTADO O INOXIDABLE).","TEXTURA UNIFORME, COLOR CLARO, PREFERENTEMENTE BLANCO (PINTURA O COLOR NATURAL EN CASO DE ACERO INOXIDABLE O ALUMINIO ANODIZADO).\n\nEN ÁREAS HÚMEDAS DEBE ASEGURARSE ADEMÁS LAS CONDICIONES DE LAVABLE E IMPERMEABLE.\n ","DEFORMACIONES  ESTRUCTURALES EVIDENTES, GRIETAS Y CUARTEAMIENTOS ESTRUCTURALES, DESPRENDIMIENTOS MAYORES, HUMEDAD RECURRENTE, POR  FILTRACIONES Y GOTERAS, CON DETERIORO DE LOS MATERIALES DEL CIELO FALSO. CONTAMINACION  EVIDENTE POR HONGOS O SUCIEDAD ACUMULADA.\n","DEFORMACIONES MENORES, GRIETAS Y CUARTEAMIENTOS NO ESTRUCTURALES, DESPRENDIMIENTOS MENORES, HUMEDAD OCASIONAL, SUCIEDAD SUPERFICIAL. \n"]
[null,"PUERTAS Y VENTANAS\nIluminación y ventilación debe cumplir con normativa de arquitectura según los espacios.","MARCOS DE PUERTAS: MADERA SÓLIDA O PERFILES METÁLICOS.\nHOJA DE PUERTA: MADERA SÓLIDA O TABLEROS DE PARTÍCULAS DE MADERA. VIDRIO DE SEGURIDAD TEMPLADO/LAMINADO, PANELES DE ACERO Y/O ALUMINIO.\nVENTANAS\nESTRUCTURA: PERFILES DE ALUMINIO/PVC/ACERO INOXIDABLE. \nVIDRIO CON ESPESORES ADECUADOS SEGÚN DISEÑO. \nHERRAJES ADECUADOS A LA FUNCIÓN.","TEXTURA UNIFORME, LISA, IMPERMEABLE Y DE FACIL LIMPIEZA","DEFORMACIONES ESTRUCTURALES EVIDENTES, FISURAS Y ROTURAS ESTRUCTURALES, AUSENCIA PARCIAL O TOTAL, FALLAS ESTRUCTURALES DE FUNCIONAMIENTO EN ACCESORIOS (BISAGRAS, CERRADURAS, SISTEMAS DE CIERRE). CONTAMINACION  EVIDENTE POR HONGOS O SUCIEDAD ACUMULADA.\n \n","PROBLEMAS NO ESTRUCTURALES: DEFORMACIONES LIGERAS, FISURAS, TRIZADURAS, ROTURAS, FALTANTES. CONTAMINACION OCASIONAL \n"]
[]
[]
[]
[]
[]
[]
[null,"ESTRUCTURA GENERAL"]
[null,"Areas de servicios generales ( Bodegas, Almacenamiento intermedio y final de desechos)"]
[null,null,null,null,null," "]
[null,"ESTRUCTURA","MATERIALES","ACABADOS","REVISION"]
[null,null,"USO GENERAL",null,"PUNTOS CRITICOS","PUNTOS NO CRITICOS"]
[null,"PISOS\n","RESISTENTE A TRÁFICO COMERCIAL. \nEjemplo: MASILLADO PULIDO CON ENDURECEDOR, RECUBRIMIENTO EPÓXICO, PORCELANATO, VINYL. ","TEXTURA UNIFORME, LISA, IMPERMEABLE, LAVABLE. \nDETALLE DE CONTINUIDAD DE SUPERFICIE PISO - PARED, TIPO CURVA SANITARIA, DESEABLE EN TODOS LOS AMBIENTES, OBLIGATORIO EN ÁREAS CRÍTICAS.","DEFORMACIONES EVIDENTES, AFLOJAMIENTOS, FALTANTES\nCONTAMINACION EVIDENTE POR HONGOS O SUCIEDAD ACUMULADA.\n","AFLOJAMIENTOS, GRIETAS, EROSIONES MENORES POR DESGASTE DE CIRCULACIÓN\n\n"]
[null,"PAREDES","ADECUADOS, SEGUROS Y RESISTENTES  PARA LIMITAR UN AMBIENTE.\nEjemplo: MAMPOSTERIAS VISTAS O ENLUCIDAS Y ESTUCADAS, SELLADAS Y/O PINTADAS, TABLEROS PREFABRICADOS (MADERA AGLOMERADA-CARTON-YESO) EN  SISTEMAS MODULARES CON ESTRUCTURA VISTA/OCULTA.","TEXTURA UNIFORME, LISA, IMPERMEABLE, DE FACIL LIMPIEZA.","DEFORMACIONES ESTRUCTURALES EVIDENTES, GRIETAS ESTRUCTURALES, CUARTEAMIENTOS, GRANDES DESPRENDIMIENTOS DE RECUBRIMIENTOS.\nHUMEDAD RECURRENTE CON DETERIORO DE PARED Y/O PISO, CONTAMINACION  EVIDENTE POR HONGOS O SUCIEDAD ACUMULADA.","DEFORMACIONES SUPERFICIALES, GRIETAS Y/O CUARTEAMIENTOS NO ESTRUCTURALES, DESPRENDIMIENTOS LIGEROS DE ESTUCADOS.\nHUMEDAD OCASIONAL QUE NO PRESENTE HONGOS O SALES MINERALES."]
[null,"CIELOS RASOS","ADECUADOS, SEGUROS Y RESISTENTES. \nCONTINUOS (ENLUCIDOS, CARTON YESO- GYPSUM BOARD CON ESTRUCTURA METALICA OCULTA) O DESMONTABLES  RETICULADOS  (ESTRUCTURA METÁLICA VISTA CON PANELES DE FIBRA MINERAL, YESO, ACERO PINTADO O INOXIDABLE).SI NO HAY CIELOS RASOS LOS AMBIENTES DE BODEGAS DEBEN TENER CONDICIONES PARA EVITAR LA ENTRADA DE POLVO Y VECTORES ANIMALES, ADEMAS DE ASEGURAR CONDICIONES DE TEMPERATURA Y HUMEDAD ADECUADAS. LOS ALMACENAMIENTOS FINALES DE DESECHOS NO TIENEN CIELO RASO","TEXTURA UNIFORME, COLOR CLARO, PREFERENTEMENTE BLANCO (PINTURA O COLORA NATURAL EN CASO DE ACERO INOXIDABLE O ALUMINIO ANODIZADO).\n\n ","DEFORMACIONES  ESTRUCTURALES EVIDENTES, GRIETAS Y CUARTEAMIENTOS ESTRUCTURALES, DESPRENDIMIENTOS MAYORES, HUMEDAD RECURRENTE, POR  FILTRACIONES Y GOTERAS, CON DETERIORO DE LOS MATERIALES DEL CIELO FALSO. CONTAMINACION  EVIDENTE POR HONGOS O SUCIEDAD ACUMULADA.\n","DEFORMACIONES MENORES, GRIETAS Y CUARTEAMIENTOS NO ESTRUCTURALES, DESPRENDIMIENTOS MENORES, HUMEDAD OCASIONAL, SUCIEDAD SUPERFICIAL. \n"]
[null,"PUERTAS Y VENTANAS","MARCOS DE PUERTAS: MADERA SÓLIDA O PERFILES METÁLICOS.\nHOJA DE PUERTA: MADERA SÓLIDA O TABLEROS DE PARTÍCULAS DE MADERA. VIDRIO DE SEGURIDAD TEMPLADO/LAMINADO.\nESTRUCTURA: PERFILES DE ALUMINIO/PVC/ACERO. \nVIDRIO DE SEGURIDAD TEMPLADO/LAMINADO. ESPESORES ADECUADOS SEGÚN DISEÑO. \nHERRAJES ADECUADOS A LA FUNCIÓN.","TEXTURA UNIFORME, LISA, IMPERMEABLE, LAVABLE. \n","DEFORMACIONES ESTRUCTURALES EVIDENTES, FISURAS Y ROTURAS ESTRUCTURALES, AUSENCIA PARCIAL O TOTAL, FALLAS ESTRUCTURALES DE FUNCIONAMIENTO EN ACCESORIOS (BISAGRAS, CERRADURAS, SISTEMAS DE CIERRE). CONTAMINACION  EVIDENTE POR HONGOS O SUCIEDAD ACUMULADA.\n \n","PROBLEMAS NO ESTRUCTURALES: DEFORMACIONES LIGERAS, FISURAS, TRIZADURAS, ROTURAS, FALTANTES. CONTAMINACION OCASIONAL \n"]

{"sheet":"IG-01","index":21,"n_rows":18,"n_cols":5,"rows_kept":18,"cut":false,"hidden":false,"merged":[[5,0,5,4],[7,3,7,4],[9,0,10,0],[9,1,10,1]]}
[]
[]
[]
[]
[]
["INSTALACIONES GENERALES ( ANEXO Nº IG_01)"]
[]
["INSTALACIONES","MATERIALES","ACABADOS","REVISION"]
[null,"ESTRUCTURA GENERAL","ACCESORIOS FINALES","PUNTOS CRITICOS","PUNTOS NO CRITICOS"]
["ELECTRICAS \n(ILUMINACIÓN Y FUERZA)\n CIRCUITOS DIFERENCIADOS PROTEGIDOS CON INTERRUPTORES TERMOMAGNÉTICOS COLOCADOS EN LOS TABLEROS CORRESPONDIENTES Y ROTULADOS E IDENTIFICADOS CLARAMENTE    ","CONDUCTORES DE COBRE CON RECUBRIMIENTO TERMOPLÁSTICO RESISTENTE\nCALIBRE No.14 PARA ILUMINACION \nCALIBRE No.14- 12 - 10 PARA FUERZA (TOMACORRIENTES)\n\n","LAMPARAS FIJAS O SUSPENDIDAS\nALTURA DE INTERRUPTORES hmin= 1,20 cm\n","LUMINARIAS FALTANTES, QUEMADAS O DE DEFICIENTE FUNCIONAMIENTO.\n","AFLOJAMIENTO DE CONTACTOS\nCONTAMINACION POR ACUMULACION DE SUCIEDAD (POLVO-GRASAS)"]
[null,null,"PLACAS DE TOMACORRIENTES  EN PARED h= 40 cm/h=1,20 m (sobre mesón). \nEN PISO PARA CONEXION DIRECTA DEL SILLÓN. \n","PIEZAS FALTANTES / DAÑADAS POR CORTOCIRCUITOS, CABLES DESCUBIERTOS, \nAFLOJAMIENTO DE CONTACTOS\n"," ROTURAS DE PLACAS, CABLES DESCUBIERTOS, \nAFLOJAMIENTO DE CONTACTOS\nCONTAMINACION POR ACUMULACION DE SUCIEDAD (POLVO-GRASAS)"]
["HIDRAULICAS "," TUBERIA  PVC-HIERRO GALVANIZADO-ACERO INOXIDABLE","LLAVES METÁLICAS  DE CIERRE HERMÉTICO","FALTANTES","AFLOJAMIENTOS, FILTRACIONES,\nCONTAMINACION EVIDENTE POR HONGOS O SARRO"]
["SANITARIAS","TUBERÍA PVC","UNIONES SELLADAS","FALTANTES","REFLUJO, TAPONAMIENTOS\nCONTAMINACION  EVIDENTE POR HONGOS "]
["AIRE ACONDICIONADO/VENTILACION CENTRAL \n(si es que aplica)","DUCTOS METALICOS GALVANIZADOS O DE PVC ","UNIONES SELLADAS,  DUCTOS AISLADOS, ","FALTANTES, TAPONAMIENTOS DE DUCTOS O FILTROS, ROTURAS","DETERIORO POR HUMEDAD, CONTAMINACION EVIDENTE POR HONGOS\n"]
["AIRE ACONDICIONADO/VENTILACIÓN INDIVIDUAL PARA CADA LOCAL \n(si es que aplica)","DUCTOS METALICOS O DE PVC, DESAGUES","UNIONES SELLADAS","FALTANTES, TAPONAMIENTOS DE DUCTOS O FILTROS, ROTURAS","DETERIORO POR HUMEDAD, CONTAMINACION EVIDENTE POR HONGOS\n"]
["AGUA CALIENTE\nPUEDE SER PROVISTA POR SISTEMAS CENTRALIZADOS (CALDEROS) O LOCALIZADOS (CALEFONES-CALENTADORES) ELÉCTRICOS, SOLARES, A GAS, DIESEL,  (Si es que aplica) ","TUBERIAS METALICAS/PVC DE PRESIÓN","UNIONES  SOLDADAS/SELLADAS","FALTANTES, FUGAS","AFLOJAMIENTOS, FILTRACIONES,\nCONTAMINACION DE LOS SISTEMAS DE TUBERÍAS Y LOS ACCESORIOS"]
["REDES DE COMUNICACIÓN (CONEXIONES TELEFÓNICAS E INTERNET)","CABLEADO MULTIPAR, ACCESORIOS ESPECÍFICOS","PUNTOS DE SALIDA EN BUEN ESTADO Y ACCESORIOS ADECUADOS. PLACAS Y CONECTORES ESPECÍFICOS, ROUTERS Y/O MODEMS, SWITCHS TARJETAS CABLEADAS Y /O INALAMBRICAS","FALTANTES,  FUNCIONALIDAD Y ACCESO  EXISTENTE A INTERNET. ","DETERIORO DE PIEZAS "]
["UPS\n(Si es que existe)","EQUIPO ELECTRÓNICO UNIDAD DE PODER","DESEABLE PARA TODOS LOS EQUIPOS ELECTRÓNICOS SENSIBLES Y QUE NO PUEDEN DEJAR DE FUNCIONAR SÚBITAMENTE. SI EL FABRICANTE O LA NECESIDAD FUNCIONAL LO EXIGEN PASA A SER REQUERIDO.","CONEXIONES FLOJAS , CABLES  O UNIONES MAL EJECUTADAS Y SIN PROTECCIÓN (AISLANTE)","DETERIORO DE PIEZAS "]