{"text_format":"1","workbook":"xlsx","n_sheets":23,"sheets":["Base","BaseTalentoHumano","BaseNorma","Menu","Infraestructura","Equipamiento","Norma","TalentoHumano","Reportes1","Reportes","EG-01","IG-01","EQ_01","EQ_02","EQ_03","EQ_05","EQ_07","EQ_08","EQ_09","EQ_10","EQ_23","EQ_30","EQ_44"],"not_rendered":{"charts":0,"images":39,"macros":1,"external_links":0,"defined_names":19,"comments":4,"pivot_tables":0},"unopened":[],"bounds":{"document_bytes":16777216,"sheet_cells":100000,"rows_first":2000,"rows_last":500,"rows_between":2000,"halvings":0,"cell_chars":16384,"cell_head_chars":4096},"cells_cut":0,"cells_raw":0,"read":"whole","date_system":"1900"}

{"sheet":"Base","index":0,"n_rows":530,"n_cols":15,"rows_kept":530,"cut":false,"hidden":true,"merged":[[524,1,526,2],[524,3,524,4],[525,3,525,4],[526,3,526,4],[527,1,529,2],[527,3,527,4],[528,3,528,4],[529,3,529,4],[516,3,516,4],[517,3,517,4],[518,1,521,2],[518,3,518,4],[519,3,519,4],[520,3,520,4],[521,3,521,4],[522,1,523,2],[522,3,522,4],[523,3,523,4],[495,4,496,4],[495,5,496,5],[495,6,496,6],[495,7,496,7],[495,8,496,8],[495,9,496,9],[497,3,498,3],[499,2,503,2],[499,3,501,3],[502,3,503,3],[485,2,498,2],[485,3,496,3],[485,4,488,4],[485,5,488,5],[485,6,488,6],[485,7,488,7],[485,8,488,8],[485,9,488,9],[489,7,491,7],[489,8,491,8],[489,9,491,9],[492,4,494,4],[492,5,494,5],[492,6,494,6],[492,7,494,7],[492,8,494,8],[492,9,494,9],[489,4,491,4],[489,5,491,5],[489,6,491,6],[457,9,462,9],[463,3,464,3],[465,2,484,2],[465,3,482,3],[466,4,469,4],[466,5,469,5],[466,6,469,6],[466,7,469,7],[466,8,469,8],[466,9,469,9],[470,4,473,4],[470,5,473,5],[470,6,473,6],[470,7,473,7],[470,8,482,8],[470,9,473,9],[474,4,482,4],[474,5,482,5],[474,6,482,6],[474,7,482,7],[474,9,482,9],[483,3,484,3],[457,7,462,7],[457,8,462,8],[437,9,440,9],[441,4,449,4],[441,5,449,5],[441,6,449,6],[441,7,449,7],[441,9,449,9],[450,4,456,4],[450,5,456,5],[450,6,456,6],[450,7,456,7],[450,8,456,8],[450,9,456,9],[425,0,503,0],[425,1,503,1],[425,2,436,2],[425,3,434,3],[425,4,431,4],[425,5,431,5],[425,6,431,6],[425,7,431,7],[425,8,431,8],[432,4,434,4],[432,5,434,5],[432,6,434,6],[432,7,434,7],[432,8,434,8],[437,2,464,2],[437,3,462,3],[437,4,440,4],[437,5,440,5],[437,6,440,6],[437,7,440,7],[437,8,449,8],[457,4,462,4],[457,5,462,5],[457,6,462,6],[379,7,381,7],[379,8,381,8],[379,9,381,9],[382,4,387,4],[382,5,387,5],[382,6,387,6],[382,7,387,7],[382,8,387,8],[382,9,387,9],[372,0,424,0],[372,1,424,1],[372,2,424,2],[372,3,422,3],[372,4,378,4],[372,5,378,5],[372,6,378,6],[372,7,378,7],[388,4,393,4],[388,5,393,5],[388,6,393,6],[388,7,393,7],[394,4,400,4],[394,5,400,5],[394,6,400,6],[394,7,400,7],[401,4,407,4],[401,5,407,5],[401,6,407,6],[401,7,407,7],[408,4,413,4],[408,5,413,5],[408,6,413,6],[379,4,381,4],[351,3,352,3],[353,0,371,0],[353,1,371,1],[353,2,371,2],[353,3,369,3],[353,4,363,4],[353,5,363,5],[353,6,363,6],[353,7,363,7],[364,4,369,4],[364,5,369,5],[364,6,369,6],[364,7,369,7],[370,3,371,3],[338,4,341,4],[338,5,341,5],[338,6,341,6],[338,7,341,7],[338,8,341,8],[338,9,341,9],[344,3,350,3],[344,4,350,4],[344,5,350,5],[344,6,350,6],[344,7,350,7],[344,8,350,8],[344,9,350,9],[327,4,331,4],[327,5,331,5],[327,6,331,6],[327,7,331,7],[327,8,331,8],[327,9,331,9],[332,5,337,5],[332,6,337,6],[332,7,337,7],[332,8,337,8],[332,9,337,9],[253,8,266,8],[253,9,266,9],[263,14,266,14],[267,4,271,4],[267,5,271,5],[267,6,271,6],[267,7,271,7],[267,8,271,8],[267,9,271,9],[236,8,242,8],[236,9,242,9],[243,4,250,4],[243,5,250,5],[243,6,250,6],[243,7,250,7],[243,8,250,8],[243,9,250,9],[247,14,249,14],[234,3,235,3],[236,0,352,0],[236,1,352,1],[236,2,252,2],[236,3,250,3],[236,4,242,4],[236,5,242,5],[236,6,242,6],[236,7,242,7],[253,2,324,2],[253,3,322,3],[253,4,266,4],[253,5,266,5],[253,6,266,6],[253,7,266,7],[278,4,287,4],[278,5,287,5],[278,6,287,6],[278,7,287,7],[288,4,300,4],[288,5,300,5],[288,6,300,6],[288,7,300,7],[301,4,321,4],[221,4,224,4],[221,5,224,5],[221,6,224,6],[221,7,224,7],[221,8,224,8],[221,9,224,9],[225,4,233,4],[225,5,233,5],[225,6,233,6],[225,7,233,7],[225,8,233,8],[225,9,233,9],[205,2,214,2],[205,3,212,3],[205,4,209,4],[205,5,209,5],[205,6,209,6],[205,7,209,7],[205,8,209,8],[205,9,209,9],[210,4,212,4],[210,5,212,5],[210,6,212,6],[210,7,212,7],[210,8,212,8],[210,9,212,9],[213,3,214,3],[183,6,185,6],[183,7,185,7],[183,8,185,8],[183,9,185,9],[186,3,187,3],[188,2,204,2],[188,3,202,3],[188,4,197,4],[188,5,197,5],[188,6,197,6],[188,7,197,7],[188,8,197,8],[188,9,197,9],[198,4,202,4],[198,5,202,5],[198,6,202,6],[198,7,202,7],[198,8,202,8],[198,9,202,9],[203,3,204,3],[93,3,94,3],[95,0,235,0],[95,1,235,1],[95,2,125,2],[95,3,123,3],[95,4,96,4],[95,5,96,5],[95,6,96,6],[95,7,96,7],[97,4,118,4],[97,5,118,5],[97,6,118,6],[97,7,118,7],[119,4,123,4],[119,5,123,5],[119,6,123,6],[119,7,123,7],[124,3,125,3],[126,2,134,2],[126,3,132,3],[126,4,129,4],[126,5,129,5],[126,6,129,6],[126,7,129,7],[62,14,64,14],[75,4,81,4],[75,5,81,5],[75,6,81,6],[75,7,81,7],[75,8,81,8],[75,9,81,9],[82,4,92,4],[82,5,92,5],[82,6,92,6],[82,7,92,7],[82,8,92,8],[82,9,92,9],[18,0,94,0],[18,1,94,1],[18,2,94,2],[18,3,92,3],[18,4,22,4],[18,5,22,5],[18,6,22,6],[18,7,22,7],[18,8,22,8],[23,4,31,4],[23,5,31,5],[23,6,31,6],[23,7,31,7],[23,8,31,8],[32,4,52,4],[32,5,52,5],[32,6,52,6],[32,7,52,7],[32,8,52,8],[53,4,74,4],[53,5,74,5],[53,6,74,6],[53,7,74,7],[53,8,74,8],[0,0,0,14],[2,0,17,0],[2,1,17,1],[2,2,17,2],[2,3,15,3],[2,4,8,4],[2,5,8,5],[2,6,8,6],[2,7,8,7],[2,8,8,8],[2,9,8,9],[9,4,15,4],[9,5,15,5],[9,6,15,6],[9,7,15,7],[9,8,15,8],[9,9,15,9],[11,14,13,14],[16,3,17,3],[323,3,324,3],[325,3,341,3],[325,4,326,4],[325,2,343,2],[332,4,337,4],[342,3,343,3],[344,2,352,2],[504,0,507,10],[508,0,529,0],[508,1,508,2],[508,3,508,4],[509,1,513,2],[509,3,509,4],[510,3,510,4],[511,3,511,4],[512,3,512,4],[513,3,513,4],[514,1,515,2],[514,3,514,4],[515,3,515,4],[516,1,517,2],[325,5,326,5],[325,6,326,6],[325,7,326,7],[435,3,436,3],[414,4,422,4],[414,5,422,5],[414,6,422,6],[414,7,422,7],[414,8,422,8],[414,9,422,9],[423,3,424,3],[425,9,431,9],[432,9,434,9],[401,8,407,8],[401,9,407,9],[408,7,413,7],[408,8,413,8],[408,9,413,9],[394,8,400,8],[394,9,400,9],[301,5,321,5],[301,6,321,6],[301,7,321,7],[301,8,321,8],[301,9,321,9],[388,8,393,8],[388,9,393,9],[325,8,326,8],[325,9,326,9],[353,8,363,8],[353,9,363,9],[364,8,369,8],[364,9,369,9],[372,8,378,8],[372,9,378,9],[379,5,381,5],[379,6,381,6],[272,8,277,8],[272,9,277,9],[278,8,287,8],[278,9,287,9],[288,8,300,8],[288,9,300,9],[272,6,277,6],[272,7,277,7],[272,4,277,4],[272,5,277,5],[172,5,175,5],[172,6,175,6],[172,7,175,7],[172,8,175,8],[172,9,175,9],[251,3,252,3],[215,2,235,2],[215,3,233,3],[215,4,220,4],[215,5,220,5],[215,6,220,6],[215,7,220,7],[215,8,220,8],[215,9,220,9],[178,2,187,2],[178,3,185,3],[178,4,182,4],[178,5,182,5],[178,6,182,6],[178,7,182,7],[178,8,182,8],[178,9,182,9],[183,4,185,4],[183,5,185,5],[159,6,162,6],[159,7,162,7],[159,8,162,8],[159,9,162,9],[135,6,149,6],[135,7,149,7],[135,8,149,8],[135,9,149,9],[135,2,177,2],[135,3,175,3],[135,4,149,4],[135,5,149,5],[150,4,158,4],[150,5,158,5],[159,4,162,4],[159,5,162,5],[176,3,177,3],[163,4,171,4],[163,5,171,5],[163,6,171,6],[163,7,171,7],[163,8,171,8],[163,9,171,9],[172,4,175,4],[557,0,583,0],[133,3,134,3],[97,8,118,8],[97,9,118,9],[95,8,96,8],[95,9,96,9],[32,9,52,9],[53,9,74,9],[18,9,22,9],[23,9,31,9],[119,8,123,8],[119,9,123,9],[126,8,129,8],[126,9,129,9],[131,4,132,4],[131,5,132,5],[131,6,132,6],[131,7,132,7],[131,8,132,8],[131,9,132,9],[150,6,158,6],[150,7,158,7],[150,8,158,8],[150,9,158,9]]}
[" CENTRO ESPECIALIZADO EN SALUD RENAL"]
["GRUPO 00","GRUPO 01","GRUPO 03","GRUPO 03","ESPACIO","TIPO INFRAESTRUCTURA","Cant","ANEXO","Obs","TIPO","EQUIPAMIENTO","Cant * Esp","ANEXO","TIPO","Obs"]
["ADMINISTRATIVO","ADMISIÓN Y ESTADÍSTICA ","Área Técnica ","AMBIENTES","Admisión, Información y Recepción","AMBIENTE",1,null,"Para construcciones nuevas deseable 6 m2","Requerido","Mostrador / escritorio/Mesa de despacho ",1,"EQ_01"]
[null,null,null,null,null,null,null,null,null,null,"Armario/Archivador",1,null,null,"Puede estar incorporado en el Mostrador/escritorio o Mesa de despacho lo que se requiere es que tengan donde almacenar documentos temporalmente"]
[null,null,null,null,null,null,null,null,null,null,"Computador completo (Portátil o de escritorio)",1,"EQ_02"]
[null,null,null,null,null,null,null,null,null,null,"Basurero",1,null,null,"Recipiente para desechos comunes"]
[null,null,null,null,null,null,null,null,null,null,"Silla",1]
[null,null,null,null,null,null,null,null,null,null,"Tablero de avisos ",1,null,null,"Puede ser remplazado cuando hay acceso directo al sistema audiovisual de la sala de espera de consulta externa"]
[null,null,null,null,null,null,null,null,null,null,"Teléfono",1]
[null,null,null,null,"Archivo","AMBIENTE",1,null,"Para construcciones nuevas calcular según la demanda (cantidad y tipo de elementos a archivar) / Puede estar compartido con otro ambiente de tipo administrativo","Requerido","Armario/Archivador",1]
[null,null,null,null,null,null,null,null,null,null,"Escalera pata de gallo / Gradilla",1,null,"Condición","Será requerido si tiene armarios o archivadores altos que no sean accesibles al operador/funcionario"]
[null,null,null,null,null,null,null,null,null,null,"Escritorio/ Mesa de despacho  ",1,"EQ_01","Condición","Se activará cuando el  servicio posea otra zona administrativa responsable del manejo exclusivo del archivo"]
[null,null,null,null,null,null,null,null,null,null,"Computador completo (Portátil o de Escritorio)",1,"EQ_02","Condición"]
[null,null,null,null,null,null,null,null,null,null,"Silla ",1,null,"Condición"]
[null,null,null,null,null,null,null,null,null,null,"Basurero ",1,null,null,"Recipiente para desechos comunes"]
[null,null,null,null,null,null,null,null,null,null,"Extintor de incendios  portátil  ",1,null,null,"Se verificará según la normativa y que este accesible para este ambiente aunque este compartido con otro "]
[null,null,null,"INSTALACIONES","Estructura General ","INSTALACIÓN",1,"EG_01",null,"Requerido"]
[null,null,null,null,"Instalaciones Generales","INSTALACIÓN",1,"IG_01",null,"Requerido"]
["ASISTENCIAL","CONSULTA EXTERNA","Área de Atención de Consulta","AMBIENTES","Sala de Espera","AMBIENTE",1,null,"Para construcciones nuevas deseable, 1 familiar por paciente y  1 paciente por puesto de  diálisis, 1m2 por persona","Requerido","Banca/sillas",2,null,null,"Mínimo contar con 6 puestos para la sala de espera (bancas en tándem o sillas o sillones)"]
[null,null,null,null,null,null,null,null,null,null,"Basurero",1,null,null,"Recipiente para desechos comunes"]
[null,null,null,null,null,null,null,null,null,null,"Reloj de pared",1]
[null,null,null,null,null,null,null,null,null,null,"Extintor de incendios  portátil  ",1,null,null,"El mismo que cubrirá toda el servicio de consulta externa / Se verificará según la normativa y que este accesible para este ambiente aunque este compartido con otro "]
[null,null,null,null,null,null,null,null,null,null,"Sistema Audiovisual de Información",1,"EQ_03"]
[null,null,null,null,"Baños/Baterías Sanitarias","AMBIENTE",1,null,"Para construcciones nuevas deseable 4m2","Requerido","Inodoro",1]
[null,null,null,null,null,null,null,null,null,null,"Dispensador de papel higiénico",1]
[null,null,null,null,null,null,null,null,null,null,"Lavabo",1]
[null,null,null,null,null,null,null,null,null,null,"Dispensador de jabón",1]
[null,null,null,null,null,null,null,null,null,null,"Dispensador de papel toalla",1,null,null,"Se justifica si cuenta con secador de manos"]
[null,null,null,null,null,null,null,null,null,null,"Espejo empotrado ",1]
[null,null,null,null,null,null,null,null,null,null,"Barras de apoyo",1,null,"Deseable"]
[null,null,null,null,null,null,null,null,null,null,"Gancho doble",1]
[null,null,null,null,null,null,null,null,null,null,"Basurero  ",2,null,null,"Recipiente para desechos comunes e infecciosos. Se justifica recipiente de desechos comunes si cuenta con secador de manos"]
[null,null,null,null,"Enfermería (Se vuelve requerido en el caso de contar con más de 5 consultorios para profesionales médicos)","AMBIENTE",1,null," Para construcciones nuevas deseable 16m2","Condición","Escritorio/Mesa de despacho",1,"EQ_01"]
[null,null,null,null,null,null,null,null,null,null,"Computador completo (Portátil o de Escritorio)",1,"EQ_02","Condición"]
[null,null,null,null,null,null,null,null,null,null,"Armario/Vitrina/Archivador",1]
[null,null,null,null,null,null,null,null,null,null,"Báscula + tallímetro",1]
[null,null,null,null,null,null,null,null,null,null,"Cinta métrica",1]
[null,null,null,null,null,null,null,null,null,null,"Set de recipientes para el manejo de desechos peligrosos y no peligrosos",1,"EQ_07"]
[null,null,null,null,null,null,null,null,null,null,"Camilla de exploración",1,null,"Condición"]
[null,null,null,null,null,null,null,null,null,null,"Escabel ",1,null,"Condición","Requerido en el caso de contar con camila de exploración que no sea de altura regulable"]
[null,null,null,null,null,null,null,null,null,null,"Coche de curaciones ",1,"EQ_08"]
[null,null,null,null,null,null,null,null,null,null,"Lámpara examen rodable",1]
[null,null,null,null,null,null,null,null,null,null,"Mesa auxiliar",1]
[null,null,null,null,null,null,null,null,null,null,"Dispensador de papel toalla",1]
[null,null,null,null,null,null,null,null,null,null,"Dispensador de jabón",1]
[null,null,null,null,null,null,null,null,null,null,"Lavabo",1]
[null,null,null,null,null,null,null,null,null,null,"Estetoscopio para adultos",1]
[null,null,null,null,null,null,null,null,null,null,"Tensiómetro  para adultos",1]
[null,null,null,null,null,null,null,null,null,null,"Tensiómetro pediátrico",1,null,"Condición","Se justifica cuando el tensiómetro para adultos cuenta con brazaletes para tallas pediátricas / Será requerido en el caso de ofertar prestación pediátrica"]
[null,null,null,null,null,null,null,null,null,null,"Estetoscopio pediátrico",1,null,"Condición","Será requerido en el caso de ofertar prestación pediátrica"]
[null,null,null,null,null,null,null,null,null,null,"Termómetro",1,null,null,"Deseable que sea digital"]
[null,null,null,null,null,null,null,null,null,null,"Silla confidente",1]
[null,null,null,null,null,null,null,null,null,null,"Silla",1]
[null,null,null,null,"Consultorio Médico","AMBIENTE",1,null,"Para construcciones nuevas deseable 16m2","Requerido","Escritorio/Mesa de despacho",1,"EQ_01"]
[null,null,null,null,null,null,null,null,null,null,"Computador completo (portátil o de escritorio)",1,"EQ_02"]
[null,null,null,null,null,null,null,null,null,null,"Armario/Archivador/Vitrina",1]
[null,null,null,null,null,null,null,null,null,null,"Báscula + tallímetro",1,null,null,"Se justifica si el servicio cuenta con enfermería"]
[null,null,null,null,null,null,null,null,null,null,"Camilla de exploración",1]
[null,null,null,null,null,null,null,null,null,null,"Escabel  ",1,null,"Condición","Requerido en el caso de que la camilla de exploración que no sea de altura regulable"]
[null,null,null,null,null,null,null,null,null,null,"Perchero de pie/Gancho doble",1,null,"Deseable"]
[null,null,null,null,null,null,null,null,null,null,"Set de diagnóstico",1,"EQ_10"]
[null,null,null,null,null,null,null,null,null,null,"Coche de curaciones ",1,"EQ_09","Condición","Será requerido en el caso de no contar con este en enfermermería"]
[null,null,null,null,null,null,null,null,null,null,"Dispensador de papel toalla",1,null,null,"Este equipamiento puede encontrarse dentro de un baño que esté dentro del consultorio"]
[null,null,null,null,null,null,null,null,null,null,"Dispensador de jabón",1]
[null,null,null,null,null,null,null,null,null,null,"Lavabo",1]
[null,null,null,null,null,null,null,null,null,null,"Tensiómetro para adultos",1]
[null,null,null,null,null,null,null,null,null,null,"Estetoscopio para adultos",1]
[null,null,null,null,null,null,null,null,null,null,"Tensiómetro pediátrico",1,null,"Condición","Se justifica cuando el tensiómetro para adultos cuenta con brazaletes para tallas pediátricas / Será requerido en el caso de ofertar prestación pediátrica"]
[null,null,null,null,null,null,null,null,null,null,"Estetoscopio pediátrico",1,null,"Condición","Será requerido en el caso de ofertar prestación pediátrica"]
[null,null,null,null,null,null,null,null,null,null,"Termómetro",1,null,null,"Deseable que sea digital"]
[null,null,null,null,null,null,null,null,null,null,"Negatoscopio / Equipo para visualización de imágenes",1]
[null,null,null,null,null,null,null,null,null,null,"Lámpara de examen rodable",1]
[null,null,null,null,null,null,null,null,null,null,"Set de recipientes para el manejo de desechos peligrosos y no peligrosos",1,"EQ_07"]
[null,null,null,null,null,null,null,null,null,null,"Silla confidente",2]
[null,null,null,null,null,null,null,null,null,null,"Silla",1]
[null,null,null,null,"Consultorio de Psicología (Puede compartir con la Oficina de Trabajo Social y el Consultorio de Nutrición, pero debe asegurarse la privacidad del paciente mediante horarios diferenciados en cada prestación)","AMBIENTE",1,null,"Para construcciones nuevas deseable 12m2","Requerido","Escritorio/Mesa de despacho",1,"EQ_01"]
[null,null,null,null,null,null,null,null,null,null,"Computador completo (Portátil o de escritorio)",1,"EQ_02"]
[null,null,null,null,null,null,null,null,null,null,"Armario/Vitrina/Archivador",1]
[null,null,null,null,null,null,null,null,null,null,"Basurero",1,null,null,"Recipiente para desechos comunes"]
[null,null,null,null,null,null,null,null,null,null,"Dispensador para solución hidroalcohólica",1]
[null,null,null,null,null,null,null,null,null,null,"Silla confidente",2]
[null,null,null,null,null,null,null,null,null,null,"Silla",1]
[null,null,null,null,"Consultorio de Nutrición (Puede compartir con la Oficina de Trabajo Social y el Consultorio de Psicología,  pero debe asegurarse la privacidad del paciente mediante horarios diferenciados en cada prestación)","AMBIENTE",1,null,"Para construcciones nuevas deseable 12m2","Requerido","Escritorio/Mesa de despacho",1,"EQ_01"]
[null,null,null,null,null,null,null,null,null,null,"Computador completo (Portátil o de escritorio)",1,"EQ_02"]
[null,null,null,null,null,null,null,null,null,null,"Armario/Vitrina/Archivador",1]
[null,null,null,null,null,null,null,null,null,null,"Plicómetro",1]
[null,null,null,null,null,null,null,null,null,null,"Cinta métrica",1]
[null,null,null,null,null,null,null,null,null,null,"Báscula + tallimetro",1]
[null,null,null,null,null,null,null,null,null,null,"Balanza de impedancia",1,null,"Condición","Si cuenta con este ítem, se justifica no tener la balanza"]
[null,null,null,null,null,null,null,null,null,null,"Silla confidente",2]
[null,null,null,null,null,null,null,null,null,null,"Silla",1]
[null,null,null,null,null,null,null,null,null,null,"Basurero",1,null,null,"Recipiente para desechos comunes"]
[null,null,null,null,null,null,null,null,null,null,"Dispensador para solución hidroalcohólica",1]
[null,null,null,"INSTALACIONES","Estructura General ","INSTALACIÓN",1,"EG_01",null,"Requerido"]
[null,null,null,null,"Instalaciones Generales","INSTALACIÓN",1,"IG_01",null,"Requerido"]
["APOYO TERAPÉUTICO","ATENCIÓN DE APOYO TERAPÉUTICO","Área de Procedimientos","AMBIENTES","Área de Lavado de Manos","AMBIENTE",1,null,"Será requerido en el caso de realizar y reparar accesos vasculares y/o insertar catéteres peritoneales","Condición","Lavabo quirúrgico",1]
[null,null,null,null,null,null,null,null,null,null,"Dispensador de jabón",1]
[null,null,null,null,"Sala de procedimientos (Debe existir acuerdo con un establecimiento que cuente con atención en centro quirúrgico para realización y reparación de accesos vasculares y/o inserción de catéteres peritoneales, en caso de no haber convenio se hará requerido)","AMBIENTE",1,null,"Para construcciones nuevas deseable 16m2","Condición","Camilla de exploración/Mesa de operaciones",1,null,null,"Será requerida la mesa de operaciones si se realizan y reparan accesos vasculares y/o insertan catéteres peritoneales"]
[null,null,null,null,null,null,null,null,null,null,"Porta sueros",1]
[null,null,null,null,null,null,null,null,null,null,"Tensiómetro para adultos",1]
[null,null,null,null,null,null,null,null,null,null,"Estetoscopio para adultos",1]
[null,null,null,null,null,null,null,null,null,null,"Tensiómetro pediátrico",1,null,"Condición","Se justifica cuando el tensiómetro para adultos cuenta con brazaletes para tallas pediátricas / Será requerido en el caso de ofertar prestación pediátrica"]
[null,null,null,null,null,null,null,null,null,null,"Estetoscopio pediátrico",1,null,"Condición","Será requerido en el caso de ofertar prestación pediátrica"]
[null,null,null,null,null,null,null,null,null,null,"Coche de paro completo y reanimación",1,"EQ_09","Condición","Será requerido si se realizan y reparan accesos vasculares y/o insertan catéteres peritoneales/Se justifica si hay acceso directo a la sala de tratamiento de diálisis"]
[null,null,null,null,null,null,null,null,null,null,"Desfibrilador",1,null,"Condición","Será requerido si se realizan y reparan accesos vasculares y/o insertan catéteres peritoneales/Se justifica si hay acceso directo a la sala de tratamiento de diálisis"]
[null,null,null,null,null,null,null,null,null,null,"Electrocardiógrafo",1,null,"Condición","Será requerido si se realizan y reparan accesos vasculares y/o insertan catéteres peritoneales/Se justifica si hay acceso directo a la sala de tratamiento de diálisis"]
[null,null,null,null,null,null,null,null,null,null,"Equipo de oxígeno portátil",1,null,"Condición","Será requerido si se realizan y reparan accesos vasculares y/o insertan catéteres peritoneales/Se justifica si hay acceso directo a la sala de tratamiento de diálisis/Se justifica si posee red centralizada de gases medicinales"]
[null,null,null,null,null,null,null,null,null,null,"Aspirador de secreciones portátil",1,null,"Condición","Será requerido si se realizan y reparan accesos vasculares y/o insertan catéteres peritoneales/Se justifica si hay acceso directo a la sala de tratamiento de diálisis/Se justifica si posee red centralizada de gases medicinales"]
[null,null,null,null,null,null,null,null,null,null,"Lámpara quirúrgica básica cielítica portátil o fija/Lámpara de examen rodable",1,null,null,"Será requerido la lámpara quirúrgica si se realizan y reparan accesos vasculares y/o insertan catéteres peritoneales"]
[null,null,null,null,null,null,null,null,null,null,"Monitor de parámetros vitales",1,null,"Condición","Será requerido si se realizan y reparan accesos vasculares y/o insertan catéteres peritoneales"]
[null,null,null,null,null,null,null,null,null,null,"Silla/taburete giratorio",1]
[null,null,null,null,null,null,null,null,null,null,"Coche de curaciones ",1,"EQ_08"]
[null,null,null,null,null,null,null,null,null,null,"Mesa mayo",1]
[null,null,null,null,null,null,null,null,null,null,"Equipo de cirugía general - cirugía mayor",1,"EQ_30","Condición","Será requerido en el caso de que realice inserción de catéteres"]
[null,null,null,null,null,null,null,null,null,null,"Equipo de cirugía para accesos vasculares",1,"EQ_23","Condición","Será requerido en el caso de que realice y repare accesos vasculares"]
[null,null,null,null,null,null,null,null,null,null,"Mesa para instrumental",1,null,"Condición"]
[null,null,null,null,null,null,null,null,null,null,"Soporte bajo rodado, una cubeta acero inoxidable  ",1,null,"Condición","Será requerido si se realizan y reparan accesos vasculares y/o insertan catéteres peritoneales"]
[null,null,null,null,null,null,null,null,null,null,"Set de recipientes para el manejo de desechos peligrosos y no peligrosos",1,"EQ_07"]
[null,null,null,null,null,null,null,null,null,null,"Flujómetro para O2 con humidificador",1,null,"Condición","Será requerido si se realizan y reparan accesos vasculares y/o insertan catéteres peritoneales"]
[null,null,null,null,"Zona de esterilización ","AMBIENTE",1,null,"Se convierte en Requerido si existe la Sala de Procedimientos. Puede estar externalizado, pero se debe demostrar la gestión","Condición","Esterilizador a vapor / calor seco",1]
[null,null,null,null,null,null,null,null,null,null,"Dispensador de papel toalla",1]
[null,null,null,null,null,null,null,null,null,null,"Dispensador de jabón",1]
[null,null,null,null,null,null,null,null,null,null,"Basurero",1,null,null,"Recipiente para desechos comunes"]
[null,null,null,null,null,null,null,null,null,null,"Mesón con fregadero",1]
[null,null,null,"INSTALACIONES","Estructura General ","INSTALACIÓN",1,"EG_01",null,"Condición"]
[null,null,null,null,"Instalaciones Generales","INSTALACIÓN",1,"IG_01",null,"Condición"]
[null,null,"Área de Soporte y Suministros (Esta área funcional debe estar centralizada y no debe estar en contacto con las áreas de tratamiento)","AMBIENTES","Cuarto de limpieza","AMBIENTE",1,null,"Para construcciones nuevas deseable 2m2","Requerido","Coche de limpieza",1]
[null,null,null,null,null,null,null,null,null,null,"Stock de Insumos de Limpieza",1,"EQ_05"]
[null,null,null,null,null,null,null,null,null,null,"Estantería",1]
[null,null,null,null,null,null,null,null,null,null,"Lavadero con poza profunda para el preparado y enjuague de los útiles de limpieza",1]
[null,null,null,null,"Almacenamiento intermedio o temporal de desechos ","AMBIENTE",1,null,"Para construcciones nuevas deseable 4m2/Será requerido en los establecimientos cuya generación supere los 65 Kg/día de desechos sanitarios y si se  realizan y reparan accesos vasculares y/o insertan catéteres peritoneales","Condición","Set de recipientes para el manejo de desechos peligrosos y no peligrosos",1,"EQ_07"]
[null,null,null,null,"Lencería","AMBIENTE",1,null,"Para construcciones nuevas  4m2/Será requerido en el caso de contar con lencería que deba ser almacenada","Condición","Estantería",1]
[null,null,null,null,null,null,null,null,null,null,"Coche de ropa limpia",1]
[null,null,null,"INSTALACIONES","Estructura General ","INSTALACIÓN",1,"EG_01",null,"Requerido"]
[null,null,null,null,"Instalaciones Generales","INSTALACIÓN",1,"IG_01",null,"Requerido"]
[null,null,"Área de Tratamiento de Hemodiálisis","AMBIENTES","Estación de enfermería","AMBIENTE",1,null,"Para construcciones nuevas deseable 6m2","Requerido","Mostrador/Escritorio",1,"EQ_01"]
[null,null,null,null,null,null,null,null,null,null,"Computador completo (Portátil o de escritorio)",1,"EQ_02"]
[null,null,null,null,null,null,null,null,null,null,"Coche de curaciones ",1,"EQ_08"]
[null,null,null,null,null,null,null,null,null,null,"Coche de paro completo y reanimación ",1,"EQ_09"]
[null,null,null,null,null,null,null,null,null,null,"Desfibrilador",1]
[null,null,null,null,null,null,null,null,null,null,"Electrocardiógrafo",1,null,null,"Se justifica si está incluido en el desfibrilador"]
[null,null,null,null,null,null,null,null,null,null,"Equipo de oxígeno portátil",1]
[null,null,null,null,null,null,null,null,null,null,"Estetoscopio para adultos",1]
[null,null,null,null,null,null,null,null,null,null,"Tensiómetro para adultos",1]
[null,null,null,null,null,null,null,null,null,null,"Tensiómetro pediátrico",1,null,"Condición","Se justifica cuando el tensiómetro para adultos cuenta con brazaletes para tallas pediátricas / Será requerido en el caso de ofertar prestación pediátrica"]
[null,null,null,null,null,null,null,null,null,null,"Estetoscopio pediátrico",1,null,"Condición","Será requerido en el caso de ofertar prestación pediátrica"]
[null,null,null,null,null,null,null,null,null,null,"Aspirador de secreciones portátil",1]
[null,null,null,null,null,null,null,null,null,null,"Set de recipientes para el manejo de desechos peligrosos y no peligrosos",1,"EQ_07"]
[null,null,null,null,null,null,null,null,null,null,"Silla",1]
[null,null,null,null,null,null,null,null,null,null,"Teléfono",1]
[null,null,null,null,"Sala de Hemodiálisis - No Contaminados - Compartido","AMBIENTE",1,null,null,"Requerido","Mesa auxiliar",1,null,null,"Se justifica si tiene incorporada en el sillón"]
[null,null,null,null,null,null,null,null,null,null,"Lavabo",1]
[null,null,null,null,null,null,null,null,null,null,"Dispensador de papel toalla",1]
[null,null,null,null,null,null,null,null,null,null,"Dispensador de jabón",1]
[null,null,null,null,null,null,null,null,null,null,"Basurero",1,null,null,"Recipiente para desechos comunes"]
[null,null,null,null,null,null,null,null,null,null,"Sistema Audiovisual de Información",1,"EQ_03",null,"Será requerido que todos los usuarios tengan visibilidad adecuada"]
[null,null,null,null,null,null,null,null,null,null,"Balanza electrónica ",1,null,null,"Con peso de precisión de usuarios que permita el pesado de personas con discapacidad"]
[null,null,null,null,null,null,null,null,null,null,"Flujómetro para O2 con humidificador",1,null,null,"Se justifica si el equipamiento se acopla a red centralizada o a tanque "]
[null,null,null,null,null,null,null,null,null,null,"Máquina de hemodiálisis de resguardo/Back up",1,null,null,"Será requerida una por cada 6 puestos"]
[null,null,null,null,"Sala de Hemodiálisis - No Contaminados - Por puestos","AMBIENTE",1,null,"Para construcciones nuevas deseable  6 m2 por puesto cuando es sillón","Requerido","Sillón para diálisis ",1,null,null,"Debe alcanzar la posición de Trendelenburg"]
[null,null,null,null,null,null,null,null,null,null,"Máquina de hemodiálisis",1]
[null,null,null,null,null,null,null,null,null,null,"Máquina de Hemodialfiltración",1,null,"Condición"]
[null,null,null,null,null,null,null,null,null,null,"Set de recipientes para el manejo de desechos peligrosos y no peligrosos",1,"EQ_07",null,"Se requiere recipientes para manejo de desechos peligrosos-infecciosos y peligrosos-cortopunzntes/Se justifica el recipiente para desechos peligrosos - cortopunzantes si se encuentra centralizado en la estación de enfermería"]
[null,null,null,null,"Sala de Hemodiálisis - Contaminados - Compartido","AMBIENTE",1,null,null,"Condición","Mesa auxiliar",1,null,null,"Se justifica si tiene incorporada en el sillón"]
[null,null,null,null,null,null,null,null,null,null,"Lavabo",1]
[null,null,null,null,null,null,null,null,null,null,"Dispensador de papel toalla",1]
[null,null,null,null,null,null,null,null,null,null,"Dispensador de jabón",1]
[null,null,null,null,null,null,null,null,null,null,"Basurero",1,null,null,"Recipiente para desechos comunes"]
[null,null,null,null,null,null,null,null,null,null,"Sistema Audiovisual de Información",1,"EQ_03",null,"Será requerido que todos los usuarios tengan visibilidad adecuada"]
[null,null,null,null,null,null,null,null,null,null,"Balanza electrónica ",1,null,null,"Con peso de precisión de usuarios que permita el pesado de personas con discapacidad"]
[null,null,null,null,null,null,null,null,null,null,"Flujómetro para O2 con humidificador",1,null,null,"Se justifica si el equipamiento se acopla a red centralizada o a tanque "]
[null,null,null,null,null,null,null,null,null,null,"Máquina de hemodiálisis de resguardo/Back up",1,null,null,"Será requerida una por cada 6 puestos"]
[null,null,null,null,"Sala de Hemodiálisis - Contaminados - Por puestos","AMBIENTE",1,null,"Para construcciones nuevas deseable  6 m2 por puesto cuando es sillón y 8m2 cuando es camilla","Condición","Sillón para diálisis ",1,null,null,"Debe alcanzar la posición de Trendelenburg"]
[null,null,null,null,null,null,null,null,null,null,"Máquina de hemodiálisis",1]
[null,null,null,null,null,null,null,null,null,null,"Máquina de Hemodialfiltración (doble ósmosis inversa)",1,null,"Condición"]
[null,null,null,null,null,null,null,null,null,null,"Set de recipientes para el manejo de desechos peligrosos y no peligrosos",1,"EQ_07",null,"Se requiere recipientes para manejo de desechos peligrosos-infecciosos y peligrosos-cortopunzntes/Se justifica el recipiente para desechos peligrosos - cortopunzantes si se encuentra centralizado en la estación de enfermería"]
[null,null,null,"INSTALACIONES","Estructura General ","INSTALACIÓN",1,"EG_01",null,"Requerido"]
[null,null,null,null,"Instalaciones Generales","INSTALACIÓN",1,"IG_01",null,"Requerido"]
[null,null,"Área Técnica de Apoyo","AMBIENTES","Limpio","AMBIENTE",1,null,"Para construcciones nuevas deseable 6m2","Requerido","Mesón con lavabo",1]
[null,null,null,null,null,null,null,null,null,null,"Dispensador de papel toalla",1]
[null,null,null,null,null,null,null,null,null,null,"Dispensador de jabón",1]
[null,null,null,null,null,null,null,null,null,null,"Armario/Vitrina/Estantería",1]
[null,null,null,null,null,null,null,null,null,null,"Basurero",1,null,null,"Recipiente para desechos comunes"]
[null,null,null,null,"Usado","AMBIENTE",1,null,"Para construcciones nuevas deseable 6m2","Requerido","Estantería",1]
[null,null,null,null,null,null,null,null,null,null,"Basurero",2,null,null,"Recipientes para desechos comunes y peligrosos"]
[null,null,null,null,null,null,null,null,null,null,"Fregadero",1]
[null,null,null,"INSTALACIONES","Estructura General ","INSTALACIÓN",1,"EG_01",null,"Requerido"]
[null,null,null,null,"Instalaciones Generales","INSTALACIÓN",1,"IG_01",null,"Requerido"]
[null,null,"Área de Diálisis Peritoneal","AMBIENTES","Sala de entrenamiento","AMBIENTE",1,null,"Para construcciones nuevas deseable 20m2","Condición","Silla",2]
[null,null,null,null,null,null,null,null,null,null,"Coche de curaciones ",1,"EQ_08"]
[null,null,null,null,null,null,null,null,null,null,"Mesa auxiliar para equipos",1]
[null,null,null,null,null,null,null,null,null,null,"Camilla/Sillón reclinable",1,null,"Condición"]
[null,null,null,null,null,null,null,null,null,null,"Mesón con doble Lavabo",1]
[null,null,null,null,null,null,null,null,null,null,"Porta sueros",1]
[null,null,null,null,null,null,null,null,null,null,"Máquina Cicladora",2,null,null,"Una máquina es de reserva"]
[null,null,null,null,null,null,null,null,null,null,"Set de recipientes para el manejo de desechos peligrosos y no peligrosos",1,"EQ_07",null,"Se justifica el recipiente de desechos peligrosos - cortopunzantes"]
[null,null,null,null,null,null,null,null,null,null,"Sistema Audiovisual de Información",1,"EQ_03"]
[null,null,null,null,null,null,null,null,null,null,"Camilla/Sillón Reclinable",1]
[null,null,null,null,"Área de recambios","AMBIENTE",1,null,"Para construcciones nuevas deseable 8m2","Condición","Silla",1]
[null,null,null,null,null,null,null,null,null,null,"Porta sueros",1]
[null,null,null,null,null,null,null,null,null,null,"Set de recipientes para el manejo de desechos peligrosos y no peligrosos",1,"EQ_07"]
[null,null,null,null,null,null,null,null,null,null,"Máquina Cicladora",1]
[null,null,null,null,null,null,null,null,null,null,"Mesa auxiliar para equipos",1]
[null,null,null,"INSTALACIONES","Estructura General ","INSTALACIÓN",1,"EG_01",null,"Condición"]
[null,null,null,null,"Instalaciones Generales","INSTALACIÓN",1,"IG_01",null,"Condición"]
[null,null,"Área Técnica de Apoyo","AMBIENTES","Limpio","AMBIENTE",1,null,"Para construcciones nuevas deseable 6m2","Condición","Mesón con lavabo",1]
[null,null,null,null,null,null,null,null,null,null,"Dispensador de papel toalla",1]
[null,null,null,null,null,null,null,null,null,null,"Dispensador de jabón",1]
[null,null,null,null,null,null,null,null,null,null,"Armario/Vitrina",1]
[null,null,null,null,null,null,null,null,null,null,"Basurero",1,null,null,"Recipiente para desechos comunes"]
[null,null,null,null,"Usado","AMBIENTE",1,null,"Para construcciones nuevas deseable 6m2","Condición","Estantería",1]
[null,null,null,null,null,null,null,null,null,null,"Basurero",1,null,null,"Recipiente para desechos comunes"]
[null,null,null,null,null,null,null,null,null,null,"Fregadero",1]
[null,null,null,"INSTALACIONES","Estructura General ","INSTALACIÓN",1,"EG_01",null,"Condición"]
[null,null,null,null,"Instalaciones Generales","INSTALACIÓN",1,"IG_01",null,"Condición"]
[null,null,"Área para los Usuarios","AMBIENTES","Repostería","AMBIENTE",1,null,"Para construcciones nuevas deseable 12m2 ó dimensionar 1m2 por paciente y por puesto ","Condición","Lavabo",1,null,null,"Se justifica si tiene acceso directo a un lavabo"]
[null,null,null,null,null,null,null,null,null,null,"Dispensador de papel toalla",1,null,null,"Se justifica si tiene acceso directo a un lavabo"]
[null,null,null,null,null,null,null,null,null,null,"Dispensador de jabón",1,null,null,"Se justifica si tiene acceso directo a un lavabo"]
[null,null,null,null,null,null,null,null,null,null,"Basurero",1]
[null,null,null,null,null,null,null,null,null,null,"Mesa ",1]
[null,null,null,null,null,null,null,null,null,null,"Silla",4]
[null,null,null,null,"Vestidor de pacientes","AMBIENTE",2,null,"Para construcciones nuevas deseable dimensionar  0,5m2 por puesto","Requerido","Casilleros/Lockers",5]
[null,null,null,null,null,null,null,null,null,null,"Banco de vestuario",1]
[null,null,null,null,null,null,null,null,null,null,"Gancho doble",1]
[null,null,null,null,null,null,null,null,null,null,"Basurero",1,null,null,"Recipiente para desechos comunes"]
[null,null,null,null,"Baño de vestidor",null,2,null,null,"Requerido","Inodoro",1]
[null,null,null,null,null,null,null,null,null,null,"Lavabo",1]
[null,null,null,null,null,null,null,null,null,null,"Dispensador de papel toalla",1]
[null,null,null,null,null,null,null,null,null,null,"Dispensador de jabón",1]
[null,null,null,null,null,null,null,null,null,null,"Dispensador de papel higiénico",1]
[null,null,null,null,null,null,null,null,null,null,"Gancho doble",1]
[null,null,null,null,null,null,null,null,null,null,"Espejo empotrado ",1]
[null,null,null,null,null,null,null,null,null,null,"Barras de apoyo",1]
[null,null,null,null,null,null,null,null,null,null,"Basurero",2,null,null,"Recipientes para desechos comunes e infecciosos"]
[null,null,null,"INSTALACIONES","Estructura General ","INSTALACIÓN",1,"EG_01",null,"Requerido"]
[null,null,null,null,"Instalaciones Generales","INSTALACIÓN",1,"IG_01",null,"Requerido"]
["APOYO DIAGNÓSTICO","DIAGNÓSTICO EN LABORATORIO (LABORATORIO DE ANÁLISIS CLÍNICO) (En el caso de no contar con el servicio dentro del establecimiento debe existir un convenio con un Laboratorio de Análisis Clínico con permiso de funcionamiento emitido por el MSP; debe cumplir con las normas de transporte y conservación de muestras)","Área de Preanálisis","AMBIENTES","Toma de muestras","AMBIENTE",1,null,"Para construcciones nuevas deseable 5m2","Condición","Silla para toma de muestras",1]
[null,null,null,null,null,null,null,null,null,null,"Mesa auxiliar",1]
[null,null,null,null,null,null,null,null,null,null,"Set de recipientes para el manejo de desechos peligrosos y no peligrosos",1,"EQ_07"]
[null,null,null,null,null,null,null,null,null,null,"Dispensador de papel toalla",1]
[null,null,null,null,null,null,null,null,null,null,"Dispensador de jabón",1]
[null,null,null,null,null,null,null,null,null,null,"Lavabo ",1]
[null,null,null,null,null,null,null,null,null,null,"Taburete giratorio",1]
[null,null,null,null,"Pre análisis","AMBIENTE",1,null," Para construcciones nuevas es requerido 2 m2 por puesto","Requerido","Centrífuga",1]
[null,null,null,null,null,null,null,null,null,null,"Silla",1]
[null,null,null,null,null,null,null,null,null,null,"Canastilla para transporte de material",1]
[null,null,null,null,null,null,null,null,null,null,"Refrigeradora de 2 a 8 ºC con termómetro",1]
[null,null,null,null,null,null,null,null,null,null,"Lavabo",1,null,null,"Se justifica en el caso de tener accesibilidad directa, lo importante es asegurar la bioseguridad"]
[null,null,null,null,null,null,null,null,null,null,"Dispensador de jabón",1]
[null,null,null,null,null,null,null,null,null,null,"Dispensador de papel toalla",1]
[null,null,null,null,null,null,null,null,null,null,"Basurero",2,"EQ_07",null,"Recipientes para desechos comunes e infecciosos"]
[null,null,null,"INSTALACIONES","Estructura General ","INSTALACIÓN",1,"EG_01",null,"Condición"]
[null,null,null,null,"Instalaciones Generales","INSTALACIÓN",1,"IG_01",null,"Condición"]
[null,null,"Área de Análisis","AMBIENTES","Hematología","AMBIENTE",1,null,"Para construcciones nuevas calcular según la demanda y el equipamiento","Condición","Analizador Hematológico",1,null,"Deseable"]
[null,null,null,null,null,null,null,null,null,null,"Microscopio binocular",1]
[null,null,null,null,null,null,null,null,null,null,"Agitador de tubos",1]
[null,null,null,null,null,null,null,null,null,null,"Gradilla para tubos",2]
[null,null,null,null,null,null,null,null,null,null,"Cámara de Neubauer",1]
[null,null,null,null,null,null,null,null,null,null,"Contador diferencial para contaje de células(piano)",1]
[null,null,null,null,null,null,null,null,null,null,"Micro centrifuga",1]
[null,null,null,null,null,null,null,null,null,null,"Gradilla para velocidad de eritrosedimentación",1]
[null,null,null,null,null,null,null,null,null,null,"Cronómetro",1]
[null,null,null,null,null,null,null,null,null,null,"Silla para laboratorio",1]
[null,null,null,null,null,null,null,null,null,null,"Lavabo",1,null,null,"Puede compartir con los otros ambientes de análisis"]
[null,null,null,null,null,null,null,null,null,null,"Dispensador  de jabón",1]
[null,null,null,null,null,null,null,null,null,null,"Dispensador de papel toalla ",1]
[null,null,null,null,null,null,null,null,null,null,"Set de recipientes para el manejo de desechos peligrosos y no peligrosos ",1,"EQ_07"]
[null,null,null,null,"Química Clínica","AMBIENTE",1,null,"Para construcciones nuevas calcular según  demanda y equipamiento","Condición","Equipo para química clínica",1]
[null,null,null,null,null,null,null,null,null,null,"Gradillas para tubos",1]
[null,null,null,null,null,null,null,null,null,null,"Pipetas semiautomáticas variables o fijas 5 a 1000UL",1]
[null,null,null,null,null,null,null,null,null,null,"Set de recipientes para el manejo de desechos peligrosos y no peligrosos ",1,"EQ_07","Condición","Puede estar centralizado"]
[null,null,null,null,null,null,null,null,null,null,"Silla para laboratorio",1]
[null,null,null,null," Hemostasia","AMBIENTE",1,null,"Para construcciones nuevas calcular según  demanda y equipamiento","Condición","Equipo para coagulación",1,null,"Condición"]
[null,null,null,null,null,null,null,null,null,null,"Baño  maría",1,null,"Condición","Puede estar compartido y es una condición cuando viene incluido en el equipo de coagulación"]
[null,null,null,null,null,null,null,null,null,null,"Gradilla para tubos",1]
[null,null,null,null,null,null,null,null,null,null,"Cronómetro",1]
[null,null,null,null,null,null,null,null,null,null,"Silla para laboratorio",1]
[null,null,null,null,null,null,null,null,null,null,"Set de recipientes para el manejo de desechos peligrosos y no peligrosos ",1,"EQ_07","Condición","Puede estar centralizado"]
[null,null,null,null,"Uroanálisis y Coproanálisis","AMBIENTE",1,null," Para construcciones nuevas calcular según  demanda y  equipamiento","Condición","Analizador automático de tiras de orina",1]
[null,null,null,null,null,null,null,null,null,null,"Analizador automático microscopico de orina",1]
[null,null,null,null,null,null,null,null,null,null,"Microscopio binocular",1]
[null,null,null,null,null,null,null,null,null,null,"Centrifuga",1]
[null,null,null,null,null,null,null,null,null,null,"Gradillas para tubos",1]
[null,null,null,null,null,null,null,null,null,null,"Silla para laboratorio",1]
[null,null,null,null,null,null,null,null,null,null,"Fregadero",1]
[null,null,null,null,null,null,null,null,null,null,"Set de recipientes para el manejo de desechos peligrosos y no peligrosos ",1,"EQ_07"]
[null,null,null,null,null,null,null,null,null,null,"Dispensador de papel toalla ",1]
[null,null,null,null,null,null,null,null,null,null,"Dispensador  de jabón",1]
[null,null,null,null,"Microbiología de mediana complejidad","AMBIENTE",1,null,"Para construcciones nuevas calcular según la demanda y el equipamiento ","Condición","Microscopio binocular",1]
[null,null,null,null,null,null,null,null,null,null,"Contador diferencial para contaje de células(piano)",1]
[null,null,null,null,null,null,null,null,null,null,"Gradillas para placas",1]
[null,null,null,null,null,null,null,null,null,null,"Cámara de Neubauer",1]
[null,null,null,null,null,null,null,null,null,null,"Coloreador de placas automatizado",1]
[null,null,null,null,null,null,null,null,null,null,"Incinerador de asas",1]
[null,null,null,null,null,null,null,null,null,null,"Rejilla para tinción de placas",1]
[null,null,null,null,null,null,null,null,null,null,"Mechero",1]
[null,null,null,null,null,null,null,null,null,null,"Fregadero",1]
[null,null,null,null,null,null,null,null,null,null,"Silla para laboratorio",1]
[null,null,null,null,null,null,null,null,null,null,"Set de recipientes para el manejo de desechos peligrosos y no peligrosos ",1,"EQ_07"]
[null,null,null,null,null,null,null,null,null,null,"Dispensador de papel toalla ",1]
[null,null,null,null,null,null,null,null,null,null,"Dispensador  de jabón",1]
[null,null,null,null,"Inmunología e Inmunoquímica","AMBIENTE",1,null," Para construcciones nuevas calcular según  demanda y  equipamiento","Condición","Analizador automático para inmunología",1]
[null,null,null,null,null,null,null,null,null,null,"Analizador automático para ELISA",1]
[null,null,null,null,null,null,null,null,null,null,"Lector de microplacas para ELISA",1]
[null,null,null,null,null,null,null,null,null,null,"Analizador automático para inmunoquímica",1]
[null,null,null,null,null,null,null,null,null,null,"Estufa ",1]
[null,null,null,null,null,null,null,null,null,null,"Lavador de microplacas para ELISA",1]
[null,null,null,null,null,null,null,null,null,null,"Centrifuga",1]
[null,null,null,null,null,null,null,null,null,null,"Vórtex",1]
[null,null,null,null,null,null,null,null,null,null,"Nefelómetro",1]
[null,null,null,null,null,null,null,null,null,null,"Turbidímetro para inmunología",1]
[null,null,null,null,null,null,null,null,null,null,"Gradillas para tubos",2]
[null,null,null,null,null,null,null,null,null,null,"Pipetas semiautomaticas variables o fijas 5 a 1000UL",1]
[null,null,null,null,null,null,null,null,null,null,"Cronómetro",1]
[null,null,null,null,null,null,null,null,null,null,"Agitador lineal",1]
[null,null,null,null,null,null,null,null,null,null,"Silla para laboratorio",1]
[null,null,null,null,null,null,null,null,null,null,"Set de recipientes para el manejo de desechos peligrosos y no peligrosos. ",1,"EQ_07"]
[null,null,null,null,null,null,null,null,null,null,"Microscopio binocular",1]
[null,null,null,null,null,null,null,null,null,null,"Placas para VDRL",1]
[null,null,null,null,null,null,null,null,null,null,"Placas cóncavas",1]
[null,null,null,null,null,null,null,null,null,null,"Refrigeradora de 2 a 8 ºC con termómetro",1]
[null,null,null,null,null,null,null,null,null,null,"Termohigrómetro ambiental",1]
[null,null,null,null,"Área para Bioseguridad laboral","AMBIENTE",1,null,"Para construcciones nuevas requerido 0,8 m2","Condición","Lavaojos",1]
[null,null,null,"INSTALACIONES","Estructura General ","INSTALACIÓN",1,"EG_01",null,"Condición"]
[null,null,null,null,"Instalaciones Generales","INSTALACIÓN",1,"IG_01",null,"Condición"]
[null,null,"Área de soporte","AMBIENTES","Zona de Refrigeradores y Congeladores","AMBIENTE",1,null,"Para construcciones nuevas calcular según demanda funcional ","Condición","Refrigerador con congelador ",1]
[null,null,null,null,null,null,null,null,null,null,"Termómetro",1,null,null,"Deseable que sea digital"]
[null,null,null,null,"Bodega o almacenamiento de Material ","AMBIENTE",1,null," Para construcciones nuevas calcular según demanda funcional ","Condición","Estantería",1]
[null,null,null,null,null,null,null,null,null,null,"Escalera pata de gallo / Gradilla",1,null,"Condición","Si es que tiene estanterías altas que no sean accesibles al operador/funcionario/usuario"]
[null,null,null,null,null,null,null,null,null,null,"Stock de Reactivos de Laboratorio",1,"EQ_44"]
[null,null,null,null,null,null,null,null,null,null,"Refrigerador",1,null,"Condición"]
[null,null,null,null,null,null,null,null,null,null,"Termómetro",1,null,null,"Deseable que sea digital"]
[null,null,null,null,"Usado.\n(para lavado y esterilización de material)","AMBIENTE",1,null,"Para construcciones nuevas calcular según demanda, mínimo requerido 2,4 m2. .","Condición","Fregadero",1]
[null,null,null,null,null,null,null,null,null,null,"Set de recipientes para el manejo de desechos peligrosos y no peligrosos ",1,"EQ_07"]
[null,null,null,null,null,null,null,null,null,null,"Canastilla/Coche de transporte de muestras",1]
[null,null,null,null,null,null,null,null,null,null,"Esterilizador a vapor/seco",1,null,"Condición"]
[null,null,null,null,null,null,null,null,null,null,"Dispensador de papel toalla ",1]
[null,null,null,null,null,null,null,null,null,null,"Dispensador  de jabón",1]
[null,null,null,null,"Cuarto de Limpieza - se justifica si esta centralizado para todos los servicios ","AMBIENTE",1,null,"Para construcciones nuevas calcular según demanda funcional, mínimo requerido 2 m2; puede compartir con otro servicio o estar centralizado. ","Condición","Coche de limpieza ",1]
[null,null,null,null,null,null,null,null,null,null,"Stock de insumos de limpieza ",1]
[null,null,null,null,null,null,null,null,null,null,"Estantería ",1]
[null,null,null,null,null,null,null,null,null,null,"Lavadero con poza profunda para el preparado y enjuague de los útiles de limpieza",1]
[null,null,null,"INSTALACIONES","Estructura General","INSTALACION",1,"EG_01",null,"Condición"]
[null,null,null,null,"Instalaciones Generales","INSTALACION",1,"IG_01",null,"Condición"]
[null,null,"Área Administrativa y de Personal","AMBIENTES","Despacho de Responsable de Servicio","AMBIENTE",1,null,"Para construcciones nuevas requerido 10 m2","Condición","Escritorio/ Mesa de despacho  ",1,"EQ_01"]
[null,null,null,null,null,null,null,null,null,null,"Armario/Archivador",1]
[null,null,null,null,null,null,null,null,null,null,"Computador completo (Portátil o de Escritorio)",1,"EQ_02"]
[null,null,null,null,null,null,null,null,null,null,"Basurero ",1,null,null,"Recipiente para desechos comunes"]
[null,null,null,null,null,null,null,null,null,null,"Perchero de pie /Gancho doble",1,null,"Deseable"]
[null,null,null,null,null,null,null,null,null,null,"Silla Confidente ",2]
[null,null,null,null,null,null,null,null,null,null,"Silla",1]
[null,null,null,"INSTALACIONES","Estructura General","INSTALACION",1,"EG_01",null,"Condición"]
[null,null,null,null,"Instalaciones Generales","INSTALACION",1,"IG_01",null,"Condición"]
["APOYO TERAPÉUTICO","DOTACIÓN DE MEDICAMENTOS Y DISPOSITIVOS MÉDICOS (FARMACIA)","Área de Farnacia","AMBIENTES","Dispensación","AMBIENTE",1,null,"Para construcciones nuevas calcular según demanda funcional.","Requerido","Mostrador/Escritorio",1,"EQ_01"]
[null,null,null,null,null,null,null,null,null,null,"Computador completo (Portátil o de Escritorio)",1,"EQ_02"]
[null,null,null,null,null,null,null,null,null,null,"Silla",1]
[null,null,null,null,null,null,null,null,null,null,"Armario con seguridad",1,null,"Condición","Será requerido en el caso que tenga medicamentos que contienen sustancias estupefacientes y/o psicótropicas"]
[null,null,null,null,null,null,null,null,null,null,"Estantería ",1]
[null,null,null,null,null,null,null,null,null,null,"Refrigerador con termo higrómetro",1]
[null,null,null,null,null,null,null,null,null,null,"Termo higrómetro ambiental",1]
[null,null,null,null,null,null,null,null,null,null,"Basurero",2,null,null,"Recipientes para desechos no peligrosos - comunes y peligrosos - especiales"]
[null,null,null,null,null,null,null,null,null,null,"Lavabo",1,null,null,"Puede estar en otro ambiente pero se tiene que asegurar la bioseguridad pasiva"]
[null,null,null,null,null,null,null,null,null,null,"Dispensador  de jabón",1,null,null,"Puede estar en otro ambiente pero se tiene que asegurar la bioseguridad pasiva"]
[null,null,null,null,null,null,null,null,null,null,"Dispensador de papel toalla ",1,null,null,"Puede estar en otro ambiente pero se tiene que asegurar la bioseguridad pasiva"]
[null,null,null,null,"Bodega","AMBIENTE",1,null,"Para construcciones nuevas calcular según demanda funcional","Requerido","Estantería ",1]
[null,null,null,null,null,null,null,null,null,null,"Pallet",1,null,null,"Según la normativa"]
[null,null,null,null,null,null,null,null,null,null,"Refrigerador con termo higrómetro",1]
[null,null,null,null,null,null,null,null,null,null,"Termo higrómetro ambiental",1]
[null,null,null,null,null,null,null,null,null,null,"Extintor de incendios  portátil  ",1,null,null,"La especificación será según normativa"]
[null,null,null,null,null,null,null,null,null,null,"Escalera pata de gallo / Gradilla",1,null,null,"Si es que tiene estanterías altas que no sean accesibles al operador/funcionario/usuario"]
[null,null,null,"INSTALACIONES","Estructura General ","INSTALACIÓN",1,"EG_01",null,"Requerido"]
[null,null,null,null,"Instalaciones Generales","INSTALACIÓN",1,"IG_01",null,"Requerido"]
["ADMINISTRATIVO","ADMINISTRACIÓN TÉCNICA","Área Técnica","AMBIENTES","Despacho del Director (Puede ser un consultorio médico de uso exclusivo del director [Nefrólogo])","AMBIENTE",1,null,"Para construcciones nuevas deseable 13m2","Requerido","Escritorio/Mesa de despacho",1,"EQ_01"]
[null,null,null,null,null,null,null,null,null,null,"Armario/Archivador",1]
[null,null,null,null,null,null,null,null,null,null,"Computador completo (Portátil o de Escritorio)",1,"EQ_02"]
[null,null,null,null,null,null,null,null,null,null,"Basurero",1,null,null,"Recipiente para desechos comunes"]
[null,null,null,null,null,null,null,null,null,null,"Perchero de pie/Gancho doble",1]
[null,null,null,null,null,null,null,null,null,null,"Silla confidente ",2]
[null,null,null,null,null,null,null,null,null,null,"Silla",1]
[null,null,null,null,"Sala de espera","AMBIENTE",1,null,"Para construcciones nuevas deseable 9 m2","Condición","Bancas / sillas",2,null,null,"Mínimo contar con 6 puestos para la sala de espera (bancas en tándem o sillas o sillones)"]
[null,null,null,null,null,null,null,null,null,null,"Basurero",1,null,null,"Recipiente para desechos comunes"]
[null,null,null,null,null,null,null,null,null,null,"Reloj de pared",1]
[null,null,null,null,"Secretaría (no exclusiva de la Dirección, puede encontrarse en el área de Admisión, Información y Recepción)","AMBIENTE",1,null,"Para construcciones nuevas deseable 8m2","Requerido","Escritorio/Mesa de despacho",1,"EQ_01"]
[null,null,null,null,null,null,null,null,null,null,"Armario/Archivador",1]
[null,null,null,null,null,null,null,null,null,null,"Basurero",1,null,null,"Recipiente para desechos comunes"]
[null,null,null,null,null,null,null,null,null,null,"Perchero de pie/Gancho doble",1]
[null,null,null,null,null,null,null,null,null,null,"Silla confidente",2]
[null,null,null,null,null,null,null,null,null,null,"Silla",1]
[null,null,null,null,"Despacho de Jefe de Enfermeras","AMBIENTE",1,null,"Para construcciones nuevas deseable 8m2","Requerido","Escritorio/Mesa de despacho",1,"EQ_01"]
[null,null,null,null,null,null,null,null,null,null,"Armario/Archivador",1]
[null,null,null,null,null,null,null,null,null,null,"Computador completo (Portátil o de Escritorio)",1,"EQ_02"]
[null,null,null,null,null,null,null,null,null,null,"Basurero",1,null,null,"Recipiente para desechos comunes"]
[null,null,null,null,null,null,null,null,null,null,"Perchero de pie/Gancho doble",1]
[null,null,null,null,null,null,null,null,null,null,"Silla",2]
[null,null,null,null,"Oficina de  Trabajo Social (Puede compartir con los Consultorios de Psicología y Nutrición, únicamente cuando esta se encuentre en consulta externa. Es un área de uso exclusivo que debe asegurar la privacidad del usuario)","AMBIENTE",1,null,"Para construcciones nuevas deseable 12m2","Requerido","Escritorio/Mesa de despacho",1,"EQ_01"]
[null,null,null,null,null,null,null,null,null,null,"Computador completo (Portátil o de escritorio)",1,"EQ_02"]
[null,null,null,null,null,null,null,null,null,null,"Armario/Vitrina/Archivador",1]
[null,null,null,null,null,null,null,null,null,null,"Basurero",1,null,null,"Recipiente para desechos comunes"]
[null,null,null,null,null,null,null,null,null,null,"Dispensador para solución hidroalcohólica",1]
[null,null,null,null,null,null,null,null,null,null,"Silla confidente",2]
[null,null,null,null,null,null,null,null,null,null,"Silla",1]
[null,null,null,null,"Despacho de Responsable de Talento Humano (Puede estar en un ambiente compartido con la Zona de Trabajo de técnico financiero, debe demostrarse la gestión)","AMBIENTE",1,null,"Para construcciones nuevas deseable 8m2","Condición","Escritorio/Mesa de despacho",1,"EQ_01"]
[null,null,null,null,null,null,null,null,null,null,"Armario/Archivador",1]
[null,null,null,null,null,null,null,null,null,null,"Computador completo (Portátil o de Escritorio)",1,"EQ_02"]
[null,null,null,null,null,null,null,null,null,null,"Basurero",1,null,null,"Recipiente para desechos comunes"]
[null,null,null,null,null,null,null,null,null,null,"Perchero de pie/Gancho doble",1]
[null,null,null,null,null,null,null,null,null,null,"Silla confidente",2]
[null,null,null,null,null,null,null,null,null,null,"Silla",1]
[null,null,null,null,"Zona de trabajo de Técnico financiero","AMBIENTE",1,null,"Para construcciones nuevas deseable 6m2","Condición","Escritorio/Mesa de despacho",1,"EQ_01"]
[null,null,null,null,null,null,null,null,null,null,"Armario/Archivador",1]
[null,null,null,null,null,null,null,null,null,null,"Computador completo (Portátil o de Escritorio)",1,"EQ_02"]
[null,null,null,null,null,null,null,null,null,null,"Basurero",1,null,null,"Recipiente para desechos comunes"]
[null,null,null,null,null,null,null,null,null,null,"Perchero de pie/Gancho doble",1]
[null,null,null,null,null,null,null,null,null,null,"Silla",1]
[null,null,null,null,"Baño de personal","AMBIENTE",2,null,"Para construcciones nuevas deseable 4m2","Requerido","Dispensador de jabón",1]
[null,null,null,null,null,null,null,null,null,null,"Dispensador de papel toalla",1,null,null,"Se justifica en el caso de contar con secador de manos"]
[null,null,null,null,null,null,null,null,null,null,"Dispensador papel higiénico",1]
[null,null,null,null,null,null,null,null,null,null,"Inodoro",1]
[null,null,null,null,null,null,null,null,null,null,"Espejo empotrado ",1]
[null,null,null,null,null,null,null,null,null,null,"Gancho doble",1]
[null,null,null,null,null,null,null,null,null,null,"Lavabo ",1]
[null,null,null,null,null,null,null,null,null,null,"Basurero",1,null,null,"Recipiente para desechos comunes"]
[null,null,null,null,null,null,null,null,null,null,"Barras de apoyo",1,null,"Condición","Requerido en el caso de contar con personal con discapacidad"]
[null,null,null,"INSTALACIONES","Estructura General ","INSTALACIÓN",1,"EG_01",null,"Requerido"]
[null,null,null,null,"Instalaciones Generales","INSTALACIÓN",1,"IG_01",null,"Requerido"]
["GENERAL","SERVICIOS INTERNOS DE APOYO","Área de Apoyo y  almacenamiento ( suministros e insumos) para el establecimiento","AMBIENTES","Recepción-Admisión","AMBIENTE",1,null,"Para construcciones nuevas deseable 6 m2","Condición","Mostrador / escritorio/Mesa de despacho",1,"EQ_01"]
[null,null,null,null,null,null,null,null,null,null,"Armario/Archivador",1]
[null,null,null,null,null,null,null,null,null,null,"Computador completo (Portátil o de Escritorio)",1,"EQ_02","Condición"]
[null,null,null,null,null,null,null,null,null,null,"Basurero",1,null,null,"Recipiente para desechos comunes"]
[null,null,null,null,null,null,null,null,null,null,"Silla",1]
[null,null,null,null,null,null,null,null,null,null,"Tablero de avisos ",1]
[null,null,null,null,null,null,null,null,null,null,"Teléfono",1,null,"Condición"]
[null,null,null,null,"Bodega General","AMBIENTE",1,null,"Para construcciones nuevas deseable 30 m2, dimensionar en función del tamaño del Centro y la accesibilidad geográfica","Requerido","Escalera pata de gallo/Gradilla",1,null,null,"Si dispone de estanterías con altura que no sea de alcance para el funcionario"]
[null,null,null,null,null,null,null,null,null,null,"Extintor de incendios portátil",1,null,null,"Según normativa"]
[null,null,null,null,null,null,null,null,null,null,"Estantería",2]
[null,null,null,"INSTALACIONES","Estructura General ","INSTALACIÓN",1,"EG_01",null,"Requerido"]
[null,null,null,null,"Instalaciones Generales","INSTALACIÓN",1,"IG_01",null,"Requerido"]
[null,null,"Área del Personal","AMBIENTES","Vestidor","AMBIENTE",2,null,"Para construcciones nuevas deseable con baño, ajustar el 60% de la plantilla, dimensionar 0,5m2 por persona. Mínimo 10m2","Requerido","Casilleros/Lockers",5]
[null,null,null,null,null,null,null,null,null,null,"Banco de vestuario",1]
[null,null,null,null,null,null,null,null,null,null,"Gancho doble",1]
[null,null,null,null,null,null,null,null,null,null,"Basurero",1,null,null,"Recipiente para desechos comunes"]
[null,null,null,null,"Baño de vestidor","AMBIENTE",2,null,null,"Requerido","Dispensador de jabón",1]
[null,null,null,null,null,null,null,null,null,null,"Dispensador de papel toalla",1]
[null,null,null,null,null,null,null,null,null,null,"Dispensador de papel higiénico",1]
[null,null,null,null,null,null,null,null,null,null,"Inodoro",1]
[null,null,null,null,null,null,null,null,null,null,"Espejo empotrado ",1]
[null,null,null,null,null,null,null,null,null,null,"Gancho doble",1]
[null,null,null,null,null,null,null,null,null,null,"Barras de apoyo",1,null,"Deseable"]
[null,null,null,null,null,null,null,null,null,null,"Lavabo ",1]
[null,null,null,null,null,null,null,null,null,null,"Basurero",1,null,null,"Recipiente para desechos comunes"]
[null,null,null,null,"Cafetería","AMBIENTE",1,null,"Para construcciones nuevas 4m2","Condición","Mesa",1]
[null,null,null,null,null,null,null,null,null,null,"Cafetera ",1]
[null,null,null,null,null,null,null,null,null,null,"Gancho doble",1]
[null,null,null,null,null,null,null,null,null,null,"Mesón con Lavabo",1]
[null,null,null,null,null,null,null,null,null,null,"Microondas",1]
[null,null,null,null,null,null,null,null,null,null,"Basurero",1,null,null,"Recipiente para desechos comunes"]
[null,null,null,null,null,null,null,null,null,null,"Silla",4]
[null,null,null,null,"Sala de reuniones","AMBIENTE",1,null,"Para construcciones nuevas deseable 16 m2","Condición","Mesa de reuniones",1]
[null,null,null,null,null,null,null,null,null,null,"Computador completo (Portátil o de Escritorio)",1,"EQ_02","Condición"]
[null,null,null,null,null,null,null,null,null,null,"Mueble para computadora",1,null,"Condición"]
[null,null,null,null,null,null,null,null,null,null,"Proyector multimedia",1]
[null,null,null,null,null,null,null,null,null,null,"Silla",4]
[null,null,null,null,null,null,null,null,null,null,"Archivador",1]
[null,null,null,"INSTALACIONES","Estructura General ","INSTALACIÓN",1,"EG_01",null,"Requerido"]
[null,null,null,null,"Instalaciones Generales","INSTALACIÓN",1,"IG_01",null,"Requerido"]
[null,null,"Limpieza","AMBIENTES","Bodega (Puede encontrarse dentro de la bodega general, pero en un área diferenciada)","AMBIENTE",1,null,"Para construcciones nueva 8m2 ","Requerido","Estantería",1]
[null,null,null,null,"Cuarto de Limpieza (será requerido en el caso de no contar con cuartos de limpieza en los servicios que lo requieran) ","AMBIENTE",1,null,"Para construcciones nuevas deseable 2m2","Condición","Coche de limpieza",1]
[null,null,null,null,null,null,null,null,null,null,"Stock de Insumos de Limpieza",1,"EQ_05"]
[null,null,null,null,null,null,null,null,null,null,"Estantería",1]
[null,null,null,null,null,null,null,null,null,null,"Lavadero con poza profunda para el preparado y enjuague de los útiles de limpieza",1]
[null,null,null,null,"Vestidor (Será requerido en el caso de que en el vestidor del área de personal no se ha previsto un espacio exclusivo para el personal de limpieza)","AMBIENTE",1,null,"Para construcciones nuevas deseable con baño, ajustar el 60% de la plantilla, dimensionar 0,5m2 por persona. Mínimo 10m2","Condición","Casilleros/Lockers",5]
[null,null,null,null,null,null,null,null,null,null,"Banco de vestuario",1]
[null,null,null,null,null,null,null,null,null,null,"Gancho doble",1]
[null,null,null,null,null,null,null,null,null,null,"Basurero",1,null,null,"Recipiente para desechos comunes"]
[null,null,null,null,"Baño de vestidor","AMBIENTE",1,null,null,"Condición","Dispensador de jabón",1]
[null,null,null,null,null,null,null,null,null,null,"Dispensador de papel toalla",1]
[null,null,null,null,null,null,null,null,null,null,"Dispensador de papel higiénico",1]
[null,null,null,null,null,null,null,null,null,null,"Inodoro",1]
[null,null,null,null,null,null,null,null,null,null,"Espejo empotrado ",1]
[null,null,null,null,null,null,null,null,null,null,"Gancho doble",1]
[null,null,null,null,null,null,null,null,null,null,"Barras de apoyo",1,null,"Deseable"]
[null,null,null,null,null,null,null,null,null,null,"Lavabo ",1]
[null,null,null,null,null,null,null,null,null,null,"Basurero",1,null,null,"Recipiente para desechos comunes"]
[null,null,null,"INSTALACIONES","Estructura General ","INSTALACIÓN",1,"EG_01",null,"Requerido"]
[null,null,null,null,"Instalaciones Generales","INSTALACIÓN",1,"IG_01",null,"Requerido"]
[null,null,"Lavandería","AMBIENTES","Recepción y clasificación de ropa usada","AMBIENTE",1,null,"Para construcciones nuevas deseable 6m2","Condición","Mostrador ",1,"EQ_01","Condición"]
[null,null,null,null,null,null,null,null,null,null,"Armario/Archivador",1]
[null,null,null,null,null,null,null,null,null,null,"Coche de transporte de ropa sucia",1]
[null,null,null,null,null,null,null,null,null,null,"Basurero",1,null,null,"Recipiente para desechos comunes"]
[null,null,null,null,"Lavado","AMBIENTE",1,null,"Para construcciones nuevas deseable 15m2,  dimensionar de acuerdo a la necesidad del establecimiento.","Condición","Lavadora ",1]
[null,null,null,null,null,null,null,null,null,null,"Secadora",1]
[null,null,null,null,null,null,null,null,null,null,"Mesa de trabajo  ",1]
[null,null,null,null,"Planchado","AMBIENTE",1,null,"Para construcciones nuevas deseable 15m2,  dimensionar de acuerdo a la necesidad del establecimiento.","Condición","Estantería básica",1]
[null,null,null,null,null,null,null,null,null,null,"Mesa de trabajo  ",1]
[null,null,null,null,null,null,null,null,null,null,"Plancha",1]
[null,null,null,null,"Bodega general de ropería","AMBIENTE",1,null,"Para construcciones nuevas 10m2 ","Condición","Coche de transporte de ropa limpia "]
[null,null,null,null,null,null,null,null,null,null,"Estantería básica",4]
[null,null,null,"INSTALACIONES","Estructura General ","INSTALACIÓN",1,"EG_01",null,"Condición"]
[null,null,null,null,"Instalaciones Generales","INSTALACIÓN",1,"IG_01",null,"Condición"]
[null,null,"Almacenamiento Final de Desechos","AMBIENTES","Área de Almacenamiento de Desechos no peligrosos - Comunes","AMBIENTE",1,null,"Para construcciones nuevas calcular según demanda funcional. (cantidades generadas) ","Requerido","Contenedor ",1]
[null,null,null,null,"Área de Almacenamiento de Desechos Peligrosos- Infecciosos","AMBIENTE",1,null,"Para construcciones nuevas calcular según demanda funcional. (cantidades generadas) ","Requerido","Contenedor ",1]
[null,null,null,null,"Área de Desechos Peligrosos- Especiales","AMBIENTE",1,null,"Para construcciones nuevas calcular según demanda funcional. (cantidades generadas) ","Requerido","Contenedor ",1]
[null,null,null,"INSTALACIONES","Estructura General ","INSTALACIÓN",1,"EG_01",null,"Requerido"]
[null,null,null,null,"Instalaciones Generales","INSTALACIÓN",1,"IG_01",null,"Requerido"]
["NOTA GENERAL.- Para construcciones nuevas, las áreas se calcularán según el tipo del establecimiento y las demandas funcionales del espacio, respetando las normas nacionales existentes (INEN, Código Ecuatoriano de Construcción, Ordenanzas, etc.) y las internacionales que apliquen cuando las nacionales no son suficientes. Tomar en cuenta equipamiento y personal que lo maneja así como la cantidad de usuarios del espacio en los momentos críticos o de mayor demanda. "]
[]
[]
[]
["INSTALACIONES DEL LOCAL","Estructura General",null,"Áreas adecuadas para el tránsito de sillas de ruedas",null,"INSTALACION",null,null,null,"Requerido"]
[null,"Instalaciones eléctricas generales (iluminación y fuerza)",null,"Red de tomas de energía",null,"INSTALACION",1,null,null,"Requerido"]
[null,null,null,"Red de instalaciones para iluminación",null,"INSTALACION",1,null,null,"Requerido"]
[null,null,null,"Acometidas Eléctricas  (tableros de control - interruptores termomagnéticos-)",null,"INSTALACION",1,null,null,"Requerido"]
[null,null,null,"Sistema de soporte de energía eléctrica  de emergencia. (Generación o respaldo de baterías generales o individuales)",null,"INSTALACION",1,null,null,"Requerido"]
[null,null,null,"Instalaciones de pararrayos",null,"INSTALACION",1,null,"Según estudios de especialista","Condición"]
[null,"Instalaciones electrónicas",null,"Sensores y alarmas para incendios",null,"INSTALACION",1,null,null,"Requerido"]
[null,null,null,"Sistema de audio centralizado",null,"INSTALACION",1,null,null,"Condición"]
[null,"Instalaciones de telecomunicaciones",null,"Instalaciones telefónicas convencionales",null,"INSTALACION",1,null,null,"Requerido"]
[null,null,null,"Suministro de Internet ",null,"INSTALACION",1,null,null,"Requerido"]
[null,"Instalaciones de abastecimiento de agua",null,"Reservorio y sistema de provisión de agua potable para casos de  emergencia por falta de provisión normal de la misma. Ejem: Cisterna/tanques ",null,"INSTALACION",1,null,null,"Requerido"," "]
[null,null,null,"Sistema de tratamiento de agua para uso en hemodiálisis (Puede estar centralizado o en cada máquina)",null,"INSTALACIÓN",1,null,null,"Requerido"]
[null,null,null,"Instalaciones de agua fría",null,"INSTALACION",1,null,null,"Requerido"]
[null,null,null,"Instalaciones de agua caliente",null,"INSTALACION",1,null,null,"Condición"]
[null,"Instalaciones de desagüe",null,"Instalaciones de tratamiento de desechos líquidos (Debe haber una instalación de desinfección de agua en el drenaje final previo a la salida a la red de alcantarillado)",null,"INSTALACIÓN",1,null,null,"Requerido"]
[null,null,null,"Red de instalaciones internas de recolección y conducción de aguas servidas.",null,"INSTALACION",1,null,null,"Requerido"]
[null,"Instalaciones mecánicas generales",null,"Instalaciones de gases medicinales - Red centralizada",null,"INSTALACION",1,null,"En el caso de no poseer red centralizada, se debe verificar la presencia de tanques de oxígeno y aspiradores de secreciones portátiles","Requerido"]
[null,null,null,"Sistemas centralizados de aire acondicionado. Enfriadores(Chillers)-Unidades manejadoras de aire (UMAS)",null,"INSTALACION",1,null,"Será requerido en áreas geográficas con condiciones ambientales desfavorables ","Condición"]
[null,null,null,"Redes de ductos de aire acondicionado y/o ventilación/extracción",null,"INSTALACION",1,null,null,"Condición"]
[null,"Instalaciones generales",null,"Instalaciones de ascensores (circulación vertical)",null,"INSTALACION",1,null,"Será requerido en caso de tener más de una planta y se realice atención asistencial o procedimientos a los pacientes desde la  segunda planta arquitectónica, se requerirá como mínimo un monta camillas o como alternativa el diseño de rampa","Condición"]
[null,null,null,"Sistema de ventilación",null,"INSTALACION",1,null,"Puede ser ventilación artificial (ventiladores/extractores) o natural (ventanería)","Requerido"]
[null,null,null,"Señalización externa e interna",null,"INSTALACION",1,null,null,"Requerido"]

{"sheet":"BaseTalentoHumano","index":1,"n_rows":25,"n_cols":10,"rows_kept":25,"cut":false,"hidden":true,"merged":[[17,0,18,0],[17,1,18,1],[17,2,18,2],[19,0,22,0],[19,1,22,1],[19,2,22,2],[23,0,24,0],[0,0,0,9],[3,0,6,0],[3,1,6,1],[3,2,6,2],[7,0,14,0],[7,1,14,1],[7,2,10,2],[11,2,13,2],[23,1,24,1],[15,0,16,0],[15,1,16,1],[15,2,16,2]]}
[" CENTRO ESPECIALIZADO EN SALUD RENAL"]
["GRUPO 00","GRUPO 01","GRUPO 02","Personal","Tipo Personal","Cant Mínima","Por Puestos; Pacientes;Servicios; Turnos","ANEXO","Observaciones","TIPO"]
["ADMINISTRATIVO","ADMISIÓN Y ESTADISTICA","Recepción, Admisión e Información","Analista de Admisiones y Estadísticas","ADMINISTRATIVO",1,null,null,null,"Requerido"]
["ASISTENCIAL","CONSULTA EXTERNA","Área de Atención de Consulta","Licenciada/o en Enfermería ","ASISTENCIAL",1,null,null,"Requerida en el caso de haber más de 5 consultorios médicos","Condición"]
[null,null,null,"Médico Especialista en Nefrología","ASISTENCIAL",1,null,null,"Puede ser el mismo director médico","Requerido"]
[null,null,null,"Psicologo  Clínico   ","ASISTENCIAL",1,null,null,null,"Requerido"]
[null,null,null,"Nutricionista","ASISTENCIAL",1,null,null,null,"Requerido"]
["APOYO TERAPÉUTICO","ATENCIÓN DE APOYO TERAPÉUTICO","Área de Procedimientos","Médico Especialista en Cirugía Vascular","ASISTENCIAL",1,null,null,"Será requerido en el caso de que realice y repare accesos vasculares","Condición"]
[null,null,null,"Médico Especialista en Cirugía Digestiva o en Cirugía General con experiencia en colocación de catéteres peritoneales","ASISTENCIAL",1,null,null,"Será requerido en el caso de que realice inserción de catéteres","Condición"]
[null,null,null,"Licenciada/o en Enfermería con experiencia en instrumentación","ASISTENCIAL",1,null,null,"Será requerido en el caso de que realice inserción de catéteres","Condición"]
[null,null,null,"Auxiliar o Asistente  de Enfermería","ASISTENCIAL",1,null,null,"Será requerido en el caso de que realice inserción de catéteres","Condición"]
[null,null,"Área de Tratamiento de Hemodiálisis","Médico Tratante especialista en Nefrología o cualquier Médico con experiencia mínima de 2 años en servicios de diálisis y/o emergencia y/o terapia intensiva y/o formación en diálisis certificada por Universidades acreditadas, notarizados) (1 profesional por turno)","ASISTENCIAL",1,null,null,null,"Requerido"]
[null,null,null,"Licenciada/o en Enfermería con experiencia mínima de 1 año en servicios de diálisis y/o emergencia y/o terapia intensiva y/o formación en diálisis certificada por Universidades acreditadas, notarizados) (1 profesional por cada 7 puestos)","ASISTENCIAL",1,7,null,null,"Requerido"]
[null,null,null,"Auxiliar o Asistente  de Enfermería (1 por cada 14 puestos) (personal de enfermería con experiencia en diálisis)","ASISTENCIAL",1,14,null,null,"Requerido"]
[null,null,"Área de Diálisis Peritoneal","Licenciada/o en Enfermería con experiencia mínima de 1 año en servicios de diálisis y/o emergencia y/o terapia intensiva y/o formación en diálisis certificada por Universidades acreditadas, notarizados) (1 profesional por cada 50 pacientes)","ASISTENCIAL",1,50,null,"Será requerida en el caso de contar con la prestación","Condición"]
["APOYO DIAGNÓSTICO","DIAGNÓSTICO EN LABORATORIO (LABORATORIO DE ANÁLISIS CLÍNICO)","Área de Análisis","Tecnólogo /Licenciado en Laboratorio Clínico","ASISTENCIAL",1,null,null,null,"Condición"]
[null,null,null,"Auxiliar de Laboratorio ","ADMINISTRATIVO",1,null,null,null,"Condición"]
["APOYO TERAPÉUTICO","DOTACIÓN DE MEDICAMENTOS Y DISPOSITIVOS MÉDICOS (FARMACIA)","Dispensación","Químico / Bioquímico/Farmacéutico","ADMINISTRATIVO",1,null,null,null,"Requerido"]
[null,null,null,"Asistente de Farmacia ","ASISTENCIAL",1,null,null,null,"Requerido"]
["ADMINISTRATIVO","ADMINISTRACIÓN TÉCNICA","Área Técnica","Director Médico (Médico espcialista en Nefrología)","ADMINISTRATIVO",1,null,null,"Puede ser el mismo encargado de dar la prestación de consulta externa","Requerido"]
[null,null,null,"Secretaria","ADMINISTRATIVO",1,null,null,"Puede ser el mismo Analista de Admisión y Estadísticas","Requerido"]
[null,null,null,"Trabajador Social","ASISTENCIAL",1,null,null,null,"Requerido"]
[null,null,null,"Jefe de Enfermería (Lcda. (o) en Enfermería con experiencia mínima de 2 años en servicios de diálisis y/o emergencia y/o terapia intensiva y/o formación en diálisis certificada por Universidades acreditadas, notarizados)","ADMINISTRATIVO",1,null,null,null,"Requerido"]
["GENERAL","SERVICIOS INTERNOS DE APOYO","Área de Apoyo y  almacenamiento ( suministros e insumos) para el establecimiento","Auxiliar de Servicios","ADMINISTRATIVO",1,null,null,null,"Requerido"]
[null,null,"Limpieza","Auxiliar de Servicios ","ADMINISTRATIVO",1,null,null,null,"Requerido"]

{"sheet":"BaseNorma","index":2,"n_rows":293,"n_cols":8,"rows_kept":293,"cut":false,"hidden":true,"merged":[[231,0,286,0],[231,1,286,1],[231,2,275,2],[276,2,286,2],[287,0,292,0],[287,1,292,2],[207,0,214,0],[207,1,214,1],[207,2,214,2],[215,0,230,0],[215,1,230,1],[215,2,230,2],[141,0,206,0],[141,1,206,1],[141,2,152,2],[153,2,179,2],[180,2,206,2],[2,0,2,7],[4,0,21,0],[4,1,21,1],[4,2,21,2],[22,0,140,0],[22,1,140,1],[22,2,59,2],[60,2,95,2],[96,2,119,2],[120,2,140,2]]}
[]
[]
[" CENTRO ESPECIALIZADO EN SALUD RENAL"]
["GRUPO 00","GRUPO 01","GRUPO 02","Personal","Cant Mínima","Factor","Observaciones","TIPO"]
["ADMINISTRATIVO","ADMISIÓN Y ESTADISTICA","Admisión, Información y Recepción","Instructivo para el Llenado del Registro Diario Automatizado de Consultas y Atenciones Ambulatorias (RDACAA). 2013",1,null,"Será requerido para Establecimientos del MSP","Condición"]
[null,null,null,"Manual de Instalación del Tarjetero índice",1,null,"Será requerido para Establecimientos del MSP","Condición"]
[null,null,null,"Manual del Usuario del Tarjetero Indice",1,null,"Será requerido para Establecimientos del MSP","Condición"]
[null,null,null,"Manual de Manejo, Archivo de las Historias Clínicas",1,null,null,"Requerido"]
[null,null,null,"Norma Técnica: Subsistema de Referencia, Derivación, Contrareferencia, Referencia inversa y Transferencia del Sistema Nacional de Salud. 2014",1,null,null,"Requerido"]
[null,null,null,"Políticas Uso de Servicios de Red y Servicios Informáticos del Ministerio de Salud Pública",1,null,"Será requerido para Establecimientos del MSP","Condición"]
[null,null,null,"Modelo de Gestión de requerimientos e inconformidades ciudadanas para mejorar los servicios de salud a nivel nacional",1,null,null,"Requerido"]
[null,null,null,"Reglamento de Señalización de Seguridad para Establecimientos de Salud",1,null,null,"Requerido"]
[null,null,null,"Registro de Indicadores de Morbilidad y Mortalidad",1,null,null,"Requerido"]
[null,null,null,"Acuerdo Ministerial 5212: Tipología Sustitutiva para Homologar los Establecimientos de Salud por Niveles de Atención y Servicios de Apoyo del Sistema Nacional de Salud",1,null,null,"Requerido"]
[null,null,null,"Manual de Normas de Bioseguridad para la Red de Servicios de Salud en el Ecuador",1,null,null,"Requerido"]
[null,null,null,"Norma Técnica: Atención Integral en Violencia de Género. 2014",1,null,null,"Requerido"]
[null,null,null,"Protocolos de Procedimientos de Limpieza",1,null,null,"Requerido"]
[null,null,null,"Registro de limpieza del área funcional del Establecimiento",1,null,null,"Requerido"]
[null,null,null,"Registro de Mantenimiento de Equipos: Preventivo y/o Correctivo",1,null,null,"Requerido"]
[null,null,null,"Acuerdo Ministerial 115: Manual de Seguridad del Paciente- Usuario",1,null,null,"Requerido"]
[null,null,null,"Acuerdo Ministerial 5186: Reglamento Interministerial para la Gestión Integral de Desechos Sanitarios",1,null,null,"Requerido"]
[null,null,null,"Registro de Sistema de Información y Análisis Estadístico que Incluya: Consultas, Interconsultas, Procedimientos, Índice de Infecciones, Morbimortalidad, Manejo de Accesos Vasculare y/o Catéteres Peritoneales, Anemia, Hipertensión Arterial, Enfermedad Ósea, Nutrición, Atención Psicológica, Trabajo Social y Complicaciones de la hemodiálisis y/o Diálisis Peritoneal",1,null,null,"Requerido"]
["ASISTENCIAL","CONSULTA EXTERNA","Enfermería (En el caso de contar con la prestación, las condiciones se vuelven requeridas)","Instructivo para el Llenado del Registro Diario Automatizado de Consultas y Atenciones Ambulatorias (RDACAA). 2013",1,null,"Será requerido para Establecimientos del MSP","Condición"]
[null,null,null,"Clasificación Estadística Internacional de Enfermedades y Problemas Relacionados con la Salud. Décima Revisión - CIE10 ",1,null,null,"Condición"]
[null,null,null,"Reglamento a la Ley Organica de Salud",1,null,null,"Condición"]
[null,null,null,"Guía para la adecuación cultural de los servicios de salud. 2006",1,null,null,"Condición"]
[null,null,null,"Manual del modelo de atención integral en salud - MAIS. 2013",1,null,null,"Condición"]
[null,null,null,"Ley Derechos y Amparo al Paciente",1,null,null,"Condición"]
[null,null,null,"Cuadro nacional de medicamentos básicos y registro terapéutico. 9na revisión",1,null,null,"Condición"]
[null,null,null,"Acuerdo Ministerial 4693: Reforma a la 9na. Revisión del Cuadro Nacional de Medicamentos Básicos y Registro Terapéutico",1,null,null,"Condición"]
[null,null,null,"Modelo de gestión de aplicación de consentimiento informado en práctica asistencial. 2015",1,null,null,"Condición"]
[null,null,null,"Guía de Práctica Clínica: Cuidados Paliativos. 2014",1,null,null,"Condición"]
[null,null,null,"Norma de atención Cuidados Paliativos. 2015 ",1,null,null,"Condición"]
[null,null,null,"Guía de cuidados paliativos para el ciudadano",1,null,null,"Condición"]
[null,null,null,"Manual de procedimientos de Enfermería",1,null,null,"Condición"]
[null,null,null,"Guía de Práctica Clínica: Lupus eritematoso sistémico (LES). 2013 ",1,null,null,"Condición"]
[null,null,null,"Guía de Práctica Clínica: Transfusión de sangre y sus componentes. 2013 ",1,null,null,"Condición"]
[null,null,null,"Guía de Práctica Clínica: Prevención, Diagnóstico, Tratamiento y Control de la Tuberculosis. 2015",1,null,null,"Condición"]
[null,null,null,"Manual de Normas y Procedimientos para el Control de la Tuberculosis en Ecuador. 2010",1,null,null,"Condición"]
[null,null,null,"Guía de atención integral de adultos y Adolescentes con infección por VIH/SIDA. 2012",1,null,"Será requerido en el caso de ofertar la prestación","Condición"]
[null,null,null,"Normas y protocolos de atención integral de salud de las y los adultos mayores - 1. 2010",1,null,null,"Condición"]
[null,null,null,"Normas y protocolos de atención integral de salud de las y los adultos mayores - 2. 2010",1,null,null,"Condición"]
[null,null,null,"Normas y protocolos de atención integral de salud de las y los adultos mayores - 3. 2010",1,null,null,"Condición"]
[null,null,null,"Manual para cuidadores de la persona adulta mayor dependiente",1,null,null,"Condición"]
[null,null,null,"Normas de atención integral a la niñez. 2011 ",1,null,"Será requerido en el caso de ofertar la prestación","Condición"]
[null,null,null,"Normas y procedimientos para la atención integral de salud a adolescentes. 2009",1,null,"Será requerido en el caso de ofertar la prestación","Condición"]
[null,null,null,"Guía de Supervisión: Salud de Adolescentes. 2014",1,null,"Será requerido en el caso de ofertar la prestación","Condición"]
[null,null,null,"Promoción de la Salud Mental: Manejo del Estrés",1,null,null,"Condición"]
[null,null,null,"Guía de Abordaje del Tabaquismo en Atención Primaria de Salud",1,null,null,"Condición"]
[null,null,null,"Manual de procedimientos de antropometría y determinación de la presión arterial. 2012",1,null,null,"Condición"]
[null,null,null,"Acuerdo Ministerial 114: Vigilancia epidemiológica de las enfermedades crónicas no transmisibles",1,null,null,"Requerido"]
[null,null,null,"Acuerdo Ministerial 1124: Instructivo para el uso de la Receta Médica. ",1,null,"Será requerido para Establecimientos del MSP","Condición"]
[null,null,null,"Acuerdo Ministerial 4912: Reforma al Reglamento para la Gestión del Suministro de Medicamentos y Control Administrativo Financiero, y el Instructivo  para el uso de la Receta Médica.",1,null,"Será requerido para Establecimientos del MSP","Condición"]
[null,null,null,"Acuerdo Ministerial 115: Manual de Seguridad del Paciente- Usuario",1,null,null,"Requerido"]
[null,null,null,"Acuerdo Ministerial 5186: Reglamento Interministerial para la Gestión Integral de Desechos Sanitarios",1,null,null,"Condición"]
[null,null,null,"Manual de lencería sanitaria para los establecimientos de salud pertenecientes al MSP. 2014",1,null,"Será requerido para Establecimientos del MSP","Condición"]
[null,null,null,"Manual de Normas de Bioseguridad para la Red de Servicios de Salud en el Ecuador",1,null,null,"Condición"]
[null,null,null,"Protocolos de Procedimientos de Limpieza, Desinfección y Esterilización",1,null,null,"Condición"]
[null,null,null,"Registro de limpieza y desinfección del área funcional del Establecimiento",1,null,null,"Condición"]
[null,null,null,"Registro de Mantenimiento de Equipos: Preventivo y/o Correctivo",1,null,null,"Condición"]
[null,null,"Consultorio Médico","Instructivo para el Llenado del Registro Diario Automatizado de Consultas y Atenciones Ambulatorias (RDACAA). 2013",1,null,"Será requerido para Establecimientos del MSP","Condición"]
[null,null,null,"Clasificación Estadística Internacional de Enfermedades y Problemas Relacionados con la Salud. Décima Revisión - CIE10 ",1,null,null,"Requerido"]
[null,null,null,"Reglamento a la Ley Organica de Salud",1,null,null,"Requerido"]
[null,null,null,"Guía para la adecuación cultural de los servicios de salud. 2006",1,null,null,"Requerido"]
[null,null,null,"Manual del modelo de atención integral en salud - MAIS. 2013",1,null,null,"Requerido"]
[null,null,null,"Ley Derechos y Amparo al Paciente",1,null,null,"Requerido"]
[null,null,null,"Ley de sustancias estupefacientes y Psicotrópicas",1,null,null,"Requerido"]
[null,null,null,"Cuadro nacional de medicamentos básicos y registro terapéutico. 9na revisión",1,null,null,"Requerido"]
[null,null,null,"Acuerdo Ministerial 4693: Reforma a la 9na. Revisión del Cuadro Nacional de Medicamentos Básicos y Registro Terapéutico",1,null,null,"Requerido"]
[null,null,null,"Norma Técnica: Subsistema de Referencia, Derivación, Contrareferencia, Referencia inversa y Transferencia del Sistema Nacional de Salud. 2014",1,null,null,"Requerido"]
[null,null,null,"Registro de Evolución de la Atención Médica y Procedimientos Efectuados",1,null,null,"Requerido"]
[null,null,null,"Registro de Indicadores para la Satisfacción del Usuario",1,null,null,"Requerido"]
[null,null,null,"Guía de Práctica Clínica: Cuidados Paliativos. 2014",1,null,null,"Requerido"]
[null,null,null,"Guía de Práctica Clínica: Lupus eritematoso sistémico (LES). 2013 ",1,null,null,"Requerido"]
[null,null,null,"Guía de Práctica Clínica: Transfusión de sangre y sus componentes. 2013 ",1,null,null,"Requerido"]
[null,null,null,"Guía de atención integral de adultos y Adolescentes con infección por VIH/SIDA. 2012",1,null,"Será requerido en el caso de ofertar la prestación","Condición"]
[null,null,null,"Guía de Práctica Clínica: Prevención, Diagnóstico, Tratamiento y Control de la Tuberculosis. 2015",1,null,null,"Requerido"]
[null,null,null,"Protocolo: Atención integral del consumo nocivo de alcohol, tabaco y otras drogas. 2016",1,null,null,"Requerido"]
[null,null,null,"Manual de Normas y Procedimientos para el Control de la Tuberculosis en Ecuador. 2010",1,null,null,"Requerido"]
[null,null,null,"Normas y protocolos para la alimentación y nutrición en la atención integral a personas que viven con VIH/SIDA. 2010",1,null,"Será requerido en el caso de ofertar la prestación","Condición"]
[null,null,null,"Norma de atención Cuidados Paliativos. 2015 ",1,null,null,"Requerido"]
[null,null,null,"Guía de cuidados paliativos para el ciudadano",1,null,null,"Requerido"]
[null,null,null,"Normas y protocolos de atención integral de salud de las y los adultos mayores - 1. 2010",1,null,null,"Requerido"]
[null,null,null,"Normas y protocolos de atención integral de salud de las y los adultos mayores - 2. 2010",1,null,null,"Requerido"]
[null,null,null,"Normas y protocolos de atención integral de salud de las y los adultos mayores - 3. 2010",1,null,null,"Requerido"]
[null,null,null,"Normas y procedimientos para la atención integral de salud a adolescentes. 2009",1,null,"Será requerido en el caso de ofertar la prestación","Condición"]
[null,null,null,"Guía de Supervisión: Salud de Adolescentes. 2014",1,null,"Será requerido en el caso de ofertar la prestación","Condición"]
[null,null,null,"Manual de procedimientos de antropometría y determinación de la presión arterial. 2012",1,null,null,"Requerido"]
[null,null,null,"Acuerdo Ministerial 1124: Instructivo para el uso de la Receta Médica. ",1,null,"Será requerido para Establecimientos del MSP","Condición"]
[null,null,null,"Acuerdo Ministerial 4912: Reforma al Reglamento para la Gestión del Suministro de Medicamentos y Control Administrativo Financiero, y el Instructivo  para el uso de la Receta Médica.",1,null,"Será requerido para Establecimientos del MSP","Condición"]
[null,null,null,"Acuerdo Ministerial 115: Manual de Seguridad del Paciente- Usuario",1,null,null,"Requerido"]
[null,null,null,"Acuerdo Ministerial 5186: Reglamento Interministerial para la Gestión Integral de Desechos Sanitarios",1,null,null,"Requerido"]
[null,null,null,"Manual de Normas de Bioseguridad para la Red de Servicios de Salud en el Ecuador",1,null,null,"Requerido"]
[null,null,null,"Protocolos de Procedimientos de Limpieza, Desinfección y Esterilización",1,null,null,"Requerido"]
[null,null,null,"Registro de limpieza y desinfección del área funcional del Establecimiento",1,null,null,"Requerido"]
[null,null,null,"Registro de Mantenimiento de Equipos: Preventivo y/o Correctivo",1,null,null,"Requerido"]
[null,null,"Consultorio de Psicología","Instructivo para el Llenado del Registro Diario Automatizado de Consultas y Atenciones Ambulatorias (RDACAA). 2013",1,null,"Será requerido para Establecimientos del MSP","Condición"]
[null,null,null,"Clasificación Estadística Internacional de Enfermedades y Problemas Relacionados con la Salud. Décima Revisión - CIE10 ",1,null,null,"Requerido"]
[null,null,null,"Reglamento a la Ley Organica de Salud",1,null,null,"Requerido"]
[null,null,null,"Guía para la adecuación cultural de los servicios de salud. 2006",1,null,null,"Requerido"]
[null,null,null,"Manual del modelo de atención integral en salud - MAIS. 2013",1,null,null,"Requerido"]
[null,null,null,"Ley Derechos y Amparo al Paciente",1,null,null,"Requerido"]
[null,null,null,"Ley de sustancias estupefacientes y Psicotrópicas",1,null,null,"Requerido"]
[null,null,null,"Cuadro nacional de medicamentos básicos y registro terapéutico. 9na revisión",1,null,null,"Requerido"]
[null,null,null,"Acuerdo Ministerial 4693: Reforma a la 9na. Revisión del Cuadro Nacional de Medicamentos Básicos y Registro Terapéutico",1,null,null,"Requerido"]
[null,null,null,"Norma Técnica: Subsistema de Referencia, Derivación, Contrareferencia, Referencia inversa y Transferencia del Sistema Nacional de Salud. 2014",1,null,null,"Requerido"]
[null,null,null,"Fundamentos de la Prevención en Materia de Drogas",1,null,"Será requerido para Establecimientos del MSP","Condición"]
[null,null,null,"Guía de Abordaje del Tabaquismo en Atención Primaria de Salud",1,null,"Será requerido para Establecimientos del MSP","Condición"]
[null,null,null,"Protocolo: Atención integral del consumo nocivo de alcohol, tabaco y otras drogas. 2016",1,null,null,"Requerido"]
[null,null,null,"Guía de Práctica Clínica: Lupus eritematoso sistémico (LES). 2013 ",1,null,null,"Requerido"]
[null,null,null,"Plan Estratégico Nacional de Salud Mental 2015 - 2017",1,null,null,"Requerido"]
[null,null,null,"Modelo de Atención de Salud Mental, en el Marco del Modelo de Atención Integral de Salud (MAIS) - con enfoque familiar, comunitario e intercultural",1,null,null,"Requerido"]
[null,null,null,"Acuerdo Ministerial 1124: Instructivo para el uso de la Receta Médica. ",1,null,"Será requerido para Establecimientos del MSP","Condición"]
[null,null,null,"Acuerdo Ministerial 4912: Reforma al Reglamento para la Gestión del Suministro de Medicamentos y Control Administrativo Financiero, y el Instructivo  para el uso de la Receta Médica.",1,null,"Será requerido para Establecimientos del MSP","Condición"]
[null,null,null,"Acuerdo Ministerial 115: Manual de Seguridad del Paciente- Usuario",1,null,null,"Requerido"]
[null,null,null,"Acuerdo Ministerial 5186: Reglamento Interministerial para la Gestión Integral de Desechos Sanitarios",1,null,null,"Requerido"]
[null,null,null,"Manual de Normas de Bioseguridad para la Red de Servicios de Salud en el Ecuador",1,null,null,"Requerido"]
[null,null,null,"Protocolos de Procedimientos de Limpieza, Desinfección y Esterilización",1,null,null,"Requerido"]
[null,null,null,"Registro de limpieza y desinfección del área funcional del Establecimiento",1,null,null,"Requerido"]
[null,null,null,"Registro de Mantenimiento de Equipos: Preventivo y/o Correctivo",1,null,null,"Requerido"]
[null,null,"Consultorio de Nutrición","Instructivo para el Llenado del Registro Diario Automatizado de Consultas y Atenciones Ambulatorias (RDACAA). 2013",1,null,"Será requerido para Establecimientos del MSP","Condición"]
[null,null,null,"Clasificación Estadística Internacional de Enfermedades y Problemas Relacionados con la Salud. Décima Revisión - CIE10 ",1,null,null,"Requerido"]
[null,null,null,"Reglamento a la Ley Organica de Salud",1,null,null,"Requerido"]
[null,null,null,"Guía para la adecuación cultural de los servicios de salud. 2006",1,null,null,"Requerido"]
[null,null,null,"Manual del modelo de atención integral en salud - MAIS. 2013",1,null,null,"Requerido"]
[null,null,null,"Ley Derechos y Amparo al Paciente",1,null,null,"Requerido"]
[null,null,null,"Cuadro nacional de medicamentos básicos y registro terapéutico. 9na revisión",1,null,null,"Requerido"]
[null,null,null,"Acuerdo Ministerial 4693: Reforma a la 9na. Revisión del Cuadro Nacional de Medicamentos Básicos y Registro Terapéutico",1,null,null,"Requerido"]
[null,null,null,"Norma Técnica: Subsistema de Referencia, Derivación, Contrareferencia, Referencia inversa y Transferencia del Sistema Nacional de Salud. 2014",1,null,null,"Requerido"]
[null,null,null,"Normas y protocolos para la alimentación y nutrición en la atención integral a personas que viven con VIH/SIDA. 2010",1,null,"Será requerido en el caso de ofertar la prestación","Condición"]
[null,null,null,"Introducción a la Guía de actividad Física dirigido al personal de salud I. 2011",1,null,null,"Requerido"]
[null,null,null,"Guía de actividad Física dirigido al personal de salud II. 2011",1,null,null,"Requerido"]
[null,null,null,"Manual de procedimientos de antropometría y determinación de la presión arterial. 2012",1,null,null,"Requerido"]
[null,null,null,"Acuerdo Ministerial 1124: Instructivo para el uso de la Receta Médica. ",1,null,"Será requerido para Establecimientos del MSP","Condición"]
[null,null,null,"Acuerdo Ministerial 4912: Reforma al Reglamento para la Gestión del Suministro de Medicamentos y Control Administrativo Financiero, y el Instructivo  para el uso de la Receta Médica.",1,null,"Será requerido para Establecimientos del MSP","Condición"]
[null,null,null,"Acuerdo Ministerial 115: Manual de Seguridad del Paciente- Usuario",1,null,null,"Requerido"]
[null,null,null,"Acuerdo Ministerial 5186: Reglamento Interministerial para la Gestión Integral de Desechos Sanitarios",1,null,null,"Requerido"]
[null,null,null,"Manual de Normas de Bioseguridad para la Red de Servicios de Salud en el Ecuador",1,null,null,"Requerido"]
[null,null,null,"Protocolos de Procedimientos de Limpieza, Desinfección y Esterilización",1,null,null,"Requerido"]
[null,null,null,"Registro de limpieza y desinfección del área funcional del Establecimiento",1,null,null,"Requerido"]
[null,null,null,"Registro de Mantenimiento de Equipos: Preventivo y/o Correctivo",1,null,null,"Requerido"]
["APOYO TERAPÉUTICO","ATENCIÓN DE APOYO TERAPÉUTICO","Área de Procedimientos","Instructivo para el Llenado del Registro Diario Automatizado de Consultas y Atenciones Ambulatorias (RDACAA). 2013",1,null,"Será requerido para Establecimientos del MSP","Condición"]
[null,null,null,"Norma Técnica: Subsistema de Referencia, Derivación, Contrareferencia, Referencia inversa y Transferencia del Sistema Nacional de Salud. 2014",1,null,null,"Condición"]
[null,null,null,"Modelo de gestión de aplicación de consentimiento informado en práctica asistencial. 2015",1,null,null,"Condición"]
[null,null,null,"Lista de Verificación de la Seguridad de la Cirugía",1,null,null,"Condición"]
[null,null,null,"Manual de Aplicación de la lista OMS de verificación de la seguridad de la cirugía. 2009",1,null,null,"Condición"]
[null,null,null,"La Cirugía Segura Salva Vidas. 2013",1,null,null,"Condición"]
[null,null,null,"Acuerdo Ministerial 115: Manual de Seguridad del Paciente- Usuario",1,null,null,"Requerido"]
[null,null,null,"Acuerdo Ministerial 5186: Reglamento Interministerial para la Gestión Integral de Desechos Sanitarios",1,null,null,"Condición"]
[null,null,null,"Manual de Normas de Bioseguridad para la Red de Servicios de Salud en el Ecuador",1,null,null,"Condición"]
[null,null,null,"Protocolos de Procedimientos de Limpieza, Desinfección y Esterilización",1,null,null,"Condición"]
[null,null,null,"Registro de limpieza y desinfección del área funcional del Establecimiento",1,null,null,"Condición"]
[null,null,null,"Registro de Mantenimiento de Equipos: Preventivo y/o Correctivo",1,null,null,"Condición"]
[null,null,"Área de Tratamiento de Hemodiálisis","Instructivo para el Llenado del Registro Diario Automatizado de Consultas y Atenciones Ambulatorias (RDACAA). 2013",1,null,"Será requerido para Establecimientos del MSP","Condición"]
[null,null,null,"Clasificación Estadística Internacional de Enfermedades y Problemas Relacionados con la Salud. Décima Revisión - CIE10 ",1,null,null,"Requerido"]
[null,null,null,"Reglamento a la Ley Organica de Salud",1,null,null,"Requerido"]
[null,null,null,"Guía para la adecuación cultural de los servicios de salud. 2006",1,null,null,"Requerido"]
[null,null,null,"Manual del modelo de atención integral en salud - MAIS. 2013",1,null,null,"Requerido"]
[null,null,null,"Ley Derechos y Amparo al Paciente",1,null,null,"Requerido"]
[null,null,null,"Ley de sustancias estupefacientes y Psicotrópicas",1,null,null,"Requerido"]
[null,null,null,"Cuadro nacional de medicamentos básicos y registro terapéutico. 9na revisión",1,null,null,"Requerido"]
[null,null,null,"Acuerdo Ministerial 4693: Reforma a la 9na. Revisión del Cuadro Nacional de Medicamentos Básicos y Registro Terapéutico",1,null,null,"Requerido"]
[null,null,null,"Norma Técnica: Subsistema de Referencia, Derivación, Contrareferencia, Referencia inversa y Transferencia del Sistema Nacional de Salud. 2014",1,null,null,"Requerido"]
[null,null,null,"Protocolo de procedimientos de Hemodiálisis",1,null,null,"Requerido"]
[null,null,null,"Registro de Evolución de la Atención Médica y Procedimientos Efectuados",1,null,null,"Requerido"]
[null,null,null,"Registro de Indicadores para la Satisfacción del Usuario",1,null,null,"Requerido"]
[null,null,null,"Guía de Práctica Clínica: Transfusión de sangre y sus componentes. 2013 ",1,null,null,"Requerido"]
[null,null,null,"Guía de atención integral de adultos y Adolescentes con infección por VIH/SIDA. 2012",1,null,"Será requerido en el caso de ofertar la prestación","Condición"]
[null,null,null,"Normas y protocolos de atención integral de salud de las y los adultos mayores - 1. 2010",1,null,null,"Requerido"]
[null,null,null,"Normas y protocolos de atención integral de salud de las y los adultos mayores - 2. 2010",1,null,null,"Requerido"]
[null,null,null,"Normas y protocolos de atención integral de salud de las y los adultos mayores - 3. 2010",1,null,null,"Requerido"]
[null,null,null,"Normas y procedimientos para la atención integral de salud a adolescentes. 2009",1,null,"Será requerido en el caso de ofertar la prestación","Condición"]
[null,null,null,"Guía de Supervisión: Salud de Adolescentes. 2014",1,null,"Será requerido en el caso de ofertar la prestación","Condición"]
[null,null,null,"Manual de procedimientos de antropometría y determinación de la presión arterial. 2012",1,null,null,"Requerido"]
[null,null,null,"Acuerdo Ministerial 115: Manual de Seguridad del Paciente- Usuario",1,null,null,"Requerido"]
[null,null,null,"Acuerdo Ministerial 5186: Reglamento Interministerial para la Gestión Integral de Desechos Sanitarios",1,null,null,"Requerido"]
[null,null,null,"Manual de Normas de Bioseguridad para la Red de Servicios de Salud en el Ecuador",1,null,null,"Requerido"]
[null,null,null,"Protocolos de Procedimientos de Limpieza, Desinfección y Esterilización",1,null,null,"Requerido"]
[null,null,null,"Registro de limpieza y desinfección del área funcional del Establecimiento",1,null,null,"Requerido"]
[null,null,null,"Registro de Mantenimiento de Equipos: Preventivo y/o Correctivo",1,null,null,"Requerido"]
[null,null,"Área de Diálisis Peritoneal","Instructivo para el Llenado del Registro Diario Automatizado de Consultas y Atenciones Ambulatorias (RDACAA). 2013",1,null,"Será requerido para Establecimientos del MSP","Condición"]
[null,null,null,"Clasificación Estadística Internacional de Enfermedades y Problemas Relacionados con la Salud. Décima Revisión - CIE10 ",1,null,null,"Condición"]
[null,null,null,"Reglamento a la Ley Organica de Salud",1,null,null,"Condición"]
[null,null,null,"Guía para la adecuación cultural de los servicios de salud. 2006",1,null,null,"Condición"]
[null,null,null,"Manual del modelo de atención integral en salud - MAIS. 2013",1,null,null,"Condición"]
[null,null,null,"Ley Derechos y Amparo al Paciente",1,null,null,"Condición"]
[null,null,null,"Ley de sustancias estupefacientes y Psicotrópicas",1,null,null,"Condición"]
[null,null,null,"Cuadro nacional de medicamentos básicos y registro terapéutico. 9na revisión",1,null,null,"Condición"]
[null,null,null,"Acuerdo Ministerial 4693: Reforma a la 9na. Revisión del Cuadro Nacional de Medicamentos Básicos y Registro Terapéutico",1,null,null,"Condición"]
[null,null,null,"Norma Técnica: Subsistema de Referencia, Derivación, Contrareferencia, Referencia inversa y Transferencia del Sistema Nacional de Salud. 2014",1,null,null,"Condición"]
[null,null,null,"Protocolo de procedimientos de Diálisis Peritoneal",1,null,null,"Condición"]
[null,null,null,"Registro de Evolución de la Atención Médica y Procedimientos Efectuados",1,null,null,"Condición"]
[null,null,null,"Registro de Indicadores para la Satisfacción del Usuario",1,null,null,"Condición"]
[null,null,null,"Guía de Práctica Clínica: Transfusión de sangre y sus componentes. 2013 ",1,null,null,"Condición"]
[null,null,null,"Guía de atención integral de adultos y Adolescentes con infección por VIH/SIDA. 2012",1,null,"Será requerido en el caso de ofertar la prestación","Condición"]
[null,null,null,"Normas y protocolos de atención integral de salud de las y los adultos mayores - 1. 2010",1,null,null,"Condición"]
[null,null,null,"Normas y protocolos de atención integral de salud de las y los adultos mayores - 2. 2010",1,null,null,"Condición"]
[null,null,null,"Normas y protocolos de atención integral de salud de las y los adultos mayores - 3. 2010",1,null,null,"Condición"]
[null,null,null,"Normas y procedimientos para la atención integral de salud a adolescentes. 2009",1,null,"Será requerido en el caso de ofertar la prestación","Condición"]
[null,null,null,"Guía de Supervisión: Salud de Adolescentes. 2014",1,null,"Será requerido en el caso de ofertar la prestación","Condición"]
[null,null,null,"Manual de procedimientos de antropometría y determinación de la presión arterial. 2012",1,null,null,"Condición"]
[null,null,null,"Acuerdo Ministerial 115: Manual de Seguridad del Paciente- Usuario",1,null,null,"Requerido"]
[null,null,null,"Acuerdo Ministerial 5186: Reglamento Interministerial para la Gestión Integral de Desechos Sanitarios",1,null,null,"Condición"]
[null,null,null,"Manual de Normas de Bioseguridad para la Red de Servicios de Salud en el Ecuador",1,null,null,"Condición"]
[null,null,null,"Protocolos de Procedimientos de Limpieza, Desinfección y Esterilización",1,null,null,"Condición"]
[null,null,null,"Registro de limpieza y desinfección del área funcional del Establecimiento",1,null,null,"Condición"]
[null,null,null,"Registro de Mantenimiento de Equipos: Preventivo y/o Correctivo",1,null,null,"Condición"]
["APOYO DIAGNÓSTICO ","DIAGNÓSTICO EN LABORATORIO (LABORATORIO DE ANÁLISIS CLÍNICO)","Área de Laboratorio","Acuerdo Ministerial 2393: Reglamento para el Funcionamiento de los Laboratorios Clinicos",1,null,null,"Requerido"]
[null,null,null,"Acuerdo Ministerial 115: Manual de Seguridad del Paciente- Usuario",1,null,null,"Requerido"]
[null,null,null,"Acuerdo Ministerial 5186: Reglamento Interministerial para la Gestión Integral de Desechos Sanitarios",1,null,null,"Requerido"]
[null,null,null,"Manual de Normas de Bioseguridad para la Red de Servicios de Salud en el Ecuador",1,null,null,"Requerido"]
[null,null,null,"Protocolos de Procedimientos de Limpieza, Desinfección y Esterilización",1,null,null,"Requerido"]
[null,null,null,"Registro de limpieza y desinfección del área funcional del Establecimiento",1,null,null,"Requerido"]
[null,null,null,"Registro de Mantenimiento de Equipos: Preventivo y/o Correctivo",1,null,null,"Requerido"]
[null,null,null,"Registro de Temperatura de los Refrigeradores",1,null,null,"Requerido"]
["APOYO TERAPÉUTICO","DOTACIÓN DE MEDICAMENTOS Y DISPOSITIVOS MÉDICOS (FARMACIA)","Área de Farmacia","Guía para la recepción y almacenamiento de medicamentos en el MSP",1,null,"Será requerido para Establecimientos del MSP","Condición"]
[null,null,null,"Manual de Procesos para la Gestión de Suministros de Medicamentos",1,null,"Será requerido para Establecimientos del MSP","Condición"]
[null,null,null,"Acuerdo Ministerial 1124: Instructivo para el uso de la Receta Médica. ",1,null,"Será requerido para Establecimientos del MSP","Condición"]
[null,null,null,"Acuerdo Ministerial 4912: Reforma al Reglamento para la Gestión del Suministro de Medicamentos y Control Administrativo Financiero, y el Instructivo  para el uso de la Receta Médica.",1,null,"Será requerido para Establecimientos del MSP","Condición"]
[null,null,null,"Cuadro nacional de medicamentos básicos y registro terapéutico. 9na revisión",1,null,null,"Requerido"]
[null,null,null,"Acuerdo Ministerial 4693: Reforma a la 9na. Revisión del Cuadro Nacional de Medicamentos Básicos y Registro Terapéutico",1,null,null,"Requerido"]
[null,null,null,"Acuerdo Ministerial 205: Reglamento para el registro y control sanitario de dispositivos médicos, reactivos bioquímicos y de diagnóstico; y, productos dentales",1,null,null,"Requerido"]
[null,null,null,"Acuerdo Ministerial 4872: Reglamento de buenas prácticas de almacenamiento, distribución y transporte para establecimientos farmacéuticos",1,null,null,"Requerido"]
[null,null,null,"Registro de Temperatura de los refrigeradores ",1,null,null,"Requerido"]
[null,null,null,"Registro de Temperatura y Humedad ambiental",1,null,null,"Requerido"]
[null,null,null,"Acuerdo Ministerial 115: Manual de Seguridad del Paciente- Usuario",1,null,null,"Requerido"]
[null,null,null,"Acuerdo Ministerial 5186: Reglamento Interministerial para la Gestión Integral de Desechos Sanitarios",1,null,null,"Requerido"]
[null,null,null,"Manual de Normas de Bioseguridad para la Red de Servicios de Salud en el Ecuador",1,null,null,"Requerido"]
[null,null,null,"Protocolos de Procedimientos de Limpieza, Desinfección y Esterilización",1,null,null,"Requerido"]
[null,null,null,"Registro de limpieza y desinfección del área funcional del Establecimiento",1,null,null,"Requerido"]
[null,null,null,"Registro de Mantenimiento de Equipos: Preventivo y/o Correctivo",1,null,null,"Requerido"]
["ADMINISTRATIVO","ADMINISTRACIÓN TÉCNICA","Despacho del Director ","Constitución de la Republica del Ecuador",1,null,null,"Requerido"]
[null,null,null,"Plan Nacional del Buen Vivir 2013-2017",1,null,null,"Requerido"]
[null,null,null,"Agenda Social 2017",1,null,null,"Requerido"]
[null,null,null,"Código Orgánico Integral Penal - COIP",1,null,null,"Requerido"]
[null,null,null,"Ley Orgánica del Servidor Publico - LOSEP",1,null,"Será requerido para Establecimientos del MSP","Condición"]
[null,null,null,"Reglamento a Ley Orgánica del Servidor Publico - LOSEP",1,null,"Será requerido para Establecimientos del MSP","Condición"]
[null,null,null,"Codificación del Código del Trabajo (2005)",1,null,null,"Requerido"]
[null,null,null,"Código Orgánico de Organización Territorial, Autonomia y Descentralización - COOTAD",1,null,null,"Requerido"]
[null,null,null,"Instructivo para el Llenado del Registro Diario Automatizado de Consultas y Atenciones Ambulatorias (RDACAA). 2013",1,null,"Será requerido para Establecimientos del MSP","Condición"]
[null,null,null,"Estatuto orgánico de gestión organizacional por procesos del Ministerio de Salud Pública",1,null,"Será requerido para Establecimientos del MSP","Condición"]
[null,null,null,"Estatuto orgánico de gestión organizacional por procesos de los hospitales del Ministerio de Salud Pública",1,null,"Será requerido para Establecimientos del MSP","Condición"]
[null,null,null,"Distribución Zonas Distritos 2011",1,null,null,"Requerido"]
[null,null,null,"Manual del Sistema Organizado de la Red de Servicios de Salud",1,null,null,"Requerido"]
[null,null,null,"Guía para la adecuación cultural de los servicios de salud. 2006",1,null,null,"Requerido"]
[null,null,null,"Norma Técnica: Subsistema de Referencia, Derivación, Contrareferencia, Referencia inversa y Transferencia del Sistema Nacional de Salud. 2014",1,null,null,"Requerido"]
[null,null,null,"Políticas Uso de Servicios de Red y Servicios Informáticos del Ministerio de Salud Pública",1,null,"Será requerido para Establecimientos del MSP","Condición"]
[null,null,null,"Modelo de Gestión de requerimientos e inconformidades ciudadanas para mejorar los servicios de salud a nivel nacional",1,null,null,"Requerido"]
[null,null,null,"Reglamento de Señalización de Seguridad para Establecimientos de Salud",1,null,null,"Requerido"]
[null,null,null,"Registro de Interconsultas de especialidad según criterio del médico nefrólogo tratante (hasta 2 por un año): neumología, cardiología, gastroenterología, neurología y endocrinología",1,null,null,"Requerido"]
[null,null,null,"Registro de Atenciones de Morbilidad y Mortalidad",1,null,null,"Requerido"]
[null,null,null,"Acuerdo Ministerial 5212: Tipología Sustitutiva para Homologar los Establecimientos de Salud por Niveles de Atención y Servicios de Apoyo del Sistema Nacional de Salud",1,null,null,"Requerido"]
[null,null,null,"Registro de Mantenimiento de Equipos: Preventivo o Correctivo ",1,null,null,"Requerido"]
[null,null,null,"Registro Consolidado de mantenimiento de equipos: preventio y/o correctivo",1,null,null,"Requerido"]
[null,null,null,"Protocolo de desinfección externa e interna de máquinas",1,null,null,"Requerido"]
[null,null,null,"Registro de Desinfección de Máquinas",1,null,null,"Requerido"]
[null,null,null,"Protocolo de procedimientos de Hemodiálisis",1,null,null,"Requerido"]
[null,null,null,"Protocolo de procedimientos de Diálisis Peritoneal",1,null,"Será requerido en el caso de ofertar la prestación","Condición"]
[null,null,null,"Registro de Mantenimiento Preventivo y Correctivo de Sistema de Tratamiento de Agua",1,null,null,"Requerido"]
[null,null,null,"Registro de Evaluación Microbiológica y composición Química del Agua",1,null,null,"Requerido"]
[null,null,null,"Protocolo de procedimientos de enfermería",1,null,null,"Requerido"]
[null,null,null,"Plan de Gestión Integral de Desechos Sanitarios",1,null,null,"Requerido"]
[null,null,null,"Protocolos de Limpieza, Desinfección y Esterilización",1,null,null,"Requerido"]
[null,null,null,"Registro Consolidado de limpieza de las áreas funcionales del Establecimiento",1,null,null,"Requerido"]
[null,null,null,"Programa anual de capacitación continua para el personal del Establecimiento",1,null,null,"Requerido"]
[null,null,null,"Registros de asistencias del personal del Establecimiento a capacitaciones",1,null,null,"Requerido"]
[null,null,null,"Reglamento Interno",1,null,null,"Requerido"]
[null,null,null,"Manual de Normas de Bioseguridad para la Red de Servicios de Salud en el Ecuador.",1,null,null,"Requerido"]
[null,null,null,"Plan de Gestión Integral de Desechos Sanitarios",1,null,null,"Requerido"]
[null,null,null,"Acuerdo Ministerial 114: Vigilancia epidemiológica de las enfermedades crónicas no transmisibles",1,null,null,"Requerido"]
[null,null,null,"Acuerdo Ministerial 115: Manual de Seguridad del Paciente- Usuario",1,null,null,"Requerido"]
[null,null,null,"Acuerdo Ministerial 5186: Reglamento Interministerial para la Gestión Integral de Desechos Sanitarios",1,null,null,"Requerido"]
[null,null,null,"Norma técnica para la derivación y financiamiento de cobertura internacional para la atención integral de salud de usuarios con enfermedades catasrófica. 2013",1,null,null,"Requerido"]
[null,null,null,"Política nacional de hospitales seguros. 2008",1,null,null,"Requerido"]
[null,null,null,"Acuerdo Ministerial 1829: Emitir los criterios de inclusión de enfermedades consideredas catastróficas, raras y huérfanas para beneficiarios del bono Joaquín Gallegos Lara",1,null,"Será requerido para Establecimientos del MSP","Condición"]
[null,null,null,"Reforma a la ley orgánica de salud para incluir el tratamiento de las enfermedades raras, huérfanas y catastróficas. Año 2012. Oficio San-2012-00 ",1,null,"Será requerido para Establecimientos del MSP","Condición"]
[null,null,"Oficina de Trabajo Social","Reglamento a la Ley Organica de Salud",1,null,null,"Requerido"]
[null,null,null,"Guía para la adecuación cultural de los servicios de salud. 2006",1,null,null,"Requerido"]
[null,null,null,"Manual del modelo de atención integral en salud - MAIS. 2013",1,null,null,"Requerido"]
[null,null,null,"Ley Derechos y Amparo al Paciente",1,null,null,"Requerido"]
[null,null,null,"Cuadro nacional de medicamentos básicos y registro terapéutico. 9na revisión",1,null,null,"Requerido"]
[null,null,null,"Acuerdo Ministerial 115: Manual de Seguridad del Paciente- Usuario",1,null,null,"Requerido"]
[null,null,null,"Acuerdo Ministerial 5186: Reglamento Interministerial para la Gestión Integral de Desechos Sanitarios",1,null,null,"Requerido"]
[null,null,null,"Manual de Normas de Bioseguridad para la Red de Servicios de Salud en el Ecuador",1,null,null,"Requerido"]
[null,null,null,"Protocolos de Procedimientos de Limpieza, Desinfección y Esterilización",1,null,null,"Requerido"]
[null,null,null,"Registro de limpieza y desinfección del área funcional del Establecimiento",1,null,null,"Requerido"]
[null,null,null,"Registro de Mantenimiento de Equipos: Preventivo y/o Correctivo",1,null,null,"Requerido"]
["GENERAL","SERVICIOS INTERNOS DE APOYO",null,"Acuerdo Ministerial 5186: Reglamento Interministerial para la Gestión Integral de Desechos Sanitarios",1,null,null,"Requerido"]
[null,null,null,"Acuerdo Ministerial 115: Manual de Seguridad del Paciente- Usuario",1,null,null,"Requerido"]
[null,null,null,"Manual de Normas de Bioseguridad para la Red de Servicios de Salud en el Ecuador",1,null,null,"Requerido"]
[null,null,null,"Protocolos de Procedimientos de Limpieza, Desinfección y Esterilización",1,null,null,"Requerido"]
[null,null,null,"Registro de limpieza y desinfección del área funcional del Establecimiento",1,null,null,"Requerido"]
[null,null,null,"Registro de Mantenimiento de Equipos: Preventivo y/o Correctivo",1,null,null,"Requerido"]

{"sheet":"Menu","index":3,"n_rows":19,"n_cols":18,"rows_kept":19,"cut":false,"hidden":false,"merged":[[2,1,2,10],[3,1,3,10],[7,4,7,9],[11,4,11,9],[7,1,7,3],[9,1,9,3],[10,1,10,3],[11,1,11,3],[5,1,5,3],[15,4,15,9],[17,4,17,9],[18,4,18,9],[5,4,5,9],[6,1,6,3],[6,4,6,9],[13,4,13,9],[14,4,14,9],[17,1,17,3],[16,1,16,3],[16,4,16,9],[14,1,14,3],[13,1,13,3],[10,4,10,9],[12,1,12,3]]}
[]
[]
[null,"MATRIZ DE LICENCIAMIENTO"]
[null,"CENTRO ESPECIALIZADO EN SALUD RENAL"]
[]
[null,"ENTIDAD DEL SISTEMA:"]
[null,"ESTABLECIMIENTO DE SALUD:"]
[null,"CÓDIGO/RUC:"]
[null,null,null,"REGION:"]
[null,"PROVINCIA:"]
[null,"CANTON:"]
[null,"PARROQUIA:"]
[null,"DISTRIBUCIÓN ZONAL SENPLADES:",null,null,null,null,null,null,null,null,null,null,null,null,null,null,null," "]
[null,"DIRECCION:"]
[null,"AREA/DISTRITO:"]
[null,null,null,"TELÉFONO:"]
[null,"REPRESENTANTE LEGAL:"]
[null,"CORREO ELECTRÓNICO UNIDAD OPERATIVA:"]
[null,null,null,"FECHA:"]

{"sheet":"Infraestructura","index":4,"n_rows":363,"n_cols":64,"rows_kept":363,"cut":false,"hidden":false,"merged":[[218,0,218,6],[314,0,314,1],[315,0,315,1],[316,0,316,1],[317,0,317,1],[318,0,318,1],[319,0,319,1],[320,0,320,1],[321,0,321,1],[264,0,264,6],[311,0,311,6],[306,0,306,4],[285,0,285,1],[286,0,286,1],[261,0,261,6],[258,0,258,1],[259,0,259,1],[260,0,260,4],[280,0,280,1],[281,0,281,1],[282,0,282,1],[283,0,283,1],[284,0,284,1],[244,0,244,1],[254,62,254,63],[216,40,216,41],[216,42,216,43],[216,44,216,45],[216,46,216,47],[216,48,216,49],[216,50,216,51],[216,52,216,53],[216,54,216,55],[216,56,216,57],[216,58,216,59],[216,60,216,61],[216,62,216,63],[254,48,254,49],[254,50,254,51],[254,52,254,53],[254,54,254,55],[254,56,254,57],[254,58,254,59],[254,60,254,61],[1,46,1,47],[1,48,1,49],[1,50,1,51],[1,52,1,53],[1,54,1,55],[1,56,1,57],[1,58,1,59],[1,60,1,61],[1,62,1,63],[1,40,1,41],[1,42,1,43],[1,44,1,45],[304,0,304,1],[305,0,305,1],[303,0,303,4],[296,0,296,1],[297,0,297,1],[298,0,298,1],[299,0,299,1],[300,0,300,4],[301,0,301,1],[302,0,302,1],[287,0,287,1],[288,0,288,1],[289,0,289,1],[290,0,290,1],[291,0,291,1],[292,0,292,1],[293,0,293,1],[294,0,294,1],[295,0,295,1],[278,0,278,1],[279,0,279,1],[248,24,248,39],[249,24,249,39],[250,24,250,39],[251,24,251,39],[252,24,252,39],[253,24,253,39],[265,0,265,1],[232,24,232,39],[233,24,233,39],[234,24,234,39],[235,24,235,39],[236,24,236,39],[237,24,237,39],[238,24,238,39],[239,24,239,39],[240,24,240,39],[248,0,248,1],[249,0,249,1],[250,0,250,1],[251,0,251,1],[252,0,252,1],[253,0,253,1],[242,0,242,1],[243,0,243,1],[2,56,2,63],[217,56,217,63],[219,24,219,39],[220,24,220,39],[221,24,221,39],[222,24,222,39],[223,24,223,39],[224,24,224,39],[225,24,225,39],[217,40,217,47],[217,48,217,55],[214,0,214,10],[169,0,169,10],[143,0,143,10],[144,0,144,10],[151,0,151,10],[160,0,160,10],[207,0,207,10],[178,0,178,10],[187,0,187,10],[186,0,186,10],[199,0,199,10],[362,0,362,4],[262,0,262,4],[360,0,360,4],[361,0,361,4],[255,0,255,1],[256,0,256,1],[257,0,257,4],[254,0,254,4],[266,0,266,1],[267,0,267,1],[268,0,268,1],[269,0,269,1],[270,0,270,1],[271,0,271,1],[272,0,272,1],[273,0,273,1],[274,0,274,1],[275,0,275,1],[276,0,276,1],[277,0,277,1],[312,0,312,1],[313,0,313,1],[307,0,307,6],[308,0,308,4],[245,0,245,1],[246,0,246,1],[247,0,247,1],[238,0,238,1],[239,0,239,1],[240,0,240,1],[241,0,241,1],[231,24,231,39],[241,24,241,39],[242,24,242,39],[243,24,243,39],[244,24,244,39],[245,24,245,39],[246,24,246,39],[247,24,247,39],[236,0,236,1],[237,0,237,1],[230,0,230,1],[231,0,231,1],[232,0,232,1],[233,0,233,1],[234,0,234,1],[235,0,235,1],[226,0,226,1],[227,0,227,1],[228,0,228,1],[229,0,229,1],[226,24,226,39],[227,24,227,39],[228,24,228,39],[229,24,229,39],[230,24,230,39],[112,0,112,10],[120,0,120,10],[129,0,129,10],[82,0,82,10],[84,0,84,10],[128,0,128,10],[219,0,219,1],[220,0,220,1],[221,0,221,1],[222,0,222,1],[223,0,223,1],[224,0,224,1],[225,0,225,1],[142,0,142,10],[188,0,188,10],[190,0,190,10],[196,0,196,10],[202,0,202,10],[210,0,210,10],[81,0,81,10],[27,0,27,10],[35,0,35,10],[44,0,44,10],[52,0,52,10],[91,0,91,10],[118,0,118,10],[119,0,119,10],[127,0,127,10],[2,16,2,23],[2,40,2,47],[2,48,2,55],[1,16,1,17],[1,18,1,19],[1,22,1,23],[103,0,103,10],[66,0,66,10],[73,0,73,10],[1,24,1,25],[1,26,1,27],[1,30,1,31],[2,24,2,31],[1,0,1,10],[59,0,59,10],[36,0,36,10],[83,0,83,10],[1,20,1,21],[1,28,1,29],[2,32,2,39],[1,32,1,33],[1,34,1,35],[1,36,1,37],[1,38,1,39],[12,0,12,10],[13,0,13,10],[14,0,14,10],[25,0,25,10],[26,0,26,10],[3,0,3,10],[4,0,4,10],[5,0,5,10],[2,0,2,10],[322,0,322,1],[339,0,339,1],[340,0,340,1],[323,0,323,1],[324,0,324,1],[325,0,325,1],[326,0,326,1],[327,0,327,1],[328,0,328,1],[329,0,329,1],[330,0,330,1],[331,0,331,1],[355,0,355,4],[359,0,359,6],[351,0,351,1],[346,0,346,1],[347,0,347,4],[349,0,349,1],[350,0,350,4],[352,0,352,1],[353,0,353,4],[354,0,354,6],[356,0,356,6],[357,0,357,4],[341,0,341,1],[342,0,342,1],[343,0,343,1],[344,0,344,1],[345,0,345,1],[348,0,348,1],[332,0,332,1],[333,0,333,1],[334,0,334,1],[335,0,335,1],[336,0,336,1],[337,0,337,1],[338,0,338,1]]}
["  ","Anx:","Requerido:","m² Util:","Tipo:","BUENO:","MALO:",null,null,"Calif:","Observaciones:"]
[{"$f":"Menu!$B$4","v":"CENTRO ESPECIALIZADO EN SALUD RENAL"},null,null,null,null,null,null,null,null,null,null,null,null,null,null,null,"REQ",null,"COND+",null,"COND-",null,"DES",null,"REQ",null,"COND+",null,"COND-",null,"DES",null,"REQ",null,"COND+",null,"COND-",null,"DES",null,"REQ",null,"COND+",null,"COND-",null,"DES",null,"REQ",null,"COND+",null,"COND-",null,"DES",null,"REQ",null,"COND+",null,"COND-",null,"DES"]
["INFRAESTRUCTURA",null,null,null,null,null,null,null,null,null,null,null,null,null,null,null,"AMBIENTES",null,null,null,null,null,null,null,"INSTALACIONES",null,null,null,null,null,null,null,"ESTRUCTURA GENERAL",null,null,null,null,null,null,null,"TOTAL AMBIENTES",null,null,null,null,null,null,null,"TOTAL INSTALACIONES",null,null,null,null,null,null,null,"TOTAL ESTRUCTURA"]
["ADMINISTRATIVO",null,null,null,null,null,null,null,null,null,null,{"$f":"ROW(A4)","v":4},null,null,null,null,null,null,null,null,null,null,null,null,null,null,null,null,null,null,null,null,null,null,null,null,null,null,null,null,{"$f":"SUM(Q5:Q12)","v":20},0,0,0,0,0,0,0,10,0,0,0,0,0,0,0,10,0,0,0,0,0,0,0]
["ADMISIÓN Y ESTADÍSTICA",null,null,null,null,null,null,null,null,null,null,{"$f":"ROW(A5)","v":5},null,null,null,null,null,null,null,null,null,null,null,null,null,null,null,null,null,null,null,null,null,null,null,null,null,null,null,null,{"$f":"SUM(Q6:Q12)","v":20},0,0,0,0,0,0,0,10,0,0,0,0,0,0,0,10,0,0,0,0,0,0,0]
["ÁREA TÉCNICA",null,null,null,null,null,null,null,null,null,null,{"$f":"ROW(A6)","v":6},null,null,null,null,null,null,null,null,null,null,null,null,null,null,null,null,null,null,null,null,null,null,null,null,null,null,null,null,{"$f":"SUM(Q7:Q12)","v":20},0,0,0,0,0,0,0,10,0,0,0,0,0,0,0,10,0,0,0,0,0,0,0]
["AMBIENTES",{"$f":"B1","v":"Anx:"},{"$f":"C$1","v":"Requerido:"},"m² Util:","Tipo:","BUENO:","MALO:",null,null,"Calif:","Observaciones:",null,null,null,null,null,null,null,null,null,null,null,null,null,null,null,null,null,null,null,null,null,null,null,null,null,null,null,null,null,{"$f":"SUM(Q8:Q9)","v":20},{"$f":"SUM(R8:R9)","v":0},{"$f":"SUM(S8:S9)","v":0},{"$f":"SUM(T8:T9)","v":0},{"$f":"SUM(U8:U9)","v":0},0,0,0,0,0,0,0,0,0,0,0,0,0,0,0,0,0,0,0]
["Admisión, Información y Recepción",null,1,"-","Requerido",0,0,{"$f":"IF(AND(F8>=C8,F8>0),10,0)","v":0},{"$f":"IF(AND(G8>=C8,G8>0),10,0)","v":0},{"$f":"IF(AND(F8=0,G8=0),0,IF(AND(F8>0,G8>0),10,IF(AND(F8=0,G8>0),-10,IF(AND(F8>0,G8=0),10))))","v":0},null,null,null,null,null,null,{"$f":"IF(UPPER(E8)=\"REQUERIDO\", 10, \"\")","v":10},{"$f":"IF(UPPER(E8)=\"REQUERIDO\", J8, \"\")","v":0}]
["Archivo",null,1,"-","Requerido",0,0,{"$f":"IF(AND(F9>=C9,F9>0),10,0)","v":0},{"$f":"IF(AND(G9>=C9,G9>0),10,0)","v":0},{"$f":"IF(AND(F9=0,G9=0),0,IF(AND(F9>0,G9>0),10,IF(AND(F9=0,G9>0),-10,IF(AND(F9>0,G9=0),10))))","v":0},null,null,null,null,null,null,{"$f":"IF(UPPER(E9)=\"REQUERIDO\", 10, \"\")","v":10},{"$f":"IF(UPPER(E9)=\"REQUERIDO\", J9, \"\")","v":0}]
["INSTALACIONES",{"$f":"B1","v":"Anx:"},{"$f":"C$1","v":"Requerido:"},"m² Util:","Tipo:","BUENO:","MALO:",null,null,"Calif:","Observaciones:",null,null,null,null,null,null,null,null,null,null,null,null,null,null,null,null,null,null,null,null,null,null,null,null,null,null,null,null,null,{"$f":"SUM(Q11:Q12)","v":0},{"$f":"SUM(R11:R12)","v":0},{"$f":"SUM(S11:S12)","v":0},{"$f":"SUM(T11:T12)","v":0},{"$f":"SUM(U11:U12)","v":0},0,0,0,10,0,0,0,0,0,0,0,10,0,0,0,0,0,0,0]
["Estructura General ","EG_01",1,".","Requerido",0,0,{"$f":"IF(AND(F11>=C11,F11>0),10,0)","v":0},{"$f":"IF(AND(G11>=C11,G11>0),10,0)","v":0},{"$f":"IF(AND(F11=0,G11=0),0,IF(AND(F11>0,G11>0),10,IF(AND(F11=0,G11>0),-10,IF(AND(F11>0,G11=0),10))))","v":0},null,null,null,null,null,null,null,null,null,null,null,null,null,null,null,null,null,null,null,null,null,null,{"$f":"IF(UPPER(E11)=\"REQUERIDO\", 10, \"\")","v":10},{"$f":"IF(UPPER(E11)=\"REQUERIDO\", J11, \"\")","v":0}]
["Instalaciones Generales","IG_01",1,"-","Requerido",0,0,0,{"$f":"IF(AND(G12>=C12,G12>0),10,0)","v":0},{"$f":"IF(AND(F12=0,G12=0),0,IF(AND(F12>0,G12>0),10,IF(AND(F12=0,G12>0),-10,IF(AND(F12>0,G12=0),10))))","v":0},null,null,null,null,null,null,null,null,null,null,null,null,null,null,{"$f":"IF(UPPER(E12)=\"REQUERIDO\", 10, \"\")","v":10},{"$f":"IF(UPPER(E12)=\"REQUERIDO\", J12, \"\")","v":0}]
["ASISTENCIAL",null,null,null,null,null,null,null,null,null,null,{"$f":"ROW(A13)","v":13},null,null,null,null,null,null,null,null,null,null,null,null,null,null,null,null,null,null,null,null,null,null,null,null,null,null,null,null,{"$f":"SUM(Q14:Q25)","v":50},{"$f":"SUM(R14:R25)","v":0},{"$f":"SUM(S14:S25)","v":10},{"$f":"SUM(T14:T25)","v":0},{"$f":"SUM(U14:U25)","v":10},0,0,0,10,0,0,0,0,0,0,0,10,0,0,0,0,0,0,{"$f":"SUM(AN14:AN25)","v":0}]
["CONSULTA EXTERNA",null,null,null,null,null,null,null,null,null,null,{"$f":"ROW(A14)","v":14},null,null,null,null,null,null,null,null,null,null,null,null,null,null,null,null,null,null,null,null,null,null,null,null,null,null,null,null,{"$f":"SUM(Q15:Q25)","v":50},{"$f":"SUM(R15:R25)","v":0},{"$f":"SUM(S15:S25)","v":10},{"$f":"SUM(T15:T25)","v":0},{"$f":"SUM(U15:U25)","v":10},0,0,0,10,0,0,0,0,0,0,0,10,0,0,0,0,0,0,0]
["AREA DE ATENCIÓN DE CONSULTA",null,null,null,null,null,null,null,null,null,null,{"$f":"ROW(A15)","v":15},null,null,null,null,null,null,null,null,null,null,null,null,null,null,null,null,null,null,null,null,null,null,null,null,null,null,null,null,{"$f":"SUM(Q16:Q25)","v":50},{"$f":"SUM(R16:R25)","v":0},{"$f":"SUM(S16:S25)","v":10},{"$f":"SUM(T16:T25)","v":0},{"$f":"SUM(U16:U25)","v":10},0,0,0,10,0,0,0,0,0,0,0,10,0,0,0,0,0,0,0]
["AMBIENTES",{"$f":"B1","v":"Anx:"},{"$f":"C$1","v":"Requerido:"},"m² Util:","Tipo:","BUENO:","MALO:",null,null,"Calif:","Observaciones:",null,null,null,null,null,null,null,null,null,null,null,null,null,null,null,null,null,null,null,null,null,null,null,null,null,null,null,null,null,{"$f":"SUM(Q17:Q22)","v":50},{"$f":"SUM(R17:R22)","v":0},{"$f":"SUM(S17:S22)","v":10},{"$f":"SUM(T17:T22)","v":0},{"$f":"SUM(U17:U22)","v":10},0,0,0,0,0,0,0,0,0,0,0,0,0,0,0,0,0,0,0]
["Sala de Espera",null,1,"-","Requerido",0,0,{"$f":"IF(AND(F17>=C17,F17>0),10,0)","v":0},{"$f":"IF(AND(G17>=C17,G17>0),10,0)","v":0},{"$f":"IF(AND(F17=0,G17=0),0,IF(AND(F17>0,G17>0),10,IF(AND(F17=0,G17>0),-10,IF(AND(F17>0,G17=0),10))))","v":0},null,null,null,null,null,null,{"$f":"IF(UPPER(E17)=\"REQUERIDO\", 10, \"\")","v":10},{"$f":"IF(UPPER(E17)=\"REQUERIDO\", J17, \"\")","v":0}]
["Baños/Baterías Sanitarias",null,1,"-","Requerido",0,0,0,0,{"$f":"IF(AND(F18=0,G18=0),0,IF(AND(F18>0,G18>0),10,IF(AND(F18=0,G18>0),-10,IF(AND(F18>0,G18=0),10))))","v":0},null,null,null,null,null,null,10,0]
["Enfermería (Se vuelve requerido en el caso de contar con más de 5 consultorios para profesionales médicos)",null,1,"-","Condición",0,0,0,0,0,null,null,null,null,null,null,{"$f":"IF(UPPER(E19)=\"REQUERIDO\", 10, \"\")","v":""},{"$f":"IF(UPPER(E19)=\"REQUERIDO\", J19, \"\")","v":""},{"$f":"IF(UPPER(E19)=\"CONDICIÓN\", 10, 0)","v":10},{"$f":"IF(UPPER(E19)=\"CONDICIÓN\", H19, \"\")","v":0},{"$f":"IF(UPPER(E19)=\"CONDICIÓN\", 10, 0)","v":10},{"$f":"IF(UPPER(E19)=\"CONDICIÓN\", I19, \"\")","v":0}]
["Consultorio Médico",null,1,"-","Requerido",0,0,0,0,0,null,null,null,null,null,null,{"$f":"IF(UPPER(E20)=\"REQUERIDO\", 10, \"\")","v":10},{"$f":"IF(UPPER(E20)=\"REQUERIDO\", J20, \"\")","v":0}]
["Consultorio de Psicología (Puede compartir con la Oficina de Trabajo Social y el Consultorio de Nutrición, pero debe asegurarse la privacidad del paciente mediante horarios diferenciados en cada prestación)"," ",1,"-","Requerido",0,0,0,0,0,null,null,null,null,null,null,{"$f":"IF(UPPER(E21)=\"REQUERIDO\", 10, \"\")","v":10},0]
["Consultorio de Nutrición (Puede compartir con la Oficina de Trabajo Social y el Consultorio de Psicología,  pero debe asegurarse la privacidad del paciente mediante horarios diferenciados en cada prestación)",null,1,"-","Requerido",0,0,0,0,0,null,null,null,null,null,null,10,0]
["INSTALACIONES",{"$f":"B1","v":"Anx:"},{"$f":"C$1","v":"Requerido:"},"m² Util:","Tipo:","BUENO:","MALO:",null,null,"Calif:","Observaciones:",null,null,null,null,null,null,null,null,null,null,null,null,null,null,null,null,null,null,null,null,null,null,null,null,null,null,null,null,null,{"$f":"SUM(Q24:Q25)","v":0},{"$f":"SUM(R24:R25)","v":0},{"$f":"SUM(S24:S25)","v":0},{"$f":"SUM(T24:T25)","v":0},{"$f":"SUM(U24:U25)","v":0},0,0,0,10,0,0,0,0,0,0,0,10,0,0,0,0,0,0,0]
["Estructura General ","EG_01",1,".","Requerido",0,0,{"$f":"IF(AND(F24>=C24,F24>0),10,0)","v":0},0,{"$f":"IF(AND(F24=0,G24=0),0,IF(AND(F24>0,G24>0),10,IF(AND(F24=0,G24>0),-10,IF(AND(F24>0,G24=0),10))))","v":0},null,null,null,null,null,null,null,null,null,null,null,null,null,null,null,null,null,null,null,null,null,null,{"$f":"IF(UPPER(E24)=\"REQUERIDO\", 10, \"\")","v":10},{"$f":"IF(UPPER(E24)=\"REQUERIDO\", J24, \"\")","v":0}]
["Instalaciones Generales","IG_01",1,"-","Requerido",0,0,0,0,0,null,null,null,null,null,null,null,null,null,null,null,null,null,null,{"$f":"IF(UPPER(E25)=\"REQUERIDO\", 10, \"\")","v":10},{"$f":"IF(UPPER(E25)=\"REQUERIDO\", J25, \"\")","v":0}]
["APOYO TERAPEÚTICO",null,null,null,null,null,null,null,null,null,null,{"$f":"ROW(A26)","v":26},null,null,null,null,null,null,null,null,null,null,null,null,null,null,null,null,null,null,null,null,null,null,null,null,null,null,null,null,{"$f":"SUM(Q27:Q81)","v":80},0,100,0,100,0,0,0,40,0,30,0,10,0,0,0,40,0,30,0,10,0,0,0]
["ATENCIÓN DE APOYO TERAPÉUTICO",null,null,null,null,null,null,null,null,null,null,{"$f":"ROW(A27)","v":27},null,null,null,null,null,null,null,null,null,null,null,null,null,null,null,null,null,null,null,null,null,null,null,null,null,null,null,null,{"$f":"SUM(Q28:Q81)","v":80},0,100,0,100,0,0,0,40,0,30,0,10,0,0,0,40,0,30,0,10,0,0,0]
["ÁREA DE PROCEDIMIENTOS",null,null,null,null,null,null,null,null,null,null,{"$f":"ROW(A28)","v":28},null,null,null,null,null,null,null,null,null,null,null,null,null,null,null,null,null,null,null,null,null,null,null,null,null,null,null,null,{"$f":"SUM(Q29:Q35)","v":0},{"$f":"SUM(R29:R35)","v":0},{"$f":"SUM(S29:S35)","v":30},{"$f":"SUM(T29:T35)","v":0},{"$f":"SUM(U29:U35)","v":30},0,0,0,0,0,10,0,10,0,0,0,0,0,10,0,10,0,0,0]
["AMBIENTES",{"$f":"B1","v":"Anx:"},{"$f":"C$1","v":"Requerido:"},"m² Util:","Tipo:","BUENO:","MALO:",null,null,"Calif:","Observaciones:",null,null,null,null,null,null,null,null,null,null,null,null,null,null,null,null,null,null,null,null,null,null,null,null,null,null,null,null,null,{"$f":"SUM(Q29:Q32)","v":0},{"$f":"SUM(R29:R32)","v":0},{"$f":"SUM(S29:S32)","v":30},{"$f":"SUM(T29:T32)","v":0},{"$f":"SUM(U29:U32)","v":30},0,0,0,0,0,0,0,0,0,0,0,0,0,0,0,0,0,0,0]
["Área de Lavado de Manos",null,1,"-","Condición",0,0,{"$f":"IF(AND(F30>=C30,F30>0),10,0)","v":0},{"$f":"IF(AND(G30>=C30,G30>0),10,0)","v":0},{"$f":"IF(AND(F30=0,G30=0),0,IF(AND(F30>0,G30>0),10,IF(AND(F30=0,G30>0),-10,IF(AND(F30>0,G30=0),10))))","v":0},null,null,null,null,null,null,null,null,{"$f":"IF(UPPER(E30)=\"CONDICIÓN\", 10, 0)","v":10},{"$f":"IF(UPPER(E30)=\"CONDICIÓN\", H30, \"\")","v":0},{"$f":"IF(UPPER(E30)=\"CONDICIÓN\", 10, 0)","v":10},{"$f":"IF(UPPER(E30)=\"CONDICIÓN\", I30, \"\")","v":0}]
["Sala de procedimientos (Debe existir acuerdo con un establecimiento que cuente con atención en centro quirúrgico para realización y reparación de accesos vasculares y/o inserción de catéteres peritoneales, en caso de no haber convenio se hará requerido)",null,1,"-","Condición",0,0,0,0,0,null,null,null,null,null,null,null,null,10,0,10,0]
["Zona de esterilización ",null,1,"-","Condición",0,0,0,0,0,null,null,null,null,null,null,null,null,10,{"$f":"IF(UPPER(E32)=\"CONDICIÓN\", H32, \"\")","v":0},10,0]
["INSTALACIONES",{"$f":"B1","v":"Anx:"},{"$f":"C$1","v":"Requerido:"},"m² Util:","Tipo:","BUENO:","MALO:",null,null,"Calif:","Observaciones:",null,null,null,null,null,null,null,null,null,null,null,null,null,null,null,null,null,null,null,null,null,null,null,null,null,null,null,null,null,{"$f":"SUM(Q34:Q35)","v":0},{"$f":"SUM(R34:R35)","v":0},{"$f":"SUM(S34:S35)","v":0},{"$f":"SUM(T34:T35)","v":0},{"$f":"SUM(U34:U35)","v":0},0,0,0,0,0,10,0,10,0,0,0,0,0,10,0,10,0,0,0]
["Estructura General ","EG_01",1,"-","Condición",0,0,{"$f":"IF(AND(F34>=C34,F34>0),10,0)","v":0},0,0,null,null,null,null,null,null,null,null,null,null,null,null,null,null,null,null,null,null,null,null,null,null,null,null,{"$f":"IF(UPPER(E34)=\"CONDICIÓN\", 10, 0)","v":10},{"$f":"IF(UPPER(E34)=\"CONDICIÓN\", H34, \"\")","v":0},{"$f":"IF(UPPER(E34)=\"CONDICIÓN\", 10, 0)","v":10},{"$f":"IF(UPPER(E34)=\"CONDICIÓN\", I34, \"\")","v":0}]
["Instalaciones Generales","IG_01",1,"-","Condición",0,0,0,0,0,null,null,null,null,null,null,null,null,null,null,null,null,null,null,null,null,{"$f":"IF(UPPER(E35)=\"CONDICIÓN\", 10, 0)","v":10},{"$f":"IF(UPPER(E35)=\"CONDICIÓN\", H35, \"\")","v":0},{"$f":"IF(UPPER(E35)=\"CONDICIÓN\", 10, 0)","v":10},{"$f":"IF(UPPER(E35)=\"CONDICIÓN\", I35, \"\")","v":0}]
["ÁREA DE SOPORTE Y SUMINISTROS",null,null,null,null,null,null,null,null,null,null,{"$f":"ROW(A36)","v":36},null,null,null,null,null,null,null,null,null,null,null,null,null,null,null,null,null,null,null,null,null,null,null,null,null,null,null,null,{"$f":"SUM(Q38:Q44)","v":10},{"$f":"SUM(R38:R44)","v":0},{"$f":"SUM(S38:S44)","v":20},{"$f":"SUM(T38:T44)","v":0},{"$f":"SUM(U38:U44)","v":20},0,0,0,10,0,0,0,0,0,0,0,10,0,0,0,0,0,{"$f":"SUM(AM38:AM44)","v":0},0]
[" (ESTA ÁREA FUNCIONAL DEBE ESTAR CENTRALIZADA Y NO DEBE ESTAR EN CONTACTO CON LAS ÁREAS DE TRATAMIENTO)"]
["AMBIENTES",{"$f":"B1","v":"Anx:"},{"$f":"C$1","v":"Requerido:"},"m² Util:","Tipo:","BUENO:","MALO:",null,null,"Calif:","Observaciones:",null,null,null,null,null,null,null,null,null,null,null,null,null,null,null,null,null,null,null,null,null,null,null,null,null,null,null,null,null,{"$f":"SUM(Q39:Q41)","v":10},{"$f":"SUM(R39:R41)","v":0},{"$f":"SUM(S39:S41)","v":20},{"$f":"SUM(T39:T41)","v":0},{"$f":"SUM(U39:U41)","v":20},{"$f":"SUM(V39:V41)","v":0},0,0,0,0,0,0,0,0,0,0,0,0,0,0,0,0,0,{"$f":"SUM(AN39:AN41)","v":0}]
["Cuarto de limpieza",null,1,"-","Requerido",0,0,{"$f":"IF(AND(F39>=C39,F39>0),10,0)","v":0},{"$f":"IF(AND(G39>=C39,G39>0),10,0)","v":0},{"$f":"IF(AND(F39=0,G39=0),0,IF(AND(F39>0,G39>0),10,IF(AND(F39=0,G39>0),-10,IF(AND(F39>0,G39=0),10))))","v":0},null,null,null,null,null,null,{"$f":"IF(UPPER(E39)=\"REQUERIDO\", 10, \"\")","v":10},{"$f":"IF(UPPER(E39)=\"REQUERIDO\", J39, \"\")","v":0}]
["Almacenamiento intermedio o temporal de desechos ",null,1,"-","Condición",0,0,0,0,0,null,null,null,null,null,null,null,null,{"$f":"IF(UPPER(E40)=\"CONDICIÓN\", 10, 0)","v":10},{"$f":"IF(UPPER(E40)=\"CONDICIÓN\", H40, \"\")","v":0},{"$f":"IF(UPPER(E40)=\"CONDICIÓN\", 10, 0)","v":10},{"$f":"IF(UPPER(E40)=\"CONDICIÓN\", I40, \"\")","v":0}]
["Lencería",null,1,"-","Condición",0,0,0,0,0,null,null,null,null,null,null,{"$f":"IF(UPPER(E41)=\"REQUERIDO\", 10, \"\")","v":""},{"$f":"IF(UPPER(E41)=\"REQUERIDO\", J41, \"\")","v":""},10,0,10,0]
["INSTALACIONES",{"$f":"B1","v":"Anx:"},{"$f":"C$1","v":"Requerido:"},"m² Util:","Tipo:","BUENO:","MALO:",null,null,"Calif:","Observaciones:",null,null,null,null,null,null,null,null,null,null,null,null,null,null,null,null,null,null,null,null,null,null,null,null,null,null,null,null,null,{"$f":"SUM(Q43:Q44)","v":0},{"$f":"SUM(R43:R44)","v":0},{"$f":"SUM(S43:S44)","v":0},{"$f":"SUM(T43:T44)","v":0},{"$f":"SUM(U43:U44)","v":0},0,0,0,10,0,0,0,0,0,0,0,10,0,0,0,0,0,0,0]
["Estructura General ","EG_01",1,".","Requerido",0,0,{"$f":"IF(AND(F43>=C43,F43>0),10,0)","v":0},{"$f":"IF(AND(G43>=C43,G43>0),10,0)","v":0},0,null,null,null,null,null,null,null,null,null,null,null,null,null,null,null,null,null,null,null,null,null,null,{"$f":"IF(UPPER(E43)=\"REQUERIDO\", 10, \"\")","v":10},{"$f":"IF(UPPER(E43)=\"REQUERIDO\", J43, \"\")","v":0}]
["Instalaciones Generales","IG_01",1,"-","Requerido",0,0,0,0,0,null,null,null,null,null,null,null,null,null,null,null,null,null,null,{"$f":"IF(UPPER(E44)=\"REQUERIDO\", 10, \"\")","v":10},{"$f":"IF(UPPER(E44)=\"REQUERIDO\", J44, \"\")","v":0}]
["ÁREA DE TRATAMIENTO A PACIENTES DE HEMODIÁLISIS",null,null,null,null,null,null,null,null,null,null,{"$f":"ROW(A45)","v":45},null,null,null,null,null,null,null,null,null,null,null,null,null,null,null,null,null,null,null,null,null,null,null,null,null,null,null,null,{"$f":"SUM(Q46:Q52)","v":30},0,0,0,0,0,0,0,10,0,0,0,0,0,0,0,10,0,0,0,0,0,0,0]
["AMBIENTES",{"$f":"B1","v":"Anx:"},{"$f":"C$1","v":"Requerido:"},"m² Util:","Tipo:","BUENO:","MALO:",null,null,"Calif:","Observaciones:",null,null,null,null,null,null,null,null,null,null,null,null,null,null,null,null,null,null,null,null,null,null,null,null,null,null,null,null,null,{"$f":"SUM(Q47:Q49)","v":30},0,0,0,0,0,0,0,0,0,0,0,0,0,0,0,0,0,0,0,0,0,0,0]
["Estación de enfermería",null,1,"-","Requerido",0,0,{"$f":"IF(AND(F47>=C47,F47>0),10,0)","v":0},{"$f":"IF(AND(G47>=C47,G47>0),10,0)","v":0},{"$f":"IF(AND(F47=0,G47=0),0,IF(AND(F47>0,G47>0),10,IF(AND(F47=0,G47>0),-10,IF(AND(F47>0,G47=0),10))))","v":0},null,null,null,null,null,null,{"$f":"IF(UPPER(E47)=\"REQUERIDO\", 10, \"\")","v":10},{"$f":"IF(UPPER(E47)=\"REQUERIDO\", J47, \"\")","v":0}]
["Sala de Hemodiálisis  - Compartido",null,1,"-","Requerido",0,0,0,0,0,null,null,null,null,null,null,10,0]
["Sala de Hemodiálisis - Por puestos",null,1,"-","Requerido",0,0,0,0,0,null,null,null,null,null,null,10,0]
["INSTALACIONES",{"$f":"B1","v":"Anx:"},{"$f":"C$1","v":"Requerido:"},"m² Util:","Tipo:","BUENO:","MALO:",null,null,"Calif:","Observaciones:",null,null,null,null,null,null,null,null,null,null,null,null,null,null,null,null,null,null,null,null,null,null,null,null,null,null,null,null,null,{"$f":"SUM(Q51:Q52)","v":0},{"$f":"SUM(R51:R52)","v":0},{"$f":"SUM(S51:S52)","v":0},{"$f":"SUM(T51:T52)","v":0},{"$f":"SUM(U51:U52)","v":0},0,0,0,10,0,0,0,0,0,0,0,10,0,0,0,0,0,0,0]
["Estructura General ","EG_01",1,"-","Requerido",0,0,{"$f":"IF(AND(F51>=C51,F51>0),10,0)","v":0},{"$f":"IF(AND(G51>=C51,G51>0),10,0)","v":0},0,null,null,null,null,null,null,null,null,null,null,null,null,null,null,null,null,null,null,null,null,null,null,{"$f":"IF(UPPER(E51)=\"REQUERIDO\", 10, \"\")","v":10},{"$f":"IF(UPPER(E51)=\"REQUERIDO\", J51, \"\")","v":0}]
["Instalaciones Generales","IG_01",1,"-","Requerido",0,0,0,0,0,null,null,null,null,null,null,null,null,null,null,null,null,null,null,{"$f":"IF(UPPER(E52)=\"REQUERIDO\", 10, \"\")","v":10},{"$f":"IF(UPPER(E52)=\"REQUERIDO\", J52, \"\")","v":0}]
["ÁREA TECNICA DE APOYO",null,null,null,null,null,null,null,null,null,null,{"$f":"ROW(A53)","v":53},null,null,null,null,null,null,null,null,null,null,null,null,null,null,null,null,null,null,null,null,null,null,null,null,null,null,null,null,{"$f":"SUM(Q54:Q59)","v":20},{"$f":"SUM(R54:R59)","v":0},{"$f":"SUM(S54:S59)","v":0},{"$f":"SUM(T54:T59)","v":0},{"$f":"SUM(U54:U59)","v":0},0,0,0,10,0,0,0,0,0,0,0,10,0,0,0,0,0,0,0]
["AMBIENTES",{"$f":"B1","v":"Anx:"},{"$f":"C$1","v":"Requerido:"},"m² Util:","Tipo:","BUENO:","MALO:",null,null,"Calif:","Observaciones:",null,null,null,null,null,null,null,null,null,null,null,null,null,null,null,null,null,null,null,null,null,null,null,null,null,null,null,null,null,{"$f":"SUM(Q55:Q56)","v":20},{"$f":"SUM(R55:R56)","v":0},{"$f":"SUM(S55:S56)","v":0},{"$f":"SUM(T55:T56)","v":0},{"$f":"SUM(U55:U56)","v":0},0,0,0,0,0,0,0,0,0,0,0,0,0,0,0,0,0,0,0]
["Limpio",null,1,"-","Requerido",0,0,{"$f":"IF(AND(F55>=C55,F55>0),10,0)","v":0},{"$f":"IF(AND(G55>=C55,G55>0),10,0)","v":0},{"$f":"IF(AND(F55=0,G55=0),0,IF(AND(F55>0,G55>0),10,IF(AND(F55=0,G55>0),-10,IF(AND(F55>0,G55=0),10))))","v":0},null,null,null,null,null,null,{"$f":"IF(UPPER(E55)=\"REQUERIDO\", 10, \"\")","v":10},{"$f":"IF(UPPER(E55)=\"REQUERIDO\", J55, \"\")","v":0}]
["Usado",null,1,"-","Requerido",0,0,0,0,0,null,null,null,null,null,null,10,0]
["INSTALACIONES",{"$f":"B1","v":"Anx:"},{"$f":"C$1","v":"Requerido:"},"m² Util:","Tipo:","BUENO:","MALO:",null,null,"Calif:","Observaciones:",null,null,null,null,null,null,null,null,null,null,null,null,null,null,null,null,null,null,null,null,null,null,null,null,null,null,null,null,null,{"$f":"SUM(Q58:Q59)","v":0},{"$f":"SUM(R58:R59)","v":0},{"$f":"SUM(S58:S59)","v":0},{"$f":"SUM(T58:T59)","v":0},{"$f":"SUM(U58:U59)","v":0},0,0,0,10,0,0,0,0,0,0,0,10,0,0,0,0,0,0,0]
["Estructura General ","EG_01",1,".","Requerido",0,0,{"$f":"IF(AND(F58>=C58,F58>0),10,0)","v":0},{"$f":"IF(AND(G58>=C58,G58>0),10,0)","v":0},0,null,null,null,null,null,null,null,null,null,null,null,null,null,null,null,null,null,null,null,null,null,null,{"$f":"IF(UPPER(E58)=\"REQUERIDO\", 10, \"\")","v":10},{"$f":"IF(UPPER(E58)=\"REQUERIDO\", J58, \"\")","v":0}]
["Instalaciones Generales","IG_01",1,"-","Requerido",0,0,0,0,0,null,null,null,null,null,null,null,null,null,null,null,null,null,null,{"$f":"IF(UPPER(E59)=\"REQUERIDO\", 10, \"\")","v":10},{"$f":"IF(UPPER(E59)=\"REQUERIDO\", J59, \"\")","v":0}]
["ÁREA DE DIÁLISIS PERITONEAL",null,null,null,null,null,null,null,null,null,null,{"$f":"ROW(A60)","v":60},null,null,null,null,null,null,null,null,null,null,null,null,null,null,null,null,null,null,null,null,null,null,null,null,null,null,null,null,{"$f":"SUM(Q61:Q66)","v":0},{"$f":"SUM(R61:R66)","v":0},{"$f":"SUM(S61:S66)","v":20},{"$f":"SUM(T61:T66)","v":0},{"$f":"SUM(U61:U66)","v":20},0,0,0,0,0,{"$f":"SUM(AA61:AA66)","v":10},{"$f":"SUM(AB61:AB66)","v":0},0,0,0,0,0,0,10,0,0,0,0,0]
["AMBIENTES",{"$f":"B1","v":"Anx:"},{"$f":"C$1","v":"Requerido:"},"m² Util:","Tipo:","BUENO:","MALO:",null,null,"Calif:","Observaciones:",null,null,null,null,null,null,null,null,null,null,null,null,null,null,null,null,null,null,null,null,null,null,null,null,null,null,null,null,null,{"$f":"SUM(Q62:Q63)","v":0},{"$f":"SUM(R62:R63)","v":0},{"$f":"SUM(S62:S63)","v":20},{"$f":"SUM(T62:T63)","v":0},{"$f":"SUM(U62:U63)","v":20},0,0,0,0,0,0,0,0,0,0,0,0,0,0,0,0,0,0,0]
["Sala de entrenamento ",null,1,"-","Condición",0,0,{"$f":"IF(AND(F62>=C62,F62>0),10,0)","v":0},{"$f":"IF(AND(G62>=C62,G62>0),10,0)","v":0},{"$f":"IF(AND(F62=0,G62=0),0,IF(AND(F62>0,G62>0),10,IF(AND(F62=0,G62>0),-10,IF(AND(F62>0,G62=0),10))))","v":0},null,null,null,null,null,null,{"$f":"IF(UPPER(E62)=\"REQUERIDO\", 10, \"\")","v":""},{"$f":"IF(UPPER(E62)=\"REQUERIDO\", J62, \"\")","v":""},{"$f":"IF(UPPER(E62)=\"CONDICIÓN\", 10, 0)","v":10},{"$f":"IF(UPPER(E62)=\"CONDICIÓN\", H62, \"\")","v":0},{"$f":"IF(UPPER(E62)=\"CONDICIÓN\", 10, 0)","v":10},{"$f":"IF(UPPER(E62)=\"CONDICIÓN\", I62, \"\")","v":0}]
["Área de recambios",null,1,"-","Condición",0,0,0,0,0,null,null,null,null,null,null,{"$f":"IF(UPPER(E63)=\"REQUERIDO\", 10, \"\")","v":""},{"$f":"IF(UPPER(E63)=\"REQUERIDO\", J63, \"\")","v":""},10,0,10,0]
["INSTALACIONES",{"$f":"B1","v":"Anx:"},{"$f":"C$1","v":"Requerido:"},"m² Util:","Tipo:","BUENO:","MALO:",null,null,"Calif:","Observaciones:",null,null,null,null,null,null,null,null,null,null,null,null,null,null,null,null,null,null,null,null,null,null,null,null,null,null,null,null,null,{"$f":"SUM(Q65:Q66)","v":0},{"$f":"SUM(R65:R66)","v":0},{"$f":"SUM(S65:S66)","v":0},{"$f":"SUM(T65:T66)","v":0},{"$f":"SUM(U65:U66)","v":0},0,0,0,0,0,{"$f":"SUM(AA65:AA66)","v":10},{"$f":"SUM(AB65:AB66)","v":0},0,0,0,0,0,0,{"$f":"SUM(AI65:AI66)","v":10},{"$f":"SUM(AJ65:AJ66)","v":0},0,0,0,0]
["Estructura General ","EG_01",1,".","Condición",0,0,{"$f":"IF(AND(F65>=C65,F65>0),10,0)","v":0},{"$f":"IF(AND(G65>=C65,G65>0),10,0)","v":0},0,null,null,null,null,null,null,null,null,null,null,null,null,null,null,null,null,null,null,null,null,null,null,null,null,{"$f":"IF(UPPER(E65)=\"CONDICIÓN\", 10, 0)","v":10},{"$f":"IF(UPPER(E65)=\"CONDICIÓN\", H65, \"\")","v":0}]
["Instalaciones Generales","IG_01",1,"-","Condición",0,0,0,0,0,null,null,null,null,null,null,null,null,null,null,null,null,null,null,null,null,{"$f":"IF(UPPER(E66)=\"CONDICIÓN\", 10, 0)","v":10},{"$f":"IF(UPPER(E66)=\"CONDICIÓN\", H66, \"\")","v":0}]
["ÁREA TECNICA DE APOYO",null,null,null,null,null,null,null,null,null,null,{"$f":"ROW(A67)","v":67},null,null,null,null,null,null,null,null,null,null,null,null,null,null,null,null,null,null,null,null,null,null,null,null,null,null,null,null,{"$f":"SUM(Q68:Q73)","v":0},{"$f":"SUM(R68:R73)","v":0},{"$f":"SUM(S68:S73)","v":20},{"$f":"SUM(T68:T73)","v":0},{"$f":"SUM(U68:U73)","v":20},0,0,0,0,0,{"$f":"SUM(AA68:AA73)","v":10},{"$f":"SUM(AB68:AB73)","v":0},0,0,0,0,0,0,10,0,0,0,0,0]
["AMBIENTES",{"$f":"B1","v":"Anx:"},{"$f":"C$1","v":"Requerido:"},"m² Util:","Tipo:","BUENO:","MALO:",null,null,"Calif:","Observaciones:",null,null,null,null,null,null,null,null,null,null,null,null,null,null,null,null,null,null,null,null,null,null,null,null,null,null,null,null,null,{"$f":"SUM(Q69:Q70)","v":0},{"$f":"SUM(R69:R70)","v":0},{"$f":"SUM(S69:S70)","v":20},{"$f":"SUM(T69:T70)","v":0},{"$f":"SUM(U69:U70)","v":20},0,0,0,0,0,0,0,0,0,0,0,0,0,0,0,0,0,0,0]
["Limpio",null,1,"-","Condición",0,0,{"$f":"IF(AND(F69>=C69,F69>0),10,0)","v":0},{"$f":"IF(AND(G69>=C69,G69>0),10,0)","v":0},{"$f":"IF(AND(F69=0,G69=0),0,IF(AND(F69>0,G69>0),10,IF(AND(F69=0,G69>0),-10,IF(AND(F69>0,G69=0),10))))","v":0},null,null,null,null,null,null,{"$f":"IF(UPPER(E69)=\"REQUERIDO\", 10, \"\")","v":""},{"$f":"IF(UPPER(E69)=\"REQUERIDO\", J69, \"\")","v":""},{"$f":"IF(UPPER(E69)=\"CONDICIÓN\", 10, 0)","v":10},{"$f":"IF(UPPER(E69)=\"CONDICIÓN\", H69, \"\")","v":0},{"$f":"IF(UPPER(E69)=\"CONDICIÓN\", 10, 0)","v":10},{"$f":"IF(UPPER(E69)=\"CONDICIÓN\", I69, \"\")","v":0}]
["Usado",null,1,"-","Condición",0,0,0,0,0,null,null,null,null,null,null,{"$f":"IF(UPPER(E70)=\"REQUERIDO\", 10, \"\")","v":""},{"$f":"IF(UPPER(E70)=\"REQUERIDO\", J70, \"\")","v":""},10,0,10,0]
["INSTALACIONES",{"$f":"B1","v":"Anx:"},{"$f":"C$1","v":"Requerido:"},"m² Util:","Tipo:","BUENO:","MALO:",null,null,"Calif:","Observaciones:",null,null,null,null,null,null,null,null,null,null,null,null,null,null,null,null,null,null,null,null,null,null,null,null,null,null,null,null,null,{"$f":"SUM(Q72:Q73)","v":0},{"$f":"SUM(R72:R73)","v":0},{"$f":"SUM(S72:S73)","v":0},{"$f":"SUM(T72:T73)","v":0},{"$f":"SUM(U72:U73)","v":0},0,0,0,0,0,{"$f":"SUM(AA72:AA73)","v":10},{"$f":"SUM(AB72:AB73)","v":0},0,0,0,0,0,0,{"$f":"SUM(AI72:AI73)","v":10},{"$f":"SUM(AJ72:AJ73)","v":0},0,0,0,0]
["Estructura General ","EG_01",1,".","Condición",0,0,{"$f":"IF(AND(F72>=C72,F72>0),10,0)","v":0},{"$f":"IF(AND(G72>=C72,G72>0),10,0)","v":0},0,null,null,null,null,null,null,null,null,null,null,null,null,null,null,null,null,null,null,null,null,null,null,null,null,{"$f":"IF(UPPER(E72)=\"CONDICIÓN\", 10, 0)","v":10},{"$f":"IF(UPPER(E72)=\"CONDICIÓN\", H72, \"\")","v":0}]
["Instalaciones Generales","IG_01",1,"-","Condición",0,0,0,0,0,null,null,null,null,null,null,null,null,null,null,null,null,null,null,null,null,{"$f":"IF(UPPER(E73)=\"CONDICIÓN\", 10, 0)","v":10},{"$f":"IF(UPPER(E73)=\"CONDICIÓN\", H73, \"\")","v":0}]
["ÁREA PARA LOS USUARIOS",null,null,null,null,null,null,null,null,null,null,{"$f":"ROW(A74)","v":74},null,null,null,null,null,null,null,null,null,null,null,null,null,null,null,null,null,null,null,null,null,null,null,null,null,null,null,null,{"$f":"SUM(Q75:Q81)","v":20},{"$f":"SUM(R75:R81)","v":0},{"$f":"SUM(S75:S81)","v":10},{"$f":"SUM(T75:T81)","v":0},{"$f":"SUM(U75:U81)","v":10},0,0,0,10,0,0,0,0,0,0,0,10,0,0,0,0,0,0,0]
["AMBIENTES",{"$f":"B1","v":"Anx:"},{"$f":"C$1","v":"Requerido:"},"m² Util:","Tipo:","BUENO:","MALO:",null,null,"Calif:","Observaciones:",null,null,null,null,null,null,null,null,null,null,null,null,null,null,null,null,null,null,null,null,null,null,null,null,null,null,null,null,null,{"$f":"SUM(Q76:Q78)","v":20},{"$f":"SUM(R76:R78)","v":0},{"$f":"SUM(S76:S78)","v":10},{"$f":"SUM(T76:T78)","v":0},{"$f":"SUM(U76:U78)","v":10},0,0,0,0,0,0,0,0,0,0,0,0,0,0,0,0,0,0,0]
["Repostería",null,1,"-","Condición",0,0,{"$f":"IF(AND(F76>=C76,F76>0),10,0)","v":0},{"$f":"IF(AND(G76>=C76,G76>0),10,0)","v":0},{"$f":"IF(AND(F76=0,G76=0),0,IF(AND(F76>0,G76>0),10,IF(AND(F76=0,G76>0),-10,IF(AND(F76>0,G76=0),10))))","v":0},null,null,null,null,null,null,{"$f":"IF(UPPER(E76)=\"REQUERIDO\", 10, \"\")","v":""},{"$f":"IF(UPPER(E76)=\"REQUERIDO\", J76, \"\")","v":""},{"$f":"IF(UPPER(E76)=\"CONDICIÓN\", 10, 0)","v":10},{"$f":"IF(UPPER(E76)=\"CONDICIÓN\", H76, \"\")","v":0},{"$f":"IF(UPPER(E76)=\"CONDICIÓN\", 10, 0)","v":10},{"$f":"IF(UPPER(E76)=\"CONDICIÓN\", I76, \"\")","v":0}]
["Vestidor de pacientes",null,2,"-","Requerido",0,0,{"$f":"IF(AND(F77>=C77,C77>0,F77>=1),10,0)","v":0},{"$f":"IF(AND(G77>=C77,C77>0,G77>=1),10,0)","v":0},{"$f":"IF(AND(OR(F77=0,F77<C77),G77=0),0,IF(AND(OR(F77=0,F77<C77),G77>=C77),-10,IF(C77=0,0,IF(F77>=C77,10,0))))","v":0},null,null,null,null,null,null,{"$f":"IF(UPPER(E77)=\"REQUERIDO\", 10, \"\")","v":10},{"$f":"IF(UPPER(E77)=\"REQUERIDO\", J77, \"\")","v":0}]
["Baño de vestidor",null,2,"-","Requerido",0,0,{"$f":"IF(AND(F78>=C78,F78>0),10,0)","v":0},0,{"$f":"IF(AND(OR(F78=0,F78<C78),G78=0),0,IF(AND(OR(F78=0,F78<C78),G78>=C78),-10,IF(C78=0,0,IF(F78>=C78,10,0))))","v":0},null,null,null,null,null,null,10,0]
["INSTALACIONES",{"$f":"B1","v":"Anx:"},{"$f":"C$1","v":"Requerido:"},"m² Util:","Tipo:","BUENO:","MALO:",null,null,"Calif:","Observaciones:",null,null,null,null,null,null,null,null,null,null,null,null,null,null,null,null,null,null,null,null,null,null,null,null,null,null,null,null,null,{"$f":"SUM(Q80:Q81)","v":0},{"$f":"SUM(R80:R81)","v":0},{"$f":"SUM(S80:S81)","v":0},{"$f":"SUM(T80:T81)","v":0},{"$f":"SUM(U80:U81)","v":0},0,0,0,10,0,0,0,0,0,0,0,10,0,0,0,0,0,0,0]
["Estructura General ","EG_01",1,".","Requerido",0,0,{"$f":"IF(AND(F80>=C80,F80>0),10,0)","v":0},{"$f":"IF(AND(G80>=C80,G80>0),10,0)","v":0},0,null,null,null,null,null,null,null,null,null,null,null,null,null,null,null,null,null,null,null,null,null,null,{"$f":"IF(UPPER(E80)=\"REQUERIDO\", 10, \"\")","v":10},{"$f":"IF(UPPER(E80)=\"REQUERIDO\", J80, \"\")","v":0}]
["Instalaciones Generales","IG_01",1,"-","Requerido",0,0,0,0,0,null,null,null,null,null,null,null,null,null,null,null,null,null,null,{"$f":"IF(UPPER(E81)=\"REQUERIDO\", 10, \"\")","v":10},{"$f":"IF(UPPER(E81)=\"REQUERIDO\", J81, \"\")","v":0}]
["APOYO DIAGNÓSTICO",null,null,null,null,null,null,null,null,null,null,{"$f":"ROW(A82)","v":82},null,null,null,null,null,null,null,null,null,null,null,null,null,null,null,null,null,null,null,null,null,null,null,null,null,null,null,null,{"$f":"SUM(Q83:Q118)","v":10},{"$f":"SUM(R83:R118)","v":0},{"$f":"SUM(S83:S118)","v":130},{"$f":"SUM(T83:T118)","v":0},{"$f":"SUM(U83:U118)","v":130},0,0,0,10,0,{"$f":"SUM(AA83:AA118)","v":30},{"$f":"SUM(AB83:AB118)","v":0},20,0,0,0,10,0,30,0,20,0,0,0]
["DIAGNÓSTICO EN LABORATORIO (LABORATORIO DE ANÁLISIS CLÍNICO)",null,null,null,null,null,null,null,null,null,null,{"$f":"ROW(A83)","v":83},null,null,null,null,null,null,null,null,null,null,null,null,null,null,null,null,null,null,null,null,null,null,null,null,null,null,null,null,{"$f":"SUM(Q85:Q118)","v":10},{"$f":"SUM(R85:R118)","v":0},{"$f":"SUM(S85:S118)","v":130},{"$f":"SUM(T85:T118)","v":0},{"$f":"SUM(U85:U118)","v":130},0,0,0,10,0,{"$f":"SUM(AA85:AA118)","v":30},{"$f":"SUM(AB85:AB118)","v":0},20,0,0,0,10,0,30,0,20,0,0,0]
[" (En el caso de no contar con el servicio dentro del establecimiento debe existir un convenio con un Laboratorio de Análisis Clínico con permiso de funcionamiento emitido por el MSP; debe cumplir con las normas de transporte y conservación de muestras)"]
["ÁREA DE PREANÁLISIS",null,null,null,null,null,null,null,null,null,null,{"$f":"ROW(A85)","v":85},null,null,null,null,null,null,null,null,null,null,null,null,null,null,null,null,null,null,null,null,null,null,null,null,null,null,null,null,{"$f":"SUM(Q86:Q88)","v":10},{"$f":"SUM(R86:R88)","v":0},{"$f":"SUM(S86:S88)","v":10},{"$f":"SUM(T86:T88)","v":0},{"$f":"SUM(U86:U88)","v":10},0,0,0,0,0,0,0,0,0,0,0,0,0,0,0,0,0,0,0]
["AMBIENTES",{"$f":"B1","v":"Anx:"},{"$f":"C$1","v":"Requerido:"},"m² Util:","Tipo:","BUENO:","MALO:",null,null,"Calif:","Observaciones:",null,null,null,null,null,null,null,null,null,null,null,null,null,null,null,null,null,null,null,null,null,null,null,null,null,null,null,null,null,{"$f":"SUM(Q87:Q88)","v":10},{"$f":"SUM(R87:R88)","v":0},{"$f":"SUM(S87:S88)","v":10},{"$f":"SUM(T87:T88)","v":0},{"$f":"SUM(U87:U88)","v":10},0,0,0,0,0,0,0,0,0,0,0,0,0,0,0,0,0,0,0]
["Toma de muestras",null,1,"-","Condición",0,0,{"$f":"IF(AND(F87>=C87,F87>0),10,0)","v":0},{"$f":"IF(AND(G87>=C87,G87>0),10,0)","v":0},{"$f":"IF(AND(F87=0,G87=0),0,IF(AND(F87>0,G87>0),10,IF(AND(F87=0,G87>0),-10,IF(AND(F87>0,G87=0),10))))","v":0},null,null,null,null,null,null,null,null,{"$f":"IF(UPPER(E87)=\"CONDICIÓN\", 10, 0)","v":10},{"$f":"IF(UPPER(E87)=\"CONDICIÓN\", H87, \"\")","v":0},{"$f":"IF(UPPER(E87)=\"CONDICIÓN\", 10, 0)","v":10},{"$f":"IF(UPPER(E87)=\"CONDICIÓN\", I87, \"\")","v":0}]
["Pre analisis",null,1,"-","Requerido",0,0,0,0,0,null,null,null,null,null,null,{"$f":"IF(UPPER(E88)=\"REQUERIDO\", 10, \"\")","v":10},{"$f":"IF(UPPER(E88)=\"REQUERIDO\", J88, \"\")","v":0}]
["INSTALACIONES",{"$f":"B1","v":"Anx:"},{"$f":"C$1","v":"Requerido:"},"m² Util:","Tipo:","BUENO:","MALO:",null,null,"Calif:","Observaciones:",null,null,null,null,null,null,null,null,null,null,null,null,null,null,null,null,null,null,null,null,null,null,null,null,null,null,null,null,null,{"$f":"SUM(Q90:Q91)","v":0},{"$f":"SUM(R90:R91)","v":0},{"$f":"SUM(S90:S91)","v":0},{"$f":"SUM(T90:T91)","v":0},{"$f":"SUM(U90:U91)","v":0},0,0,0,{"$f":"SUM(Y90:Y91)","v":10},{"$f":"SUM(Z90:Z91)","v":0},0,0,0,0,0,0,{"$f":"SUM(AG90:AG91)","v":10},{"$f":"SUM(AH90:AH91)","v":0},0,0,0,0,0,0]
["Estructura General ","EG_01",1,"-","Requerido",0,0,{"$f":"IF(AND(F90>=C90,F90>0),10,0)","v":0},{"$f":"IF(AND(G90>=C90,G90>0),10,0)","v":0},0,null,null,null,null,null,null,null,null,null,null,null,null,null,null,null,null,null,null,null,null,null,null,{"$f":"IF(UPPER(E90)=\"REQUERIDO\", 10, \"\")","v":10},{"$f":"IF(UPPER(E90)=\"REQUERIDO\", J90, \"\")","v":0}]
["Instalaciones Generales","IG_01",1,"-","Requerido",0,0,0,0,0,null,null,null,null,null,null,null,null,null,null,null,null,null,null,{"$f":"IF(UPPER(E91)=\"REQUERIDO\", 10, \"\")","v":10},{"$f":"IF(UPPER(E91)=\"REQUERIDO\", J91, \"\")","v":0}]
["ÁREA DE ANÁLISIS",null,null,null,null,null,null,null,null,null,null,{"$f":"ROW(A92)","v":92},null,null,null,null,null,null,null,null,null,null,null,null,null,null,null,null,null,null,null,null,null,null,null,null,null,null,null,null,{"$f":"SUM(Q93:Q103)","v":0},{"$f":"SUM(R93:R103)","v":0},{"$f":"SUM(S93:S103)","v":70},{"$f":"SUM(T93:T103)","v":0},{"$f":"SUM(U93:U103)","v":70},0,0,0,0,0,10,0,10,0,0,0,0,0,10,0,10,0,0,{"$f":"SUM(AN93:AN103)","v":0}]
["AMBIENTES",{"$f":"B1","v":"Anx:"},{"$f":"C$1","v":"Requerido:"},"m² Util:","Tipo:","BUENO:","MALO:",null,null,"Calif:","Observaciones:",null,null,null,null,null,null,null,null,null,null,null,null,null,null,null,null,null,null,null,null,null,null,null,null,null,null,null,null,null,{"$f":"SUM(Q94:Q100)","v":0},{"$f":"SUM(R94:R100)","v":0},{"$f":"SUM(S94:S100)","v":70},{"$f":"SUM(T94:T100)","v":0},{"$f":"SUM(U94:U100)","v":70},0,0,0,0,0,0,0,0,0,0,0,0,0,0,0,0,0,0,{"$f":"SUM(AN94:AN100)","v":0}]
["Hematología",null,1,"-","Condición",0,0,{"$f":"IF(AND(F94>=C94,F94>0),10,0)","v":0},{"$f":"IF(AND(G94>=C94,G94>0),10,0)","v":0},{"$f":"IF(AND(F94=0,G94=0),0,IF(AND(F94>0,G94>0),10,IF(AND(F94=0,G94>0),-10,IF(AND(F94>0,G94=0),10))))","v":0},null,null,null,null,null,null,null,null,{"$f":"IF(UPPER(E94)=\"CONDICIÓN\", 10, 0)","v":10},{"$f":"IF(UPPER(E94)=\"CONDICIÓN\", H94, \"\")","v":0},{"$f":"IF(UPPER(E94)=\"CONDICIÓN\", 10, 0)","v":10},{"$f":"IF(UPPER(E94)=\"CONDICIÓN\", I94, \"\")","v":0}]
["Química Clínica",null,1,"-","Condición",0,0,0,0,0,null,null,null,null,null,null,null,null,10,0,10,0]
[" Hemostasia",null,1,"-","Condición",0,0,0,0,0,null,null,null,null,null,null,null,null,10,0,10,0]
["Uroanálisis y Coproanálisis",null,1,"-","Condición",0,0,0,0,0,null,null,null,null,null,null,null,null,10,0,10,0]
["Microbiología de mediana complejidad",null,1,"-","Condición",0,0,0,0,0,null,null,null,null,null,null,null,null,10,0,10,0]
["Inmunología e Inmunoquímica",null,1,"-","Condición",0,0,0,0,0,null,null,null,null,null,null,null,null,10,0,10,0]
["Área para Bioseguridad laboral",null,1,"-","Condición",0,0,0,0,0,null,null,null,null,null,null,null,null,10,0,10,0]
["INSTALACIONES",{"$f":"B1","v":"Anx:"},{"$f":"C$1","v":"Requerido:"},"m² Util:","Tipo:","BUENO:","MALO:",null,null,"Calif:","Observaciones:",null,null,null,null,null,null,null,null,null,null,null,null,null,null,null,null,null,null,null,null,null,null,null,null,null,null,null,null,null,{"$f":"SUM(Q102:Q103)","v":0},{"$f":"SUM(R102:R103)","v":0},{"$f":"SUM(S102:S103)","v":0},{"$f":"SUM(T102:T103)","v":0},{"$f":"SUM(U102:U103)","v":0},0,0,0,0,0,10,0,10,0,0,0,0,0,10,0,10,0,0,0]
["Estructura General ","EG_01",1,"-","Condición",0,0,{"$f":"IF(AND(F102>=C102,F102>0),10,0)","v":0},{"$f":"IF(AND(G102>=C102,G102>0),10,0)","v":0},0,null,null,null,null,null,null,null,null,null,null,null,null,null,null,null,null,null,null,null,null,null,null,null,null,{"$f":"IF(UPPER(E102)=\"CONDICIÓN\", 10, 0)","v":10},{"$f":"IF(UPPER(E102)=\"CONDICIÓN\", H102, \"\")","v":0},{"$f":"IF(UPPER(E102)=\"CONDICIÓN\", 10, 0)","v":10},{"$f":"IF(UPPER(E102)=\"CONDICIÓN\", I102, \"\")","v":0}]
["Instalaciones Generales","IG_01",1,"-","Condición",0,0,0,0,0,null,null,null,null,null,null,null,null,null,null,null,null,null,null,null,null,{"$f":"IF(UPPER(E103)=\"CONDICIÓN\", 10, 0)","v":10},{"$f":"IF(UPPER(E103)=\"CONDICIÓN\", H103, \"\")","v":0},{"$f":"IF(UPPER(E103)=\"CONDICIÓN\", 10, 0)","v":10},{"$f":"IF(UPPER(E103)=\"CONDICIÓN\", I103, \"\")","v":0}]
["ÁREA DE SOPORTE  ",null,null,null,null,null,null,null,null,null,null,{"$f":"ROW(A104)","v":104},null,null,null,null,null,null,null,null,null,null,null,null,null,null,null,null,null,null,null,null,null,null,null,null,null,null,null,null,{"$f":"SUM(Q105:Q112)","v":0},{"$f":"SUM(R105:R112)","v":0},{"$f":"SUM(S105:S112)","v":40},{"$f":"SUM(T105:T112)","v":0},{"$f":"SUM(U105:U112)","v":40},0,0,0,0,0,10,0,10,0,0,0,0,0,10,0,10,0,0,0]
["AMBIENTES",{"$f":"B1","v":"Anx:"},{"$f":"C$1","v":"Requerido:"},"m² Util:","Tipo:","BUENO:","MALO:",null,null,"Calif:","Observaciones:",null,null,null,null,null,null,null,null,null,null,null,null,null,null,null,null,null,null,null,null,null,null,null,null,null,null,null,null,null,{"$f":"SUM(Q106:Q109)","v":0},{"$f":"SUM(R106:R109)","v":0},{"$f":"SUM(S106:S109)","v":40},{"$f":"SUM(T106:T109)","v":0},{"$f":"SUM(U106:U109)","v":40},0,0,0,0,0,0,0,0,0,0,0,0,0,0,0,0,0,0,0]
["Zona de Refrigeradores y Congeladores",null,1,"-","Condición",0,0,{"$f":"IF(AND(F106>=C106,F106>0),10,0)","v":0},{"$f":"IF(AND(G106>=C106,G106>0),10,0)","v":0},{"$f":"IF(AND(F106=0,G106=0),0,IF(AND(F106>0,G106>0),10,IF(AND(F106=0,G106>0),-10,IF(AND(F106>0,G106=0),10))))","v":0},null,null,null,null,null,null,null,null,{"$f":"IF(UPPER(E106)=\"CONDICIÓN\", 10, 0)","v":10},{"$f":"IF(UPPER(E106)=\"CONDICIÓN\", H106, \"\")","v":0},{"$f":"IF(UPPER(E106)=\"CONDICIÓN\", 10, 0)","v":10},{"$f":"IF(UPPER(E106)=\"CONDICIÓN\", I106, \"\")","v":0}]
["Bodega o almacenamiento de Material ",null,1,"-","Condición",0,0,0,0,0,null,null,null,null,null,null,null,null,10,0,10,0]
["Usado. (para lavado y esterilización de material)",null,1,"-","Condición",0,0,0,0,0,null,null,null,null,null,null,null,null,10,0,10,0]
["Cuarto de Limpieza - se justifica si esta centralizado para todos los servicios ",null,1,"-","Condición",0,0,0,0,{"$f":"IF(AND(F109=0,G109=0),0,IF(AND(F109>0,G109>0),10,IF(AND(F109=0,G109>0),-10,IF(AND(F109>0,G109=0),10))))","v":0},null,null,null,null,null,null,null,null,10,0,10,0]
["INSTALACIONES",{"$f":"B1","v":"Anx:"},{"$f":"C$1","v":"Requerido:"},"m² Util:","Tipo:","BUENO:","MALO:",null,null,"Calif:","Observaciones:",null,null,null,null,null,null,null,null,null,null,null,null,null,null,null,null,null,null,null,null,null,null,null,null,null,null,null,null,null,{"$f":"SUM(Q111:Q112)","v":0},{"$f":"SUM(R111:R112)","v":0},{"$f":"SUM(S111:S112)","v":0},{"$f":"SUM(T111:T112)","v":0},{"$f":"SUM(U111:U112)","v":0},0,0,0,0,0,10,0,10,0,0,0,0,0,10,0,10,0,0,0]
["Estructura General ","EG_01",1,"-","Condición",0,0,{"$f":"IF(AND(F111>=C111,F111>0),10,0)","v":0},{"$f":"IF(AND(G111>=C111,G111>0),10,0)","v":0},{"$f":"IF(AND(F111=0,G111=0),0,IF(AND(F111>0,G111>0),10,IF(AND(F111=0,G111>0),-10,IF(AND(F111>0,G111=0),10))))","v":0},null,null,null,null,null,null,null,null,null,null,null,null,null,null,null,null,null,null,null,null,null,null,null,null,{"$f":"IF(UPPER(E111)=\"CONDICIÓN\", 10, 0)","v":10},{"$f":"IF(UPPER(E111)=\"CONDICIÓN\", H111, \"\")","v":0},{"$f":"IF(UPPER(E111)=\"CONDICIÓN\", 10, 0)","v":10},{"$f":"IF(UPPER(E111)=\"CONDICIÓN\", I111, \"\")","v":0}]
["Instalaciones Generales","IG_01",1,"-","Condición",0,0,0,0,0,null,null,null,null,null,null,null,null,null,null,null,null,null,null,null,null,{"$f":"IF(UPPER(E112)=\"CONDICIÓN\", 10, 0)","v":10},{"$f":"IF(UPPER(E112)=\"CONDICIÓN\", H112, \"\")","v":0},{"$f":"IF(UPPER(E112)=\"CONDICIÓN\", 10, 0)","v":10},{"$f":"IF(UPPER(E112)=\"CONDICIÓN\", I112, \"\")","v":0}]
["ÁREA ADMINISTRATIVA Y DE PERSONAL",null,null,null,null,null,null,null,null,null,null,{"$f":"ROW(A113)","v":113},null,null,null,null,null,null,null,null,null,null,null,null,null,null,null,null,null,null,null,null,null,null,null,null,null,null,null,null,{"$f":"SUM(Q114:Q118)","v":0},{"$f":"SUM(R114:R118)","v":0},{"$f":"SUM(S114:S118)","v":10},{"$f":"SUM(T114:T118)","v":0},{"$f":"SUM(U114:U118)","v":10},0,0,0,0,0,{"$f":"SUM(AA114:AA118)","v":10},{"$f":"SUM(AB114:AB118)","v":0},0,0,0,0,0,0,10,0,0,0,0,0]
["AMBIENTES",{"$f":"B1","v":"Anx:"},{"$f":"C$1","v":"Requerido:"},"m² Util:","Tipo:","BUENO:","MALO:",null,null,"Calif:","Observaciones:",null,null,null,null,null,null,null,null,null,null,null,null,null,null,null,null,null,null,null,null,null,null,null,null,null,null,null,null,null,{"$f":"SUM(Q115:Q115)","v":0},{"$f":"SUM(R115:R115)","v":0},{"$f":"SUM(S115:S115)","v":10},{"$f":"SUM(T115:T115)","v":0},{"$f":"SUM(U115:U115)","v":10},0,0,0,0,0,0,0,0,0,0,0,0,0,0,0,0,0,0,0]
["Despacho de Responsable de Servicio",null,1,"-","Condición",0,0,{"$f":"IF(AND(F115>=C115,F115>0),10,0)","v":0},{"$f":"IF(AND(G115>=C115,G115>0),10,0)","v":0},{"$f":"IF(AND(F115=0,G115=0),0,IF(AND(F115>0,G115>0),10,IF(AND(F115=0,G115>0),-10,IF(AND(F115>0,G115=0),10))))","v":0},null,null,null,null,null,null,null,null,{"$f":"IF(UPPER(E115)=\"CONDICIÓN\", 10, 0)","v":10},{"$f":"IF(UPPER(E115)=\"CONDICIÓN\", H115, \"\")","v":0},{"$f":"IF(UPPER(E115)=\"CONDICIÓN\", 10, 0)","v":10},{"$f":"IF(UPPER(E115)=\"CONDICIÓN\", I115, \"\")","v":0}]
["INSTALACIONES",{"$f":"B1","v":"Anx:"},{"$f":"C$1","v":"Requerido:"},"m² Util:","Tipo:","BUENO:","MALO:",null,null,"Calif:","Observaciones:",null,null,null,null,null,null,null,null,null,null,null,null,null,null,null,null,null,null,null,null,null,null,null,null,null,null,null,null,null,{"$f":"SUM(Q117:Q118)","v":0},{"$f":"SUM(R117:R118)","v":0},{"$f":"SUM(S117:S118)","v":0},{"$f":"SUM(T117:T118)","v":0},{"$f":"SUM(U117:U118)","v":0},0,0,0,0,0,{"$f":"SUM(AA117:AA118)","v":10},{"$f":"SUM(AB117:AB118)","v":0},0,0,0,0,0,0,{"$f":"SUM(AI117:AI118)","v":10},{"$f":"SUM(AJ117:AJ118)","v":0},0,0,0,0]
["Estructura General ","EG_01",1,"-","Condición",0,0,{"$f":"IF(AND(F117>=C117,F117>0),10,0)","v":0},{"$f":"IF(AND(G117>=C117,G117>0),10,0)","v":0},0,null,null,null,null,null,null,null,null,null,null,null,null,null,null,null,null,null,null,null,null,null,null,null,null,{"$f":"IF(UPPER(E117)=\"CONDICIÓN\", 10, 0)","v":10},{"$f":"IF(UPPER(E117)=\"CONDICIÓN\", H117, \"\")","v":0}]
["Instalaciones Generales","IG_01",1,"-","Condición",0,0,0,0,0,null,null,null,null,null,null,null,null,null,null,null,null,null,null,null,null,{"$f":"IF(UPPER(E118)=\"CONDICIÓN\", 10, 0)","v":10},{"$f":"IF(UPPER(E118)=\"CONDICIÓN\", H118, \"\")","v":0}]
["APOYO TERAPÉUTICO",null,null,null,null,null,null,null,null,null,null,{"$f":"ROW(A119)","v":119},null,null,null,null,null,null,null,null,null,null,null,null,null,null,null,null,null,null,null,null,null,null,null,null,null,null,null,null,{"$f":"SUM(Q120:Q127)","v":20},{"$f":"SUM(R120:R127)","v":0},{"$f":"SUM(S120:S127)","v":0},{"$f":"SUM(T120:T127)","v":0},{"$f":"SUM(U120:U127)","v":0},0,0,0,10,0,0,0,0,0,0,0,10,0,0,0,0,0,0,0]
["DOTACIÓN DE MEDICAMENTOS Y DISPOSITIVOS MÉDICOS (FARMACIA)",null,null,null,null,null,null,null,null,null,null,{"$f":"ROW(A120)","v":120},null,null,null,null,null,null,null,null,null,null,null,null,null,null,null,null,null,null,null,null,null,null,null,null,null,null,null,null,{"$f":"SUM(Q121:Q127)","v":20},{"$f":"SUM(R121:R127)","v":0},{"$f":"SUM(S121:S127)","v":0},{"$f":"SUM(T121:T127)","v":0},{"$f":"SUM(U121:U127)","v":0},0,0,0,10,0,0,0,0,0,0,0,10,0,0,0,0,0,0,0]
["ÁREA DE FARMACIA",null,null,null,null,null,null,null,null,null,null,{"$f":"ROW(A121)","v":121},null,null,null,null,null,null,null,null,null,null,null,null,null,null,null,null,null,null,null,null,null,null,null,null,null,null,null,null,{"$f":"SUM(Q122:Q127)","v":20},{"$f":"SUM(R122:R127)","v":0},{"$f":"SUM(S122:S127)","v":0},{"$f":"SUM(T122:T127)","v":0},{"$f":"SUM(U122:U127)","v":0},0,0,0,10,0,0,0,0,0,0,0,10,0,0,0,0,0,0,0]
["AMBIENTES",{"$f":"B1","v":"Anx:"},{"$f":"C$1","v":"Requerido:"},"m² Util:","Tipo:","BUENO:","MALO:",null,null,"Calif:","Observaciones:",null,null,null,null,null,null,null,null,null,null,null,null,null,null,null,null,null,null,null,null,null,null,null,null,null,null,null,null,null,{"$f":"SUM(Q123:Q124)","v":20},{"$f":"SUM(R123:R124)","v":0},{"$f":"SUM(S123:S124)","v":0},{"$f":"SUM(T123:T124)","v":0},{"$f":"SUM(U123:U124)","v":0},0,0,0,0,0,0,0,0,0,0,0,0,0,0,0,0,0,0,0]
["Dispensación",null,1,"-","Requerido",0,0,{"$f":"IF(AND(F123>=C123,F123>0),10,0)","v":0},{"$f":"IF(AND(G123>=C123,G123>0),10,0)","v":0},{"$f":"IF(AND(F123=0,G123=0),0,IF(AND(F123>0,G123>0),10,IF(AND(F123=0,G123>0),-10,IF(AND(F123>0,G123=0),10))))","v":0},null,null,null,null,null,null,{"$f":"IF(UPPER(E123)=\"REQUERIDO\", 10, \"\")","v":10},{"$f":"IF(UPPER(E123)=\"REQUERIDO\", J123, \"\")","v":0}]
["Bodega",null,1,"-","Requerido",0,0,0,0,0,null,null,null,null,null,null,10,0]
["INSTALACIONES",{"$f":"B1","v":"Anx:"},{"$f":"C$1","v":"Requerido:"},"m² Util:","Tipo:","BUENO:","MALO:",null,null,"Calif:","Observaciones:",null,null,null,null,null,null,null,null,null,null,null,null,null,null,null,null,null,null,null,null,null,null,null,null,null,null,null,null,null,{"$f":"SUM(Q126:Q127)","v":0},{"$f":"SUM(R126:R127)","v":0},{"$f":"SUM(S126:S127)","v":0},{"$f":"SUM(T126:T127)","v":0},{"$f":"SUM(U126:U127)","v":0},0,0,0,10,0,0,0,0,0,0,0,10,0,0,0,0,0,0,0]
["Estructura General ","EG_01",1,".","Requerido",0,0,{"$f":"IF(AND(F126>=C126,F126>0),10,0)","v":0},{"$f":"IF(AND(G126>=C126,G126>0),10,0)","v":0},0,null,null,null,null,null,null,null,null,null,null,null,null,null,null,null,null,null,null,null,null,null,null,{"$f":"IF(UPPER(E126)=\"REQUERIDO\", 10, \"\")","v":10},{"$f":"IF(UPPER(E126)=\"REQUERIDO\", J126, \"\")","v":0}]
["Instalaciones Generales","IG_01",1,"-","Requerido",0,0,0,0,0,null,null,null,null,null,null,null,null,null,null,null,null,null,null,{"$f":"IF(UPPER(E127)=\"REQUERIDO\", 10, \"\")","v":10},{"$f":"IF(UPPER(E127)=\"REQUERIDO\", J127, \"\")","v":0}]
["ADMINISTRATIVO",null,null,null,null,null,null,null,null,null,null,{"$f":"ROW(A128)","v":128},null,null,null,null,null,null,null,null,null,null,null,null,null,null,null,null,null,null,null,null,null,null,null,null,null,null,null,null,{"$f":"SUM(Q129:Q142)","v":50},{"$f":"SUM(R129:R142)","v":0},{"$f":"SUM(S129:S142)","v":30},{"$f":"SUM(T129:T142)","v":0},{"$f":"SUM(U129:U142)","v":30},0,0,0,10,0,0,0,0,0,0,0,10,0,0,0,0,0,0,0]
["ADMINISTRACIÓN TÉCNICA",null,null,null,null,null,null,null,null,null,null,{"$f":"ROW(A129)","v":129},null,null,null,null,null,null,null,null,null,null,null,null,null,null,null,null,null,null,null,null,null,null,null,null,null,null,null,null,{"$f":"SUM(Q130:Q142)","v":50},{"$f":"SUM(R130:R142)","v":0},{"$f":"SUM(S130:S142)","v":30},{"$f":"SUM(T130:T142)","v":0},{"$f":"SUM(U130:U142)","v":30},0,0,0,10,0,0,0,0,0,0,0,10,0,0,0,0,0,0,0]
["ÁREA TÉCNICA",null,null,null,null,null,null,null,null,null,null,{"$f":"ROW(A130)","v":130},null,null,null,null,null,null,null,null,null,null,null,null,null,null,null,null,null,null,null,null,null,null,null,null,null,null,null,null,{"$f":"SUM(Q131:Q142)","v":50},{"$f":"SUM(R131:R142)","v":0},{"$f":"SUM(S131:S142)","v":30},{"$f":"SUM(T131:T142)","v":0},{"$f":"SUM(U131:U142)","v":30},0,0,0,10,0,0,0,0,0,0,0,10,0,0,0,0,0,0,0]
["AMBIENTES",{"$f":"B1","v":"Anx:"},{"$f":"C$1","v":"Requerido:"},"m² Util:","Tipo:","BUENO:","MALO:",null,null,"Calif:","Observaciones:","                                                                                                                                                                                                       ",null,null,null,null,null,null,null,null,null,null,null,null,null,null,null,null,null,null,null,null,null,null,null,null,null,null,null,null,{"$f":"SUM(Q132:Q139)","v":50},{"$f":"SUM(R132:R139)","v":0},{"$f":"SUM(S132:S139)","v":30},{"$f":"SUM(T132:T139)","v":0},{"$f":"SUM(U132:U139)","v":30},0,0,0,0,0,0,0,0,0,0,0,0,0,0,0,0,0,0,0]
["Despacho del Director (Puede ser un consultorio médico de uso exclusivo del director [Nefrólogo])",null,1,"-","Requerido",0,0,{"$f":"IF(AND(F132>=C132,F132>0),10,0)","v":0},{"$f":"IF(AND(G132>=C132,G132>0),10,0)","v":0},{"$f":"IF(AND(F132=0,G132=0),0,IF(AND(F132>0,G132>0),10,IF(AND(F132=0,G132>0),-10,IF(AND(F132>0,G132=0),10))))","v":0},null,null,null,null,null,null,{"$f":"IF(UPPER(E132)=\"REQUERIDO\", 10, \"\")","v":10},{"$f":"IF(UPPER(E132)=\"REQUERIDO\", J132, \"\")","v":0}]
["Sala de espera",null,1,"-","Condición",0,0,0,0,0,null,null,null,null,null,null,null,null,{"$f":"IF(UPPER(E133)=\"CONDICIÓN\", 10, 0)","v":10},{"$f":"IF(UPPER(E133)=\"CONDICIÓN\", H133, \"\")","v":0},{"$f":"IF(UPPER(E133)=\"CONDICIÓN\", 10, 0)","v":10},{"$f":"IF(UPPER(E133)=\"CONDICIÓN\", I133, \"\")","v":0}]
["Secretaría (no exclusiva de la Dirección, puede encontrarse en el área de Admisión, Información y Recepción)",null,1,"-","Requerido",0,0,0,0,0,null,null,null,null,null,null,{"$f":"IF(UPPER(E134)=\"REQUERIDO\", 10, \"\")","v":10},{"$f":"IF(UPPER(E134)=\"REQUERIDO\", J134, \"\")","v":0}]
["Despacho de Jefe de Enfermeras",null,1,"-","Requerido",0,0,0,0,0,null,null,null,null,null,null,{"$f":"IF(UPPER(E135)=\"REQUERIDO\", 10, \"\")","v":10},{"$f":"IF(UPPER(E135)=\"REQUERIDO\", J135, \"\")","v":0}]
["Oficina de  Trabajo Social (Puede compartir con los Consultorios de Psicología y Nutrición, únicamente cuando esta se encuentre en consulta externa. Es un área de uso exclusivo que debe asegurar la privacidad del usuario)",null,1,"-","Requerido",0,0,0,0,0,null,null,null,null,null,null,{"$f":"IF(UPPER(E136)=\"REQUERIDO\", 10, \"\")","v":10},{"$f":"IF(UPPER(E136)=\"REQUERIDO\", J136, \"\")","v":0}]
["Despacho de Responsable de Talento Humano (Puede estar en un ambiente compartido con la Zona de Trabajo de técnico financiero, debe demostrarse la gestión)",null,1,"-","Condición",0,0,0,0,0,null,null,null,null,null,null,null,null,{"$f":"IF(UPPER(E137)=\"CONDICIÓN\", 10, 0)","v":10},{"$f":"IF(UPPER(E137)=\"CONDICIÓN\", H137, \"\")","v":0},{"$f":"IF(UPPER(E137)=\"CONDICIÓN\", 10, 0)","v":10},{"$f":"IF(UPPER(E137)=\"CONDICIÓN\", I137, \"\")","v":0}]
["Zona de trabajo de Técnico financiero",null,1,"-","Condición",0,0,{"$f":"IF(AND(F138>=C138,F138>0),10,0)","v":0},0,0,null,null,null,null,null,null,null,null,10,0,10,0]
["Baño de personal",null,2,"-","Requerido",0,0,{"$f":"IF(AND(F139>=C139,F139>0),10,0)","v":0},0,{"$f":"IF(AND(OR(F139=0,F139<C139),G139=0),0,IF(AND(OR(F139=0,F139<C139),G139>=C139),-10,IF(C139=0,0,IF(F139>=C139,10,0))))","v":0},null,null,null,null,null,null,{"$f":"IF(UPPER(E139)=\"REQUERIDO\", 10, \"\")","v":10},{"$f":"IF(UPPER(E139)=\"REQUERIDO\", J139, \"\")","v":0}]
["INSTALACIONES",{"$f":"B1","v":"Anx:"},{"$f":"C$1","v":"Requerido:"},"m² Util:","Tipo:","BUENO:","MALO:",null,null,"Calif:","Observaciones:",null,null,null,null,null,null,null,null,null,null,null,null,null,null,null,null,null,null,null,null,null,null,null,null,null,null,null,null,null,{"$f":"SUM(Q141:Q142)","v":0},{"$f":"SUM(R141:R142)","v":0},{"$f":"SUM(S141:S142)","v":0},{"$f":"SUM(T141:T142)","v":0},{"$f":"SUM(U141:U142)","v":0},0,0,0,10,0,0,0,0,0,0,0,10,0,0,0,0,0,0,0]
["Estructura General ","EG_01",1,".","Requerido",0,0,{"$f":"IF(AND(F141>=C141,F141>0),10,0)","v":0},0,0,null,null,null,null,null,null,null,null,null,null,null,null,null,null,null,null,null,null,null,null,null,null,{"$f":"IF(UPPER(E141)=\"REQUERIDO\", 10, \"\")","v":10},{"$f":"IF(UPPER(E141)=\"REQUERIDO\", J141, \"\")","v":0}]
["Instalaciones Generales","IG_01",1,"-","Requerido",0,0,0,0,0,null,null,null,null,null,null,null,null,null,null,null,null,null,null,{"$f":"IF(UPPER(E142)=\"REQUERIDO\", 10, \"\")","v":10},{"$f":"IF(UPPER(E142)=\"REQUERIDO\", J142, \"\")","v":0}]
["GENERAL",null,null,null,null,null,null,null,null,null,null,{"$f":"ROW(A143)","v":143},null,null,null,null,null,null,null,null,null,null,null,null,null,null,null,null,null,null,null,null,null,null,null,null,null,null,null,null,{"$f":"SUM(Q144:Q186)","v":70},{"$f":"SUM(R144:R186)","v":0},{"$f":"SUM(S144:S186)","v":100},{"$f":"SUM(T144:T186)","v":0},{"$f":"SUM(U144:U186)","v":100},0,0,0,40,0,10,0,10,0,0,0,40,0,10,0,10,0,0,0]
["SERVICIOS INTERNOS DE APOYO",null,null,null,null,null,null,null,null,null,null,{"$f":"ROW(A144)","v":144},null,null,null,null,null,null,null,null,null,null,null,null,null,null,null,null,null,null,null,null,null,null,null,null,null,null,null,null,{"$f":"SUM(Q145:Q186)","v":70},{"$f":"SUM(R145:R186)","v":0},{"$f":"SUM(S145:S186)","v":100},{"$f":"SUM(T145:T186)","v":0},{"$f":"SUM(U145:U186)","v":100},0,0,0,40,0,10,0,10,0,0,0,40,0,10,0,10,0,0,0]
["ÁREA DE APOYO Y ALMACENAMIENTO ( SUMINSTROS E INSUMOS) PARA EL ESTABLECIMIENTO",null,null,null,null,null,null,null,null,null,null,{"$f":"ROW(A145)","v":145},null,null,null,null,null,null,null,null,null,null,null,null,null,null,null,null,null,null,null,null,null,null,null,null,null,null,null,null,{"$f":"SUM(Q146:Q151)","v":10},{"$f":"SUM(R146:R151)","v":0},{"$f":"SUM(S146:S151)","v":10},{"$f":"SUM(T146:T151)","v":0},{"$f":"SUM(U146:U151)","v":10},0,0,0,10,0,0,0,0,0,0,0,10,0,0,0,0,0,0,0]
["AMBIENTES",{"$f":"B1","v":"Anx:"},{"$f":"C$1","v":"Requerido:"},"m² Util:","Tipo:","BUENO:","MALO:",null,null,"Calif:","Observaciones:",null,null,null,null,null,null,null,null,null,null,null,null,null,null,null,null,null,null,null,null,null,null,null,null,null,null,null,null,null,{"$f":"SUM(Q147:Q148)","v":10},{"$f":"SUM(R147:R148)","v":0},{"$f":"SUM(S147:S148)","v":10},{"$f":"SUM(T147:T148)","v":0},{"$f":"SUM(U147:U148)","v":10},0,0,0,0,0,0,0,0,0,0,0,0,0,0,0,0,0,0,0]
["Recepción - Admisión",null,1,"-","Condición",0,0,{"$f":"IF(AND(F147>=C147,F147>0),10,0)","v":0},{"$f":"IF(AND(G147>=C147,G147>0),10,0)","v":0},{"$f":"IF(AND(F147=0,G147=0),0,IF(AND(F147>0,G147>0),10,IF(AND(F147=0,G147>0),-10,IF(AND(F147>0,G147=0),10))))","v":0},null,null,null,null,null,null,null,null,{"$f":"IF(UPPER(E147)=\"CONDICIÓN\", 10, 0)","v":10},{"$f":"IF(UPPER(E147)=\"CONDICIÓN\", H147, \"\")","v":0},{"$f":"IF(UPPER(E147)=\"CONDICIÓN\", 10, 0)","v":10},{"$f":"IF(UPPER(E147)=\"CONDICIÓN\", I147, \"\")","v":0}]
["Bodega General",null,1,"-","Requerido",0,0,0,0,0,null,null,null,null,null,null,{"$f":"IF(UPPER(E148)=\"REQUERIDO\", 10, \"\")","v":10},{"$f":"IF(UPPER(E148)=\"REQUERIDO\", J148, \"\")","v":0}]
["INSTALACIONES",{"$f":"B1","v":"Anx:"},{"$f":"C$1","v":"Requerido:"},"m² Util:","Tipo:","BUENO:","MALO:",null,null,"Calif:","Observaciones:",null,null,null,null,null,null,null,null,null,null,null,null,null,null,null,null,null,null,null,null,null,null,null,null,null,null,null,null,null,{"$f":"SUM(Q150:Q151)","v":0},{"$f":"SUM(R150:R151)","v":0},{"$f":"SUM(AA150:AA151)","v":0},{"$f":"SUM(T150:T151)","v":0},{"$f":"SUM(U150:U151)","v":0},0,{"$f":"SUM(AE150:AE151)","v":0},{"$f":"SUM(X150:X151)","v":0},10,0,{"$f":"SUM(AI150:AI151)","v":0},{"$f":"SUM(AB150:AB151)","v":0},0,0,{"$f":"SUM(AM150:AM151)","v":0},{"$f":"SUM(AF150:AF151)","v":0},10,0,{"$f":"SUM(AQ150:AQ151)","v":0},{"$f":"SUM(AJ150:AJ151)","v":0},0,0,{"$f":"SUM(AU150:AU151)","v":0},{"$f":"SUM(AN150:AN151)","v":0}]
["Estructura General ","EG_01",1,"-","Requerido",0,0,{"$f":"IF(AND(F150>=C150,F150>0),10,0)","v":0},{"$f":"IF(AND(G150>=C150,G150>0),10,0)","v":0},0,null,null,null,null,null,null,null,null,null,null,null,null,null,null,null,null,null,null,null,null,null,null,{"$f":"IF(UPPER(E150)=\"REQUERIDO\", 10, \"\")","v":10},{"$f":"IF(UPPER(E150)=\"REQUERIDO\", J150, \"\")","v":0}]
["Instalaciones Generales","IG_01",1,"-","Requerido",0,0,0,0,0,null,null,null,null,null,null,null,null,null,null,null,null,null,null,{"$f":"IF(UPPER(E151)=\"REQUERIDO\", 10, \"\")","v":10},{"$f":"IF(UPPER(E151)=\"REQUERIDO\", J151, \"\")","v":0}]
["ÁREA DEL PERSONAL",null,null,null,null,null,null,null,null,null,null,{"$f":"ROW(A152)","v":152},null,null,null,null,null,null,null,null,null,null,null,null,null,null,null,null,null,null,null,null,null,null,null,null,null,null,null,null,{"$f":"SUM(Q153:Q160)","v":20},{"$f":"SUM(R153:R160)","v":0},{"$f":"SUM(S153:S160)","v":20},{"$f":"SUM(T153:T160)","v":0},{"$f":"SUM(U153:U160)","v":20},0,0,0,10,0,0,0,0,0,0,0,10,0,0,0,0,0,0,0]
["AMBIENTES",{"$f":"B1","v":"Anx:"},{"$f":"C$1","v":"Requerido:"},"m² Util:","Tipo:","BUENO:","MALO:",null,null,"Calif:","Observaciones:",null,null,null,null,null,null,null,null,null,null,null,null,null,null,null,null,null,null,null,null,null,null,null,null,null,null,null,null,null,{"$f":"SUM(Q154:Q157)","v":20},{"$f":"SUM(Z154:Z157)","v":0},{"$f":"SUM(S154:S157)","v":20},{"$f":"SUM(T154:T157)","v":0},{"$f":"SUM(U154:U157)","v":20},{"$f":"SUM(AD154:AD157)","v":0},{"$f":"SUM(W154:W157)","v":0},0,0,{"$f":"SUM(AH154:AH157)","v":0},{"$f":"SUM(AA154:AA157)","v":0},0,0,{"$f":"SUM(AL154:AL157)","v":0},{"$f":"SUM(AE154:AE157)","v":0},0,0,{"$f":"SUM(AP154:AP157)","v":0},{"$f":"SUM(AI154:AI157)","v":0},0,0,{"$f":"SUM(AT154:AT157)","v":0},{"$f":"SUM(AM154:AM157)","v":0},0]
["Vestidor",null,2,"-","Requerido",0,0,{"$f":"IF(AND(F154>=C154,F154>0),10,0)","v":0},{"$f":"IF(AND(G154>=C154,G154>0),10,0)","v":0},{"$f":"IF(AND(OR(F154=0,F154<C154),G154=0),0,IF(AND(OR(F154=0,F154<C154),G154>=C154),-10,IF(C154=0,0,IF(F154>=C154,10,0))))","v":0},null,null,null,null,null,null,{"$f":"IF(UPPER(E154)=\"REQUERIDO\", 10, \"\")","v":10},{"$f":"IF(UPPER(E154)=\"REQUERIDO\", J154, \"\")","v":0}]
["Baño de vestidor",null,2,"-","Requerido",0,0,0,0,{"$f":"IF(AND(OR(F155=0,F155<C155),G155=0),0,IF(AND(OR(F155=0,F155<C155),G155>=C155),-10,IF(C155=0,0,IF(F155>=C155,10,0))))","v":0},null,null,null,null,null,null,{"$f":"IF(UPPER(E155)=\"REQUERIDO\", 10, \"\")","v":10},{"$f":"IF(UPPER(E155)=\"REQUERIDO\", J155, \"\")","v":0}]
["Cafetería",null,1,"-","Condición",0,0,0,0,{"$f":"IF(AND(F156=0,G156=0),0,IF(AND(F156>0,G156>0),10,IF(AND(F156=0,G156>0),-10,IF(AND(F156>0,G156=0),10))))","v":0},null,null,null,null,null,null,null,null,{"$f":"IF(UPPER(E156)=\"CONDICIÓN\", 10, 0)","v":10},{"$f":"IF(UPPER(E156)=\"CONDICIÓN\", H156, \"\")","v":0},{"$f":"IF(UPPER(E156)=\"CONDICIÓN\", 10, 0)","v":10},{"$f":"IF(UPPER(E156)=\"CONDICIÓN\", I156, \"\")","v":0}]
["Sala de reuniones",null,1,"-","Condición",0,0,0,0,0,null,null,null,null,null,null,null,null,10,0,10,0]
["INSTALACIONES",{"$f":"B1","v":"Anx:"},{"$f":"C$1","v":"Requerido:"},"m² Util:","Tipo:",{"$f":"F$1","v":"BUENO:"},"MALO:",null,null,"Calif:","Observaciones:",null,null,null,null,null,null,null,null,null,null,null,null,null,null,null,null,null,null,null,null,null,null,null,null,null,null,null,null,null,{"$f":"SUM(Q159:Q160)","v":0},{"$f":"SUM(R159:R160)","v":0},{"$f":"SUM(S159:S160)","v":0},{"$f":"SUM(T159:T160)","v":0},{"$f":"SUM(U159:U160)","v":0},0,0,0,10,0,0,0,0,0,0,0,10,0,0,0,0,0,0,0]
["Estructura General ","EG_01",1,".","Requerido",0,0,{"$f":"IF(AND(F159>=C159,F159>0),10,0)","v":0},{"$f":"IF(AND(G159>=C159,G159>0),10,0)","v":0},0,null,null,null,null,null,null,null,null,null,null,null,null,null,null,null,null,null,null,null,null,null,null,{"$f":"IF(UPPER(E159)=\"REQUERIDO\", 10, \"\")","v":10},{"$f":"IF(UPPER(E159)=\"REQUERIDO\", J159, \"\")","v":0}]
["Instalaciones Generales","IG_01",1,"-","Requerido",0,0,0,0,0,null,null,null,null,null,null,null,null,null,null,null,null,null,null,{"$f":"IF(UPPER(E160)=\"REQUERIDO\", 10, \"\")","v":10},{"$f":"IF(UPPER(E160)=\"REQUERIDO\", J160, \"\")","v":0}]
["LIMPIEZA",null,null,null,null,null,null,null,null,null,null,{"$f":"ROW(A161)","v":161},null,null,null,null,null,null,null,null,null,null,null,null,null,null,null,null,null,null,null,null,null,null,null,null,null,null,null,null,{"$f":"SUM(Q162:Q169)","v":10},{"$f":"SUM(R162:R169)","v":0},{"$f":"SUM(S162:S169)","v":30},{"$f":"SUM(T162:T169)","v":0},{"$f":"SUM(U162:U169)","v":30},0,0,0,10,0,0,0,0,0,0,0,10,0,0,0,0,0,0,0]
["AMBIENTES",{"$f":"B1","v":"Anx:"},{"$f":"C$1","v":"Requerido:"},"m² Util:","Tipo:","BUENO:","MALO:",null,null,"Calif:","Observaciones:",null,null,null,null,null,null,null,null,null,null,null,null,null,null,null,null,null,null,null,null,null,null,null,null,null,null,null,null,null,{"$f":"SUM(Q163:Q166)","v":10},{"$f":"SUM(R163:R166)","v":0},{"$f":"SUM(S163:S166)","v":30},{"$f":"SUM(T163:T166)","v":0},{"$f":"SUM(U163:U166)","v":30},0,0,0,0,0,0,0,0,0,0,0,0,0,0,0,0,0,0,0]
["Bodega (Puede encontrarse dentro de la bodega general, pero en un área diferenciada)",null,1,"-","Requerido",0,0,{"$f":"IF(AND(F163>=C163,F163>0),10,0)","v":0},{"$f":"IF(AND(G163>=C163,G163>0),10,0)","v":0},{"$f":"IF(AND(F163=0,G163=0),0,IF(AND(F163>0,G163>0),10,IF(AND(F163=0,G163>0),-10,IF(AND(F163>0,G163=0),10))))","v":0},null,null,null,null,null,null,{"$f":"IF(UPPER(E163)=\"REQUERIDO\", 10, \"\")","v":10},{"$f":"IF(UPPER(E163)=\"REQUERIDO\", J163, \"\")","v":0}]
["Cuarto de Limpieza (será requerido en el caso de no contar con cuartos de limpieza en los servicios que lo requieran) ",null,1,"-","Condición",0,0,0,0,0,null,null,null,null,null,null,null,null,{"$f":"IF(UPPER(E164)=\"CONDICIÓN\", 10, 0)","v":10},{"$f":"IF(UPPER(E164)=\"CONDICIÓN\", H164, \"\")","v":0},{"$f":"IF(UPPER(E164)=\"CONDICIÓN\", 10, 0)","v":10},{"$f":"IF(UPPER(E164)=\"CONDICIÓN\", I164, \"\")","v":0}]
["Vestidor (Será requerido en el caso de que en el vestidor del área de personal no se ha previsto un espacio exclusivo para el personal de limpieza)",null,1,"-","Condición",0,0,0,0,0,null,null,null,null,null,null,null,null,10,0,10,0]
["Baño de vestidor",null,1,"-","Condición",0,0,0,0,0,null,null,null,null,null,null,null,null,10,0,10,0,null,null,{"$f":"IF(UPPER(E166)=\"REQUERIDO\", 10, \"\")","v":""},{"$f":"IF(UPPER(E166)=\"REQUERIDO\", J166, \"\")","v":""}]
["INSTALACIONES",{"$f":"B1","v":"Anx:"},{"$f":"C$1","v":"Requerido:"},"m² Util:","Tipo:","BUENO:","MALO:",null,null,"Calif:","Observaciones:",null,null,null,null,null,null,null,null,null,null,null,null,null,null,null,null,null,null,null,null,null,null,null,null,null,null,null,null,null,{"$f":"SUM(Q168:Q169)","v":0},{"$f":"SUM(R168:R169)","v":0},{"$f":"SUM(S168:S169)","v":0},{"$f":"SUM(T168:T169)","v":0},{"$f":"SUM(U168:U169)","v":0},0,0,0,10,0,0,0,0,0,0,0,10,0,0,0,0,0,0,0]
["Estructura General ","EG_01",1,"-","Requerido",0,0,{"$f":"IF(AND(F168>=C168,F168>0),10,0)","v":0},{"$f":"IF(AND(G168>=C168,G168>0),10,0)","v":0},0,null,null,null,null,null,null,null,null,null,null,null,null,null,null,null,null,null,null,null,null,null,null,{"$f":"IF(UPPER(E168)=\"REQUERIDO\", 10, \"\")","v":10},{"$f":"IF(UPPER(E168)=\"REQUERIDO\", J168, \"\")","v":0}]
["Instalaciones Generales","IG_01",1,"-","Requerido",0,0,0,0,0,null,null,null,null,null,null,null,null,null,null,null,null,null,null,{"$f":"IF(UPPER(E169)=\"REQUERIDO\", 10, \"\")","v":10},{"$f":"IF(UPPER(E169)=\"REQUERIDO\", J169, \"\")","v":0}]
["LAVANDERIA",null,null,null,null,null,null,null,null,null,null,{"$f":"ROW(A170)","v":170},null,null,null,null,null,null,null,null,null,null,null,null,null,null,null,null,null,null,null,null,null,null,null,null,null,null,null,null,{"$f":"SUM(Q171:Q178)","v":0},{"$f":"SUM(R171:R178)","v":0},{"$f":"SUM(S171:S178)","v":40},{"$f":"SUM(T171:T178)","v":0},{"$f":"SUM(U171:U178)","v":40},0,0,0,0,0,10,0,10,0,0,0,0,0,10,0,10,0,0,0]
["AMBIENTES",{"$f":"B10","v":"Anx:"},{"$f":"C$1","v":"Requerido:"},"m² Util:","Tipo:","BUENO:","MALO:",null,null,"Calif:","Observaciones:",null,null,null,null,null,null,null,null,null,null,null,null,null,null,null,null,null,null,null,null,null,null,null,null,null,null,null,null,null,{"$f":"SUM(Q172:Q175)","v":0},{"$f":"SUM(R172:R175)","v":0},{"$f":"SUM(S172:S175)","v":40},{"$f":"SUM(T172:T175)","v":0},{"$f":"SUM(U172:U175)","v":40},0,0,0,0,0,0,0,0,0,0,0,0,0,0,0,0,0,0,0]
["Recepción y clasificación de ropa usada",null,1,"-","Condición",0,0,{"$f":"IF(AND(F172>=C172,F172>0),10,0)","v":0},{"$f":"IF(AND(G172>=C172,G172>0),10,0)","v":0},{"$f":"IF(AND(F172=0,G172=0),0,IF(AND(F172>0,G172>0),10,IF(AND(F172=0,G172>0),-10,IF(AND(F172>0,G172=0),10))))","v":0},null,null,null,null,null,null,null,null,{"$f":"IF(UPPER(E172)=\"CONDICIÓN\", 10, 0)","v":10},{"$f":"IF(UPPER(E172)=\"CONDICIÓN\", H172, \"\")","v":0},{"$f":"IF(UPPER(E172)=\"CONDICIÓN\", 10, 0)","v":10},{"$f":"IF(UPPER(E172)=\"CONDICIÓN\", I172, \"\")","v":0}]
["Lavado",null,1,"-","Condición",0,0,0,0,0,null,null,null,null,null,null,null,null,10,0,10,0]
["Planchado",null,1,"-","Condición",0,0,0,0,0,null,null,null,null,null,null,null,null,10,0,10,0]
["Bodega general de ropería",null,1,"-","Condición",0,0,0,0,0,null,null,null,null,null,null,null,null,10,0,10,0,null,null,{"$f":"IF(UPPER(E175)=\"REQUERIDO\", 10, \"\")","v":""},{"$f":"IF(UPPER(E175)=\"REQUERIDO\", J175, \"\")","v":""}]
["INSTALACIONES",{"$f":"B10","v":"Anx:"},{"$f":"C$1","v":"Requerido:"},"m² Util:","Tipo:","BUENO:","MALO:",null,null,"Calif:","Observaciones:",null,null,null,null,null,null,null,null,null,null,null,null,null,null,null,null,null,null,null,null,null,null,null,null,null,null,null,null,null,{"$f":"SUM(Q177:Q178)","v":0},{"$f":"SUM(R177:R178)","v":0},{"$f":"SUM(S177:S178)","v":0},{"$f":"SUM(T177:T178)","v":0},{"$f":"SUM(U177:U178)","v":0},0,0,0,0,0,10,0,10,0,0,0,0,0,10,0,10,0,0,0]
["Estructura General ","EG_01",1,"-","Condición",0,0,{"$f":"IF(AND(F177>=C177,F177>0),10,0)","v":0},{"$f":"IF(AND(G177>=C177,G177>0),10,0)","v":0},0,null,null,null,null,null,null,null,null,null,null,null,null,null,null,null,null,null,null,null,null,null,null,null,null,{"$f":"IF(UPPER(E177)=\"CONDICIÓN\", 10, 0)","v":10},{"$f":"IF(UPPER(E177)=\"CONDICIÓN\", H177, \"\")","v":0},{"$f":"IF(UPPER(E177)=\"CONDICIÓN\", 10, 0)","v":10},{"$f":"IF(UPPER(E177)=\"CONDICIÓN\", I177, \"\")","v":0}]
["Instalaciones Generales","IG_01",1,"-","Condición",0,0,0,0,0,null,null,null,null,null,null,null,null,null,null,null,null,null,null,null,null,{"$f":"IF(UPPER(E178)=\"CONDICIÓN\", 10, 0)","v":10},{"$f":"IF(UPPER(E178)=\"CONDICIÓN\", H178, \"\")","v":0},{"$f":"IF(UPPER(E178)=\"CONDICIÓN\", 10, 0)","v":10},{"$f":"IF(UPPER(E178)=\"CONDICIÓN\", I178, \"\")","v":0}]
["ALMACENAMIENTO FINAL DE DESECHOS",null,null,null,null,null,null,null,null,null,null,null,null,null,null,null,null,null,null,null,null,null,null,null,null,null,null,null,null,null,null,null,null,null,null,null,null,null,null,null,{"$f":"SUM(Q180:Q186)","v":30},{"$f":"SUM(R180:R186)","v":0},{"$f":"SUM(S180:S186)","v":0},0,0,0,{"$f":"SUM(W180:W186)","v":0},{"$f":"SUM(X180:X186)","v":0},10,0,{"$f":"SUM(AA180:AA186)","v":0},{"$f":"SUM(AB180:AB186)","v":0},0,0,{"$f":"SUM(AE180:AE186)","v":0},{"$f":"SUM(AF180:AF186)","v":0},10,0,{"$f":"SUM(AI180:AI186)","v":0},{"$f":"SUM(AJ180:AJ186)","v":0},0,0,{"$f":"SUM(AM180:AM186)","v":0},{"$f":"SUM(AN180:AN186)","v":0}]
["AMBIENTES",{"$f":"B1","v":"Anx:"},{"$f":"C$1","v":"Requerido:"},"m² Util:","Tipo:","BUENO:","MALO:",null,null,"Calif:","Observaciones:",null,null,null,null,null,null,null,null,null,null,null,null,null,null,null,null,null,null,null,null,null,null,null,null,null,null,null,null,null,{"$f":"SUM(Q181:Q187)","v":30},{"$f":"SUM(R181:R187)","v":0},{"$f":"SUM(S181:S187)","v":0},0,0,0,0,0,{"$f":"SUM(Y181:Y187)","v":10},0,0,0,{"$f":"SUM(AC181:AC187)","v":0},0,0,0,{"$f":"SUM(AG181:AG187)","v":10},0,0,0,{"$f":"SUM(AK181:AK187)","v":0},0,0,0]
["Área de Almacenamiento de Desechos no peligrosos - Comunes",null,1,"-","Requerido",0,0,{"$f":"IF(AND(F181>=C181,F181>0),10,0)","v":0},{"$f":"IF(AND(G181>=C181,G181>0),10,0)","v":0},{"$f":"IF(AND(F181=0,G181=0),0,IF(AND(F181>0,G181>0),10,IF(AND(F181=0,G181>0),-10,IF(AND(F181>0,G181=0),10))))","v":0},null,null,null,null,null,null,{"$f":"IF(UPPER(E181)=\"REQUERIDO\", 10, \"\")","v":10},{"$f":"IF(UPPER(E181)=\"REQUERIDO\", J181, \"\")","v":0}]
["Área de Almacenamiento de Desechos Peligrosos- Infecciosos",null,1,"-","Requerido",0,0,0,0,0,null,null,null,null,null,null,{"$f":"IF(UPPER(E182)=\"REQUERIDO\", 10, \"\")","v":10},{"$f":"IF(UPPER(E182)=\"REQUERIDO\", J182, \"\")","v":0}]
["Área de Desechos Peligrosos- Especiales",null,1,"-","Requerido",0,0,0,0,0,null,null,null,null,null,null,{"$f":"IF(UPPER(E183)=\"REQUERIDO\", 10, \"\")","v":10},{"$f":"IF(UPPER(E183)=\"REQUERIDO\", J183, \"\")","v":0}]
["INSTALACIONES",{"$f":"B1","v":"Anx:"},{"$f":"C$1","v":"Requerido:"},"m² Util:","Tipo:","BUENO:","MALO:",null,null,"Calif:","Observaciones:",null,null,null,null,null,null,null,null,null,null,null,null,null,null,null,null,null,null,null,null,null,null,null,null,null,null,null,null,null,{"$f":"SUM(Q185:Q186)","v":0},{"$f":"SUM(R185:R186)","v":0},{"$f":"SUM(S185:S186)","v":0},{"$f":"SUM(T185:T186)","v":0},{"$f":"SUM(U185:U186)","v":0},0,0,0,10,0,0,0,0,0,0,0,10,0,0,0,0,0,0,0]
["Estructura General ","EG_01",1,"-","Requerido",0,0,{"$f":"IF(AND(F185>=C185,F185>0),10,0)","v":0},{"$f":"IF(AND(G185>=C185,G185>0),10,0)","v":0},0,null,null,null,null,null,null,null,null,null,null,null,null,null,null,null,null,null,null,null,null,null,null,{"$f":"IF(UPPER(E185)=\"REQUERIDO\", 10, \"\")","v":10},{"$f":"IF(UPPER(E185)=\"REQUERIDO\", J185, \"\")","v":0}]
["Instalaciones Generales","IG_01",1,"-","Requerido",0,0,0,0,0,null,null,null,null,null,null,null,null,null,null,null,null,null,null,{"$f":"IF(UPPER(E186)=\"REQUERIDO\", 10, \"\")","v":10},{"$f":"IF(UPPER(E186)=\"REQUERIDO\", J186, \"\")","v":0}]
["NOTA GENERAL.- Para construcciones nuevas, las áreas se calcularán según el tipo del establecimiento y las demandas funcionales del espacio, respetando las normas nacionales existentes (INEN, Código Ecuatoriano de Construcción, Ordenanzas, etc.) y las internacionales que apliquen cuando las nacionales no son suficientes. Tomar en cuenta equipamiento y personal que lo maneja así como la cantidad de usuarios del espacio en los momentos críticos o de mayor demanda. "]
["INSTALACIONES DEL LOCAL",null,null,null,null,null,null,null,null,null,null,{"$f":"ROW(A188)","v":188},null,null,null,null,null,null,null,null,null,null,null,null,null,null,null,null,null,null,null,null,null,null,null,null,null,null,null,null,{"$f":"SUM(Q190:Q218)","v":0},{"$f":"SUM(R190:R218)","v":0},{"$f":"SUM(S190:S218)","v":0},{"$f":"SUM(T190:T218)","v":0},{"$f":"SUM(U190:U218)","v":0},0,0,0,{"$f":"SUM(Y190:Y218)","v":160},0,60,0,50,0,0,0,0,0,0,0,0,0,0,{"$f":"SUM(AN190:AN218)","v":0}]
["ESTRUCTURA GENERAL",null,null,null,null,null,null,null,null,null,null,null,null,null,null,null,null,null,null,null,null,null,null,null,null,null,null,null,null,null,null,null,null,null,null,null,null,null,null,null,{"$f":"SUM(Q190)","v":0},{"$f":"SUM(R190)","v":0},{"$f":"SUM(S190)","v":0},{"$f":"SUM(T190)","v":0},{"$f":"SUM(U190)","v":0},0,0,0,10,0,0,0,0,0,0,0,0,0,0,0,0,0,0,0]
["Áreas adecuadas para el tránsito de sillas de rueda",null,1,"-","Requerido",0,0,{"$f":"IF(AND(F190>=C190,F190>0),10,0)","v":0},{"$f":"IF(AND(G190>=C190,G190>0),10,0)","v":0},{"$f":"IF(AND(F190=0,G190=0),0,IF(AND(F190>0,G190>0),10,IF(AND(F190=0,G190>0),-10,IF(AND(F190>0,G190=0),10))))","v":0},null,null,null,null,null,null,null,null,null,null,null,null,null,null,{"$f":"IF(UPPER(E190)=\"REQUERIDO\", 10, \"\")","v":10},{"$f":"IF(UPPER(E190)=\"REQUERIDO\", J190, \"\")","v":0}]
["INSTALACIONES ELÉCTRICAS GENERALES (ILUMINACIÓN Y FUERZA)",null,null,null,null,null,null,null,null,null,null,null,null,null,null,null,null,null,null,null,null,null,null,null,null,null,null,null,null,null,null,null,null,null,null,null,null,null,null,null,{"$f":"SUM(Q192:Q196)","v":0},{"$f":"SUM(R192:R196)","v":0},{"$f":"SUM(S192:S196)","v":0},{"$f":"SUM(T192:T196)","v":0},{"$f":"SUM(U192:U196)","v":0},0,0,0,40,0,10,0,10,0,0,0,0,0,0,0,0,0,0,0]
["Red de tomas de energía",null,1,"-","Requerido",0,0,{"$f":"IF(AND(F192>=C192,F192>0),10,0)","v":0},{"$f":"IF(AND(G192>=C192,G192>0),10,0)","v":0},0,null,null,null,null,null,null,null,null,null,null,null,null,null,null,{"$f":"IF(UPPER(E192)=\"REQUERIDO\", 10, \"\")","v":10},{"$f":"IF(UPPER(E192)=\"REQUERIDO\", J192, \"\")","v":0}]
["Red de instalaciones para iluminación",null,1,"-","Requerido",0,0,0,0,0,null,null,null,null,null,null,null,null,null,null,null,null,null,null,{"$f":"IF(UPPER(E193)=\"REQUERIDO\", 10, \"\")","v":10},{"$f":"IF(UPPER(E193)=\"REQUERIDO\", J193, \"\")","v":0}]
["Acometidas Eléctricas  (tableros de control - interruptores termomagnéticos-)",null,1,"-","Requerido",0,0,0,0,0,null,null,null,null,null,null,null,null,null,null,null,null,null,null,{"$f":"IF(UPPER(E194)=\"REQUERIDO\", 10, \"\")","v":10},{"$f":"IF(UPPER(E194)=\"REQUERIDO\", J194, \"\")","v":0}]
["Sistema de soporte de energía eléctrica  de emergencia. (Generación o respaldo de baterías generales o individuales)",null,1,"-","Requerido",0,0,0,0,0,null,null,null,null,null,null,null,null,null,null,null,null,null,null,{"$f":"IF(UPPER(E195)=\"REQUERIDO\", 10, \"\")","v":10},{"$f":"IF(UPPER(E195)=\"REQUERIDO\", J195, \"\")","v":0}]
["Instalaciones de pararrayos",null,1,"-","Condición",0,0,0,0,0,null,null,null,null,null,null,null,null,null,null,null,null,null,null,null,null,{"$f":"IF(UPPER(E196)=\"CONDICIÓN\", 10, 0)","v":10},{"$f":"IF(UPPER(E196)=\"CONDICIÓN\", H196, \"\")","v":0},{"$f":"IF(UPPER(E196)=\"CONDICIÓN\", 10, 0)","v":10},{"$f":"IF(UPPER(E196)=\"CONDICIÓN\", I196, \"\")","v":0}]
["INSTALACIONES ELÉCTRONICAS",null,null,null,null,null,null,null,null,null,null,null,null,null,null,null,null,null,null,null,null,null,null,null,null,null,null,null,null,null,null,null,null,null,null,null,null,null,null,null,{"$f":"SUM(Q198:Q199)","v":0},{"$f":"SUM(R198:R199)","v":0},{"$f":"SUM(S198:S199)","v":0},{"$f":"SUM(T198:T199)","v":0},{"$f":"SUM(U198:U199)","v":0},0,0,0,10,0,10,0,10,0,0,0,0,0,0,0,0,0,0,0]
["Sensores y alarmas para incendios",null,1,"-","Requerido",0,0,{"$f":"IF(AND(F198>=C198,F198>0),10,0)","v":0},{"$f":"IF(AND(G198>=C198,G198>0),10,0)","v":0},0,null,null,null,null,null,null,null,null,null,null,null,null,null,null,{"$f":"IF(UPPER(E198)=\"REQUERIDO\", 10, \"\")","v":10},{"$f":"IF(UPPER(E198)=\"REQUERIDO\", J198, \"\")","v":0}]
["Sistema de audio centralizado",null,1,"-","Condición",0,0,0,0,0,null,null,null,null,null,null,null,null,null,null,null,null,null,null,null,null,{"$f":"IF(UPPER(E199)=\"CONDICIÓN\", 10, 0)","v":10},{"$f":"IF(UPPER(E199)=\"CONDICIÓN\", H199, \"\")","v":0},{"$f":"IF(UPPER(E199)=\"CONDICIÓN\", 10, 0)","v":10},{"$f":"IF(UPPER(E199)=\"CONDICIÓN\", I199, \"\")","v":0}]
["INSTALACIONES DE TELECOMUNICACIONES",null,null,null,null,null,null,null,null,null,null,null,null,null,null,null,null,null,null,null,null,null,null,null,null,null,null,null,null,null,null,null,null,null,null,null,null,null,null,null,{"$f":"SUM(Q201:Q202)","v":0},{"$f":"SUM(R201:R202)","v":0},{"$f":"SUM(S201:S202)","v":0},{"$f":"SUM(T201:T202)","v":0},{"$f":"SUM(U201:U202)","v":0},0,0,0,20,0,0,0,0,0,0,0,0,0,0,0,0,0,0,0]
["Instalaciones telefónicas convencionales",null,1,"-","Requerido",0,0,{"$f":"IF(AND(F201>=C201,F201>0),10,0)","v":0},{"$f":"IF(AND(G201>=C201,G201>0),10,0)","v":0},0,null,null,null,null,null,null,null,null,null,null,null,null,null,null,{"$f":"IF(UPPER(E201)=\"REQUERIDO\", 10, \"\")","v":10},{"$f":"IF(UPPER(E201)=\"REQUERIDO\", J201, \"\")","v":0}]
["Suministro de Internet ",null,1,"-","Requerido",0,0,0,0,0,null,null,null,null,null,null,null,null,null,null,null,null,null,null,{"$f":"IF(UPPER(E202)=\"REQUERIDO\", 10, \"\")","v":10},{"$f":"IF(UPPER(E202)=\"REQUERIDO\", J202, \"\")","v":0}]
["INSTALACIONES DE ABASTACEMIENTO DE AGUA",null,null,null,null,null,null,null,null,null,null,null,null,null,null,null,null,null,null,null,null,null,null,null,null,null,null,null,null,null,null,null,null,null,null,null,null,null,null,null,{"$f":"SUM(Q204:Q207)","v":0},{"$f":"SUM(R204:R207)","v":0},{"$f":"SUM(S204:S207)","v":0},0,0,0,0,0,{"$f":"SUM(Y204:Y207)","v":30},0,{"$f":"SUM(AA204:AA207)","v":10},{"$f":"SUM(AB204:AB207)","v":0},0,0,0,0,0,0,0,0,0,0,0,0]
["Reservorio y sistema de provisión de agua potable para casos de  emergencia por falta de provisión normal de la misma. Ejem: Cisterna/tanques ",null,1,"-","Requerido",0,0,{"$f":"IF(AND(F204>=C204,F204>0),10,0)","v":0},{"$f":"IF(AND(G204>=C204,G204>0),10,0)","v":0},0,null,null,null,null,null,null,null,null,null,null,null,null,null,null,{"$f":"IF(UPPER(E204)=\"REQUERIDO\", 10, \"\")","v":10},{"$f":"IF(UPPER(E204)=\"REQUERIDO\", J204, \"\")","v":0}]
["Sistema de tratamiento de agua para uso en hemodiálisis (Puede estar centralizado o en cada máquina)",null,1,"-","Requerido",0,0,{"$f":"IF(AND(F205>=C205,F205>0),10,0)","v":0},0,0,null,null,null,null,null,null,null,null,null,null,null,null,null,null,{"$f":"IF(UPPER(E205)=\"REQUERIDO\", 10, \"\")","v":10},{"$f":"IF(UPPER(E205)=\"REQUERIDO\", J205, \"\")","v":0}]
["Instalaciones de agua fría",null,1,"-","Requerido",0,0,{"$f":"IF(AND(F206>=C206,F206>0),10,0)","v":0},0,0,null,null,null,null,null,null,null,null,null,null,null,null,null,null,10,0]
["Instalaciones de agua caliente",null,1,"-","Condición",0,0,0,0,0,null,null,null,null,null,null,null,null,null,null,null,null,null,null,null,null,{"$f":"IF(UPPER(E207)=\"CONDICIÓN\", 10, 0)","v":10},{"$f":"IF(UPPER(E207)=\"CONDICIÓN\", H207, \"\")","v":0}]
["INSTALACIONES DE DESAGUE",null,null,null,null,null,null,null,null,null,null,null,null,null,null,null,null,null,null,null,null,null,null,null,null,null,null,null,null,null,null,null,null,null,null,null,null,null,null,null,{"$f":"SUM(Q209:Q210)","v":0},{"$f":"SUM(R209:R210)","v":0},{"$f":"SUM(S209:S210)","v":0},0,0,0,0,0,20,0,0,0,0,0,0,0,0,0,0,0,0,0,0,0]
["Instalaciones de tratamiento de desechos líquidos (Debe haber una instalación de desinfección de agua en el drenaje final previo a la salida a la red de alcantarillado)",null,1,"-","Requerido",0,0,{"$f":"IF(AND(F209>=C209,F209>0),10,0)","v":0},{"$f":"IF(AND(G209>=C209,G209>0),10,0)","v":0},0,null,null,null,null,null,null,null,null,null,null,null,null,null,null,{"$f":"IF(UPPER(E209)=\"REQUERIDO\", 10, \"\")","v":10},{"$f":"IF(UPPER(E209)=\"REQUERIDO\", J209, \"\")","v":0}]
["Red de instalaciones internas de recolección y conducción de aguas servidas",null,1,"-","Requerido",0,0,{"$f":"IF(AND(F210>=C210,F210>0),10,0)","v":0},0,{"$f":"IF(AND(F210=0,G210=0),0,IF(AND(F210>0,G210>0),10,IF(AND(F210=0,G210>0),-10,IF(AND(F210>0,G210=0),10))))","v":0},null,null,null,null,null,null,null,null,null,null,null,null,null,null,{"$f":"IF(UPPER(E210)=\"REQUERIDO\", 10, \"\")","v":10},{"$f":"IF(UPPER(E210)=\"REQUERIDO\", J210, \"\")","v":0}]
["INSTALACIONES MECÁNICAS GENERALES",null,null,null,null,null,null,null,null,null,null,null,null,null,null,null,null,null,null,null,null,null,null,null,null,null,null,null,null,null,null,null,null,null,null,null,null,null,null,null,{"$f":"SUM(Q212:Q214)","v":0},{"$f":"SUM(R212:R214)","v":0},{"$f":"SUM(S212:S214)","v":0},{"$f":"SUM(T212:T214)","v":0},{"$f":"SUM(U212:U214)","v":0},0,0,0,10,0,20,0,20,0,0,0,0,0,0,0,0,0,0,0]
["Instalaciones de gases medicinales- Red centralizada",null,1,"-","Requerido",0,0,{"$f":"IF(AND(F212>=C212,F212>0),10,0)","v":0},{"$f":"IF(AND(G212>=C212,G212>0),10,0)","v":0},0,null,null,null,null,null,null,null,null,null,null,null,null,null,null,{"$f":"IF(UPPER(E212)=\"REQUERIDO\", 10, \"\")","v":10},{"$f":"IF(UPPER(E212)=\"REQUERIDO\", J212, \"\")","v":0}]
["Sistemas centralizados de aire acondicionado. Enfriadores(Chillers)-Unidades manejadoras de aire (UMAS)",null,1,"-","Condición",0,0,0,0,0,null,null,null,null,null,null,null,null,null,null,null,null,null,null,null,null,{"$f":"IF(UPPER(E213)=\"CONDICIÓN\", 10, 0)","v":10},{"$f":"IF(UPPER(E213)=\"CONDICIÓN\", H213, \"\")","v":0},{"$f":"IF(UPPER(E213)=\"CONDICIÓN\", 10, 0)","v":10},{"$f":"IF(UPPER(E213)=\"CONDICIÓN\", I213, \"\")","v":0}]
["Redes de ductos de aire acondicionado y/o ventilación/extracción",null,1,"-","Condición",0,0,0,0,0,null,null,null,null,null,null,null,null,null,null,null,null,null,null,null,null,10,0,10,0]
["INSTALACIONES GENERALES",null,null,null,null,null,null,null,null,null,null,null,null,null,null,null,null,null,null,null,null,null,null,null,null,null,null,null,null,null,null,null,null,null,null,null,null,null,null,null,{"$f":"SUM(Q216:Q218)","v":0},{"$f":"SUM(R216:R218)","v":0},{"$f":"SUM(S216:S218)","v":0},{"$f":"SUM(T216:T218)","v":0},{"$f":"SUM(U216:U218)","v":0},0,0,0,20,0,10,0,10,0,0,0,0,0,0,0,0,0,0,0]
["Instalaciones de ascensores (circulación vertical)",null,1,"-","Condición",0,0,{"$f":"IF(AND(F216>=C216,F216>0),10,0)","v":0},{"$f":"IF(AND(G216>=C216,G216>0),10,0)","v":0},0,null,null,null,null,null,null,null,null,null,null,null,null,null,null,null,null,{"$f":"IF(UPPER(E216)=\"CONDICIÓN\", 10, 0)","v":10},{"$f":"IF(UPPER(E216)=\"CONDICIÓN\", H216, \"\")","v":0},{"$f":"IF(UPPER(E216)=\"CONDICIÓN\", 10, 0)","v":10},{"$f":"IF(UPPER(E216)=\"CONDICIÓN\", I216, \"\")","v":0}]
["Sistema de ventilación",null,1,"-","Requerido",0,0,0,{"$f":"IF(AND(G217>=C217,G217>0),10,0)","v":0},0,null,null,null,null,null,null,null,null,null,null,null,null,null,null,{"$f":"IF(UPPER(E217)=\"REQUERIDO\", 10, \"\")","v":10},{"$f":"IF(UPPER(E217)=\"REQUERIDO\", J217, \"\")","v":0},null,null,null,null,null,null,null,null,null,null,null,null,null,null,"REQ",null,"COND+",null,"COND-",null,"DES",null,"REQ",null,"COND+",null,"COND-",null,"DES",null,"REQ",null,"COND+",null,"COND-",null,"DES"]
["Señalización externa e interna",null,1,"-","Requerido",0,0,0,0,0,null,null,null,null,null,null,null,null,null,null,null,null,null,null,{"$f":"IF(UPPER(E218)=\"REQUERIDO\", 10, \"\")","v":10},{"$f":"IF(UPPER(E218)=\"REQUERIDO\", J218, \"\")","v":0},null,null,null,null,null,null,null,null,null,null,null,null,null,null,"AMBIENTES",null,null,null,null,null,null,null,"INSTALACIONES",null,null,null,null,null,null,null,"ESTRUCTURA GENERAL"]
["TOTALES PARCIALES:",null,null,null,null,null,null,null,null,null,null,null,null,null,null,null,null,null,null,null,null,null,null,null,"TOTAL GENERAL:",null,null,null,null,null,null,null,null,null,null,null,null,null,null,null,{"$f":"(+Infraestructura!AO4+Infraestructura!AO13+Infraestructura!AO26+Infraestructura!AO82+Infraestructura!AO119+Infraestructura!AO128+Infraestructura!AO143+Infraestructura!AO188)","v":300},{"$f":"(+Infraestructura!AP4+Infraestructura!AP13+Infraestructura!AP26+Infraestructura!AP82+Infraestructura!AP119+Infraestructura!AP128+Infraestructura!AP143+Infraestructura!AP188)","v":0},{"$f":"(+Infraestructura!AQ4+Infraestructura!AQ13+Infraestructura!AQ26+Infraestructura!AQ82+Infraestructura!AQ119+Infraestructura!AQ128+Infraestructura!AQ143+Infraestructura!AQ188)","v":370},{"$f":"(+Infraestructura!AR4+Infraestructura!AR13+Infraestructura!AR26+Infraestructura!AR82+Infraestructura!AR119+Infraestructura!AR128+Infraestructura!AR143+Infraestructura!AR188)","v":0},{"$f":"(+Infraestructura!AS4+Infraestructura!AS13+Infraestructura!AS26+Infraestructura!AS82+Infraestructura!AS119+Infraestructura!AS128+Infraestructura!AS143+Infraestructura!AS188)","v":370},{"$f":"(+Infraestructura!AT4+Infraestructura!AT13+Infraestructura!AT26+Infraestructura!AT82+Infraestructura!AT119+Infraestructura!AT128+Infraestructura!AT143+Infraestructura!AT188)","v":0},{"$f":"(+Infraestructura!AU4+Infraestructura!AU13+Infraestructura!AU26+Infraestructura!AU82+Infraestructura!AU119+Infraestructura!AU128+Infraestructura!AU143+Infraestructura!AU188)","v":0},{"$f":"(+Infraestructura!AV4+Infraestructura!AV13+Infraestructura!AV26+Infraestructura!AV82+Infraestructura!AV119+Infraestructura!AV128+Infraestructura!AV143+Infraestructura!AV188)","v":0},{"$f":"(+Infraestructura!AW4+Infraestructura!AW13+Infraestructura!AW26+Infraestructura!AW82+Infraestructura!AW119+Infraestructura!AW128+Infraestructura!AW143+Infraestructura!AW188)","v":290},{"$f":"(+Infraestructura!AX4+Infraestructura!AX13+Infraestructura!AX26+Infraestructura!AX82+Infraestructura!AX119+Infraestructura!AX128+Infraestructura!AX143+Infraestructura!AX188)","v":0},{"$f":"(+Infraestructura!AY4+Infraestructura!AY13+Infraestructura!AY26+Infraestructura!AY82+Infraestructura!AY119+Infraestructura!AY128+Infraestructura!AY143+Infraestructura!AY188)","v":130},{"$f":"(+Infraestructura!AZ4+Infraestructura!AZ13+Infraestructura!AZ26+Infraestructura!AZ82+Infraestructura!AZ119+Infraestructura!AZ128+Infraestructura!AZ143+Infraestructura!AZ188)","v":0},{"$f":"(+Infraestructura!BA4+Infraestructura!BA13+Infraestructura!BA26+Infraestructura!BA82+Infraestructura!BA119+Infraestructura!BA128+Infraestructura!BA143+Infraestructura!BA188)","v":90},{"$f":"(+Infraestructura!BB4+Infraestructura!BB13+Infraestructura!BB26+Infraestructura!BB82+Infraestructura!BB119+Infraestructura!BB128+Infraestructura!BB143+Infraestructura!BB188)","v":0},{"$f":"(+Infraestructura!BC4+Infraestructura!BC13+Infraestructura!BC26+Infraestructura!BC82+Infraestructura!BC119+Infraestructura!BC128+Infraestructura!BC143+Infraestructura!BC188)","v":0},{"$f":"(+Infraestructura!BD4+Infraestructura!BD13+Infraestructura!BD26+Infraestructura!BD82+Infraestructura!BD119+Infraestructura!BD128+Infraestructura!BD143+Infraestructura!BD188)","v":0},{"$f":"(+Infraestructura!BE4+Infraestructura!BE13+Infraestructura!BE26+Infraestructura!BE82+Infraestructura!BE119+Infraestructura!BE128+Infraestructura!BE143+Infraestructura!BE188)","v":130},{"$f":"(+Infraestructura!BF4+Infraestructura!BF13+Infraestructura!BF26+Infraestructura!BF82+Infraestructura!BF119+Infraestructura!BF128+Infraestructura!BF143+Infraestructura!BF188)","v":0},{"$f":"(+Infraestructura!BG4+Infraestructura!BG13+Infraestructura!BG26+Infraestructura!BG82+Infraestructura!BG119+Infraestructura!BG128+Infraestructura!BG143+Infraestructura!BG188)","v":70},{"$f":"(+Infraestructura!BH4+Infraestructura!BH13+Infraestructura!BH26+Infraestructura!BH82+Infraestructura!BH119+Infraestructura!BH128+Infraestructura!BH143+Infraestructura!BH188)","v":0},{"$f":"(+Infraestructura!BI4+Infraestructura!BI13+Infraestructura!BI26+Infraestructura!BI82+Infraestructura!BI119+Infraestructura!BI128+Infraestructura!BI143+Infraestructura!BI188)","v":40},{"$f":"(+Infraestructura!BJ4+Infraestructura!BJ13+Infraestructura!BJ26+Infraestructura!BJ82+Infraestructura!BJ119+Infraestructura!BJ128+Infraestructura!BJ143+Infraestructura!BJ188)","v":0},{"$f":"(+Infraestructura!BK4+Infraestructura!BK13+Infraestructura!BK26+Infraestructura!BK82+Infraestructura!BK119+Infraestructura!BK128+Infraestructura!BK143+Infraestructura!BK188)","v":0},{"$f":"(+Infraestructura!BL4+Infraestructura!BL13+Infraestructura!BL26+Infraestructura!BL82+Infraestructura!BL119+Infraestructura!BL128+Infraestructura!BL143+Infraestructura!BL188)","v":0}]
["AMBIENTES:",null,"% Obtenido:","% Obtenido:","% Obtenido:","% A Cumplir:","% Final:",null,null,null,null,null,null,null,null,null,null,null,null,null,null,null,null,4,"ADMINISTRATIVO",null,null,null,null,null,null,null,null,null,null,null,null,null,null,null,{"$f":"AO4*100/AO219","v":6.666666666666667},{"$f":"AP4*100/AO219","v":0},{"$f":"AQ4*100/AQ219","v":0},{"$f":"AR4*100/AQ219","v":0},{"$f":"AS4*100/AS219","v":0},{"$f":"AT4*100/AS219","v":0},{"$f":"AU4*100/AU219","v":{"$error":"#DIV/0!"}},{"$f":"AV4*100/AU219","v":{"$error":"#DIV/0!"}},{"$f":"AW4*100/AW219","v":3.4482758620689653},{"$f":"AX4*100/AW219","v":0},{"$f":"AY4*100/AY219","v":0},{"$f":"AZ4*100/AY219","v":0},{"$f":"BA4*100/BA219","v":0},{"$f":"BB4*100/BA219","v":0},{"$f":"BC4*100/BC219","v":{"$error":"#DIV/0!"}},{"$f":"BD4*100/BC219","v":{"$error":"#DIV/0!"}},{"$f":"BE4*100/BE219","v":7.6923076923076925},{"$f":"BF4*100/BE219","v":0},{"$f":"BG4*100/BG219","v":0},{"$f":"BH4*100/BG219","v":0},{"$f":"BI4*100/BI219","v":0},{"$f":"BJ4*100/BI219","v":0},{"$f":"BK4*100/BK219","v":{"$error":"#DIV/0!"}},{"$f":"BL4*100/BK219","v":{"$error":"#DIV/0!"}}]
[{"$f":"Infraestructura!Y220","v":"ADMINISTRATIVO"},null,{"$f":"Infraestructura!$AP$220*50/100/100","v":0},null,null,{"$f":"Infraestructura!$AO$220*50/100/100","v":3.333333333333334E-2},{"$f":"IF(Infraestructura!$C$221=Infraestructura!$F$221, \"CUMPLE\", \"NO CUMPLE\")","v":"NO CUMPLE"},null,null,null,null,null,null,null,null,null,null,null,null,null,null,null,null,5,"ADMISIÓN Y ESTADÍSTICA",null,null,null,null,null,null,null,null,null,null,null,null,null,null,null,{"$f":"AO5*100/AO219","v":6.666666666666667},{"$f":"AP5*100/AO219","v":0},{"$f":"AQ5*100/AQ219","v":0},{"$f":"AR5*100/AQ219","v":0},{"$f":"AS5*100/AS219","v":0},{"$f":"AT5*100/AS219","v":0},{"$f":"AU5*100/AU219","v":{"$error":"#DIV/0!"}},{"$f":"AV5*100/AU219","v":{"$error":"#DIV/0!"}},{"$f":"AW5*100/AW219","v":3.4482758620689653},{"$f":"AX5*100/AW219","v":0},{"$f":"AY5*100/AY219","v":0},{"$f":"AZ5*100/AY219","v":0},{"$f":"BA5*100/BA219","v":0},{"$f":"BB5*100/BA219","v":0},{"$f":"BC5*100/BC219","v":{"$error":"#DIV/0!"}},{"$f":"BD5*100/BC219","v":{"$error":"#DIV/0!"}},{"$f":"BE5*100/BE219","v":7.6923076923076925},{"$f":"BF5*100/BE219","v":0},{"$f":"BG5*100/BG219","v":0},{"$f":"BH5*100/BG219","v":0},{"$f":"BI5*100/BI219","v":0},{"$f":"BJ5*100/BI219","v":0},{"$f":"BK5*100/BK219","v":{"$error":"#DIV/0!"}},{"$f":"BL5*100/BK219","v":{"$error":"#DIV/0!"}}]
[{"$f":"Infraestructura!Y221","v":"ADMISIÓN Y ESTADÍSTICA"},null,null,{"$f":"Infraestructura!$AP$221*50/100/100","v":0},null,{"$f":"Infraestructura!$AO$221*50/100/100","v":3.333333333333334E-2},{"$f":"IF(Infraestructura!$D$222=Infraestructura!$F$222, \"CUMPLE\", \"NO CUMPLE\")","v":"NO CUMPLE"},null,null,null,null,null,null,null,null,null,null,null,null,null,null,null,null,6,"ÁREA TECNICA",null,null,null,null,null,null,null,null,null,null,null,null,null,null,null,{"$f":"AO6*100/AO219","v":6.666666666666667},{"$f":"AP6*100/AO219","v":0},{"$f":"AQ6*100/AQ219","v":0},{"$f":"AQ6*100/AQ219","v":0},{"$f":"AS6*100/AS219","v":0},{"$f":"AT6*100/AS219","v":0},{"$f":"AU6*100/AU219","v":{"$error":"#DIV/0!"}},{"$f":"AU6*100/AU219","v":{"$error":"#DIV/0!"}},{"$f":"AW6*100/AW219","v":3.4482758620689653},{"$f":"AX6*100/AW219","v":0},{"$f":"AY6*100/AY219","v":0},{"$f":"AY6*100/AY219","v":0},{"$f":"BA6*100/BA219","v":0},{"$f":"BB6*100/BA219","v":0},{"$f":"BC6*100/BC219","v":{"$error":"#DIV/0!"}},{"$f":"BC6*100/BC219","v":{"$error":"#DIV/0!"}},{"$f":"BE6*100/BE219","v":7.6923076923076925},{"$f":"BF6*100/BE219","v":0},{"$f":"BG6*100/BG219","v":0},{"$f":"BG6*100/BG219","v":0},{"$f":"BI6*100/BI219","v":0},{"$f":"BJ6*100/BI219","v":0},{"$f":"BK6*100/BK219","v":{"$error":"#DIV/0!"}},{"$f":"BK6*100/BK219","v":{"$error":"#DIV/0!"}}]
[{"$f":"Infraestructura!Y222","v":"ÁREA TECNICA"},null,null,null,{"$f":"Infraestructura!$AP$222*50/100/100","v":0},{"$f":"Infraestructura!$AO$222*50/100/100","v":3.333333333333334E-2},{"$f":"IF(Infraestructura!$E$223=Infraestructura!$F$223, \"CUMPLE\", \"NO CUMPLE\")","v":"NO CUMPLE"},null,null,null,null,null,null,null,null,null,null,null,null,null,null,null,null,13,"ASISTENCIAL",null,null,null,null,null,null,null,null,null,null,null,null,null,null,null,{"$f":"AO13*100/AO219","v":16.666666666666668},{"$f":"AP13*100/AO219","v":0},{"$f":"AQ13*100/AQ219","v":2.7027027027027026},{"$f":"AR13*100/AQ219","v":0},{"$f":"AS13*100/AS219","v":2.7027027027027026},{"$f":"AT13*100/AS219","v":0},{"$f":"AU13*100/AU219","v":{"$error":"#DIV/0!"}},{"$f":"AV13*100/AU219","v":{"$error":"#DIV/0!"}},{"$f":"AW13*100/AW219","v":3.4482758620689653},{"$f":"AX13*100/AW219","v":0},{"$f":"AY13*100/AY219","v":0},{"$f":"AZ13*100/AY219","v":0},{"$f":"BA13*100/BA219","v":0},{"$f":"BB13*100/BA219","v":0},{"$f":"BC13*100/BC219","v":{"$error":"#DIV/0!"}},{"$f":"BD13*100/BC219","v":{"$error":"#DIV/0!"}},{"$f":"BE13*100/BE219","v":7.6923076923076925},{"$f":"BF13*100/BE219","v":0},{"$f":"BG13*100/BG219","v":0},{"$f":"BH13*100/BG219","v":0},{"$f":"BI13*100/BI219","v":0},{"$f":"BJ13*100/BI219","v":0},{"$f":"BK13*100/BK219","v":{"$error":"#DIV/0!"}},{"$f":"BL13*100/BK219","v":{"$error":"#DIV/0!"}}]
[{"$f":"Infraestructura!Y223","v":"ASISTENCIAL"},null,{"$f":"Infraestructura!$AP$223*50/100/100","v":0},null,null,{"$f":"Infraestructura!$AO$223*50/100/100","v":8.3333333333333343E-2},{"$f":"IF(Infraestructura!$C$224=Infraestructura!$F$224, \"CUMPLE\", \"NO CUMPLE\")","v":"NO CUMPLE"},null,null,null,null,null,null,null,null,null,null,null,null,null,null,null,null,14,"CONSULTA EXTERNA",null,null,null,null,null,null,null,null,null,null,null,null,null,null,null,{"$f":"AO14*100/AO219","v":16.666666666666668},{"$f":"AP14*100/AO219","v":0},{"$f":"AQ14*100/AQ219","v":2.7027027027027026},{"$f":"AR14*100/AQ219","v":0},{"$f":"AS14*100/AS219","v":2.7027027027027026},{"$f":"AT14*100/AS219","v":0},{"$f":"AU14*100/AU219","v":{"$error":"#DIV/0!"}},{"$f":"AV14*100/AU219","v":{"$error":"#DIV/0!"}},{"$f":"AW14*100/AW219","v":3.4482758620689653},{"$f":"AX14*100/AW219","v":0},{"$f":"AY14*100/AY219","v":0},{"$f":"AZ14*100/AY219","v":0},{"$f":"BA14*100/BA219","v":0},{"$f":"BB14*100/BA219","v":0},{"$f":"BC14*100/BC219","v":{"$error":"#DIV/0!"}},{"$f":"BD14*100/BC219","v":{"$error":"#DIV/0!"}},{"$f":"BE14*100/BE219","v":7.6923076923076925},{"$f":"BF14*100/BE219","v":0},{"$f":"BG14*100/BG219","v":0},{"$f":"BH14*100/BG219","v":0},{"$f":"BI14*100/BI219","v":0},{"$f":"BJ14*100/BI219","v":0},{"$f":"BK14*100/BK219","v":{"$error":"#DIV/0!"}},{"$f":"BL14*100/BK219","v":{"$error":"#DIV/0!"}}]
[{"$f":"Infraestructura!Y224","v":"CONSULTA EXTERNA"},null,null,{"$f":"Infraestructura!$AP$224*50/100/100","v":0},null,{"$f":"Infraestructura!$AO$224*50/100/100","v":8.3333333333333343E-2},{"$f":"IF(Infraestructura!$D$225=Infraestructura!$F$225, \"CUMPLE\", \"NO CUMPLE\")","v":"NO CUMPLE"},null,null,null,null,null,null,null,null,null,null,null,null,null,null,null,null,15,"AREA DE ATENCIÓN DE CONSULTA",null,null,null,null,null,null,null,null,null,null,null,null,null,null,null,{"$f":"AO15*100/AO219","v":16.666666666666668},{"$f":"AP15*100/AO219","v":0},{"$f":"AQ15*100/AQ219","v":2.7027027027027026},{"$f":"AR15*100/AQ219","v":0},{"$f":"AS15*100/AS219","v":2.7027027027027026},{"$f":"AT15*100/AS219","v":0},{"$f":"AU15*100/AU219","v":{"$error":"#DIV/0!"}},{"$f":"AV15*100/AU219","v":{"$error":"#DIV/0!"}},{"$f":"AW15*100/AW219","v":3.4482758620689653},{"$f":"AX15*100/AW219","v":0},{"$f":"AY15*100/AY219","v":0},{"$f":"AZ15*100/AY219","v":0},{"$f":"BA15*100/BA219","v":0},{"$f":"BB15*100/BA219","v":0},{"$f":"BC15*100/BC219","v":{"$error":"#DIV/0!"}},{"$f":"BD15*100/BC219","v":{"$error":"#DIV/0!"}},{"$f":"BE15*100/BE219","v":7.6923076923076925},{"$f":"BF15*100/BE219","v":0},{"$f":"BG15*100/BG219","v":0},{"$f":"BH15*100/BG219","v":0},{"$f":"BI15*100/BI219","v":0},{"$f":"BJ15*100/BI219","v":0},{"$f":"BK15*100/BK219","v":{"$error":"#DIV/0!"}},{"$f":"BL15*100/BK219","v":{"$error":"#DIV/0!"}}]
[{"$f":"Infraestructura!Y225","v":"AREA DE ATENCIÓN DE CONSULTA"},null,null,null,{"$f":"Infraestructura!$AP$225*50/100/100","v":0},{"$f":"Infraestructura!$AO$225*50/100/100","v":8.3333333333333343E-2},{"$f":"IF(Infraestructura!$E$226=Infraestructura!$F$226, \"CUMPLE\", \"NO CUMPLE\")","v":"NO CUMPLE"},null,null,null,null,null,null,null,null,null,null,null,null,null,null,null,null,26,"APOYO TERAPEÚTICO",null,null,null,null,null,null,null,null,null,null,null,null,null,null,null,{"$f":"AO26*100/AO219","v":26.666666666666668},{"$f":"AP26*100/AO219","v":0},{"$f":"AQ26*100/AQ219","v":27.027027027027028},{"$f":"AR26*100/AQ219","v":0},{"$f":"AS26*100/AS219","v":27.027027027027028},{"$f":"AT26*100/AS219","v":0},{"$f":"AU26*100/AU219","v":{"$error":"#DIV/0!"}},{"$f":"AV26*100/AU219","v":{"$error":"#DIV/0!"}},{"$f":"AW26*100/AW219","v":13.793103448275861},{"$f":"AX26*100/AW219","v":0},{"$f":"AY26*100/AY219","v":23.076923076923077},{"$f":"AZ26*100/AY219","v":0},{"$f":"BA26*100/BA219","v":11.111111111111111},{"$f":"BB26*100/BA219","v":0},{"$f":"BC26*100/BC219","v":{"$error":"#DIV/0!"}},{"$f":"BD26*100/BC219","v":{"$error":"#DIV/0!"}},{"$f":"BE26*100/BE219","v":30.76923076923077},{"$f":"BF26*100/BE219","v":0},{"$f":"BG26*100/BG219","v":42.857142857142854},{"$f":"BH26*100/BG219","v":0},{"$f":"BI26*100/BI219","v":25},{"$f":"BJ26*100/BI219","v":0},{"$f":"BK26*100/BK219","v":{"$error":"#DIV/0!"}},{"$f":"BL26*100/BK219","v":{"$error":"#DIV/0!"}}]
[{"$f":"Infraestructura!Y226","v":"APOYO TERAPEÚTICO"},null,{"$f":"Infraestructura!$AP$226*50/100/100","v":0},null,null,{"$f":"Infraestructura!$AO$226*50/100/100","v":0.13333333333333336},{"$f":"IF(Infraestructura!$C$227=Infraestructura!$F$227, \"CUMPLE\", \"NO CUMPLE\")","v":"NO CUMPLE"},null,null,null,null,null,null,null,null,null,null,null,null,null,null,null,null,27,"ATENCIÓN DE APOYO TERAPÉUTICO",null,null,null,null,null,null,null,null,null,null,null,null,null,null,null,{"$f":"AO27*100/AO219","v":26.666666666666668},{"$f":"AP27*100/AO219","v":0},{"$f":"AQ27*100/AQ219","v":27.027027027027028},{"$f":"AR27*100/AQ219","v":0},{"$f":"AS27*100/AS219","v":27.027027027027028},{"$f":"AT27*100/AS219","v":0},{"$f":"AU27*100/AU219","v":{"$error":"#DIV/0!"}},{"$f":"AV27*100/AU219","v":{"$error":"#DIV/0!"}},{"$f":"AW27*100/AW219","v":13.793103448275861},{"$f":"AX27*100/AW219","v":0},{"$f":"AY27*100/AY219","v":23.076923076923077},{"$f":"AZ27*100/AY219","v":0},{"$f":"BA27*100/BA219","v":11.111111111111111},{"$f":"BB27*100/BA219","v":0},{"$f":"BC27*100/BC219","v":{"$error":"#DIV/0!"}},{"$f":"BD27*100/BC219","v":{"$error":"#DIV/0!"}},{"$f":"BE27*100/BE219","v":30.76923076923077},{"$f":"BF27*100/BE219","v":0},{"$f":"BG27*100/BG219","v":42.857142857142854},{"$f":"BH27*100/BG219","v":0},{"$f":"BI27*100/BI219","v":25},{"$f":"BJ27*100/BI219","v":0},{"$f":"BK27*100/BK219","v":{"$error":"#DIV/0!"}},{"$f":"BL27*100/BK219","v":{"$error":"#DIV/0!"}}]
[{"$f":"Infraestructura!Y227","v":"ATENCIÓN DE APOYO TERAPÉUTICO"},null,null,{"$f":"Infraestructura!$AP$227*50/100/100","v":0},null,{"$f":"Infraestructura!$AO$227*50/100/100","v":0.13333333333333336},{"$f":"IF(Infraestructura!$D$228=Infraestructura!$F$228, \"CUMPLE\", \"NO CUMPLE\")","v":"NO CUMPLE"},null,null,null,null,null,null,null,null,null,null,null,null,null,null,null,null,28,"ÁREA DE PROCEDIMIENTOS",null,null,null,null,null,null,null,null,null,null,null,null,null,null,null,{"$f":"AO28*100/AO219","v":0},{"$f":"AP28*100/AO219","v":0},{"$f":"AQ28*100/AQ219","v":8.1081081081081088},{"$f":"AR28*100/AQ219","v":0},{"$f":"AS28*100/AS219","v":8.1081081081081088},{"$f":"AT28*100/AS219","v":0},{"$f":"AU28*100/AU219","v":{"$error":"#DIV/0!"}},{"$f":"AV28*100/AU219","v":{"$error":"#DIV/0!"}},{"$f":"AW28*100/AW219","v":0},{"$f":"AX28*100/AW219","v":0},{"$f":"AY28*100/AY219","v":7.6923076923076925},{"$f":"AZ28*100/AY219","v":0},{"$f":"BA28*100/BA219","v":11.111111111111111},{"$f":"BB28*100/BA219","v":0},{"$f":"BC28*100/BC219","v":{"$error":"#DIV/0!"}},{"$f":"BD28*100/BC219","v":{"$error":"#DIV/0!"}},{"$f":"BE28*100/BE219","v":0},{"$f":"BF28*100/BE219","v":0},{"$f":"BG28*100/BG219","v":14.285714285714286},{"$f":"BH28*100/BG219","v":0},{"$f":"BI28*100/BI219","v":25},{"$f":"BJ28*100/BI219","v":0},{"$f":"BK28*100/BK219","v":{"$error":"#DIV/0!"}},{"$f":"BL28*100/BK219","v":{"$error":"#DIV/0!"}}]
[{"$f":"Infraestructura!Y228","v":"ÁREA DE PROCEDIMIENTOS"},null,null,null,{"$f":"Infraestructura!$AP$228*50/100/100","v":0},{"$f":"Infraestructura!$AO$228*50/100/100","v":0},{"$f":"IF(Infraestructura!$E$229=Infraestructura!$F$229, \"CUMPLE\", \"NO CUMPLE\")","v":"CUMPLE"},null,null,null,null,null,null,null,null,null,null,null,null,null,null,null,null,36,"ÁREA DE SOPORTE Y SUMINISTROS",null,null,null,null,null,null,null,null,null,null,null,null,null,null,null,{"$f":"AO36*100/AO219","v":3.3333333333333335},{"$f":"AP36*100/AO219","v":0},{"$f":"AQ36*100/AQ219","v":5.4054054054054053},{"$f":"AR36*100/AQ219","v":0},{"$f":"AS36*100/AS219","v":5.4054054054054053},{"$f":"AT36*100/AS219","v":0},{"$f":"AU36*100/AU219","v":{"$error":"#DIV/0!"}},{"$f":"AV36*100/AU219","v":{"$error":"#DIV/0!"}},{"$f":"AW36*100/AW219","v":3.4482758620689653},{"$f":"AX36*100/AW219","v":0},{"$f":"AY36*100/AY219","v":0},{"$f":"AZ36*100/AY219","v":0},{"$f":"BA36*100/BA219","v":0},{"$f":"BB36*100/BA219","v":0},{"$f":"BC36*100/BC219","v":{"$error":"#DIV/0!"}},{"$f":"BD36*100/BC219","v":{"$error":"#DIV/0!"}},{"$f":"BE36*100/BE219","v":7.6923076923076925},{"$f":"BF36*100/BE219","v":0},{"$f":"BG36*100/BG219","v":0},{"$f":"BH36*100/BG219","v":0},{"$f":"BI36*100/BI219","v":0},{"$f":"BJ36*100/BI219","v":0},{"$f":"BK36*100/BK219","v":{"$error":"#DIV/0!"}},{"$f":"BL36*100/BK219","v":{"$error":"#DIV/0!"}}]
[{"$f":"Infraestructura!Y229","v":"ÁREA DE SOPORTE Y SUMINISTROS"},null,null,null,{"$f":"Infraestructura!$AP$229*50/100/100","v":0},{"$f":"Infraestructura!$AO$229*50/100/100","v":1.666666666666667E-2},{"$f":"IF(Infraestructura!$E$230=Infraestructura!$F$230, \"CUMPLE\", \"NO CUMPLE\")","v":"NO CUMPLE"},null,null,null,null,null,null,null,null,null,null,null,null,null,null,null,null,45,"ÁREA DE TRATAMIENTO A PACIENTES DE HEMODIÁLISIS",null,null,null,null,null,null,null,null,null,null,null,null,null,null,null,{"$f":"AO45*100/AO219","v":10},{"$f":"AP45*100/AO219","v":0},{"$f":"AQ45*100/AQ219","v":0},{"$f":"AR45*100/AQ219","v":0},{"$f":"AS45*100/AS219","v":0},{"$f":"AT45*100/AS219","v":0},{"$f":"AU45*100/AU219","v":{"$error":"#DIV/0!"}},{"$f":"AV45*100/AU219","v":{"$error":"#DIV/0!"}},{"$f":"AW45*100/AW219","v":3.4482758620689653},{"$f":"AX45*100/AW219","v":0},{"$f":"AY45*100/AY219","v":0},{"$f":"AZ45*100/AY219","v":0},{"$f":"BA45*100/BA219","v":0},{"$f":"BB45*100/BA219","v":0},{"$f":"BC45*100/BC219","v":{"$error":"#DIV/0!"}},{"$f":"BD45*100/BC219","v":{"$error":"#DIV/0!"}},{"$f":"BE45*100/BE219","v":7.6923076923076925},{"$f":"BF45*100/BE219","v":0},{"$f":"BG45*100/BG219","v":0},{"$f":"BH45*100/BG219","v":0},{"$f":"BI45*100/BI219","v":0},{"$f":"BJ45*100/BI219","v":0},{"$f":"BK45*100/BK219","v":{"$error":"#DIV/0!"}},{"$f":"BL45*100/BK219","v":{"$error":"#DIV/0!"}}]
[{"$f":"Infraestructura!Y230","v":"ÁREA DE TRATAMIENTO A PACIENTES DE HEMODIÁLISIS"},null,null,null,{"$f":"Infraestructura!$AP$230*50/100/100","v":0},{"$f":"Infraestructura!$AO$230*50/100/100","v":0.05},{"$f":"IF(Infraestructura!$E$231=Infraestructura!$F$231, \"CUMPLE\", \"NO CUMPLE\")","v":"NO CUMPLE"},null,null,null,null,null,null,null,null,null,null,null,null,null,null,null,null,55,"ÁREA TECNICA DE APOYO",null,null,null,null,null,null,null,null,null,null,null,null,null,null,null,{"$f":"AO53*100/AO219","v":6.666666666666667},{"$f":"AP53*100/AO219","v":0},{"$f":"AQ53*100/AQ219","v":0},{"$f":"AR53*100/AQ219","v":0},{"$f":"AS53*100/AS219","v":0},{"$f":"AT53*100/AS219","v":0},{"$f":"AU53*100/AU219","v":{"$error":"#DIV/0!"}},{"$f":"AV53*100/AU219","v":{"$error":"#DIV/0!"}},{"$f":"AW53*100/AW219","v":3.4482758620689653},{"$f":"AX53*100/AW219","v":0},{"$f":"AY53*100/AY219","v":0},{"$f":"AZ53*100/AY219","v":0},{"$f":"BA53*100/BA219","v":0},{"$f":"BB53*100/BA219","v":0},{"$f":"BC53*100/BC219","v":{"$error":"#DIV/0!"}},{"$f":"BD53*100/BC219","v":{"$error":"#DIV/0!"}},{"$f":"BE53*100/BE219","v":7.6923076923076925},{"$f":"BF53*100/BE219","v":0},{"$f":"BG53*100/BG219","v":0},{"$f":"BH53*100/BG219","v":0},{"$f":"BI53*100/BI219","v":0},{"$f":"BJ53*100/BI219","v":0},{"$f":"BK53*100/BK219","v":{"$error":"#DIV/0!"}},{"$f":"BL53*100/BK219","v":{"$error":"#DIV/0!"}}]
[{"$f":"Infraestructura!Y231","v":"ÁREA TECNICA DE APOYO"},null,null,null,{"$f":"Infraestructura!$AP$231*50/100/100","v":0},{"$f":"Infraestructura!$AO$231*50/100/100","v":3.333333333333334E-2},{"$f":"IF(Infraestructura!$E$232=Infraestructura!$F$232, \"CUMPLE\", \"NO CUMPLE\")","v":"NO CUMPLE"},null,null,null,null,null,null,null,null,null,null,null,null,null,null,null,null,62,"ÁREA DE DIÁLISIS PERITONEAL",null,null,null,null,null,null,null,null,null,null,null,null,null,null,null,{"$f":"AO60*100/AO219","v":0},{"$f":"AP60*100/AO219","v":0},{"$f":"AQ60*100/AQ219","v":5.4054054054054053},{"$f":"AR60*100/AQ219","v":0},{"$f":"AS60*100/AS219","v":5.4054054054054053},{"$f":"AT60*100/AS219","v":0},{"$f":"AU60*100/AU219","v":{"$error":"#DIV/0!"}},{"$f":"AV60*100/AU219","v":{"$error":"#DIV/0!"}},{"$f":"AW60*100/AW219","v":0},{"$f":"AX60*100/AW219","v":0},{"$f":"AY60*100/AY219","v":7.6923076923076925},{"$f":"AZ60*100/AY219","v":0},{"$f":"BA60*100/BA219","v":0},{"$f":"BB60*100/BA219","v":0},{"$f":"BC60*100/BC219","v":{"$error":"#DIV/0!"}},{"$f":"BD60*100/BC219","v":{"$error":"#DIV/0!"}},{"$f":"BE60*100/BE219","v":0},{"$f":"BF60*100/BE219","v":0},{"$f":"BG60*100/BG219","v":14.285714285714286},{"$f":"BH60*100/BG219","v":0},{"$f":"BI60*100/BI219","v":0},{"$f":"BJ60*100/BI219","v":0},{"$f":"BK60*100/BK219","v":{"$error":"#DIV/0!"}},{"$f":"BL60*100/BK219","v":{"$error":"#DIV/0!"}}]
[{"$f":"Infraestructura!Y232","v":"ÁREA DE DIÁLISIS PERITONEAL"},null,null,null,{"$f":"Infraestructura!$AP$232*50/100/100","v":0},{"$f":"Infraestructura!$AO$232*50/100/100","v":0},{"$f":"IF(Infraestructura!$E$233=Infraestructura!$F$233, \"CUMPLE\", \"NO CUMPLE\")","v":"CUMPLE"},null,null,null,null,null,null,null,null,null,null,null,null,null,null,null,null,69,"ÁREA TECNICA DE APOYO",null,null,null,null,null,null,null,null,null,null,null,null,null,null,null,{"$f":"AO67*100/AO219","v":0},{"$f":"AP67*100/AO219","v":0},{"$f":"AQ67*100/AQ219","v":5.4054054054054053},{"$f":"AR67*100/AQ219","v":0},{"$f":"AS67*100/AS219","v":5.4054054054054053},{"$f":"AT67*100/AS219","v":0},{"$error":"#DIV/0!"},{"$f":"AV67*100/AU219","v":{"$error":"#DIV/0!"}},{"$f":"AW67*100/AW219","v":0},{"$f":"AX67*100/AW219","v":0},7.6923076923076925,{"$f":"AZ67*100/AY219","v":0},{"$f":"BA67*100/BA219","v":0},{"$f":"BB67*100/BA219","v":0},{"$error":"#DIV/0!"},{"$f":"BD67*100/BC219","v":{"$error":"#DIV/0!"}},{"$f":"BE67*100/BE219","v":0},{"$f":"BF67*100/BE219","v":0},14.285714285714286,{"$f":"BH67*100/BG219","v":0},{"$f":"BI67*100/BI219","v":0},{"$f":"BJ67*100/BI219","v":0},{"$error":"#DIV/0!"},{"$f":"BL67*100/BK219","v":{"$error":"#DIV/0!"}}]
[{"$f":"Infraestructura!Y233","v":"ÁREA TECNICA DE APOYO"},null,null,null,{"$f":"Infraestructura!$AP$233*50/100/100","v":0},{"$f":"Infraestructura!$AO$233*50/100/100","v":0},{"$f":"IF(Infraestructura!$E$234=Infraestructura!$F$234, \"CUMPLE\", \"NO CUMPLE\")","v":"CUMPLE"},null,null,null,null,null,null,null,null,null,null,null,null,null,null,null,null,76,"ÁREA PARA LOS USUARIOS",null,null,null,null,null,null,null,null,null,null,null,null,null,null,null,{"$f":"AO74*100/AO219","v":6.666666666666667},{"$f":"AP74*100/AO219","v":0},{"$f":"AQ74*100/AQ219","v":2.7027027027027026},{"$f":"AR74*100/AQ219","v":0},{"$f":"AS74*100/AS219","v":2.7027027027027026},{"$f":"AT74*100/AS219","v":0},{"$f":"AU74*100/AU219","v":{"$error":"#DIV/0!"}},{"$f":"AV74*100/AU219","v":{"$error":"#DIV/0!"}},{"$f":"AW74*100/AW219","v":3.4482758620689653},{"$f":"AX74*100/AW219","v":0},{"$f":"AY74*100/AY219","v":0},{"$f":"AZ74*100/AY219","v":0},{"$f":"BA74*100/BA219","v":0},{"$f":"BB74*100/BA219","v":0},{"$f":"BC74*100/BC219","v":{"$error":"#DIV/0!"}},{"$f":"BD74*100/BC219","v":{"$error":"#DIV/0!"}},{"$f":"BE74*100/BE219","v":7.6923076923076925},{"$f":"BF74*100/BE219","v":0},{"$f":"BG74*100/BG219","v":0},{"$f":"BH74*100/BG219","v":0},{"$f":"BI74*100/BI219","v":0},{"$f":"BJ74*100/BI219","v":0},{"$f":"BK74*100/BK219","v":{"$error":"#DIV/0!"}},{"$f":"BL74*100/BK219","v":{"$error":"#DIV/0!"}}]
[{"$f":"Infraestructura!Y234","v":"ÁREA PARA LOS USUARIOS"},null,null,null,{"$f":"Infraestructura!$AP$234*50/100/100","v":0},{"$f":"Infraestructura!$AO$234*50/100/100","v":3.333333333333334E-2},{"$f":"IF(Infraestructura!$E$235=Infraestructura!$F$235, \"CUMPLE\", \"NO CUMPLE\")","v":"NO CUMPLE"},null,null,null,null,null,null,null,null,null,null,null,null,null,null,null,null,84,"APOYO DIAGNÓSTICO",null,null,null,null,null,null,null,null,null,null,null,null,null,null,null,{"$f":"AO82*100/AO219","v":3.3333333333333335},{"$f":"AP82*100/AO219","v":0},{"$f":"AQ82*100/AQ219","v":35.135135135135137},{"$f":"AR82*100/AQ219","v":0},{"$f":"AS82*100/AS219","v":35.135135135135137},{"$f":"AT82*100/AS219","v":0},{"$f":"AU82*100/AU219","v":{"$error":"#DIV/0!"}},{"$f":"AV82*100/AU219","v":{"$error":"#DIV/0!"}},{"$f":"AW82*100/AW219","v":3.4482758620689653},{"$f":"AX82*100/AW219","v":0},{"$f":"AY82*100/AY219","v":23.076923076923077},{"$f":"AZ82*100/AY219","v":0},{"$f":"BA82*100/BA219","v":22.222222222222221},{"$f":"BB82*100/BA219","v":0},{"$f":"BC82*100/BC219","v":{"$error":"#DIV/0!"}},{"$f":"BD82*100/BC219","v":{"$error":"#DIV/0!"}},{"$f":"BE82*100/BE219","v":7.6923076923076925},{"$f":"BF82*100/BE219","v":0},{"$f":"BG82*100/BG219","v":42.857142857142854},{"$f":"BH82*100/BG219","v":0},{"$f":"BI82*100/BI219","v":50},{"$f":"BJ82*100/BI219","v":0},{"$f":"BK82*100/BK219","v":{"$error":"#DIV/0!"}},{"$f":"BL82*100/BK219","v":{"$error":"#DIV/0!"}}]
[{"$f":"Infraestructura!Y235","v":"APOYO DIAGNÓSTICO"},null,{"$f":"Infraestructura!$AP$235*50/100/100","v":0},null,null,{"$f":"Infraestructura!$AO$235*50/100/100","v":1.666666666666667E-2},{"$f":"IF(Infraestructura!$C$236=Infraestructura!$F$236, \"CUMPLE\", \"NO CUMPLE\")","v":"NO CUMPLE"},null,null,null,null,null,null,null,null,null,null,null,null,null,null,null,null,85,"DIAGNÓSTICO EN LABORATORIO",null,null,null,null,null,null,null,null,null,null,null,null,null,null,null,{"$f":"AO83*100/AO219","v":3.3333333333333335},{"$f":"AP83*100/AO219","v":0},{"$f":"AQ83*100/AQ219","v":35.135135135135137},{"$f":"AR83*100/AQ219","v":0},{"$f":"AS83*100/AS219","v":35.135135135135137},{"$f":"AT83*100/AS219","v":0},{"$f":"AU83*100/AU219","v":{"$error":"#DIV/0!"}},{"$f":"AV83*100/AU219","v":{"$error":"#DIV/0!"}},{"$f":"AW83*100/AW219","v":3.4482758620689653},{"$f":"AX83*100/AW219","v":0},{"$f":"AY83*100/AY219","v":23.076923076923077},{"$f":"AZ83*100/AY219","v":0},{"$f":"BA83*100/BA219","v":22.222222222222221},{"$f":"BB83*100/BA219","v":0},{"$f":"BC83*100/BC219","v":{"$error":"#DIV/0!"}},{"$f":"BD83*100/BC219","v":{"$error":"#DIV/0!"}},{"$f":"BE83*100/BE219","v":7.6923076923076925},{"$f":"BF83*100/BE219","v":0},{"$f":"BG83*100/BG219","v":42.857142857142854},{"$f":"BH83*100/BG219","v":0},{"$f":"BI83*100/BI219","v":50},{"$f":"BJ83*100/BI219","v":0},{"$f":"BK83*100/BK219","v":{"$error":"#DIV/0!"}},{"$f":"BL83*100/BK219","v":{"$error":"#DIV/0!"}}]
[{"$f":"Infraestructura!Y236","v":"DIAGNÓSTICO EN LABORATORIO"},null,null,{"$f":"Infraestructura!$AP$236*50/100/100","v":0},null,{"$f":"Infraestructura!$AO$236*50/100/100","v":1.666666666666667E-2},{"$f":"IF(Infraestructura!$D$237=Infraestructura!$F$237, \"CUMPLE\", \"NO CUMPLE\")","v":"NO CUMPLE"},null,null,null,null,null,null,null,null,null,null,null,null,null,null,null,null,87,"ÁREA DE PREANÁLISIS",null,null,null,null,null,null,null,null,null,null,null,null,null,null,null,{"$f":"AO85*100/AO219","v":3.3333333333333335},{"$f":"AP85*100/AO219","v":0},{"$f":"AQ85*100/AQ219","v":2.7027027027027026},{"$f":"AR85*100/AQ219","v":0},{"$f":"AS85*100/AS219","v":2.7027027027027026},{"$f":"AT85*100/AS219","v":0},{"$f":"AU85*100/AU219","v":{"$error":"#DIV/0!"}},{"$f":"AV85*100/AU219","v":{"$error":"#DIV/0!"}},{"$f":"AW85*100/AW219","v":0},{"$f":"AX85*100/AW219","v":0},{"$f":"AY85*100/AY219","v":0},{"$f":"AZ85*100/AY219","v":0},{"$f":"BA85*100/BA219","v":0},{"$f":"BB85*100/BA219","v":0},{"$f":"BC85*100/BC219","v":{"$error":"#DIV/0!"}},{"$f":"BD85*100/BC219","v":{"$error":"#DIV/0!"}},{"$f":"BE85*100/BE219","v":0},{"$f":"BF85*100/BE219","v":0},{"$f":"BG85*100/BG219","v":0},{"$f":"BH85*100/BG219","v":0},{"$f":"BI85*100/BI219","v":0},{"$f":"BJ85*100/BI219","v":0},{"$f":"BK85*100/BK219","v":{"$error":"#DIV/0!"}},{"$f":"BL85*100/BK219","v":{"$error":"#DIV/0!"}}]
[{"$f":"Infraestructura!Y237","v":"ÁREA DE PREANÁLISIS"},null,null,null,{"$f":"Infraestructura!$AP$237*50/100/100","v":0},{"$f":"Infraestructura!$AO$237*50/100/100","v":1.666666666666667E-2},{"$f":"IF(Infraestructura!$E$238=Infraestructura!$F$238, \"CUMPLE\", \"NO CUMPLE\")","v":"NO CUMPLE"},null,null,null,null,null,null,null,null,null,null,null,null,null,null,null,null,94,"ÁREA DE ANÁLISIS",null,null,null,null,null,null,null,null,null,null,null,null,null,null,null,{"$f":"AO92*100/AO219","v":0},{"$f":"AP92*100/AO219","v":0},{"$f":"AQ92*100/AQ219","v":18.918918918918919},{"$f":"AR92*100/AQ219","v":0},{"$f":"AS92*100/AS219","v":18.918918918918919},{"$f":"AT92*100/AS219","v":0},{"$f":"AU92*100/AU219","v":{"$error":"#DIV/0!"}},{"$f":"AV92*100/AU219","v":{"$error":"#DIV/0!"}},{"$f":"AW92*100/AW219","v":0},{"$f":"AX92*100/AW219","v":0},{"$f":"AY92*100/AY219","v":7.6923076923076925},{"$f":"AZ92*100/AY219","v":0},{"$f":"BA92*100/BA219","v":11.111111111111111},{"$f":"BB92*100/BA219","v":0},{"$f":"BC92*100/BC219","v":{"$error":"#DIV/0!"}},{"$f":"BD92*100/BC219","v":{"$error":"#DIV/0!"}},{"$f":"BE92*100/BE219","v":0},{"$f":"BF92*100/BE219","v":0},{"$f":"BG92*100/BG219","v":14.285714285714286},{"$f":"BH92*100/BG219","v":0},{"$f":"BI92*100/BI219","v":25},{"$f":"BJ92*100/BI219","v":0},{"$f":"BK92*100/BK219","v":{"$error":"#DIV/0!"}},{"$f":"BL92*100/BK219","v":{"$error":"#DIV/0!"}}]
[{"$f":"Infraestructura!Y238","v":"ÁREA DE ANÁLISIS"},null,null,null,{"$f":"Infraestructura!$AP$238*50/100/100","v":0},{"$f":"Infraestructura!$AO$238*50/100/100","v":0},{"$f":"IF(Infraestructura!$E$239=Infraestructura!$F$239, \"CUMPLE\", \"NO CUMPLE\")","v":"CUMPLE"},null,null,null,null,null,null,null,null,null,null,null,null,null,null,null,null,106,"ÁREA DE SOPORTE  ",null,null,null,null,null,null,null,null,null,null,null,null,null,null,null,{"$f":"AO104*100/AO219","v":0},{"$f":"AP104*100/AO219","v":0},{"$f":"AQ104*100/AQ219","v":10.810810810810811},{"$f":"AR104*100/AQ219","v":0},{"$f":"AS104*100/AS219","v":10.810810810810811},{"$f":"AT104*100/AS219","v":0},{"$f":"AU104*100/AU219","v":{"$error":"#DIV/0!"}},{"$f":"AV104*100/AU219","v":{"$error":"#DIV/0!"}},{"$f":"AW104*100/AW219","v":0},{"$f":"AX104*100/AW219","v":0},{"$f":"AY104*100/AY219","v":7.6923076923076925},{"$f":"AZ104*100/AY219","v":0},{"$f":"BA104*100/BA219","v":11.111111111111111},{"$f":"BB104*100/BA219","v":0},{"$f":"BC104*100/BC219","v":{"$error":"#DIV/0!"}},{"$f":"BD104*100/BC219","v":{"$error":"#DIV/0!"}},{"$f":"BE104*100/BE219","v":0},{"$f":"BF104*100/BE219","v":0},{"$f":"BG104*100/BG219","v":14.285714285714286},{"$f":"BH104*100/BG219","v":0},{"$f":"BI104*100/BI219","v":25},{"$f":"BJ104*100/BI219","v":0},{"$f":"BK104*100/BK219","v":{"$error":"#DIV/0!"}},{"$f":"BL104*100/BK219","v":{"$error":"#DIV/0!"}}]
[{"$f":"Infraestructura!Y239","v":"ÁREA DE SOPORTE  "},null,null,null,{"$f":"Infraestructura!$AP$239*50/100/100","v":0},{"$f":"Infraestructura!$AO$239*50/100/100","v":0},{"$f":"IF(Infraestructura!$E$240=Infraestructura!$F$240, \"CUMPLE\", \"NO CUMPLE\")","v":"CUMPLE"},null,null,null,null,null,null,null,null,null,null,null,null,null,null,null,null,115,"ÁREA ADMINISTRATIVA Y DE PERSONAL",null,null,null,null,null,null,null,null,null,null,null,null,null,null,null,{"$f":"AO113*100/AO219","v":0},{"$f":"AP113*100/AO219","v":0},{"$f":"AQ113*100/AQ219","v":2.7027027027027026},{"$f":"AR113*100/AQ219","v":0},{"$f":"AS113*100/AS219","v":2.7027027027027026},{"$f":"AT113*100/AS219","v":0},{"$f":"AU113*100/AU219","v":{"$error":"#DIV/0!"}},{"$f":"AV113*100/AU219","v":{"$error":"#DIV/0!"}},{"$f":"AW113*100/AW219","v":0},{"$f":"AX113*100/AW219","v":0},{"$f":"AY113*100/AY219","v":7.6923076923076925},{"$f":"AZ113*100/AY219","v":0},{"$f":"BA113*100/BA219","v":0},{"$f":"BB113*100/BA219","v":0},{"$f":"BC113*100/BC219","v":{"$error":"#DIV/0!"}},{"$f":"BD113*100/BC219","v":{"$error":"#DIV/0!"}},{"$f":"BE113*100/BE219","v":0},{"$f":"BF113*100/BE219","v":0},{"$f":"BG113*100/BG219","v":14.285714285714286},{"$f":"BH113*100/BG219","v":0},{"$f":"BI113*100/BI219","v":0},{"$f":"BJ113*100/BI219","v":0},{"$f":"BK113*100/BK219","v":{"$error":"#DIV/0!"}},{"$f":"BL113*100/BK219","v":{"$error":"#DIV/0!"}}]
[{"$f":"Infraestructura!Y240","v":"ÁREA ADMINISTRATIVA Y DE PERSONAL"},null,null,null,{"$f":"Infraestructura!$AP$240*50/100/100","v":0},{"$f":"Infraestructura!$AO$240*50/100/100","v":0},{"$f":"IF(Infraestructura!$E$241=Infraestructura!$F$241, \"CUMPLE\", \"NO CUMPLE\")","v":"CUMPLE"},null,null,null,null,null,null,null,null,null,null,null,null,null,null,null,null,121,"APOYO TERAPÉUTICO",null,null,null,null,null,null,null,null,null,null,null,null,null,null,null,{"$f":"AO119*100/$AO$219","v":6.666666666666667},{"$f":"AP119*100/AO219","v":0},{"$f":"AQ119*100/AQ219","v":0},{"$f":"AR119*100/AQ219","v":0},{"$f":"AS119*100/$AO$219","v":0},{"$f":"AT119*100/AS219","v":0},{"$f":"AU119*100/AU219","v":{"$error":"#DIV/0!"}},{"$f":"AV119*100/AU219","v":{"$error":"#DIV/0!"}},{"$f":"AW119*100/$AO$219","v":3.3333333333333335},{"$f":"AX119*100/AW219","v":0},{"$f":"AY119*100/AY219","v":0},{"$f":"AZ119*100/AY219","v":0},{"$f":"BA119*100/$AO$219","v":0},{"$f":"BB119*100/BA219","v":0},{"$f":"BC119*100/BC219","v":{"$error":"#DIV/0!"}},{"$f":"BD119*100/BC219","v":{"$error":"#DIV/0!"}},{"$f":"BE119*100/$AO$219","v":3.3333333333333335},{"$f":"BF119*100/BE219","v":0},{"$f":"BG119*100/BG219","v":0},{"$f":"BH119*100/BG219","v":0},{"$f":"BI119*100/$AO$219","v":0},{"$f":"BJ119*100/BI219","v":0},{"$f":"BK119*100/BK219","v":{"$error":"#DIV/0!"}},{"$f":"BL119*100/BK219","v":{"$error":"#DIV/0!"}}]
[{"$f":"Infraestructura!Y241","v":"APOYO TERAPÉUTICO"},null,{"$f":"Infraestructura!$AP$241*50/100/100","v":0},null,null,{"$f":"Infraestructura!$AO$241*50/100/100","v":3.333333333333334E-2},{"$f":"IF(Infraestructura!$C$242=Infraestructura!$F$242, \"CUMPLE\", \"NO CUMPLE\")","v":"NO CUMPLE"},null,null,null,null,null,null,null,null,null,null,null,null,null,null,null,null,122,"DOTACIÓN DE MEDICAMENTOS Y DISPOSITIVOS MÉDICOS (FARMACIA)",null,null,null,null,null,null,null,null,null,null,null,null,null,null,null,{"$f":"AO120*100/AO219","v":6.666666666666667},{"$f":"AP120*100/AO219","v":0},{"$f":"AQ120*100/AQ219","v":0},{"$f":"AR120*100/AQ219","v":0},{"$f":"AS120*100/AS219","v":0},{"$f":"AT120*100/AS219","v":0},{"$f":"AU120*100/AU219","v":{"$error":"#DIV/0!"}},{"$f":"AV120*100/AU219","v":{"$error":"#DIV/0!"}},{"$f":"AW120*100/AW219","v":3.4482758620689653},{"$f":"AX120*100/AW219","v":0},{"$f":"AY120*100/AY219","v":0},{"$f":"AZ120*100/AY219","v":0},{"$f":"BA120*100/BA219","v":0},{"$f":"BB120*100/BA219","v":0},{"$f":"BC120*100/BC219","v":{"$error":"#DIV/0!"}},{"$f":"BD120*100/BC219","v":{"$error":"#DIV/0!"}},{"$f":"BE120*100/BE219","v":7.6923076923076925},{"$f":"BF120*100/BE219","v":0},{"$f":"BG120*100/BG219","v":0},{"$f":"BH120*100/BG219","v":0},{"$f":"BI120*100/BI219","v":0},{"$f":"BJ120*100/BI219","v":0},{"$f":"BK120*100/BK219","v":{"$error":"#DIV/0!"}},{"$f":"BL120*100/BK219","v":{"$error":"#DIV/0!"}}]
[{"$f":"Infraestructura!Y242","v":"DOTACIÓN DE MEDICAMENTOS Y DISPOSITIVOS MÉDICOS (FARMACIA)"},null,null,{"$f":"Infraestructura!$AP$242*50/100/100","v":0},null,{"$f":"Infraestructura!$AO$242*50/100/100","v":3.333333333333334E-2},{"$f":"IF(Infraestructura!$D$243=Infraestructura!$F$243, \"CUMPLE\", \"NO CUMPLE\")","v":"NO CUMPLE"},null,null,null,null,null,null,null,null,null,null,null,null,null,null,null,null,123,"ÁREA DE FARMACIA",null,null,null,null,null,null,null,null,null,null,null,null,null,null,null,{"$f":"AO121*100/AO219","v":6.666666666666667},{"$f":"AP121*100/AO219","v":0},{"$f":"AQ121*100/AQ219","v":0},{"$f":"AR121*100/AQ219","v":0},{"$f":"AS121*100/AS219","v":0},{"$f":"AT121*100/AS219","v":0},{"$f":"AU121*100/AU219","v":{"$error":"#DIV/0!"}},{"$f":"AV121*100/AU219","v":{"$error":"#DIV/0!"}},{"$f":"AW121*100/AW219","v":3.4482758620689653},{"$f":"AX121*100/AW219","v":0},{"$f":"AY121*100/AY219","v":0},{"$f":"AZ121*100/AY219","v":0},{"$f":"BA121*100/BA219","v":0},{"$f":"BB121*100/BA219","v":0},{"$f":"BC121*100/BC219","v":{"$error":"#DIV/0!"}},{"$f":"BD121*100/BC219","v":{"$error":"#DIV/0!"}},{"$f":"BE121*100/BE219","v":7.6923076923076925},{"$f":"BF121*100/BE219","v":0},{"$f":"BG121*100/BG219","v":0},{"$f":"BH121*100/BG219","v":0},{"$f":"BI121*100/BI219","v":0},{"$f":"BJ121*100/BI219","v":0},{"$f":"BK121*100/BK219","v":{"$error":"#DIV/0!"}},{"$f":"BL121*100/BK219","v":{"$error":"#DIV/0!"}}]
[{"$f":"Infraestructura!Y243","v":"ÁREA DE FARMACIA"},null,null,null,{"$f":"Infraestructura!$AP$243*50/100/100","v":0},{"$f":"Infraestructura!$AO$243*50/100/100","v":3.333333333333334E-2},{"$f":"IF(Infraestructura!$E$244=Infraestructura!$F$244, \"CUMPLE\", \"NO CUMPLE\")","v":"NO CUMPLE"},null,null,null,null,null,null,null,null,null,null,null,null,null,null,null,null,130,"ADMINISTRATIVO",null,null,null,null,null,null,null,null,null,null,null,null,null,null,null,{"$f":"AO128*100/AO219","v":16.666666666666668},{"$f":"AP128*100/AO219","v":0},{"$f":"AQ128*100/AQ219","v":8.1081081081081088},{"$f":"AR128*100/AQ219","v":0},{"$f":"AS128*100/AS219","v":8.1081081081081088},{"$f":"AT128*100/AS219","v":0},{"$f":"AU128*100/AU219","v":{"$error":"#DIV/0!"}},{"$f":"AV128*100/AU219","v":{"$error":"#DIV/0!"}},{"$f":"AW128*100/AW219","v":3.4482758620689653},{"$f":"AX128*100/AW219","v":0},{"$f":"AY128*100/AY219","v":0},{"$f":"AZ128*100/AY219","v":0},{"$f":"BA128*100/BA219","v":0},{"$f":"BB128*100/BA219","v":0},{"$f":"BC128*100/BC219","v":{"$error":"#DIV/0!"}},{"$f":"BD128*100/BC219","v":{"$error":"#DIV/0!"}},{"$f":"BE128*100/BE219","v":7.6923076923076925},{"$f":"BF128*100/BE219","v":0},{"$f":"BG128*100/BG219","v":0},{"$f":"BH128*100/BG219","v":0},{"$f":"BI128*100/BI219","v":0},{"$f":"BJ128*100/BI219","v":0},{"$f":"BK128*100/BK219","v":{"$error":"#DIV/0!"}},{"$f":"BL128*100/BK219","v":{"$error":"#DIV/0!"}}]
[{"$f":"Infraestructura!Y244","v":"ADMINISTRATIVO"},null,{"$f":"Infraestructura!$AP$244*50/100/100","v":0},null,null,{"$f":"Infraestructura!$AO$244*50/100/100","v":8.3333333333333343E-2},{"$f":"IF(Infraestructura!$C$245=Infraestructura!$F$245, \"CUMPLE\", \"NO CUMPLE\")","v":"NO CUMPLE"},null,null,null,null,null,null,null,null,null,null,null,null,null,null,null,null,131,"ADMINISTRACIÓN TÉCNICA",null,null,null,null,null,null,null,null,null,null,null,null,null,null,null,{"$f":"AO129*100/AO219","v":16.666666666666668},{"$f":"AP129*100/AO219","v":0},{"$f":"AQ129*100/AQ219","v":8.1081081081081088},{"$f":"AR129*100/AQ219","v":0},{"$f":"AS129*100/AS219","v":8.1081081081081088},{"$f":"AT129*100/AS219","v":0},{"$f":"AU129*100/AU219","v":{"$error":"#DIV/0!"}},{"$f":"AV129*100/AU219","v":{"$error":"#DIV/0!"}},{"$f":"AW129*100/AW219","v":3.4482758620689653},{"$f":"AX129*100/AW219","v":0},{"$f":"AY129*100/AY219","v":0},{"$f":"AZ129*100/AY219","v":0},{"$f":"BA129*100/BA219","v":0},{"$f":"BB129*100/BA219","v":0},{"$f":"BC129*100/BC219","v":{"$error":"#DIV/0!"}},{"$f":"BD129*100/BC219","v":{"$error":"#DIV/0!"}},{"$f":"BE129*100/BE219","v":7.6923076923076925},{"$f":"BF129*100/BE219","v":0},{"$f":"BG129*100/BG219","v":0},{"$f":"BH129*100/BG219","v":0},{"$f":"BI129*100/BI219","v":0},{"$f":"BJ129*100/BI219","v":0},{"$f":"BK129*100/BK219","v":{"$error":"#DIV/0!"}},{"$f":"BL129*100/BK219","v":{"$error":"#DIV/0!"}}]
[{"$f":"Infraestructura!Y245","v":"ADMINISTRACIÓN TÉCNICA"},null,null,{"$f":"Infraestructura!$AP$245*50/100/100","v":0},null,{"$f":"Infraestructura!$AO$245*50/100/100","v":8.3333333333333343E-2},{"$f":"IF(Infraestructura!$D$246=Infraestructura!$F$246, \"CUMPLE\", \"NO CUMPLE\")","v":"NO CUMPLE"},null,null,null,null,null,null,null,null,null,null,null,null,null,null,null,null,132,"ÁREA TÉCNICA",null,null,null,null,null,null,null,null,null,null,null,null,null,null,null,{"$f":"AO130*100/AO219","v":16.666666666666668},{"$f":"AP130*100/AO219","v":0},{"$f":"AQ130*100/AQ219","v":8.1081081081081088},{"$f":"AR130*100/AQ219","v":0},{"$f":"AS130*100/AS219","v":8.1081081081081088},{"$f":"AT130*100/AS219","v":0},{"$f":"AU130*100/AU219","v":{"$error":"#DIV/0!"}},{"$f":"AV130*100/AU219","v":{"$error":"#DIV/0!"}},{"$f":"AW130*100/AW219","v":3.4482758620689653},{"$f":"AX130*100/AW219","v":0},{"$f":"AY130*100/AY219","v":0},{"$f":"AZ130*100/AY219","v":0},{"$f":"BA130*100/BA219","v":0},{"$f":"BB130*100/BA219","v":0},{"$f":"BC130*100/BC219","v":{"$error":"#DIV/0!"}},{"$f":"BD130*100/BC219","v":{"$error":"#DIV/0!"}},{"$f":"BE130*100/BE219","v":7.6923076923076925},{"$f":"BF130*100/BE219","v":0},{"$f":"BG130*100/BG219","v":0},{"$f":"BH130*100/BG219","v":0},{"$f":"BI130*100/BI219","v":0},{"$f":"BJ130*100/BI219","v":0},{"$f":"BK130*100/BK219","v":{"$error":"#DIV/0!"}},{"$f":"BL130*100/BK219","v":{"$error":"#DIV/0!"}}]
[{"$f":"Infraestructura!Y246","v":"ÁREA TÉCNICA"},null,null,null,{"$f":"Infraestructura!$AP$246*50/100/100","v":0},{"$f":"Infraestructura!$AO$246*50/100/100","v":8.3333333333333343E-2},{"$f":"IF(Infraestructura!$E$247=Infraestructura!$F$247, \"CUMPLE\", \"NO CUMPLE\")","v":"NO CUMPLE"},null,null,null,null,null,null,null,null,null,null,null,null,null,null,null,null,145,"GENERAL",null,null,null,null,null,null,null,null,null,null,null,null,null,null,null,{"$f":"AO143*100/AO219","v":23.333333333333332},{"$f":"AP143*100/AO219","v":0},{"$f":"AQ143*100/AQ219","v":27.027027027027028},{"$f":"AR143*100/AQ219","v":0},{"$f":"AS143*100/AS219","v":27.027027027027028},{"$f":"AT143*100/AS219","v":0},{"$f":"AU143*100/AU219","v":{"$error":"#DIV/0!"}},{"$f":"AV143*100/AU219","v":{"$error":"#DIV/0!"}},{"$f":"AW143*100/AW219","v":13.793103448275861},{"$f":"AX143*100/AW219","v":0},{"$f":"AY143*100/AY219","v":7.6923076923076925},{"$f":"AZ143*100/AY219","v":0},{"$f":"BA143*100/BA219","v":11.111111111111111},{"$f":"BB143*100/BA219","v":0},{"$f":"BC143*100/BC219","v":{"$error":"#DIV/0!"}},{"$f":"BD143*100/BC219","v":{"$error":"#DIV/0!"}},{"$f":"BE143*100/BE219","v":30.76923076923077},{"$f":"BF143*100/BE219","v":0},{"$f":"BG143*100/BG219","v":14.285714285714286},{"$f":"BH143*100/BG219","v":0},{"$f":"BI143*100/BI219","v":25},{"$f":"BJ143*100/BI219","v":0},{"$f":"BK143*100/BK219","v":{"$error":"#DIV/0!"}},{"$f":"BL143*100/BK219","v":{"$error":"#DIV/0!"}}]
[{"$f":"Infraestructura!Y247","v":"GENERAL"},null,{"$f":"Infraestructura!$AP$247*50/100/100","v":0},null,null,{"$f":"Infraestructura!$AO$247*50/100/100","v":0.11666666666666664},{"$f":"IF(Infraestructura!$C$248=Infraestructura!$F$248, \"CUMPLE\", \"NO CUMPLE\")","v":"NO CUMPLE"},null,null,null,null,null,null,null,null,null,null,null,null,null,null,null,null,146,"SERVICIOS INTERNOS DE APOYO",null,null,null,null,null,null,null,null,null,null,null,null,null,null,null,{"$f":"AO144*100/AO219","v":23.333333333333332},{"$f":"AP144*100/AO219","v":0},{"$f":"AQ144*100/AQ219","v":27.027027027027028},{"$f":"AR144*100/AQ219","v":0},{"$f":"AS144*100/AS219","v":27.027027027027028},{"$f":"AT144*100/AS219","v":0},{"$f":"AU144*100/AU219","v":{"$error":"#DIV/0!"}},{"$f":"AV144*100/AU219","v":{"$error":"#DIV/0!"}},{"$f":"AW144*100/AW219","v":13.793103448275861},{"$f":"AX144*100/AW219","v":0},{"$f":"AY144*100/AY219","v":7.6923076923076925},{"$f":"AZ144*100/AY219","v":0},{"$f":"BA144*100/BA219","v":11.111111111111111},{"$f":"BB144*100/BA219","v":0},{"$f":"BC144*100/BC219","v":{"$error":"#DIV/0!"}},{"$f":"BD144*100/BC219","v":{"$error":"#DIV/0!"}},{"$f":"BE144*100/BE219","v":30.76923076923077},{"$f":"BF144*100/BE219","v":0},{"$f":"BG144*100/BG219","v":14.285714285714286},{"$f":"BH144*100/BG219","v":0},{"$f":"BI144*100/BI219","v":25},{"$f":"BJ144*100/BI219","v":0},{"$f":"BK144*100/BK219","v":{"$error":"#DIV/0!"}},{"$f":"BL144*100/BK219","v":{"$error":"#DIV/0!"}}]
[{"$f":"Infraestructura!Y248","v":"SERVICIOS INTERNOS DE APOYO"},null,null,{"$f":"Infraestructura!$AP$248*50/100/100","v":0},null,{"$f":"Infraestructura!$AO$248*50/100/100","v":0.11666666666666664},{"$f":"IF(Infraestructura!$D$249=Infraestructura!$F$249, \"CUMPLE\", \"NO CUMPLE\")","v":"NO CUMPLE"},null,null,null,null,null,null,null,null,null,null,null,null,null,null,null,null,147,"ÁREA DE APOYO Y ALMACENAMIENTO ( SUMINSTROS E INSUMOS) PARA EL ESTABLECIMIENTO",null,null,null,null,null,null,null,null,null,null,null,null,null,null,null,{"$f":"AO145*100/AO219","v":3.3333333333333335},{"$f":"AP145*100/AO219","v":0},{"$f":"AQ145*100/AQ219","v":2.7027027027027026},{"$f":"AR145*100/AQ219","v":0},{"$f":"AS145*100/AS219","v":2.7027027027027026},{"$f":"AT145*100/AS219","v":0},{"$f":"AU145*100/AU219","v":{"$error":"#DIV/0!"}},{"$f":"AV145*100/AU219","v":{"$error":"#DIV/0!"}},{"$f":"AW145*100/AW219","v":3.4482758620689653},{"$f":"AX145*100/AW219","v":0},{"$f":"AY145*100/AY219","v":0},{"$f":"AZ145*100/AY219","v":0},{"$f":"BA145*100/BA219","v":0},{"$f":"BB145*100/BA219","v":0},{"$f":"BC145*100/BC219","v":{"$error":"#DIV/0!"}},{"$f":"BD145*100/BC219","v":{"$error":"#DIV/0!"}},{"$f":"BE145*100/BE219","v":7.6923076923076925},{"$f":"BF145*100/BE219","v":0},{"$f":"BG145*100/BG219","v":0},{"$f":"BH145*100/BG219","v":0},{"$f":"BI145*100/BI219","v":0},{"$f":"BJ145*100/BI219","v":0},{"$f":"BK145*100/BK219","v":{"$error":"#DIV/0!"}},{"$f":"BL145*100/BK219","v":{"$error":"#DIV/0!"}}]
[{"$f":"Infraestructura!Y249","v":"ÁREA DE APOYO Y ALMACENAMIENTO ( SUMINSTROS E INSUMOS) PARA EL ESTABLECIMIENTO"},null,null,null,{"$f":"Infraestructura!$AP$249*50/100/100","v":0},{"$f":"Infraestructura!$AO$249*50/100/100","v":1.666666666666667E-2},{"$f":"IF(Infraestructura!$E$250=Infraestructura!$F$250, \"CUMPLE\", \"NO CUMPLE\")","v":"NO CUMPLE"},null,null,null,null,null,null,null,null,null,null,null,null,null,null,null,null,154,"ÁREA DEL PERSONAL",null,null,null,null,null,null,null,null,null,null,null,null,null,null,null,{"$f":"AO152*100/AO219","v":6.666666666666667},{"$f":"AP152*100/AO219","v":0},{"$f":"AQ152*100/AQ219","v":5.4054054054054053},{"$f":"AR152*100/AQ219","v":0},{"$f":"AS152*100/AS219","v":5.4054054054054053},{"$f":"AT152*100/AS219","v":0},{"$f":"AU152*100/AU219","v":{"$error":"#DIV/0!"}},{"$f":"AV152*100/AU219","v":{"$error":"#DIV/0!"}},{"$f":"AW152*100/AW219","v":3.4482758620689653},{"$f":"AX152*100/AW219","v":0},{"$f":"AY152*100/AY219","v":0},{"$f":"AZ152*100/AY219","v":0},{"$f":"BA152*100/BA219","v":0},{"$f":"BB152*100/BA219","v":0},{"$f":"BC152*100/BC219","v":{"$error":"#DIV/0!"}},{"$f":"BD152*100/BC219","v":{"$error":"#DIV/0!"}},{"$f":"BE152*100/BE219","v":7.6923076923076925},{"$f":"BF152*100/BE219","v":0},{"$f":"BG152*100/BG219","v":0},{"$f":"BH152*100/BG219","v":0},{"$f":"BI152*100/BI219","v":0},{"$f":"BJ152*100/BI219","v":0},{"$f":"BK152*100/BK219","v":{"$error":"#DIV/0!"}},{"$f":"BL152*100/BK219","v":{"$error":"#DIV/0!"}}]
[{"$f":"Infraestructura!Y250","v":"ÁREA DEL PERSONAL"},null,null,null,{"$f":"Infraestructura!$AP$250*50/100/100","v":0},{"$f":"Infraestructura!$AO$250*50/100/100","v":3.333333333333334E-2},{"$f":"IF(Infraestructura!$E$251=Infraestructura!$F$251, \"CUMPLE\", \"NO CUMPLE\")","v":"NO CUMPLE"},null,null,null,null,null,null,null,null,null,null,null,null,null,null,null,null,163,"LIMPIEZA",null,null,null,null,null,null,null,null,null,null,null,null,null,null,null,{"$f":"AO161*100/AO219","v":3.3333333333333335},{"$f":"AP161*100/AO219","v":0},{"$f":"AQ161*100/AQ219","v":8.1081081081081088},{"$f":"AR161*100/AQ219","v":0},{"$f":"AS161*100/AS219","v":8.1081081081081088},{"$f":"AT161*100/AS219","v":0},{"$f":"AU161*100/AU219","v":{"$error":"#DIV/0!"}},{"$f":"AV161*100/AU219","v":{"$error":"#DIV/0!"}},{"$f":"AW161*100/AW219","v":3.4482758620689653},{"$f":"AX161*100/AW219","v":0},{"$f":"AY161*100/AY219","v":0},{"$f":"AZ161*100/AY219","v":0},{"$f":"BA161*100/BA219","v":0},{"$f":"BB161*100/BA219","v":0},{"$f":"BC161*100/BC219","v":{"$error":"#DIV/0!"}},{"$f":"BD161*100/BC219","v":{"$error":"#DIV/0!"}},{"$f":"BE161*100/BE219","v":7.6923076923076925},{"$f":"BF161*100/BE219","v":0},{"$f":"BG161*100/BG219","v":0},{"$f":"BH161*100/BG219","v":0},{"$f":"BI161*100/BI219","v":0},{"$f":"BJ161*100/BI219","v":0},{"$f":"BK161*100/BK219","v":{"$error":"#DIV/0!"}},{"$f":"BL161*100/BK219","v":{"$error":"#DIV/0!"}}]
[{"$f":"Infraestructura!Y251","v":"LIMPIEZA"},null,null,null,{"$f":"Infraestructura!$AP$251*50/100/100","v":0},{"$f":"Infraestructura!$AO$251*50/100/100","v":1.666666666666667E-2},{"$f":"IF(Infraestructura!$E$252=Infraestructura!$F$252, \"CUMPLE\", \"NO CUMPLE\")","v":"NO CUMPLE"},null,null,null,null,null,null,null,null,null,null,null,null,null,null,null,null,172,"LAVANDERIA",null,null,null,null,null,null,null,null,null,null,null,null,null,null,null,{"$f":"AO170*100/AO219","v":0},{"$f":"AP170*100/AO219","v":0},{"$f":"AQ170*100/AQ219","v":10.810810810810811},{"$f":"AR170*100/AQ219","v":0},{"$f":"AS170*100/AS219","v":10.810810810810811},{"$f":"AT170*100/AS219","v":0},{"$f":"AU170*100/AU219","v":{"$error":"#DIV/0!"}},{"$f":"AV170*100/AU219","v":{"$error":"#DIV/0!"}},{"$f":"AW170*100/AW219","v":0},{"$f":"AX170*100/AW219","v":0},{"$f":"AY170*100/AY219","v":7.6923076923076925},{"$f":"AZ170*100/AY219","v":0},{"$f":"BA170*100/BA219","v":11.111111111111111},{"$f":"BB170*100/BA219","v":0},{"$f":"BC170*100/BC219","v":{"$error":"#DIV/0!"}},{"$f":"BD170*100/BC219","v":{"$error":"#DIV/0!"}},{"$f":"BE170*100/BE219","v":0},{"$f":"BF170*100/BE219","v":0},{"$f":"BG170*100/BG219","v":14.285714285714286},{"$f":"BH170*100/BG219","v":0},{"$f":"BI170*100/BI219","v":25},{"$f":"BJ170*100/BI219","v":0},{"$f":"BK170*100/BK219","v":{"$error":"#DIV/0!"}},{"$f":"BL170*100/BK219","v":{"$error":"#DIV/0!"}}]
[{"$f":"Infraestructura!Y252","v":"LAVANDERIA"},null,null,null,{"$f":"Infraestructura!$AP$252*50/100/100","v":0},{"$f":"Infraestructura!$AO$252*50/100/100","v":0},{"$f":"IF(Infraestructura!$E$253=Infraestructura!$F$253, \"CUMPLE\", \"NO CUMPLE\")","v":"CUMPLE"},null,null,null,null,null,null,null,null,null,null,null,null,null,null,null,null,{"$f":"ROW(A179)","v":179},"ALMACENAMIENTO FINAL DE DESECHOS",null,null,null,null,null,null,null,null,null,null,null,null,null,null,null,{"$f":"AO179*100/AO219","v":10},{"$f":"AP179*100/AO219","v":0},{"$f":"AQ179*100/$AQ$219","v":0},{"$f":"AR179*100/$AQ$219","v":0},{"$f":"AS179*100/AS219","v":0},{"$f":"AT179*100/AS219","v":0},{"$f":"AU179*100/$AU$219","v":{"$error":"#DIV/0!"}},{"$f":"AV179*100/$AU$219","v":{"$error":"#DIV/0!"}},{"$f":"AW179*100/AW219","v":3.4482758620689653},{"$f":"AX179*100/AW219","v":0},{"$f":"AY179*100/$AY$219","v":0},{"$f":"AZ179*100/$AY$219","v":0},{"$f":"BA179*100/BA219","v":0},{"$f":"BB179*100/BA219","v":0},{"$f":"BC179*100/$BC$219","v":{"$error":"#DIV/0!"}},{"$f":"BD179*100/$BC$219","v":{"$error":"#DIV/0!"}},{"$f":"BE179*100/BE219","v":7.6923076923076925},{"$f":"BF179*100/BE219","v":0},{"$f":"BG179*100/$BG$219","v":0},{"$f":"BH179*100/$BG$219","v":0},{"$f":"BI179*100/BI219","v":0},{"$f":"BJ179*100/BI219","v":0},{"$f":"BK179*100/$BK$219","v":{"$error":"#DIV/0!"}},{"$f":"BL179*100/$BK$219","v":{"$error":"#DIV/0!"}}]
[{"$f":"Infraestructura!Y253","v":"ALMACENAMIENTO FINAL DE DESECHOS"},null,null,null,{"$f":"Infraestructura!$AP$253*50/100/100","v":0},{"$f":"Infraestructura!$AO$253*50/100/100","v":0.05},{"$f":"IF(Infraestructura!$E$254=Infraestructura!$F$254, \"CUMPLE\", \"NO CUMPLE\")","v":"NO CUMPLE"},null,null,null,null,null,null,null,null,null,null,null,null,null,null,null,null,190,"INSTALACIONES",null,null,null,null,null,null,null,null,null,null,null,null,null,null,null,null,null,null,null,null,null,null,null,{"$f":"SUM(AW4+AW13+AW26+AW82+AW119+AW128+AW143+AW188)/AW219*100","v":100},{"$f":"SUM(AX4+AX13+AX26+AX82+AX119+AX128+AX143+AX188)/AW219*100","v":0},{"$f":"SUM(AY4+AY13+AY26+AY82+AY119+AY128+AY143+AY188)/AY219*100","v":100},{"$f":"SUM(AZ4+AZ13+AZ26+AZ82+AZ119+AZ128+AZ143+AZ188)/AY219*100","v":0},{"$f":"SUM(BA4+BA13+BA26+BA82+BA119+BA128+BA143+BA188)/BA219*100","v":100},{"$f":"SUM(BB4+BB13+BB26+BB82+BB119+BB128+BB143+BB188)/BA219*100","v":0},{"$f":"SUM(BC4+BC13+BC26+BC82+BC119+BC128+BC143+BC188)/BC219*100","v":{"$error":"#DIV/0!"}},{"$f":"SUM(BD4+BD13+BD26+BD82+BD119+BD128+BD143+BD188)/BD219*100","v":{"$error":"#DIV/0!"}},{"$f":"SUM(BE4+BE13+BE26+BE82+BE119+BE128+BE143+BE188)/BE219*100","v":100},{"$f":"SUM(BF4+BF13+BF26+BF82+BF119+BF128+BF143+BF188)/BE219*100","v":0},{"$f":"SUM(BG4+BG13+BG26+BG82+BG119+BG128+BG143+BG188)/BG219*100","v":100},{"$f":"SUM(BH4+BH13+BH26+BH82+BH119+BH128+BH143+BH188)/BG219*100","v":0},{"$f":"SUM(BI4+BI13+BI26+BI82+BI119+BI128+BI143+BI188)/BI219*100","v":100},{"$f":"SUM(BJ4+BJ13+BJ26+BJ82+BJ119+BJ128+BJ143+BJ188)/BI219*100","v":0},{"$f":"SUM(BK4+BK13+BK26+BK82+BK119+BK128+BK143+BK188)/BK219*100","v":{"$error":"#DIV/0!"}},{"$f":"SUM(BL4+BL13+BL26+BL82+BL119+BL128+BL143+BL188)/BK219*100","v":{"$error":"#DIV/0!"}}]
["TOTAL REQUERIDO:",null,null,null,null,0.5,{"$f":"SUM(C221:C254)","v":0},null,null,null,null,null,null,null,null,null,null,null,null,null,null,null,null,null,null,null,null,null,null,null,null,null,null,null,null,null,null,null,null,null,null,null,null,null,null,null,null,null,"REQ",null,"COND+",null,"COND-",null,"DES",null,"REQ",null,"COND+",null,"COND-",null,"DES"]
["INSTALACIONES:",null,"% Obtenido:","% Obtenido:","% Obtenido:","% A Cumplir:","% Final:"]
[{"$f":"Infraestructura!$Y$254","v":"INSTALACIONES"},null,{"$f":"Infraestructura!$AX$254*25/100/100","v":0},null,null,{"$f":"Infraestructura!$AW$254*25/100/100","v":0.25},{"$f":"IF(Infraestructura!$C$257=Infraestructura!$F$257, \"CUMPLE\", \"NO CUMPLE\")","v":"NO CUMPLE"}]
["TOTAL REQUERIDO:",null,null,null,null,0.25,{"$f":"C257","v":0}]
["INSTALACIONES:",null,"% Obtenido:","% Obtenido:","% Obtenido:","% A Cumplir:","% Final:"]
["ESTRUCTURA GENERAL",null,{"$f":"Infraestructura!$BF$254*25/100/100","v":0},null,null,{"$f":"Infraestructura!$BE$254*25/100/100","v":0.25},{"$f":"IF(Infraestructura!$C$257=Infraestructura!$F$257, \"CUMPLE\", \"NO CUMPLE\")","v":"NO CUMPLE"}]
["TOTAL REQUERIDO:",null,null,null,null,0.25,{"$f":"C260","v":0}]
["TOTAL ITEMS REQUERIDOS:"]
["TOTAL % REQUERIDO:",null,null,null,null,0.3,{"$f":"(G255+G258+G261)*0.3","v":0}]
[]
["TOTALES CONDICIONADOS +:"]
["AMBIENTES:",null,"% Obtenido:","% Obtenido:","% Obtenido:","% A Cumplir:","% Final:"]
["ADMINISTRATIVO",null,{"$f":"Infraestructura!$AR$220*50/100/100","v":0},null,null,{"$f":"Infraestructura!$AQ$220*50/100/100","v":0},{"$f":"IF(C267=F267, \"CUMPLE\", \"NO CUMPLE\")","v":"CUMPLE"}]
["ADMISIÓN Y ESTADÍSTICA",null,null,{"$f":"Infraestructura!$AR$221*50/100/100","v":0},null,{"$f":"Infraestructura!$AQ$221*50/100/100","v":0},{"$f":"IF(D268=F268, \"CUMPLE\", \"NO CUMPLE\")","v":"CUMPLE"}]
["ÁREA TECNICA",null,null,null,{"$f":"Infraestructura!$AR$222*50/100/100","v":0},{"$f":"Infraestructura!$AQ$222*50/100/100","v":0},{"$f":"IF(E269=F269, \"CUMPLE\", \"NO CUMPLE\")","v":"CUMPLE"}]
["ASISTENCIAL",null,{"$f":"Infraestructura!$AR$223*50/100/100","v":0},null,null,{"$f":"Infraestructura!$AQ$223*50/100/100","v":1.3513513513513513E-2},{"$f":"IF(C270=F270, \"CUMPLE\", \"NO CUMPLE\")","v":"NO CUMPLE"}]
["CONSULTA EXTERNA",null,null,{"$f":"Infraestructura!$AR$224*50/100/100","v":0},null,{"$f":"Infraestructura!$AQ$224*50/100/100","v":1.3513513513513513E-2},{"$f":"IF(D271=F271, \"CUMPLE\", \"NO CUMPLE\")","v":"NO CUMPLE"}]
["AREA DE ATENCIÓN DE CONSULTA",null,null,null,{"$f":"Infraestructura!$AR$225*50/100/100","v":0},{"$f":"Infraestructura!$AQ$225*50/100/100","v":1.3513513513513513E-2},{"$f":"IF(E272=F272, \"CUMPLE\", \"NO CUMPLE\")","v":"NO CUMPLE"}]
["APOYO TERAPEÚTICO",null,{"$f":"Infraestructura!$AR$226*50/100/100","v":0},null,null,{"$f":"Infraestructura!$AQ$226*50/100/100","v":0.13513513513513514},{"$f":"IF(C273=F273, \"CUMPLE\", \"NO CUMPLE\")","v":"NO CUMPLE"}]
["ATENCIÓN DE APOYO TERAPÉUTICO",null,null,{"$f":"Infraestructura!$AR$227*50/100/100","v":0},null,{"$f":"Infraestructura!$AQ$227*50/100/100","v":0.13513513513513514},{"$f":"IF(D274=F274, \"CUMPLE\", \"NO CUMPLE\")","v":"NO CUMPLE"}]
["ÁREA DE PROCEDIMIENTOS",null,null,null,{"$f":"Infraestructura!$AR$228*50/100/100","v":0},{"$f":"Infraestructura!$AQ$228*50/100/100","v":4.0540540540540543E-2},{"$f":"IF(E275=F275, \"CUMPLE\", \"NO CUMPLE\")","v":"NO CUMPLE"}]
["ÁREA DE SOPORTE Y SUMINISTROS",null,null,null,{"$f":"Infraestructura!$AR$229*50/100/100","v":0},{"$f":"Infraestructura!$AQ$229*50/100/100","v":2.7027027027027025E-2},"NO CUMPLE"]
["ÁREA DE TRATAMIENTO A PACIENTES DE HEMODIÁLISIS",null,null,null,{"$f":"Infraestructura!$AR$230*50/100/100","v":0},{"$f":"Infraestructura!$AQ$230*50/100/100","v":0},"CUMPLE"]
["ÁREA TECNICA DE APOYO",null,null,null,{"$f":"Infraestructura!$AR$231*50/100/100","v":0},{"$f":"Infraestructura!$AQ$231*50/100/100","v":0},"CUMPLE"]
["ÁREA DE DIÁLISIS PERITONEAL",null,null,null,{"$f":"Infraestructura!$AR$232*50/100/100","v":0},{"$f":"Infraestructura!$AQ$232*50/100/100","v":2.7027027027027025E-2},"NO CUMPLE"]
["ÁREA TECNICA DE APOYO",null,null,null,{"$f":"Infraestructura!$AR$233*50/100/100","v":0},{"$f":"Infraestructura!$AQ$233*50/100/100","v":2.7027027027027025E-2},"NO CUMPLE"]
["ÁREA PARA LOS USUARIOS",null,null,null,{"$f":"Infraestructura!$AR$234*50/100/100","v":0},{"$f":"Infraestructura!$AQ$234*50/100/100","v":1.3513513513513513E-2},"NO CUMPLE"]
["APOYO DIAGNÓSTICO",null,{"$f":"Infraestructura!$AR$235*50/100/100","v":0},null,null,{"$f":"Infraestructura!$AQ$235*50/100/100","v":0.17567567567567569},{"$f":"IF(C282=F282, \"CUMPLE\", \"NO CUMPLE\")","v":"NO CUMPLE"}]
["DIAGNÓSTICO EN LABORATORIO",null,null,{"$f":"Infraestructura!$AR$236*50/100/100","v":0},null,{"$f":"Infraestructura!$AQ$236*50/100/100","v":0.17567567567567569},{"$f":"IF(D283=F283, \"CUMPLE\", \"NO CUMPLE\")","v":"NO CUMPLE"}]
["ÁREA DE PREANÁLISIS",null,null,null,{"$f":"Infraestructura!$AR$237*50/100/100","v":0},{"$f":"Infraestructura!$AQ$237*50/100/100","v":1.3513513513513513E-2},{"$f":"IF(E284=F284, \"CUMPLE\", \"NO CUMPLE\")","v":"NO CUMPLE"}]
["ÁREA DE ANÁLISIS",null,null,null,{"$f":"Infraestructura!$AR$238*50/100/100","v":0},{"$f":"Infraestructura!$AQ$238*50/100/100","v":9.45945945945946E-2},{"$f":"IF(E285=F285, \"CUMPLE\", \"NO CUMPLE\")","v":"NO CUMPLE"}]
["ÁREA DE SOPORTE  ",null,null,null,{"$f":"Infraestructura!$AR$239*50/100/100","v":0},{"$f":"Infraestructura!$AQ$239*50/100/100","v":5.405405405405405E-2},{"$f":"IF(E286=F286, \"CUMPLE\", \"NO CUMPLE\")","v":"NO CUMPLE"}]
["ÁREA ADMINISTRATIVA Y DE PERSONAL",null,null,null,{"$f":"Infraestructura!$AR$240*50/100/100","v":0},{"$f":"Infraestructura!$AQ$240*50/100/100","v":1.3513513513513513E-2},{"$f":"IF(E287=F287, \"CUMPLE\", \"NO CUMPLE\")","v":"NO CUMPLE"}]
["APOYO TERAPÉUTICO",null,{"$f":"Infraestructura!$AR$241*50/100/100","v":0},null,null,{"$f":"Infraestructura!$AQ$241*50/100/100","v":0},{"$f":"IF(C288=F288, \"CUMPLE\", \"NO CUMPLE\")","v":"CUMPLE"}]
["DOTACIÓN DE MEDICAMENTOS Y DISPOSITIVOS MÉDICOS (FARMACIA)",null,null,{"$f":"Infraestructura!$AR$242*50/100/100","v":0},null,{"$f":"Infraestructura!$AQ$242*50/100/100","v":0},{"$f":"IF(D289=F289, \"CUMPLE\", \"NO CUMPLE\")","v":"CUMPLE"}]
["ÁREA DE FARMACIA",null,null,null,{"$f":"Infraestructura!$AR$243*50/100/100","v":0},{"$f":"Infraestructura!$AQ$243*50/100/100","v":0},{"$f":"IF(E290=F290, \"CUMPLE\", \"NO CUMPLE\")","v":"CUMPLE"}]
["ADMINISTRATIVO",null,{"$f":"Infraestructura!$AR$244*50/100/100","v":0},null,null,{"$f":"Infraestructura!$AQ$244*50/100/100","v":4.0540540540540543E-2},{"$f":"IF(C291=F291, \"CUMPLE\", \"NO CUMPLE\")","v":"NO CUMPLE"}]
["ADMINISTRACIÓN TÉCNICA",null,null,{"$f":"Infraestructura!$AR$245*50/100/100","v":0},null,{"$f":"Infraestructura!$AQ$245*50/100/100","v":4.0540540540540543E-2},{"$f":"IF(D292=F292, \"CUMPLE\", \"NO CUMPLE\")","v":"NO CUMPLE"}]
["ÁREA TÉCNICA",null,null,null,{"$f":"Infraestructura!$AR$246*50/100/100","v":0},{"$f":"Infraestructura!$AQ$246*50/100/100","v":4.0540540540540543E-2},{"$f":"IF(E293=F293, \"CUMPLE\", \"NO CUMPLE\")","v":"NO CUMPLE"}]
["GENERAL",null,{"$f":"Infraestructura!$AR$247*50/100/100","v":0},null,null,{"$f":"Infraestructura!$AQ$247*50/100/100","v":0.13513513513513514},{"$f":"IF(C294=F294, \"CUMPLE\", \"NO CUMPLE\")","v":"NO CUMPLE"}]
["SERVICIOS INTERNOS DE APOYO",null,null,{"$f":"Infraestructura!$AR$248*50/100/100","v":0},null,{"$f":"Infraestructura!$AQ$248*50/100/100","v":0.13513513513513514},{"$f":"IF(D295=F295, \"CUMPLE\", \"NO CUMPLE\")","v":"NO CUMPLE"}]
["ÁREA DE APOYO Y ALMACENAMIENTO ( SUMINSTROS E INSUMOS) PARA EL ESTABLECIMIENTO",null,null,null,{"$f":"Infraestructura!$AR$249*50/100/100","v":0},{"$f":"Infraestructura!$AQ$249*50/100/100","v":1.3513513513513513E-2},{"$f":"IF(E296=F296, \"CUMPLE\", \"NO CUMPLE\")","v":"NO CUMPLE"}]
["ÁREA DEL PERSONAL",null,null,null,{"$f":"Infraestructura!$AR$250*50/100/100","v":0},{"$f":"Infraestructura!$AQ$250*50/100/100","v":2.7027027027027025E-2},{"$f":"IF(E297=F297, \"CUMPLE\", \"NO CUMPLE\")","v":"NO CUMPLE"}]
["LIMPIEZA",null,null,null,{"$f":"Infraestructura!$AR$251*50/100/100","v":0},{"$f":"Infraestructura!$AQ$251*50/100/100","v":4.0540540540540543E-2},{"$f":"IF(E298=F298, \"CUMPLE\", \"NO CUMPLE\")","v":"NO CUMPLE"}]
["LAVANDERIA",null,null,null,{"$f":"Infraestructura!$AR$252*50/100/100","v":0},{"$f":"Infraestructura!$AQ$252*50/100/100","v":5.405405405405405E-2},{"$f":"IF(E299=F299, \"CUMPLE\", \"NO CUMPLE\")","v":"NO CUMPLE"}]
["ALMACENAMIENTO FINAL DE DESECHOS",null,null,null,{"$f":"Infraestructura!$AR$253*50/100/100","v":0},{"$f":"Infraestructura!$AQ$253*50/100/100","v":0},{"$f":"IF(E300=F300, \"CUMPLE\", \"NO CUMPLE\")","v":"CUMPLE"}]
["TOTAL CONDICIONADOS +:",null,null,null,null,0.5,{"$f":"SUM(C267:C300)","v":0}]
["INSTALACIONES:",null,"% Obtenido:","% Obtenido:","% Obtenido:","% A Cumplir:","% Final:"]
[{"$f":"Infraestructura!$Y$254","v":"INSTALACIONES"},null,{"$f":"Infraestructura!$AZ$254*25/100/100","v":0},null,null,{"$f":"Infraestructura!$AY$254*25/100/100","v":0.25},{"$f":"IF(C303=F303, \"CUMPLE\", \"NO CUMPLE\")","v":"NO CUMPLE"}]
["TOTAL CONDICIONADOS +:",null,null,null,null,0.25,{"$f":"SUM(C303)","v":0}]
["INSTALACIONES:",null,"% Obtenido:","% Obtenido:","% Obtenido:","% A Cumplir:","% Final:"]
["ESTRUCTURA GENERAL",null,{"$f":"Infraestructura!$BH$254*25/100/100","v":0},null,null,{"$f":"Infraestructura!$BG$254*25/100/100","v":0.25},{"$f":"IF(C306=F306, \"CUMPLE\", \"NO CUMPLE\")","v":"NO CUMPLE"}]
["TOTAL CONDICIONADOS +:",null,null,null,null,0.25,{"$f":"C306","v":0}]
["TOTAL ITEMS CONDICIONADOS +:"]
["TOTAL % CONDICIONADO:",null,null,null,null,0.3,{"$f":"(G301+G304+G307)*0.3","v":0}]
[]
[]
["TOTALES CONDICIONADOS -:"]
["AMBIENTES:",null,"% Obtenido:","% Obtenido:","% Obtenido:","% A Cumplir:","% Final:"]
["ADMINISTRATIVO",null,{"$f":"-Infraestructura!$AT$220*50/100/100","v":0},null,null,{"$f":"-Infraestructura!$AS$220*50/100/100","v":0},{"$f":"IF(C314=F314, \"CUMPLE\", \"NO CUMPLE\")","v":"CUMPLE"}]
["ADMISIÓN Y ESTADÍSTICA",null,null,{"$f":"-Infraestructura!$AT$221*50/100/100","v":0},null,{"$f":"-Infraestructura!$AS$221*50/100/100","v":0},{"$f":"IF(D315=F315, \"CUMPLE\", \"NO CUMPLE\")","v":"CUMPLE"}]
["ÁREA TECNICA",null,null,null,{"$f":"Infraestructura!$AT$222*50/100/100","v":0},{"$f":"-Infraestructura!$AS$222*50/100/100","v":0},{"$f":"IF(E316=F316, \"CUMPLE\", \"NO CUMPLE\")","v":"CUMPLE"}]
["ASISTENCIAL",null,{"$f":"-Infraestructura!$AT$223*50/100/100","v":0},null,null,{"$f":"-Infraestructura!$AS$223*50/100/100","v":-1.3513513513513513E-2},{"$f":"IF(C317=F317, \"CUMPLE\", \"NO CUMPLE\")","v":"NO CUMPLE"}]
["CONSULTA EXTERNA",null,null,{"$f":"-Infraestructura!$AT$224*50/100/100","v":0},null,{"$f":"-Infraestructura!$AS$224*50/100/100","v":-1.3513513513513513E-2},{"$f":"IF(D318=F318, \"CUMPLE\", \"NO CUMPLE\")","v":"NO CUMPLE"}]
["AREA DE ATENCIÓN DE CONSULTA",null,null,null,{"$f":"-Infraestructura!$AT$225*50/100/100","v":0},{"$f":"-Infraestructura!$AS$225*50/100/100","v":-1.3513513513513513E-2},{"$f":"IF(E319=F319, \"CUMPLE\", \"NO CUMPLE\")","v":"NO CUMPLE"}]
["APOYO TERAPEÚTICO",null,{"$f":"-Infraestructura!$AT$226*50/100/100","v":0},null,null,{"$f":"-Infraestructura!$AS$226*50/100/100","v":-0.13513513513513514},{"$f":"IF(C320=F320, \"CUMPLE\", \"NO CUMPLE\")","v":"NO CUMPLE"}]
["ATENCIÓN DE APOYO TERAPÉUTICO",null,null,{"$f":"-Infraestructura!$AT$227*50/100/100","v":0},null,{"$f":"-Infraestructura!$AS$227*50/100/100","v":-0.13513513513513514},{"$f":"IF(D321=F321, \"CUMPLE\", \"NO CUMPLE\")","v":"NO CUMPLE"}]
["ÁREA DE PROCEDIMIENTOS",null,null,null,{"$f":"-Infraestructura!$AT$228*50/100/100","v":0},{"$f":"-Infraestructura!$AS$228*50/100/100","v":-4.0540540540540543E-2},{"$f":"IF(E322=F322, \"CUMPLE\", \"NO CUMPLE\")","v":"NO CUMPLE"}]
["ÁREA DE SOPORTE Y SUMINISTROS",null,null,null,{"$f":"-Infraestructura!$AT$229*50/100/100","v":0},{"$f":"-Infraestructura!$AS$229*50/100/100","v":-2.7027027027027025E-2},"NO CUMPLE"]
["ÁREA DE TRATAMIENTO A PACIENTES DE HEMODIÁLISIS",null,null,null,{"$f":"-Infraestructura!$AT$230*50/100/100","v":0},{"$f":"-Infraestructura!$AS$230*50/100/100","v":0},"CUMPLE"]
["ÁREA TECNICA DE APOYO",null,null,null,{"$f":"-Infraestructura!$AT$231*50/100/100","v":0},{"$f":"-Infraestructura!$AS$231*50/100/100","v":0},"CUMPLE"]
["ÁREA DE DIÁLISIS PERITONEAL",null,null,null,{"$f":"-Infraestructura!$AT$232*50/100/100","v":0},{"$f":"-Infraestructura!$AS$232*50/100/100","v":-2.7027027027027025E-2},"NO CUMPLE"]
["ÁREA TECNICA DE APOYO",null,null,null,{"$f":"-Infraestructura!$AT$233*50/100/100","v":0},{"$f":"-Infraestructura!$AS$233*50/100/100","v":-2.7027027027027025E-2},"NO CUMPLE"]
["ÁREA PARA LOS USUARIOS",null,null,null,{"$f":"-Infraestructura!$AT$234*50/100/100","v":0},{"$f":"-Infraestructura!$AS$234*50/100/100","v":-1.3513513513513513E-2},{"$f":"IF(E328=F328, \"CUMPLE\", \"NO CUMPLE\")","v":"NO CUMPLE"}]
["APOYO DIAGNÓSTICO",null,{"$f":"-Infraestructura!$AT$235*50/100/100","v":0},null,null,{"$f":"-Infraestructura!$AS$235*50/100/100","v":-0.17567567567567569},{"$f":"IF(C329=F329, \"CUMPLE\", \"NO CUMPLE\")","v":"NO CUMPLE"}]
["DIAGNÓSTICO EN LABORATORIO",null,null,{"$f":"-Infraestructura!$AT$236*50/100/100","v":0},null,{"$f":"-Infraestructura!$AS$236*50/100/100","v":-0.17567567567567569},{"$f":"IF(D330=F330, \"CUMPLE\", \"NO CUMPLE\")","v":"NO CUMPLE"}]
["ÁREA DE PREANÁLISIS",null,null,null,{"$f":"-Infraestructura!$AT$237*50/100/100","v":0},{"$f":"-Infraestructura!$AS$237*50/100/100","v":-1.3513513513513513E-2},{"$f":"IF(E331=F331, \"CUMPLE\", \"NO CUMPLE\")","v":"NO CUMPLE"}]
["ÁREA DE ANÁLISIS",null,null,null,{"$f":"-Infraestructura!$AT$238*50/100/100","v":0},{"$f":"-Infraestructura!$AS$238*50/100/100","v":-9.45945945945946E-2},{"$f":"IF(E332=F332, \"CUMPLE\", \"NO CUMPLE\")","v":"NO CUMPLE"}]
["ÁREA DE SOPORTE  ",null,null,null,{"$f":"-Infraestructura!$AT$239*50/100/100","v":0},{"$f":"-Infraestructura!$AS$239*50/100/100","v":-5.405405405405405E-2},{"$f":"IF(E333=F333, \"CUMPLE\", \"NO CUMPLE\")","v":"NO CUMPLE"}]
["ÁREA ADMINISTRATIVA Y DE PERSONAL",null,null,null,{"$f":"-Infraestructura!$AT$240*50/100/100","v":0},{"$f":"-Infraestructura!$AS$240*50/100/100","v":-1.3513513513513513E-2},{"$f":"IF(E334=F334, \"CUMPLE\", \"NO CUMPLE\")","v":"NO CUMPLE"}]
["APOYO TERAPÉUTICO",null,{"$f":"-Infraestructura!$AT$241*50/100/100","v":0},null,null,{"$f":"-Infraestructura!$AS$241*50/100/100","v":0},{"$f":"IF(C335=F335, \"CUMPLE\", \"NO CUMPLE\")","v":"CUMPLE"}]
["DOTACIÓN DE MEDICAMENTOS Y DISPOSITIVOS MÉDICOS (FARMACIA)",null,null,{"$f":"-Infraestructura!$AT$242*50/100/100","v":0},null,{"$f":"-Infraestructura!$AS$242*50/100/100","v":0},{"$f":"IF(D336=F336, \"CUMPLE\", \"NO CUMPLE\")","v":"CUMPLE"}]
["ÁREA DE FARMACIA",null,null,null,{"$f":"-Infraestructura!$AT$243*50/100/100","v":0},{"$f":"-Infraestructura!$AS$243*50/100/100","v":0},{"$f":"IF(E337=F337, \"CUMPLE\", \"NO CUMPLE\")","v":"CUMPLE"}]
["ADMINISTRATIVO",null,{"$f":"-Infraestructura!$AT$244*50/100/100","v":0},null,null,{"$f":"-Infraestructura!$AS$244*50/100/100","v":-4.0540540540540543E-2},{"$f":"IF(C338=F338, \"CUMPLE\", \"NO CUMPLE\")","v":"NO CUMPLE"}]
["ADMINISTRACIÓN TÉCNICA",null,null,{"$f":"-Infraestructura!$AT$245*50/100/100","v":0},null,{"$f":"-Infraestructura!$AS$245*50/100/100","v":-4.0540540540540543E-2},{"$f":"IF(D339=F339, \"CUMPLE\", \"NO CUMPLE\")","v":"NO CUMPLE"}]
["ÁREA TÉCNICA",null,null,null,{"$f":"-Infraestructura!$AT$246*50/100/100","v":0},{"$f":"-Infraestructura!$AS$246*50/100/100","v":-4.0540540540540543E-2},{"$f":"IF(E340=F340, \"CUMPLE\", \"NO CUMPLE\")","v":"NO CUMPLE"}]
["GENERAL",null,{"$f":"-Infraestructura!$AT$247*50/100/100","v":0},null,null,{"$f":"-Infraestructura!$AS$247*50/100/100","v":-0.13513513513513514},{"$f":"IF(C341=F341, \"CUMPLE\", \"NO CUMPLE\")","v":"NO CUMPLE"}]
["SERVICIOS INTERNOS DE APOYO",null,null,{"$f":"-Infraestructura!$AT$248*50/100/100","v":0},null,{"$f":"-Infraestructura!$AS$248*50/100/100","v":-0.13513513513513514},{"$f":"IF(D342=F342, \"CUMPLE\", \"NO CUMPLE\")","v":"NO CUMPLE"}]
["ÁREA DE APOYO Y ALMACENAMIENTO ( SUMINSTROS E INSUMOS) PARA EL ESTABLECIMIENTO",null,null,null,{"$f":"-Infraestructura!$AT$249*50/100/100","v":0},{"$f":"-Infraestructura!$AS$249*50/100/100","v":-1.3513513513513513E-2},{"$f":"IF(E343=F343, \"CUMPLE\", \"NO CUMPLE\")","v":"NO CUMPLE"}]
["ÁREA DEL PERSONAL",null,null,null,{"$f":"-Infraestructura!$AT$250*50/100/100","v":0},{"$f":"-Infraestructura!$AS$250*50/100/100","v":-2.7027027027027025E-2},{"$f":"IF(E344=F344, \"CUMPLE\", \"NO CUMPLE\")","v":"NO CUMPLE"}]
["LIMPIEZA",null,null,null,{"$f":"-Infraestructura!$AT$251*50/100/100","v":0},{"$f":"-Infraestructura!$AS$251*50/100/100","v":-4.0540540540540543E-2},{"$f":"IF(E345=F345, \"CUMPLE\", \"NO CUMPLE\")","v":"NO CUMPLE"}]
["LAVANDERIA",null,null,null,{"$f":"-Infraestructura!$AT$252*50/100/100","v":0},{"$f":"-Infraestructura!$AS$252*50/100/100","v":-5.405405405405405E-2},{"$f":"IF(E346=F346, \"CUMPLE\", \"NO CUMPLE\")","v":"NO CUMPLE"}]
["ALMACENAMIENTO FINAL DE DESECHOS",null,null,null,{"$f":"-Infraestructura!$AT$253*50/100/100","v":0},{"$f":"-Infraestructura!$AS$253*50/100/100","v":0},{"$f":"IF(E347=F347, \"CUMPLE\", \"NO CUMPLE\")","v":"CUMPLE"}]
["TOTAL CONDICIONADOS -:",null,null,null,null,0.5,{"$f":"SUM(C314:C347)","v":0}]
["INSTALACIONES:",null,"% Obtenido:","% Obtenido:","% Obtenido:","% A Cumplir:","% Final:"]
[{"$f":"Infraestructura!$Y$254","v":"INSTALACIONES"},null,{"$f":"-Infraestructura!$BB$254*25/100/100","v":0},null,null,{"$f":"-Infraestructura!$BA$254*25/100/100","v":-0.25},{"$f":"IF(C350=F350, \"CUMPLE\", \"NO CUMPLE\")","v":"NO CUMPLE"}]
["TOTAL CONDICIONADOS -:",null,null,null,null,0.25,{"$f":"SUM(C350)","v":0}]
["INSTALACIONES:",null,"% Obtenido:","% Obtenido:","% Obtenido:","% A Cumplir:","% Final:"]
["ESTRUCTURA GENERAL",null,{"$f":"-Infraestructura!$BJ$254*25/100/100","v":0},null,null,{"$f":"-Infraestructura!$BI$254*25/100/100","v":-0.25},{"$f":"IF(C353=F353, \"CUMPLE\", \"NO CUMPLE\")","v":"NO CUMPLE"}]
["TOTAL CONDICIONADOS -:",null,null,null,null,0.25,{"$f":"C353","v":0}]
["TOTAL ITEMS CONDICIONADOS -:"]
["TOTAL % CONDICIONADO -:",null,null,null,null,0.3,{"$f":"(G348+G351+G354)*0.3","v":0}]
["TOTAL ITEMS CONDICIONADOS:"]
["TOTAL CONDICIONADOS:",null,null,null,null,0.3,{"$f":"SUM(G309+G356)","v":0}]
[]
["TOTALES COMPONENTE:"]
["TOTAL % REQUERIDO:",null,null,null,null,0.30000001192092896,{"$f":"G263","v":0}]
["TOTAL % CONDICIÓN:",null,null,null,null,0.30000001192092896,{"$f":"G358","v":0}]
["TOTAL % DESEABLE:",null,null,null,null,0.30000001192092896,{"$f":"30/100","v":0.3}]

{"sheet":"Equipamiento","index":5,"n_rows":686,"n_cols":32,"rows_kept":686,"cut":false,"hidden":false,"merged":[[605,18,605,23],[606,18,606,23],[607,18,607,23],[608,18,608,23],[682,0,682,6],[596,18,596,23],[597,18,597,23],[598,18,598,23],[599,18,599,23],[600,18,600,23],[601,18,601,23],[602,18,602,23],[603,18,603,23],[604,18,604,23],[598,0,598,1],[599,0,599,1],[600,0,600,1],[601,0,601,1],[602,0,602,1],[603,0,603,1],[623,0,623,1],[624,0,624,1],[625,0,625,1],[626,0,626,1],[587,18,587,23],[588,18,588,23],[589,18,589,23],[590,18,590,23],[591,18,591,23],[592,18,592,23],[593,18,593,23],[594,18,594,23],[595,18,595,23],[578,18,578,23],[579,18,579,23],[580,18,580,23],[581,18,581,23],[582,18,582,23],[583,18,583,23],[584,18,584,23],[585,18,585,23],[586,18,586,23],[1,24,1,25],[1,26,1,27],[1,28,1,29],[1,16,1,17],[1,18,1,19],[1,22,1,23],[575,18,575,23],[576,18,576,23],[577,18,577,23],[2,24,2,31],[1,30,1,31],[573,24,573,25],[573,26,573,27],[573,28,573,29],[573,30,573,31],[684,0,684,4],[685,0,685,4],[683,0,683,4],[609,0,609,4],[604,0,604,1],[605,0,605,1],[606,0,606,1],[607,0,607,1],[608,0,608,1],[611,0,611,1],[612,0,612,1],[613,0,613,1],[614,0,614,1],[615,0,615,1],[616,0,616,1],[617,0,617,1],[618,0,618,1],[619,0,619,1],[620,0,620,1],[621,0,621,1],[622,0,622,1],[647,0,647,6],[610,0,610,6],[627,0,627,1],[585,0,585,1],[586,0,586,1],[594,0,594,1],[595,0,595,1],[596,0,596,1],[597,0,597,1],[578,0,578,1],[581,0,581,1],[582,0,582,1],[583,0,583,1],[584,0,584,1],[579,0,579,1],[580,0,580,1],[587,0,587,1],[588,0,588,1],[589,0,589,1],[593,0,593,1],[590,0,590,1],[591,0,591,1],[592,0,592,1],[574,0,574,1],[575,0,575,1],[576,0,576,1],[577,0,577,1],[548,0,548,10],[478,0,478,10],[479,0,479,10],[565,0,565,10],[566,0,566,10],[573,0,573,6],[392,0,392,10],[393,0,393,10],[414,0,414,10],[415,0,415,10],[416,0,416,10],[413,0,413,10],[523,0,523,10],[524,0,524,10],[547,0,547,10],[476,0,476,10],[477,0,477,10],[492,0,492,10],[256,0,256,10],[257,0,257,10],[259,0,259,10],[260,0,260,10],[278,0,278,10],[258,0,258,10],[381,0,381,10],[390,0,390,10],[391,0,391,10],[279,0,279,10],[357,0,357,10],[358,0,358,10],[380,0,380,10],[1,0,1,10],[2,0,2,10],[2,16,2,23],[110,0,110,10],[111,0,111,10],[144,0,144,10],[5,0,5,10],[6,0,6,10],[25,0,25,10],[26,0,26,10],[108,0,108,10],[109,0,109,10],[23,0,23,10],[24,0,24,10],[3,0,3,10],[4,0,4,10],[1,20,1,21],[233,0,233,10],[146,0,146,10],[145,0,145,10],[201,0,201,10],[202,0,202,10],[220,0,220,10],[221,0,221,10],[232,0,232,10],[157,0,157,10],[189,0,189,10],[190,0,190,10],[628,0,628,1],[629,0,629,1],[630,0,630,1],[631,0,631,1],[632,0,632,1],[633,0,633,1],[634,0,634,1],[635,0,635,1],[645,0,645,1],[646,0,646,4],[648,0,648,1],[649,0,649,1],[650,0,650,1],[651,0,651,1],[636,0,636,1],[637,0,637,1],[638,0,638,1],[639,0,639,1],[640,0,640,1],[641,0,641,1],[642,0,642,1],[643,0,643,1],[644,0,644,1],[652,0,652,1],[653,0,653,1],[654,0,654,1],[655,0,655,1],[656,0,656,1],[657,0,657,1],[658,0,658,1],[659,0,659,1],[660,0,660,1],[661,0,661,1],[662,0,662,1],[663,0,663,1],[664,0,664,1],[665,0,665,1],[666,0,666,1],[667,0,667,1],[668,0,668,1],[669,0,669,1],[679,0,679,1],[680,0,680,1],[681,0,681,4],[670,0,670,1],[671,0,671,1],[672,0,672,1],[673,0,673,1],[674,0,674,1],[675,0,675,1],[676,0,676,1],[677,0,677,1],[678,0,678,1]]}
["FILTROS:","Anx:","Cant x Espacio:","Requerido:","Tipo:","Funcional:","No Funcional:",null,null,"Calif:","Observaciones:"]
[{"$f":"Menu!$B$4","v":"CENTRO ESPECIALIZADO EN SALUD RENAL"},null,null,null,null,null,null,null,null,null,null,null,null,null,null,null,"REQ",null,"COND+",null,"COND-",null,"DES",null,"REQ",null,"COND+",null,"COND-",null,"DES"]
["EQUIPAMIENTO",null,null,null,null,null,null,null,null,null,null,null,null,null,null,null,"MOBILIARIO",null,null,null,null,null,null,null,"TOTAL MOBILIARIO"]
["ADMINISTRATIVO",null,null,null,null,null,null,null,null,null,null,null,null,null,null,null,null,null,null,null,null,null,null,null,{"$f":"SUM(Q5:Q23)","v":100},{"$f":"SUM(R5:R23)","v":0},{"$f":"SUM(S5:S23)","v":40},0,{"$f":"SUM(U5:U23)","v":40},0,0,0]
["ADMISIÓN Y ESTADÍSTICA ",null,null,null,null,null,null,null,null,null,null,null," ",null,null,null,null,null,null,null,null,null,null,null,{"$f":"SUM(Q6:Q23)","v":100},{"$f":"SUM(R6:R23)","v":0},{"$f":"SUM(S6:S23)","v":40},{"$f":"SUM(T6:T23)","v":0},40,0,0,0]
["ÁREA TÉCNICA",null,null,null,null,null,null,null,null,null,null,null,null,null,null,null,null,null,null,null,null,null,null,null,{"$f":"SUM(Q7:Q23)","v":100},{"$f":"SUM(R7:R23)","v":0},{"$f":"SUM(S7:S23)","v":40},{"$f":"SUM(T7:T23)","v":0},40,0,0,0]
["AMBIENTES",null,null,null,null,null,null,null,null,null,null,null,null,null,null,null,null,null,null,null,null,null,null,null,{"$f":"SUM(Q8:Q23)","v":100},{"$f":"SUM(R8:R23)","v":0},{"$f":"SUM(S8:S23)","v":40},{"$f":"SUM(T8:T23)","v":0},40,0,0,0]
["Admisión, Información y Recepción",{"$f":"B1","v":"Anx:"},{"$f":"C$1","v":"Cant x Espacio:"},"Requerido:","Tipo:","Funcional:","No Funcional:",null,null,"Calif:","Observaciones:",{"$f":"Infraestructura!$F$8","v":0},{"$f":"Infraestructura!$G$8","v":0}]
["Mostrador / escritorio/Mesa de despacho ","EQ_01",1,{"$f":"IF(AND($L$8=0,$M$8=0),0,IF(AND($L$8>0,$M$8>0),($L$8+$M$8)*C9,IF(AND($L$8=0,$M$8>0),C9*$M$8,$L$8*C9)))","v":0},"Requerido",0,0,{"$f":"IF(AND(F9>=D9,D9>0,F9>=1),10,0)","v":0},{"$f":"IF(AND(G9>=D9,D9>0,G9>=1),10,0)","v":0},{"$f":"IF(AND(OR(F9=0,F9<D9),G9=0),0,IF(AND(OR(F9=0,F9<D9),G9>=D9),-10,IF(D9=0,0,IF(F9>=D9,10,0))))","v":0},null,null,null,null,null,null,{"$f":"IF(UPPER(E9)=\"REQUERIDO\", 10, \"\")","v":10},{"$f":"IF(UPPER(E9)=\"REQUERIDO\", J9, \"\")","v":0}]
["Armario/Archivador",null,1,{"$f":"IF(AND($L$8=0,$M$8=0),0,IF(AND($L$8>0,$M$8>0),($L$8+$M$8)*C10,IF(AND($L$8=0,$M$8>0),C10*$M$8,$L$8*C10)))","v":0},"Requerido",0,0,{"$f":"IF(AND(F10>=D10,D10>0,F10>=1),10,0)","v":0},{"$f":"IF(AND(G10>=D10,D10>0,G10>=1),10,0)","v":0},{"$f":"IF(AND(OR(F10=0,F10<D10),G10=0),0,IF(AND(OR(F10=0,F10<D10),G10>=D10),-10,IF(D10=0,0,IF(F10>=D10,10,0))))","v":0},null,null,null,null,null,null,{"$f":"IF(UPPER(E10)=\"REQUERIDO\", 10, \"\")","v":10},{"$f":"IF(UPPER(E10)=\"REQUERIDO\", J10, \"\")","v":0}]
["Computador completo (Portátil o de escritorio)","EQ_02",1,0,"Requerido",0,0,{"$f":"IF(AND(F11>=D11,D11>0,F11>=1),10,0)","v":0},0,0,null,null,null,null,null,null,{"$f":"IF(UPPER(E11)=\"REQUERIDO\", 10, \"\")","v":10},{"$f":"IF(UPPER(E11)=\"REQUERIDO\", J11, \"\")","v":0}]
["Basurero",null,1,0,"Requerido",0,0,0,0,0,null,null,null,null,null,null,10,{"$f":"IF(UPPER(E12)=\"REQUERIDO\", J12, \"\")","v":0}]
["Silla",null,1,0,"Requerido",0,0,0,0,0,null,null,null,null,null,null,10,0]
["Tablero de avisos ",null,1,0,"Requerido",0,0,0,0,0,null,null,null,null,null,null,10,0]
["Teléfono",null,1,0,"Requerido",0,0,0,0,0,null,null,null,null,null,null,10,0]
["Archivo",{"$f":"B1","v":"Anx:"},{"$f":"C$1","v":"Cant x Espacio:"},"Requerido:","Tipo:",{"$f":"F$1","v":"Funcional:"},"No Funcional:",null,null,"Calif:","Observaciones:",{"$f":"Infraestructura!$F$9","v":0},{"$f":"Infraestructura!$G$9","v":0}]
["Armario/Archivador",null,1,{"$f":"IF(AND($L$16=0,$M$16=0),0,IF(AND($L$16>0,$M$16>0),($L$16+$M$16)*C17,IF(AND($L$16=0,$M$16>0),C17*$M$16,$L$16*C17)))","v":0},"Requerido",0,0,{"$f":"IF(AND(F17>=D17,D17>0,F17>=1),10,0)","v":0},0,{"$f":"IF(AND(OR(F17=0,F17<D17),G17=0),0,IF(AND(OR(F17=0,F17<D17),G17>=D17),-10,IF(D17=0,0,IF(F17>=D17,10,0))))","v":0},null,null,null,null,null,null,10,{"$f":"IF(UPPER(E17)=\"REQUERIDO\", J17, \"\")","v":0}]
["Escalera pata de gallo / Gradilla",null,1,{"$f":"IF(AND($L$16=0,$M$16=0),0,IF(AND($L$16>0,$M$16>0),($L$16+$M$16)*C18,IF(AND($L$16=0,$M$16>0),C18*$M$16,$L$16*C18)))","v":0},"Condición",0,0,{"$f":"IF(AND(F18>=D18,D18>0,F18>=1),10,0)","v":0},0,{"$f":"IF(AND(OR(F18=0,F18<D18),G18=0),0,IF(AND(OR(F18=0,F18<D18),G18>=D18),-10,IF(D18=0,0,IF(F18>=D18,10,0))))","v":0},null,null,null,null,null,null,null,null,{"$f":"IF(UPPER(E18)=\"CONDICIÓN\", 10, \"\")","v":10},{"$f":"IF(UPPER(E18)=\"CONDICIÓN\", H18, \"\")","v":0},{"$f":"IF(UPPER(E18)=\"CONDICIÓN\", 10, \"\")","v":10},{"$f":"IF(UPPER(E18)=\"CONDICIÓN\", I18, \"\")","v":0}]
["Escritorio/ Mesa de despacho  ","EQ_01",1,0,"Condición",0,0,0,0,0,null,null,null,null,null,null,null,null,{"$f":"IF(UPPER(E19)=\"CONDICIÓN\", 10, \"\")","v":10},{"$f":"IF(UPPER(E19)=\"CONDICIÓN\", H19, \"\")","v":0},{"$f":"IF(UPPER(E19)=\"CONDICIÓN\", 10, \"\")","v":10},{"$f":"IF(UPPER(E19)=\"CONDICIÓN\", I19, \"\")","v":0}]
["Computador completo (Portátil o de Escritorio)","EQ_02",1,0,"Condición",0,0,0,0,0,null,null,null,null,null,null,null,null,10,0,10,0]
["Silla ",null,1,0,"Condición",0,0,0,0,0,null,null,null,null,null,null,null,null,10,0,10,0]
["Basurero ",null,1,0,"Requerido",0,0,0,0,0,null,null,null,null,null,null,{"$f":"IF(UPPER(E22)=\"REQUERIDO\", 10, \"\")","v":10},0]
["Extintor de incendios  portátil  ",null,1,0,"Requerido",0,0,0,0,0,null,null,null,null,null,null,10,0]
["ASISTENCIAL",null,null,null,null,null,null,null,null,null,null,null,null,null,null,null,null,null,null,null,null,null,null,null,{"$f":"SUM(Q25:Q108)","v":470},{"$f":"SUM(R25:R108)","v":0},{"$f":"SUM(S25:S108)","v":50},0,50,0,20,0]
["CONSULTA EXTERNA",null,null,null,null,null,null,null,null,null,null,null,null,null,null,null,null,null,null,null,null,null,null,null,{"$f":"SUM(Q26:Q108)","v":470},{"$f":"SUM(R26:R108)","v":0},{"$f":"SUM(S26:S108)","v":50},0,50,0,20,0]
["ÁREA DE ATENCIÓN DE CONSULTA",null,null,null,null,null,null,null,null,null,null,null,null,null,null,null,null,null,null,null,null,null,null,null,{"$f":"SUM(Q27:Q108)","v":470},{"$f":"SUM(R27:R108)","v":0},{"$f":"SUM(S27:S108)","v":50},0,50,0,20,0]
["AMBIENTES",null,null,null,null,null,null,null,null,null,null,null,null,null,null,null,null,null,null,null,null,null,null,null,{"$f":"SUM(Q28:Q33)","v":50},{"$f":"SUM(R28:R33)","v":0},{"$f":"SUM(S28:S33)","v":0},0,0,0,0,0]
["Sala de Espera",{"$f":"B1","v":"Anx:"},{"$f":"C$1","v":"Cant x Espacio:"},"Requerido:","Tipo:","Funcional:","No Funcional:",null,null,"Calif:","Observaciones:",{"$f":"Infraestructura!$F$17","v":0},{"$f":"Infraestructura!$G$17","v":0}]
["Banca/sillas",null,2,{"$f":"IF(AND($L$28=0,$M$28=0),0,IF(AND($L$28>0,$M$28>0),($L$28+$M$28)*C29,IF(AND($L$28=0,$M$28>0),C29*$M$28,$L$28*C29)))","v":0},"Requerido",0,0,{"$f":"IF(AND(F29>=D29,D29>0,F29>=1),10,0)","v":0},{"$f":"IF(AND(G29>=D29,D29>0,G29>=1),10,0)","v":0},{"$f":"IF(AND(OR(F29=0,F29<D29),G29=0),0,IF(AND(OR(F29=0,F29<D29),G29>=D29),-10,IF(D29=0,0,IF(F29>=D29,10,0))))","v":0},null,null,null,null,null,null,{"$f":"IF(UPPER(E29)=\"REQUERIDO\", 10, \"\")","v":10},{"$f":"IF(UPPER(E29)=\"REQUERIDO\", J29, \"\")","v":0}]
["Basurero",null,1,{"$f":"IF(AND($L$28=0,$M$28=0),0,IF(AND($L$28>0,$M$28>0),($L$28+$M$28)*C30,IF(AND($L$28=0,$M$28>0),C30*$M$28,$L$28*C30)))","v":0},"Requerido",0,0,0,0,0,null,null,null,null,null,null,{"$f":"IF(UPPER(E30)=\"REQUERIDO\", 10, \"\")","v":10},{"$f":"IF(UPPER(E30)=\"REQUERIDO\", J30, \"\")","v":0}]
["Reloj de pared",null,1,0,"Requerido",0,0,0,0,0,null,null,null,null,null,null,10,0]
["Extintor de incendios  portátil  ",null,1,0,"Requerido",0,0,0,0,0,null,null,null,null,null,null,10,0]
["Sistema Audiovisual de Información","EQ_03",1,0,"Requerido",0,0,0,{"$f":"IF(AND(G33>=D33,D33>0,G33>=1),10,0)","v":0},0,null,null,null,null,null,null,10,0]
["Baños/Baterías Sanitarias",{"$f":"B1","v":"Anx:"},{"$f":"C$1","v":"Cant x Espacio:"},"Requerido:","Tipo:","Funcional:","No Funcional:",null,null,"Calif:","Observaciones:",{"$f":"Infraestructura!$F$18","v":0},{"$f":"Infraestructura!$G$18","v":0},null,null,null,null,null,null,null,null,null,null,null,{"$f":"SUM(Q35:Q43)","v":80},{"$f":"SUM(R35:R43)","v":0},{"$f":"SUM(S35:S43)","v":0},0,0,0,10,0]
["Inodoro","EQ_01",1,{"$f":"IF(AND($L$34=0,$M$34=0),0,IF(AND($L$34>0,$M$34>0),($L$34+$M$34)*C35,IF(AND($L$34=0,$M$34>0),C35*$M$34,$L$34*C35)))","v":0},"Requerido",0,0,{"$f":"IF(AND(F35>=D35,D35>0,F35>=1),10,0)","v":0},{"$f":"IF(AND(G35>=D35,D35>0,G35>=1),10,0)","v":0},0,null,null,null,null,null,null,10,0]
["Dispensador de papel higiénico","EQ_02",1,{"$f":"IF(AND($L$34=0,$M$34=0),0,IF(AND($L$34>0,$M$34>0),($L$34+$M$34)*C36,IF(AND($L$34=0,$M$34>0),C36*$M$34,$L$34*C36)))","v":0},"Requerido",0,0,0,0,0,null,null,null,null,null,null,10,0]
["Lavabo",null,1,{"$f":"IF(AND($L$34=0,$M$34=0),0,IF(AND($L$34>0,$M$34>0),($L$34+$M$34)*C37,IF(AND($L$34=0,$M$34>0),C37*$M$34,$L$34*C37)))","v":0},"Requerido",0,0,0,0,0,null,null,null,null,null,null,10,0]
["Dispensador de jabón",null,1,{"$f":"IF(AND($L$34=0,$M$34=0),0,IF(AND($L$34>0,$M$34>0),($L$34+$M$34)*C38,IF(AND($L$34=0,$M$34>0),C38*$M$34,$L$34*C38)))","v":0},"Requerido",0,0,0,0,0,null,null,null,null,null,null,10,0]
["Dispensador de papel toalla",null,1,{"$f":"IF(AND($L$34=0,$M$34=0),0,IF(AND($L$34>0,$M$34>0),($L$34+$M$34)*C39,IF(AND($L$34=0,$M$34>0),C39*$M$34,$L$34*C39)))","v":0},"Requerido",0,0,0,0,0,null,null,null,null,null,null,10,0]
["Espejo empotrado ","EQ_05",1,{"$f":"IF(AND($L$34=0,$M$34=0),0,IF(AND($L$34>0,$M$34>0),($L$34+$M$34)*C40,IF(AND($L$34=0,$M$34>0),C40*$M$34,$L$34*C40)))","v":0},"Requerido",0,0,0,0,0,null,null,null,null,null,null,10,0]
["Barras de apoyo",null,1,{"$f":"IF(AND($L$34=0,$M$34=0),0,IF(AND($L$34>0,$M$34>0),($L$34+$M$34)*C41,IF(AND($L$34=0,$M$34>0),C41*$M$34,$L$34*C41)))","v":0},"Deseable",0,0,0,0,0,null,null,null,null,null,null,null,null,null,null,null,null,{"$f":"IF(UPPER(E41)=\"DESEABLE\", 10, \"\")","v":10},{"$f":"IF(UPPER(E41)=\"DESEABLE\", J41, \"\")","v":0}]
["Gancho doble",null,1,0,"Requerido",0,0,0,0,0,null,null,null,null,null,null,10,0]
["Basurero  ",null,2,{"$f":"IF(AND($L$34=0,$M$34=0),0,IF(AND($L$34>0,$M$34>0),($L$34+$M$34)*C43,IF(AND($L$34=0,$M$34>0),C43*$M$34,$L$34*C43)))","v":0},"Requerido",0,0,0,0,0,null,"bueno","malo",null,null,null,10,0]
["Enfermería (Se vuelve requerido en el caso de contar con más de 5 consultorios para profesionales médicos)",{"$f":"B1","v":"Anx:"},{"$f":"C$1","v":"Cant x Espacio:"},"Requerido:","Tipo:","Funcional:","No Funcional:",null,null,"Calif:","Observaciones:",{"$f":"Infraestructura!$F$19","v":0},{"$f":"Infraestructura!G19","v":0},null,null,null,null,null,null,null,null,null,null,null,{"$f":"SUM(Q44:Q65)","v":0},{"$f":"SUM(R44:R65)","v":0},{"$f":"SUM(S44:S65)","v":0},0,0,0,0,0]
["Escritorio/Mesa de despacho","EQ_01",1,{"$f":"IF(AND($L$44=0,$M$44=0),0,IF(AND($L$44>0,$M$44>0),($L$44+$M$44)*C45,IF(AND($L$44=0,$M$44>0),C45*$M$44,$L$44*C45)))","v":0},{"$f":"IF(D45>0, \"Requerido\", \"Sin Infraestructura\")","v":"Sin Infraestructura"},0,0,{"$f":"IF(AND(F45>=D45,D45>0,F45>=1),10,0)","v":0},0,0,null,null,null,null,null,null,"",""]
["Computador completo (Portátil o de Escritorio)","EQ_02",1,{"$f":"IF(AND($L$44=0,$M$44=0),0,IF(AND($L$44>0,$M$44>0),($L$44+$M$44)*C46,IF(AND($L$44=0,$M$44>0),C46*$M$44,$L$44*C46)))","v":0},{"$f":"IF(D46>0, \"Condición\", \"Sin Infraestructura\")","v":"Sin Infraestructura"},0,0,0,0,0,null,null,null,null,null,null,null,null,{"$f":"IF(UPPER(E46)=\"CONDICIÓN\", 10, \"\")","v":""},{"$f":"IF(UPPER(E46)=\"CONDICIÓN\", H46, \"\")","v":""},{"$f":"IF(UPPER(E46)=\"CONDICIÓN\", 10, \"\")","v":""},{"$f":"IF(UPPER(E46)=\"CONDICIÓN\", I46, \"\")","v":""}]
["Armario/Vitrina/Archivador",null,1,0,{"$f":"IF(D47>0, \"Requerido\", \"Sin Infraestructura\")","v":"Sin Infraestructura"},0,0,0,0,0,null,null,null,null,null,null,"",""]
["Báscula + tallímetro",null,1,0,"Sin Infraestructura",0,0,0,0,0,null,null,null,null,null,null,"",""]
["Cinta métrica",null,1,0,"Sin Infraestructura",0,0,0,0,0,null,null,null,null,null,null,"",""]
["Set de recipientes para el manejo de desechos peligrosos y no peligrosos","EQ_07",1,0,"Sin Infraestructura",0,0,0,0,0,null,null,null,null,null,null,"",""]
["Camilla de exploración",null,1,0,{"$f":"IF(D51>0, \"Condición\", \"Sin Infraestructura\")","v":"Sin Infraestructura"},0,0,0,0,0,null,null,null,null,null,null,null,null,{"$f":"IF(UPPER(E51)=\"CONDICIÓN\", 10, \"\")","v":""},{"$f":"IF(UPPER(E51)=\"CONDICIÓN\", H51, \"\")","v":""},{"$f":"IF(UPPER(E51)=\"CONDICIÓN\", 10, \"\")","v":""},{"$f":"IF(UPPER(E51)=\"CONDICIÓN\", I51, \"\")","v":""}]
["Escabel ",null,1,0,{"$f":"IF(D52>0, \"Condición\", \"Sin Infraestructura\")","v":"Sin Infraestructura"},0,0,0,0,0,null,null,null,null,null,null,null,null,"","","",""]
["Coche de curaciones ","EQ_08",1,0,"Sin Infraestructura",0,0,0,0,0,null,null,null,null,null,null,"",""]
["Lámpara examen rodable",null,1,0,"Sin Infraestructura",0,0,0,0,0,null,null,null,null,null,null,"",""]
["Mesa auxiliar",null,1,0,"Sin Infraestructura",0,0,0,0,0,null,null,null,null,null,null,"",""]
["Dispensador de papel toalla",null,1,0,"Sin Infraestructura",0,0,0,0,0,null,null,null,null,null,null,"",""]
["Dispensador de jabón",null,1,0,"Sin Infraestructura",0,0,0,0,0,null,null,null,null,null,null,"",""]
["Lavabo",null,1,0,"Sin Infraestructura",0,0,0,0,0,null,null,null,null,null,null,"",""]
["Estetoscopio para adultos",null,1,0,"Sin Infraestructura",0,0,0,0,0,null,null,null,null,null,null,"",""]
["Tensiómetro  para adultos",null,1,0,"Sin Infraestructura",0,0,0,0,0,null,null,null,null,null,null,"",""]
["Tensiómetro pediátrico",null,1,0,{"$f":"IF(D61>0, \"Condición\", \"Sin Infraestructura\")","v":"Sin Infraestructura"},0,0,0,0,0,null,null,null,null,null,null,null,null,{"$f":"IF(UPPER(E61)=\"CONDICIÓN\", 10, \"\")","v":""},{"$f":"IF(UPPER(E61)=\"CONDICIÓN\", H61, \"\")","v":""},{"$f":"IF(UPPER(E61)=\"CONDICIÓN\", 10, \"\")","v":""},{"$f":"IF(UPPER(E61)=\"CONDICIÓN\", I61, \"\")","v":""}]
["Estetoscopio pediátrico",null,1,0,{"$f":"IF(D62>0, \"Condición\", \"Sin Infraestructura\")","v":"Sin Infraestructura"},0,0,0,0,0,null,null,null,null,null,null,null,null,"","","",""]
["Termómetro",null,1,0,"Sin Infraestructura",0,0,0,0,0,null,null,null,null,null,null,"",""]
["Silla confidente",null,2,0,"Sin Infraestructura",0,0,0,0,0,null,null,null,null,null,null,"",""]
["Silla",null,1,0,"Sin Infraestructura",0,0,{"$f":"IF(AND(F65>=D65,D65>0,F65>=1),10,0)","v":0},0,0,null,null,null,null,null,null,"",""]
["Consultorio Médico",{"$f":"B1","v":"Anx:"},{"$f":"C$1","v":"Cant x Espacio:"},"Requerido:","Tipo:","Funcional:","No Funcional:",null,null,"Calif:","Observaciones:",{"$f":"Infraestructura!$F$20","v":0},{"$f":"Infraestructura!$G$20","v":0},null,null,null,null,null,null,null,null,null,null,null,{"$f":"SUM(Q66:Q88)","v":170},{"$f":"SUM(R66:R88)","v":0},{"$f":"SUM(S66:S88)","v":40},0,40,0,10,0]
["Escritorio/Mesa de despacho","EQ_01",1,{"$f":"IF(AND($L$66=0,$M$66=0),0,IF(AND($L$66>0,$M$66>0),($L$66+$M$66)*C67,IF(AND($L$66=0,$M$66>0),C67*$M$66,$L$66*C67)))","v":0},"Requerido",0,0,{"$f":"IF(AND(F67>=D67,D67>0,F67>=1),10,0)","v":0},0,0,null,null,null,null,null,null,10,0]
["Computador completo (portátil o de escritorio)","EQ_02",1,{"$f":"IF(AND($L$66=0,$M$66=0),0,IF(AND($L$66>0,$M$66>0),($L$66+$M$66)*C68,IF(AND($L$66=0,$M$66>0),C68*$M$66,$L$66*C68)))","v":0},"Requerido",0,0,0,0,0,null,null,null,null,null,null,10,0]
["Armario/Archivador/Vitrina",null,1,0,"Requerido",0,0,0,0,0,null,null,null,null,null,null,10,0]
["Báscula + tallímetro",null,1,0,"Requerido",0,0,0,0,0,null,null,null,null,null,null,10,0]
["Camilla de exploración",null,1,0,"Requerido",0,0,0,0,0,null,null,null,null,null,null,10,0]
["Escabel  ",null,1,0,"Condición",0,0,0,0,0,null,null,null,null,null,null,null,null,{"$f":"IF(UPPER(E72)=\"CONDICIÓN\", 10, \"\")","v":10},{"$f":"IF(UPPER(E72)=\"CONDICIÓN\", H72, \"\")","v":0},{"$f":"IF(UPPER(E72)=\"CONDICIÓN\", 10, \"\")","v":10},{"$f":"IF(UPPER(E72)=\"CONDICIÓN\", I72, \"\")","v":0}]
["Perchero de pie/Gancho doble",null,1,0,"Deseable",0,0,0,0,0,null,null,null,null,null,null,null,null,null,null,null,null,{"$f":"IF(UPPER(E73)=\"DESEABLE\", 10, \"\")","v":10},{"$f":"IF(UPPER(E73)=\"DESEABLE\", J73, \"\")","v":0}]
["Set de diagnóstico","EQ_10",1,0,"Requerido",0,0,0,0,0,null,null,null,null,null,null,10,0]
["Coche de curaciones ","EQ_09",1,0,"Condición",0,0,0,0,0,null,null,null,null,null,null,null,null,{"$f":"IF(UPPER(E75)=\"CONDICIÓN\", 10, \"\")","v":10},{"$f":"IF(UPPER(E75)=\"CONDICIÓN\", H75, \"\")","v":0},{"$f":"IF(UPPER(E75)=\"CONDICIÓN\", 10, \"\")","v":10},{"$f":"IF(UPPER(E75)=\"CONDICIÓN\", I75, \"\")","v":0}]
["Dispensador de papel toalla",null,1,0,"Requerido",0,0,0,0,0,null,null,null,null,null,null,10,0]
["Dispensador de jabón",null,1,0,"Requerido",0,0,0,0,0,null,null,null,null,null,null,10,0]
["Lavabo",null,1,0,"Requerido",0,0,0,0,0,null,null,null,null,null,null,10,0]
["Tensiómetro para adultos",null,1,0,"Requerido",0,0,0,0,0,null,null,null,null,null,null,10,0]
["Estetoscopio para adultos",null,1,0,"Requerido",0,0,0,0,0,null,null,null,null,null,null,10,0]
["Tensiómetro pediátrico",null,1,0,"Condición",0,0,0,0,0,null,null,null,null,null,null,null,null,{"$f":"IF(UPPER(E81)=\"CONDICIÓN\", 10, \"\")","v":10},{"$f":"IF(UPPER(E81)=\"CONDICIÓN\", H81, \"\")","v":0},{"$f":"IF(UPPER(E81)=\"CONDICIÓN\", 10, \"\")","v":10},{"$f":"IF(UPPER(E81)=\"CONDICIÓN\", I81, \"\")","v":0}]
["Estetoscopio pediátrico",null,1,0,"Condición",0,0,0,0,0,null,null,null,null,null,null,null,null,10,0,10,0]
["Termómetro",null,1,0,"Requerido",0,0,0,0,0,null,null,null,null,null,null,10,0]
["Negatoscopio / Equipo para visualización de imágenes",null,1,0,"Requerido",0,0,0,0,0,null,null,null,null,null,null,10,0]
["Lámpara de examen rodable",null,1,0,"Requerido",0,0,0,0,0,null,null,null,null,null,null,10,0]
["Set de recipientes para el manejo de desechos peligrosos y no peligrosos","EQ_07",1,0,"Requerido",0,0,0,0,0,null,null,null,null,null,null,10,0]
["Silla confidente",null,2,0,"Requerido",0,0,0,0,0,null,null,null,null,null,null,10,0]
["Silla",null,1,0,"Requerido",0,0,0,0,0,null,null,null,null,null,null,10,0]
["Consultorio de Psicología (Puede compartir con la Oficina de Trabajo Social y el Consultorio de Nutrición, pero debe asegurarse la privacidad del paciente mediante horarios diferenciados en cada prestación)",{"$f":"B1","v":"Anx:"},{"$f":"C$1","v":"Cant x Espacio:"},"Requerido:","Tipo:","Funcional:","No Funcional:",null,null,"Calif:","Observaciones:",{"$f":"Infraestructura!$F$21","v":0},{"$f":"Infraestructura!$G$21","v":0},null,null,null,null,null,null,null,null,null,null,null,{"$f":"SUM(Q89:Q96)","v":70},{"$f":"SUM(R89:R96)","v":0},{"$f":"SUM(S89:S96)","v":0},0,0,0,0,0]
["Escritorio/Mesa de despacho","EQ_01",1,{"$f":"IF(AND($L$89=0,$M$89=0),0,IF(AND($L$89>0,$M$89>0),($L$89+$M$89)*C90,IF(AND($L$89=0,$M$89>0),C90*$M$89,$L$89*C90)))","v":0},"Requerido",0,0,{"$f":"IF(AND(F90>=D90,D90>0,F90>=1),10,0)","v":0},0,0,null,null,null,null,null,null,10,0]
["Computador completo (Portátil o de escritorio)","EQ_02",1,{"$f":"IF(AND($L$89=0,$M$89=0),0,IF(AND($L$89>0,$M$89>0),($L$89+$M$89)*C91,IF(AND($L$89=0,$M$89>0),C91*$M$89,$L$89*C91)))","v":0},"Requerido",0,0,0,0,0,null,null,null,null,null,null,10,0]
["Armario/Vitrina/Archivador",null,1,{"$f":"IF(AND($L$89=0,$M$89=0),0,IF(AND($L$89>0,$M$89>0),($L$89+$M$89)*C92,IF(AND($L$89=0,$M$89>0),C92*$M$89,$L$89*C92)))","v":0},"Requerido",0,0,0,0,0,null,null,null,null,null,null,10,0]
["Basurero",null,1,0,"Requerido",0,0,0,0,{"$f":"IF(AND(OR(F93=0,F93<D93),G93=0),0,IF(AND(OR(F93=0,F93<D93),G93>=D93),-10,IF(D93=0,0,IF(F93>=D93,10,0))))","v":0},null,null,null,null,null,null,10,0]
["Dispensador para solución hidroalcohólica",null,1,0,"Requerido",0,0,0,0,0,null,null,null,null,null,null,{"$f":"IF(UPPER(E94)=\"REQUERIDO\", 10, \"\")","v":10},{"$f":"IF(UPPER(E94)=\"REQUERIDO\", J94, \"\")","v":0}]
["Silla confidente",null,2,0,"Requerido",0,0,0,0,0,null,null,null,null,null,null,10,0]
["Silla",null,1,{"$f":"IF(AND($L$89=0,$M$89=0),0,IF(AND($L$89>0,$M$89>0),($L$89+$M$89)*C96,IF(AND($L$89=0,$M$89>0),C96*$M$89,$L$89*C96)))","v":0},"Requerido",0,0,0,0,0,null,null,null,null,null,null,10,0]
["Consultorio de Nutrición (Puede compartir con la Oficina de Trabajo Social y el Consultorio de Psicología,  pero debe asegurarse la privacidad del paciente mediante horarios diferenciados en cada prestación)",{"$f":"B1","v":"Anx:"},{"$f":"C$1","v":"Cant x Espacio:"},"Requerido:","Tipo:","Funcional:","No Funcional:",null,null,"Calif:","Observaciones:",{"$f":"Infraestructura!$F$22","v":0},{"$f":"Infraestructura!$G$22","v":0},null,null,null,null,null,null,null,null,null,null,null,{"$f":"SUM(Q97:Q108)","v":100},{"$f":"SUM(R97:R108)","v":0},{"$f":"SUM(S97:S108)","v":10},0,10,0,0,0]
["Escritorio/Mesa de despacho","EQ_01",1,{"$f":"IF(AND($L$97=0,$M$97=0),0,IF(AND($L$97>0,$M$97>0),($L$97+$M$97)*C98,IF(AND($L$97=0,$M$97>0),C98*$M$97,$L$97*C98)))","v":0},"Requerido",0,0,{"$f":"IF(AND(F98>=D98,D98>0,F98>=1),10,0)","v":0},0,0,null,null,null,null,null,null,10,0]
["Computador completo (Portátil o de escritorio)","EQ_02",1,{"$f":"IF(AND($L$97=0,$M$97=0),0,IF(AND($L$97>0,$M$97>0),($L$97+$M$97)*C99,IF(AND($L$97=0,$M$97>0),C99*$M$97,$L$97*C99)))","v":0},"Requerido",0,0,0,{"$f":"IF(AND(G99>=D99,D99>0,G99>=1),10,0)","v":0},0,null,null,null,null,null,null,10,0]
["Armario/Vitrina/Archivador",null,1,{"$f":"IF(AND($L$97=0,$M$97=0),0,IF(AND($L$97>0,$M$97>0),($L$97+$M$97)*C100,IF(AND($L$97=0,$M$97>0),C100*$M$97,$L$97*C100)))","v":0},"Requerido",0,0,0,0,0,null,null,null,null,null,null,10,0]
["Plicómetro",null,1,{"$f":"IF(AND($L$97=0,$M$97=0),0,IF(AND($L$97>0,$M$97>0),($L$97+$M$97)*C101,IF(AND($L$97=0,$M$97>0),C101*$M$97,$L$97*C101)))","v":0},"Requerido",0,0,0,0,0,null,null,null,null,null,null,10,0]
["Cinta métrica",null,1,0,"Requerido",0,0,0,0,0,null,null,null,null,null,null,10,0]
["Báscula + tallimetro",null,1,{"$f":"IF(AND($L$97=0,$M$97=0),0,IF(AND($L$97>0,$M$97>0),($L$97+$M$97)*C103,IF(AND($L$97=0,$M$97>0),C103*$M$97,$L$97*C103)))","v":0},"Requerido",0,0,0,0,0,null,null,null,null,null,null,10,0]
["Balanza de impedancia",null,1,0,"Condición",0,0,0,0,0,null,null,null,null,null,null,null,null,{"$f":"IF(UPPER(E104)=\"CONDICIÓN\", 10, \"\")","v":10},{"$f":"IF(UPPER(E104)=\"CONDICIÓN\", H104, \"\")","v":0},{"$f":"IF(UPPER(E104)=\"CONDICIÓN\", 10, \"\")","v":10},{"$f":"IF(UPPER(E104)=\"CONDICIÓN\", I104, \"\")","v":0}]
["Silla confidente",null,2,0,"Requerido",0,0,0,0,0,null,null,null,null,null,null,10,0]
["Silla",null,1,0,"Requerido",0,0,0,0,0,null,null,null,null,null,null,10,0]
["Basurero",null,1,0,"Requerido",0,0,0,0,0,null,null,null,null,null,null,10,0]
["Dispensador para solución hidroalcohólica",null,1,0,"Requerido",0,0,0,0,0,null,null,null,null,null,null,10,0]
["APOYO TERAPÉUTICO",null,null,null,null,null,null,null,null,null,null,null,null,null,null,null,null,null,null,null,null,null,null,null,{"$f":"SUM(Q110:Q256)","v":500},0,30,0,30,0,0,0]
["ATENCIÓN DE APOYO TERAPÉUTICO",null,null,null,null,null,null,null,null,null,null,null,null,null,null,null,null,null,null,null,null,null,null,null,{"$f":"SUM(Q111:Q256)","v":500},0,30,0,30,0,0,0]
["ÁREA DE PROCEDIMIENTOS",null,null,null,null,null,null,null,null,null,null,null,null,null,null,null,null,null,null,null,null,null,null,null,{"$f":"SUM(Q112:Q144)","v":0},{"$f":"SUM(R112:R144)","v":0},{"$f":"SUM(S112:S144)","v":0},0,0,0,0,0]
["AMBIENTES",null,null,null,null,null,null,null,null,null,null,"bueno","malo",null,null,null,null,null,null,null,null,null,null,null,{"$f":"SUM(Q113:Q115)","v":0},{"$f":"SUM(R113:R115)","v":0},{"$f":"SUM(S113:S115)","v":0},0,0,0,0,0]
["Área de Lavado de Manos",{"$f":"B1","v":"Anx:"},{"$f":"C$1","v":"Cant x Espacio:"},"Requerido:","Tipo:","Funcional:","No Funcional:",null,null,"Calif:","Observaciones:",{"$f":"Infraestructura!$F$30","v":0},{"$f":"Infraestructura!G30","v":0}]
["Lavado Quirúrgico",null,1,{"$f":"IF(AND($L$113=0,$M$113=0),0,IF(AND($L$113>0,$M$113>0),($L$113+$M$113)*C114,IF(AND($L$113=0,$M$113>0),C114*$M$113,$L$113*C114)))","v":0},{"$f":"IF(D114>0, \"Requerido\", \"Sin Infraestructura\")","v":"Sin Infraestructura"},0,0,{"$f":"IF(AND(F114>=D114,D114>0,F114>=1),10,0)","v":0},{"$f":"IF(AND(G114>=D114,D114>0,G114>=1),10,0)","v":0},{"$f":"IF(AND(OR(F114=0,F114<D114),G114=0),0,IF(AND(OR(F114=0,F114<D114),G114>=D114),-10,IF(D114=0,0,IF(F114>=D114,10,0))))","v":0},null,null,null,null,null,null,{"$f":"IF(UPPER(E114)=\"REQUERIDO\", 10, \"\")","v":""},{"$f":"IF(UPPER(E114)=\"REQUERIDO\", J114, \"\")","v":""}]
["Dispensador de jabón",null,1,{"$f":"IF(AND($L$113=0,$M$113=0),0,IF(AND($L$113>0,$M$113>0),($L$113+$M$113)*C115,IF(AND($L$113=0,$M$113>0),C115*$M$113,$L$113*C115)))","v":0},{"$f":"IF(D115>0, \"Requerido\", \"Sin Infraestructura\")","v":"Sin Infraestructura"},0,0,0,0,0,null,null,null,null,null,null,{"$f":"IF(UPPER(E115)=\"REQUERIDO\", 10, \"\")","v":""},{"$f":"IF(UPPER(E115)=\"REQUERIDO\", J115, \"\")","v":""}]
["Sala de procedimientos (Debe existir acuerdo con un establecimiento que cuente con atención en centro quirúrgico para realización y reparación de accesos vasculares y/o inserción de catéteres peritoneales, en caso de no haber convenio se hará requerido)",{"$f":"B1","v":"Anx:"},{"$f":"C$1","v":"Cant x Espacio:"},"Requerido:","Tipo:","Funcional:","No Funcional:",null,null,"Calif:","Observaciones:",{"$f":"Infraestructura!$F$31","v":0},{"$f":"Infraestructura!G31","v":0},null,null,null,null,null,null,null,null,null,null,null,{"$f":"SUM(Q117:Q138)","v":0},{"$f":"SUM(R117:R138)","v":0},{"$f":"SUM(S117:S138)","v":0},0,0,0,0,0]
["Camilla de exploración/Mesa de operaciones",null,1,{"$f":"IF(AND($L$116=0,$M$116=0),0,IF(AND($L$116>0,$M$116>0),($L$116+$M$116)*C117,IF(AND($L$116=0,$M$116>0),C117*$M$116,$L$116*C117)))","v":0},{"$f":"IF(D117>0, \"Requerido\", \"Sin Infraestructura\")","v":"Sin Infraestructura"},0,0,{"$f":"IF(AND(F117>=D117,D117>0,F117>=1),10,0)","v":0},0,0,null,null,null,null,null,null,{"$f":"IF(UPPER(E117)=\"REQUERIDO\", 10, \"\")","v":""},{"$f":"IF(UPPER(E117)=\"REQUERIDO\", J117, \"\")","v":""}]
["Porta sueros",null,1,{"$f":"IF(AND($L$116=0,$M$116=0),0,IF(AND($L$116>0,$M$116>0),($L$116+$M$116)*C118,IF(AND($L$116=0,$M$116>0),C118*$M$116,$L$116*C118)))","v":0},{"$f":"IF(D118>0, \"Requerido\", \"Sin Infraestructura\")","v":"Sin Infraestructura"},0,0,0,0,0,null,null,null,null,null,null,{"$f":"IF(UPPER(E118)=\"REQUERIDO\", 10, \"\")","v":""},{"$f":"IF(UPPER(E118)=\"REQUERIDO\", J118, \"\")","v":""}]
["Tensiómetro para adultos",null,1,0,{"$f":"IF(D119>0, \"Requerido\", \"Sin Infraestructura\")","v":"Sin Infraestructura"},0,0,0,0,0,null,null,null,null,null,null,"",""]
["Estetoscopio para adultos",null,1,0,{"$f":"IF(D120>0, \"Requerido\", \"Sin Infraestructura\")","v":"Sin Infraestructura"},0,0,0,0,0,null,null,null,null,null,null,"",""]
["Tensiómetro pediátrico",null,1,0,{"$f":"IF(D121>0, \"Condición\", \"Sin Infraestructura\")","v":"Sin Infraestructura"},0,0,0,0,0,null,null,null,null,null,null,null,null,{"$f":"IF(UPPER(E121)=\"CONDICIÓN\", 10, \"\")","v":""},{"$f":"IF(UPPER(E121)=\"CONDICIÓN\", H121, \"\")","v":""},{"$f":"IF(UPPER(E121)=\"CONDICIÓN\", 10, \"\")","v":""},{"$f":"IF(UPPER(E121)=\"CONDICIÓN\", I121, \"\")","v":""}]
["Estetoscopio pediátrico",null,1,0,{"$f":"IF(D122>0, \"Condición\", \"Sin Infraestructura\")","v":"Sin Infraestructura"},0,0,0,0,0,null,null,null,null,null,null,null,null,"","","",""]
["Coche de paro completo y reanimación","EQ_09",1,0,{"$f":"IF(D123>0, \"Condición\", \"Sin Infraestructura\")","v":"Sin Infraestructura"},0,0,0,0,0,null,null,null,null,null,null,null,null,"","","",""]
["Desfibrilador",null,1,0,{"$f":"IF(D124>0, \"Condición\", \"Sin Infraestructura\")","v":"Sin Infraestructura"},0,0,0,0,0,null,null,null,null,null,null,null,null,"","","",""]
["Electrocardiógrafo",null,1,0,"Sin Infraestructura",0,0,0,0,0,null,null,null,null,null,null,null,null,"","","",""]
["Equipo de oxígeno portátil",null,1,0,"Sin Infraestructura",0,0,0,0,0,null,null,null,null,null,null,null,null,"","","",""]
["Aspirador de secreciones portátil",null,1,0,"Sin Infraestructura",0,0,0,0,0,null,null,null,null,null,null,null,null,"","","",""]
["Lámpara quirúrgica básica cielítica portátil o fija/Lámpara de examen rodable",null,1,0,{"$f":"IF(D128>0, \"Requerido\", \"Sin Infraestructura\")","v":"Sin Infraestructura"},0,0,0,0,0,null,null,null,null,null,null,"",""]
["Monitor de parámetros vitales",null,1,0,{"$f":"IF(D129>0, \"Condición\", \"Sin Infraestructura\")","v":"Sin Infraestructura"},0,0,0,0,0,null,null,null,null,null,null,null,null,{"$f":"IF(UPPER(E129)=\"CONDICIÓN\", 10, \"\")","v":""},{"$f":"IF(UPPER(E129)=\"CONDICIÓN\", H129, \"\")","v":""},{"$f":"IF(UPPER(E129)=\"CONDICIÓN\", 10, \"\")","v":""},{"$f":"IF(UPPER(E129)=\"CONDICIÓN\", I129, \"\")","v":""}]
["Silla/taburete giratorio",null,1,0,"Sin Infraestructura",0,0,0,0,0,null,null,null,null,null,null,"",""]
["Coche de curaciones ","EQ_08",1,0,"Sin Infraestructura",0,0,0,0,0,null,null,null,null,null,null,"",""]
["Mesa mayo",null,1,0,"Sin Infraestructura",0,0,0,0,0,null,null,null,null,null,null,"",""]
["Equipo de cirugía general - cirugía mayor","EQ_30",1,0,{"$f":"IF(D133>0, \"Condición\", \"Sin Infraestructura\")","v":"Sin Infraestructura"},0,0,0,0,0,null,null,null,null,null,null,null,null,{"$f":"IF(UPPER(E133)=\"CONDICIÓN\", 10, \"\")","v":""},{"$f":"IF(UPPER(E133)=\"CONDICIÓN\", H133, \"\")","v":""},{"$f":"IF(UPPER(E133)=\"CONDICIÓN\", 10, \"\")","v":""},{"$f":"IF(UPPER(E133)=\"CONDICIÓN\", I133, \"\")","v":""}]
["Equipo de cirugía para accesos vasculares","EQ_23",1,0,{"$f":"IF(D134>0, \"Condición\", \"Sin Infraestructura\")","v":"Sin Infraestructura"},0,0,0,0,0,null,null,null,null,null,null,null,null,"","","",""]
["Mesa para instrumental",null,1,0,"Sin Infraestructura",0,0,0,0,0,null,null,null,null,null,null,null,null,"","","",""]
["Soporte bajo rodado, una cubeta acero inoxidable  ",null,1,0,"Sin Infraestructura",0,0,0,0,0,null,null,null,null,null,null,null,null,"","","",""]
["Set de recipientes para el manejo de desechos peligrosos y no peligrosos","EQ_07",1,0,"Sin Infraestructura",0,0,0,0,0,null,null,null,null,null,null,"",""]
["Flujómetro para O2 con humidificador",null,1,{"$f":"IF(AND($L$116=0,$M$116=0),0,IF(AND($L$116>0,$M$116>0),($L$116+$M$116)*C138,IF(AND($L$116=0,$M$116>0),C138*$M$116,$L$116*C138)))","v":0},{"$f":"IF(D138>0, \"Condición\", \"Sin Infraestructura\")","v":"Sin Infraestructura"},0,0,0,0,0,null,null,null,null,null,null,null,null,{"$f":"IF(UPPER(E138)=\"CONDICIÓN\", 10, \"\")","v":""},{"$f":"IF(UPPER(E138)=\"CONDICIÓN\", H138, \"\")","v":""},{"$f":"IF(UPPER(E138)=\"CONDICIÓN\", 10, \"\")","v":""},{"$f":"IF(UPPER(E138)=\"CONDICIÓN\", I138, \"\")","v":""}]
["Zona de esterilización ",{"$f":"B1","v":"Anx:"},{"$f":"C$1","v":"Cant x Espacio:"},"Requerido:","Tipo:","Funcional:","No Funcional:",null,null,"Calif:","Observaciones:",{"$f":"Infraestructura!$F$32","v":0},{"$f":"Infraestructura!G32","v":0},null,null,null,null,null,null,null,null,null,null,null,{"$f":"SUM(Q140:Q144)","v":0},{"$f":"SUM(R140:R144)","v":0},{"$f":"SUM(S140:S144)","v":0},0,0,0,0,0]
["Esterilizador a vapor / calor seco",null,1,{"$f":"IF(AND($L$139=0,$M$139=0),0,IF(AND($L$139>0,$M$139>0),($L$139+$M$139)*C140,IF(AND($L$139=0,$M$139>0),C140*$M$139,$L$139*C140)))","v":0},{"$f":"IF(D140>0, \"Requerido\", \"Sin Infraestructura\")","v":"Sin Infraestructura"},0,0,{"$f":"IF(AND(F140>=D140,D140>0,F140>=1),10,0)","v":0},0,0,null,null,null,null,null,null,{"$f":"IF(UPPER(E140)=\"REQUERIDO\", 10, \"\")","v":""},{"$f":"IF(UPPER(E140)=\"REQUERIDO\", J140, \"\")","v":""}]
["Dispensador de papel toalla",null,1,{"$f":"IF(AND($L$139=0,$M$139=0),0,IF(AND($L$139>0,$M$139>0),($L$139+$M$139)*C141,IF(AND($L$139=0,$M$139>0),C141*$M$139,$L$139*C141)))","v":0},{"$f":"IF(D141>0, \"Requerido\", \"Sin Infraestructura\")","v":"Sin Infraestructura"},0,0,0,0,0,null,null,null,null,null,null,{"$f":"IF(UPPER(E141)=\"REQUERIDO\", 10, \"\")","v":""},{"$f":"IF(UPPER(E141)=\"REQUERIDO\", J141, \"\")","v":""}]
["Dispensador de jabón",null,1,{"$f":"IF(AND($L$139=0,$M$139=0),0,IF(AND($L$139>0,$M$139>0),($L$139+$M$139)*C142,IF(AND($L$139=0,$M$139>0),C142*$M$139,$L$139*C142)))","v":0},{"$f":"IF(D142>0, \"Requerido\", \"Sin Infraestructura\")","v":"Sin Infraestructura"},0,0,0,0,0,null,null,null,null,null,null,"",""]
["Basurero",null,1,0,{"$f":"IF(D143>0, \"Requerido\", \"Sin Infraestructura\")","v":"Sin Infraestructura"},0,0,0,0,0,null,null,null,null,null,null,"",""]
["Mesón con fregadero",null,1,{"$f":"IF(AND($L$139=0,$M$139=0),0,IF(AND($L$139>0,$M$139>0),($L$139+$M$139)*C144,IF(AND($L$139=0,$M$139>0),C144*$M$139,$L$139*C144)))","v":0},{"$f":"IF(D144>0, \"Requerido\", \"Sin Infraestructura\")","v":"Sin Infraestructura"},0,0,0,0,0,null,null,null,null,null,null,"",""]
["ÁREA DE SOPORTE Y SUMINISTROS  ",null,null,null,null,null,null,null,null,null,null,null,null,null,null,null,null,null,null,null,null,null,null,null,{"$f":"SUM(Q147:Q157)","v":40},{"$f":"SUM(R147:R157)","v":0},{"$f":"SUM(S147:S157)","v":0},0,0,0,0,0]
[" (Esta área funcional debe estar centralizada y no debe estar en contacto con las áreas de tratamiento)"]
["AMBIENTES",null,null,null,null,null,null,null,null,null,null,null,null,null,null,null,null,null,null,null,null,null,null,null,{"$f":"SUM(Q148:Q152)","v":40},{"$f":"SUM(R148:R152)","v":0},{"$f":"SUM(S148:S152)","v":0},0,0,0,0,0]
["Cuarto de limpieza",{"$f":"B1","v":"Anx:"},{"$f":"C$1","v":"Cant x Espacio:"},"Requerido:","Tipo:","Funcional:","No Funcional:",null,null,"Calif:","Observaciones:",{"$f":"Infraestructura!$F$39","v":0},{"$f":"Infraestructura!$G$39","v":0}]
["Coche de limpieza",null,1,{"$f":"IF(AND($L$148=0,$M$148=0),0,IF(AND($L$148>0,$M$148>0),($L$148+$M$148)*C149,IF(AND($L$148=0,$M$148>0),C149*$M$148,$L$148*C149)))","v":0},"Requerido",0,0,{"$f":"IF(AND(F149>=D149,D149>0,F149>=1),10,0)","v":0},{"$f":"IF(AND(G149>=D149,D149>0,G149>=1),10,0)","v":0},{"$f":"IF(AND(OR(F149=0,F149<D149),G149=0),0,IF(AND(OR(F149=0,F149<D149),G149>=D149),-10,IF(D149=0,0,IF(F149>=D149,10,0))))","v":0},null,null,null,null,null,null,{"$f":"IF(UPPER(E149)=\"REQUERIDO\", 10, \"\")","v":10},{"$f":"IF(UPPER(E149)=\"REQUERIDO\", J149, \"\")","v":0}]
["Stock de Insumos de Limpieza","EQ_05",1,{"$f":"IF(AND($L$148=0,$M$148=0),0,IF(AND($L$148>0,$M$148>0),($L$148+$M$148)*C150,IF(AND($L$148=0,$M$148>0),C150*$M$148,$L$148*C150)))","v":0},"Requerido",0,0,0,0,0,null,null,null,null,null,null,{"$f":"IF(UPPER(E150)=\"REQUERIDO\", 10, \"\")","v":10},{"$f":"IF(UPPER(E150)=\"REQUERIDO\", J150, \"\")","v":0}]
["Estantería básica",null,1,{"$f":"IF(AND($L$148=0,$M$148=0),0,IF(AND($L$148>0,$M$148>0),($L$148+$M$148)*C151,IF(AND($L$148=0,$M$148>0),C151*$M$148,$L$148*C151)))","v":0},"Requerido",0,0,0,0,0,null,null,null,null,null,null,{"$f":"IF(UPPER(E151)=\"REQUERIDO\", 10, \"\")","v":10},{"$f":"IF(UPPER(E151)=\"REQUERIDO\", J151, \"\")","v":0}]
["Lavadero con poza profunda para el preparado y enjuague de los útiles de limpieza",null,1,{"$f":"IF(AND($L$148=0,$M$148=0),0,IF(AND($L$148>0,$M$148>0),($L$148+$M$148)*C152,IF(AND($L$148=0,$M$148>0),C152*$M$148,$L$148*C152)))","v":0},"Requerido",0,0,0,0,0,null,null,null,null,null,null,{"$f":"IF(UPPER(E152)=\"REQUERIDO\", 10, \"\")","v":10},{"$f":"IF(UPPER(E152)=\"REQUERIDO\", J152, \"\")","v":0}]
["Almacenamiento intermedio o temporal de desechos ",{"$f":"B1","v":"Anx:"},{"$f":"C$1","v":"Cant x Espacio:"},"Requerido:","Tipo:","Funcional:","No Funcional:",null,null,"Calif:","Observaciones:",{"$f":"Infraestructura!$F$40","v":0},{"$f":"Infraestructura!G40","v":0},null,null,null,null,null,null,null,null,null,null,null,{"$f":"SUM(Q154:Q154)","v":0},{"$f":"SUM(R154:R154)","v":0},{"$f":"SUM(S154:S154)","v":0},0,0,0,0,0]
["Set de recipientes para el manejo de desechos peligrosos y no peligrosos","EQ_07",1,{"$f":"IF(AND($L$153=0,$M$153=0),0,IF(AND($L$153>0,$M$153>0),($L$153+$M$153)*C154,IF(AND($L$153=0,$M$153>0),C154*$M$153,$L$153*C154)))","v":0},{"$f":"IF(D154>0, \"Requerido\", \"Sin Infraestructura\")","v":"Sin Infraestructura"},0,0,{"$f":"IF(AND(F154>=D154,D154>0,F154>=1),10,0)","v":0},0,0,null,null,null,null,null,null,{"$f":"IF(UPPER(E154)=\"REQUERIDO\", 10, \"\")","v":""},{"$f":"IF(UPPER(E154)=\"REQUERIDO\", J154, \"\")","v":""}]
["Lencería",{"$f":"B1","v":"Anx:"},{"$f":"C$1","v":"Cant x Espacio:"},"Requerido:","Tipo:","Funcional:","No Funcional:",null,null,"Calif:","Observaciones:",{"$f":"Infraestructura!$F$41","v":0},{"$f":"Infraestructura!G41","v":0},null,null,null,null,null,null,null,null,null,null,null,{"$f":"SUM(Q156:Q157)","v":0},{"$f":"SUM(R156:R157)","v":0},{"$f":"SUM(S156:S157)","v":0},0,0,0,0,0]
["Estantería básica",null,1,{"$f":"IF(AND($L$155=0,$M$155=0),0,IF(AND($L$155>0,$M$155>0),($L$155+$M$155)*C156,IF(AND($L$155=0,$M$155>0),C156*$M$155,$L$155*C156)))","v":0},{"$f":"IF(D156>0,\"Requerido\",\"Sin Infraestructura\")","v":"Sin Infraestructura"},0,0,{"$f":"IF(AND(F156>=D156,D156>0,F156>=1),10,0)","v":0},0,0,null,null,null,null,null,null,{"$f":"IF(UPPER(E156)=\"REQUERIDO\", 10, \"\")","v":""},{"$f":"IF(UPPER(E156)=\"REQUERIDO\", J156, \"\")","v":""}]
["Coche de ropa limpia",null,1,{"$f":"IF(AND($L$155=0,$M$155=0),0,IF(AND($L$155>0,$M$155>0),($L$155+$M$155)*C157,IF(AND($L$155=0,$M$155>0),C157*$M$155,$L$155*C157)))","v":0},{"$f":"IF(D157>0,\"Requerido\",\"Sin Infraestructura\")","v":"Sin Infraestructura"},0,0,0,0,{"$f":"IF(AND(OR(F157=0,F157<D157),G157=0),0,IF(AND(OR(F157=0,F157<D157),G157>=D157),-10,IF(D157=0,0,IF(F157>=D157,10,0))))","v":0},null,null,null,null,null,null,{"$f":"IF(UPPER(E157)=\"REQUERIDO\", 10, \"\")","v":""},{"$f":"IF(UPPER(E157)=\"REQUERIDO\", J157, \"\")","v":""}]
["ÁREA DE TRATAMIENTO DE HEMODIÁLISIS",null,null,null,null,null,null,null,null,null,null,null,null,null,null,null,null,null,null,null,null,null,null,null,{"$f":"SUM(Q160:Q189)","v":250},0,30,0,30,0,0,0]
["Estación de enfermería",{"$f":"B1","v":"Anx:"},{"$f":"C$1","v":"Cant x Espacio:"},"Requerido:","Tipo:","Funcional:","No Funcional:",null,null,"Calif:","Observaciones:",{"$f":"Infraestructura!$F$47","v":0},{"$f":"Infraestructura!$G$47","v":0},null,null,null,null,null,null,null,null,null,null,null,{"$f":"SUM(Q160:Q174)","v":130},{"$f":"SUM(R160:R174)","v":0},{"$f":"SUM(S160:S174)","v":20},0,20,0,0,0]
["Mostrador/Escritorio","EQ_01",1,{"$f":"IF(AND($L$159=0,$M$159=0),0,IF(AND($L$159>0,$M$159>0),($L$159+$M$159)*C160,IF(AND($L$159=0,$M$159>0),C160*$M$159,$L$159*C160)))","v":0},"Requerido",0,0,{"$f":"IF(AND(F160>=D160,D160>0,F160>=1),10,0)","v":0},{"$f":"IF(AND(G160>=D160,D160>0,G160>=1),10,0)","v":0},{"$f":"IF(AND(OR(F160=0,F160<D160),G160=0),0,IF(AND(OR(F160=0,F160<D160),G160>=D160),-10,IF(D160=0,0,IF(F160>=D160,10,0))))","v":0},null,null,null,null,null,null,{"$f":"IF(UPPER(E160)=\"REQUERIDO\", 10, \"\")","v":10},{"$f":"IF(UPPER(E160)=\"REQUERIDO\", J160, \"\")","v":0}]
["Computador completo (Portátil o de escritorio)","EQ_02",1,{"$f":"IF(AND($L$159=0,$M$159=0),0,IF(AND($L$159>0,$M$159>0),($L$159+$M$159)*C161,IF(AND($L$159=0,$M$159>0),C161*$M$159,$L$159*C161)))","v":0},"Requerido",0,0,0,0,0,null,null,null,null,null,null,{"$f":"IF(UPPER(E161)=\"REQUERIDO\", 10, \"\")","v":10},{"$f":"IF(UPPER(E161)=\"REQUERIDO\", J161, \"\")","v":0}]
["Coche de curaciones ","EQ_08",1,0,"Requerido",0,0,0,0,0,null,null,null,null,null,null,10,0]
["Coche de paro completo y reanimación ","EQ_09",1,0,"Requerido",0,0,0,0,0,null,null,null,null,null,null,10,0]
["Desfibrilador",null,1,0,"Requerido",0,0,0,0,0,null,null,null,null,null,null,10,0]
["Electrocardiógrafo",null,1,0,"Requerido",0,0,0,0,0,null,null,null,null,null,null,10,0]
["Equipo de oxígeno portátil",null,1,0,"Requerido",0,0,0,0,{"$f":"IF(AND(OR(F166=0,F166<D166),G166=0),0,IF(AND(OR(F166=0,F166<D166),G166>=D166),-10,IF(D166=0,0,IF(F166>=D166,10,0))))","v":0},null,null,null,null,null,null,10,0]
["Estetoscopio para adultos",null,1,0,"Requerido",0,0,0,0,0,null,null,null,null,null,null,10,0]
["Tensiómetro para adultos",null,1,0,"Requerido",0,0,0,0,0,null,null,null,null,null,null,10,0]
["Tensiómetro pediátrico",null,1,0,"Condición",0,0,0,0,0,null,null,null,null,null,null,null,null,{"$f":"IF(UPPER(E169)=\"CONDICIÓN\", 10, \"\")","v":10},{"$f":"IF(UPPER(E169)=\"CONDICIÓN\", H169, \"\")","v":0},{"$f":"IF(UPPER(E169)=\"CONDICIÓN\", 10, \"\")","v":10},{"$f":"IF(UPPER(E169)=\"CONDICIÓN\", I169, \"\")","v":0}]
["Estetoscopio pediátrico",null,1,{"$f":"IF(AND($L$159=0,$M$159=0),0,IF(AND($L$159>0,$M$159>0),($L$159+$M$159)*C170,IF(AND($L$159=0,$M$159>0),C170*$M$159,$L$159*C170)))","v":0},"Condición",0,0,0,0,{"$f":"IF(AND(OR(F170=0,F170<D170),G170=0),0,IF(AND(OR(F170=0,F170<D170),G170>=D170),-10,IF(D170=0,0,IF(F170>=D170,10,0))))","v":0},null,null,null,null,null,null,null,null,10,0,10,0]
["Aspirador de secreciones portátil",null,1,0,"Requerido",0,0,0,0,{"$f":"IF(AND(OR(F171=0,F171<D171),G171=0),0,IF(AND(OR(F171=0,F171<D171),G171>=D171),-10,IF(D171=0,0,IF(F171>=D171,10,0))))","v":0},null,null,null,null,null,null,10,0]
["Set de recipientes para el manejo de desechos peligrosos y no peligrosos","EQ_07",1,0,"Requerido",0,0,0,0,{"$f":"IF(AND(OR(F172=0,F172<D172),G172=0),0,IF(AND(OR(F172=0,F172<D172),G172>=D172),-10,IF(D172=0,0,IF(F172>=D172,10,0))))","v":0},null,null,null,null,null,null,10,0]
["Silla",null,1,0,"Requerido",0,0,0,0,0,null,null,null,null,null,null,10,0]
["Teléfono",null,1,0,"Requerido",0,0,0,0,{"$f":"IF(AND(OR(F174=0,F174<D174),G174=0),0,IF(AND(OR(F174=0,F174<D174),G174>=D174),-10,IF(D174=0,0,IF(F174>=D174,10,0))))","v":0},null,null,null,null,null,null,10,0]
["Sala de Hemodiálisis  - Compartido",{"$f":"B1","v":"Anx:"},{"$f":"C$1","v":"Cant x Espacio:"},"Requerido:","Tipo:","Funcional:","No Funcional:",null,null,"Calif:","Observaciones:",{"$f":"Infraestructura!$F$48","v":0},{"$f":"Infraestructura!$G$48","v":0},null,null,null,null,null,null,null,null,null,null,null,{"$f":"SUM(Q176:Q184)","v":90},{"$f":"SUM(R176:R184)","v":0},{"$f":"SUM(S176:S184)","v":0},0,0,0,0,0]
["Mesa auxiliar",null,1,{"$f":"IF(AND($L$175=0,$M$175=0),0,IF(AND($L$175>0,$M$175>0),($L$175+$M$175)*C176,IF(AND($L$175=0,$M$175>0),C176*$M$175,$L$175*C176)))","v":0},"Requerido",0,0,{"$f":"IF(AND(F176>=D176,D176>0,F176>=1),10,0)","v":0},0,{"$f":"IF(AND(OR(F176=0,F176<D176),G176=0),0,IF(AND(OR(F176=0,F176<D176),G176>=D176),-10,IF(D176=0,0,IF(F176>=D176,10,0))))","v":0},null,null,null,null,null,null,{"$f":"IF(UPPER(E176)=\"REQUERIDO\", 10, \"\")","v":10},{"$f":"IF(UPPER(E176)=\"REQUERIDO\", J176, \"\")","v":0}]
["Lavabo",null,1,{"$f":"IF(AND($L$175=0,$M$175=0),0,IF(AND($L$175>0,$M$175>0),($L$175+$M$175)*C177,IF(AND($L$175=0,$M$175>0),C177*$M$175,$L$175*C177)))","v":0},"Requerido",0,0,0,0,0,null,null,null,null,null,null,{"$f":"IF(UPPER(E177)=\"REQUERIDO\", 10, \"\")","v":10},{"$f":"IF(UPPER(E177)=\"REQUERIDO\", J177, \"\")","v":0}]
["Dispensador de papel toalla",null,1,0,"Requerido",0,0,0,0,0,null,null,null,null,null,null,10,0]
["Dispensador de jabón",null,1,0,"Requerido",0,0,0,0,0,null,null,null,null,null,null,10,0]
["Basurero",null,1,0,"Requerido",0,0,0,0,0,null,null,null,null,null,null,10,0]
["Sistema Audiovisual de Información","EQ_03",1,0,"Requerido",0,0,0,0,0,null,null,null,null,null,null,10,0]
["Balanza electrónica ",null,1,0,"Requerido",0,0,0,0,0,null,null,null,null,null,null,10,0]
["Flujómetro para O2 con humidificador",null,1,0,"Requerido",0,0,0,0,0,null,null,null,null,null,null,10,0]
["Máquina de hemodiálisis de resguardo/Back up",null,1,0,"Requerido",0,0,0,0,0,null,null,null,null,null,null,10,0]
["Sala de Hemodiálisis - Por puestos",{"$f":"B1","v":"Anx:"},{"$f":"C$1","v":"Cant x Espacio:"},"Requerido:","Tipo:","Funcional:","No Funcional:",null,null,"Calif:","Observaciones:",{"$f":"Infraestructura!$F$49","v":0},{"$f":"Infraestructura!$G$49","v":0},null,null,null,null,null,null,null,null,null,null,null,{"$f":"SUM(Q186:Q189)","v":30},{"$f":"SUM(R186:R189)","v":0},{"$f":"SUM(S186:S189)","v":10},0,10,0,0,0]
["Sillón para diálisis ",null,1,{"$f":"IF(AND($L$185=0,$M$185=0),0,IF(AND($L$185>0,$M$185>0),($L$185+$M$185)*C186,IF(AND($L$185=0,$M$185>0),C186*$M$185,$L$185*C186)))","v":0},"Requerido",0,0,{"$f":"IF(AND(F186>=D186,D186>0,F186>=1),10,0)","v":0},0,0,null,null,null,null,null,null,{"$f":"IF(UPPER(E186)=\"REQUERIDO\", 10, \"\")","v":10},{"$f":"IF(UPPER(E186)=\"REQUERIDO\", J186, \"\")","v":0}]
["Máquina de hemodiálisis",null,1,{"$f":"IF(AND($L$185=0,$M$185=0),0,IF(AND($L$185>0,$M$185>0),($L$185+$M$185)*C187,IF(AND($L$185=0,$M$185>0),C187*$M$185,$L$185*C187)))","v":0},"Requerido",0,0,0,0,0,null,null,null,null,null,null,{"$f":"IF(UPPER(E187)=\"REQUERIDO\", 10, \"\")","v":10},{"$f":"IF(UPPER(E187)=\"REQUERIDO\", J187, \"\")","v":0}]
["Máquina de Hemodialfiltración",null,1,0,"Condición",0,0,0,0,0,null,null,null,null,null,null,null,null,{"$f":"IF(UPPER(E188)=\"CONDICIÓN\", 10, \"\")","v":10},{"$f":"IF(UPPER(E188)=\"CONDICIÓN\", H188, \"\")","v":0},{"$f":"IF(UPPER(E188)=\"CONDICIÓN\", 10, \"\")","v":10},{"$f":"IF(UPPER(E188)=\"CONDICIÓN\", I188, \"\")","v":0}]
["Set de recipientes para el manejo de desechos peligrosos y no peligrosos","EQ_07",1,0,"Requerido",0,0,0,0,0,null,null,null,null,null,null,{"$f":"IF(UPPER(E189)=\"REQUERIDO\", 10, \"\")","v":10},{"$f":"IF(UPPER(E189)=\"REQUERIDO\", J189, \"\")","v":0}]
["ÁREA TÉCNICA DE APOYO",null,null,null,null,null,null,null,null,null,null,null,null,null,null,null,null,null,null,null,null,null,null,null,{"$f":"SUM(Q191:Q201)","v":80},{"$f":"SUM(R191:R201)","v":0},{"$f":"SUM(S191:S201)","v":0},0,0,0,0,0]
["AMBIENTES",null,null,null,null,null,null,null,null,null,null,null,null,null,null,null,null,null,null,null,null,null,null,null,{"$f":"SUM(Q192:Q197)","v":50},{"$f":"SUM(R192:R197)","v":0},{"$f":"SUM(S192:S197)","v":0},0,0,0,0,0]
["Limpio",{"$f":"B1","v":"Anx:"},{"$f":"C$1","v":"Cant x Espacio:"},"Requerido:","Tipo:","Funcional:","No Funcional:",null,null,"Calif:","Observaciones:",{"$f":"Infraestructura!$F$55","v":0},{"$f":"Infraestructura!$G$55","v":0}]
["Mesón con lavabo",null,1,{"$f":"IF(AND($L$192=0,$M$192=0),0,IF(AND($L$192>0,$M$192>0),($L$192+$M$192)*C193,IF(AND($L$192=0,$M$192>0),C193*$M$192,$L$192*C193)))","v":0},"Requerido",0,0,{"$f":"IF(AND(F193>=D193,D193>0,F193>=1),10,0)","v":0},{"$f":"IF(AND(G193>=D193,D193>0,G193>=1),10,0)","v":0},{"$f":"IF(AND(OR(F193=0,F193<D193),G193=0),0,IF(AND(OR(F193=0,F193<D193),G193>=D193),-10,IF(D193=0,0,IF(F193>=D193,10,0))))","v":0},null,null,null,null,null,null,{"$f":"IF(UPPER(E193)=\"REQUERIDO\", 10, \"\")","v":10},{"$f":"IF(UPPER(E193)=\"REQUERIDO\", J193, \"\")","v":0}]
["Dispensador de papel toalla",null,1,{"$f":"IF(AND($L$192=0,$M$192=0),0,IF(AND($L$192>0,$M$192>0),($L$192+$M$192)*C194,IF(AND($L$192=0,$M$192>0),C194*$M$192,$L$192*C194)))","v":0},"Requerido",0,0,0,0,0,null,null,null,null,null,null,10,0]
["Dispensador de jabón",null,1,{"$f":"IF(AND($L$192=0,$M$192=0),0,IF(AND($L$192>0,$M$192>0),($L$192+$M$192)*C195,IF(AND($L$192=0,$M$192>0),C195*$M$192,$L$192*C195)))","v":0},"Requerido",0,0,0,0,0,null,null,null,null,null,null,10,0]
["Armario/Vitrina/Estantería",null,1,{"$f":"IF(AND($L$192=0,$M$192=0),0,IF(AND($L$192>0,$M$192>0),($L$192+$M$192)*C196,IF(AND($L$192=0,$M$192>0),C196*$M$192,$L$192*C196)))","v":0},"Requerido",0,0,0,0,0,null,null,null,null,null,null,10,0]
["Basurero",null,1,{"$f":"IF(AND($L$192=0,$M$192=0),0,IF(AND($L$192>0,$M$192>0),($L$192+$M$192)*C197,IF(AND($L$192=0,$M$192>0),C197*$M$192,$L$192*C197)))","v":0},"Requerido",0,0,0,0,0,null,null,null,null,null,null,10,0]
["Usado",{"$f":"B1","v":"Anx:"},{"$f":"C$1","v":"Cant x Espacio:"},{"$f":"D$1","v":"Requerido:"},"Tipo:","Funcional:","No Funcional:",null,null,"Calif:","Observaciones:",{"$f":"Infraestructura!$F$56","v":0},{"$f":"Infraestructura!$G$56","v":0},null,null,null,null,null,null,null,null,null,null,null,{"$f":"SUM(Q199:Q201)","v":30},{"$f":"SUM(R199:R201)","v":0},{"$f":"SUM(S199:S201)","v":0},0,0,0,0,0]
["Estantería",null,1,{"$f":"IF(AND($L$198=0,$M$198=0),0,IF(AND($L$198>0,$M$198>0),($L$198+$M$198)*C199,IF(AND($L$198=0,$M$198>0),C199*$M$198,$L$198*C199)))","v":0},"Requerido",0,0,{"$f":"IF(AND(F199>=D199,D199>0,F199>=1),10,0)","v":0},0,0,null,null,null,null,null,null,{"$f":"IF(UPPER(E199)=\"REQUERIDO\", 10, \"\")","v":10},{"$f":"IF(UPPER(E199)=\"REQUERIDO\", J199, \"\")","v":0}]
["Basurero",null,2,{"$f":"IF(AND($L$198=0,$M$198=0),0,IF(AND($L$198>0,$M$198>0),($L$198+$M$198)*C200,IF(AND($L$198=0,$M$198>0),C200*$M$198,$L$198*C200)))","v":0},"Requerido",0,0,0,0,0,null,null,null,null,null,null,{"$f":"IF(UPPER(E200)=\"REQUERIDO\", 10, \"\")","v":10},{"$f":"IF(UPPER(E200)=\"REQUERIDO\", J200, \"\")","v":0}]
["Fregadero",null,1,0,"Requerido",0,0,0,0,0,null,null,null,null,null,null,{"$f":"IF(UPPER(E201)=\"REQUERIDO\", 10, \"\")","v":10},{"$f":"IF(UPPER(E201)=\"REQUERIDO\", J201, \"\")","v":0}]
["ÁREA DE DIÁLISIS PERITONEAL",null,null,null,null,null,null,null,null,null,null,null,null,null,null,null,null,null,null,null,null,null,null,null,{"$f":"SUM(Q203:Q220)","v":0},{"$f":"SUM(R203:R220)","v":0},{"$f":"SUM(S203:S220)","v":0},0,0,0,0,0]
["AMBIENTES",null,null,null,null,null,null,null,null,null,null,null,null,null,null,null,null,null,null,null,null,null,null,null,{"$f":"SUM(Q204:Q220)","v":0},{"$f":"SUM(R204:R220)","v":0},{"$f":"SUM(S204:S220)","v":0},0,0,0,0,0]
["Sala de entrenamiento",{"$f":"B1","v":"Anx:"},{"$f":"C$1","v":"Cant x Espacio:"},"Requerido:","Tipo:","Funcional:","No Funcional:",null,null,"Calif:","Observaciones:",{"$f":"Infraestructura!$F$62","v":0},{"$f":"Infraestructura!G62","v":0}]
["Silla",null,2,{"$f":"IF(AND($L$204=0,$M$204=0),0,IF(AND($L$204>0,$M$204>0),($L$204+$M$204)*C205,IF(AND($L$204=0,$M$204>0),C205*$M$204,$L$204*C205)))","v":0},{"$f":"IF(D205>0, \"Requerido\", \"Sin Infraestructura\")","v":"Sin Infraestructura"},0,0,{"$f":"IF(AND(F205>=D205,D205>0,F205>=1),10,0)","v":0},{"$f":"IF(AND(G205>=D205,D205>0,G205>=1),10,0)","v":0},{"$f":"IF(AND(OR(F205=0,F205<D205),G205=0),0,IF(AND(OR(F205=0,F205<D205),G205>=D205),-10,IF(D205=0,0,IF(F205>=D205,10,0))))","v":0},null,null,null,null,null,null,{"$f":"IF(UPPER(E205)=\"REQUERIDO\", 10, \"\")","v":""},{"$f":"IF(UPPER(E205)=\"REQUERIDO\", J205, \"\")","v":""}]
["Coche de curaciones ","EQ_08",1,{"$f":"IF(AND($L$204=0,$M$204=0),0,IF(AND($L$204>0,$M$204>0),($L$204+$M$204)*C206,IF(AND($L$204=0,$M$204>0),C206*$M$204,$L$204*C206)))","v":0},{"$f":"IF(D206>0, \"Requerido\", \"Sin Infraestructura\")","v":"Sin Infraestructura"},0,0,0,0,0,null,null,null,null,null,null,{"$f":"IF(UPPER(E206)=\"REQUERIDO\", 10, \"\")","v":""},{"$f":"IF(UPPER(E206)=\"REQUERIDO\", J206, \"\")","v":""}]
["Mesa auxiliar para equipos",null,1,0,"Sin Infraestructura",0,0,0,0,0,null,null,null,null,null,null,"",""]
["Camilla/Sillón reclinable",null,1,0,{"$f":"IF(D208>0, \"Condición\", \"Sin Infraestructura\")","v":"Sin Infraestructura"},0,0,0,0,0,null,null,null,null,null,null,null,null,{"$f":"IF(UPPER(E208)=\"CONDICIÓN\", 10, \"\")","v":""},{"$f":"IF(UPPER(E208)=\"CONDICIÓN\", H208, \"\")","v":""},{"$f":"IF(UPPER(E208)=\"CONDICIÓN\", 10, \"\")","v":""},{"$f":"IF(UPPER(E208)=\"CONDICIÓN\", I208, \"\")","v":""}]
["Mesón con doble Lavabo",null,1,0,"Sin Infraestructura",0,0,0,0,0,null,null,null,null,null,null,"",""]
["Porta sueros",null,1,0,"Sin Infraestructura",0,0,0,0,0,null,null,null,null,null,null,"",""]
["Máquina Cicladora",null,2,0,"Sin Infraestructura",0,0,0,0,0,null,null,null,null,null,null,"",""]
["Set de recipientes para el manejo de desechos peligrosos y no peligrosos","EQ_07",1,0,"Sin Infraestructura",0,0,0,0,0,null,null,null,null,null,null,"",""]
["Sistema Audiovisual de Información","EQ_03",1,0,"Sin Infraestructura",0,0,0,0,0,null,null,null,null,null,null,"",""]
["Camilla/Sillón Reclinable",null,1,0,"Sin Infraestructura",0,0,0,0,0,null,null,null,null,null,null,"",""]
["Área de recambios",{"$f":"B1","v":"Anx:"},{"$f":"C$1","v":"Cant x Espacio:"},"Requerido:","Tipo:","Funcional:","No Funcional:",null,null,"Calif:","Observaciones:",{"$f":"Infraestructura!$F$63","v":0},{"$f":"Infraestructura!G63","v":0}]
["Silla",null,1,{"$f":"IF(AND($L$215=0,$M$215=0),0,IF(AND($L$215>0,$M$215>0),($L$215+$M$215)*C216,IF(AND($L$215=0,$M$215>0),C216*$M$215,$L$215*C216)))","v":0},{"$f":"IF(D216>0, \"Requerido\", \"Sin Infraestructura\")","v":"Sin Infraestructura"},0,0,{"$f":"IF(AND(F216>=D216,D216>0,F216>=1),10,0)","v":0},0,0,null,null,null,null,null,null,"",""]
["Porta sueros",null,1,{"$f":"IF(AND($L$215=0,$M$215=0),0,IF(AND($L$215>0,$M$215>0),($L$215+$M$215)*C217,IF(AND($L$215=0,$M$215>0),C217*$M$215,$L$215*C217)))","v":0},{"$f":"IF(D217>0, \"Requerido\", \"Sin Infraestructura\")","v":"Sin Infraestructura"},0,0,0,0,0,null,null,null,null,null,null,{"$f":"IF(UPPER(E217)=\"REQUERIDO\", 10, \"\")","v":""},""]
["Set de recipientes para el manejo de desechos peligrosos y no peligrosos","EQ_07",1,0,{"$f":"IF(D218>0, \"Requerido\", \"Sin Infraestructura\")","v":"Sin Infraestructura"},0,0,0,0,0,null,null,null,null,null,null,"",""]
["Máquina Cicladora",null,1,0,"Sin Infraestructura",0,0,0,0,0,null,null,null,null,null,null,"",""]
["Mesa auxiliar para equipos",null,1,0,"Sin Infraestructura",0,0,0,0,0,null,null,null,null,null,null,"",""]
["ÁREA TECNICA DE APOYO",null,null,null,null,null,null,null,null,null,null,null,null,null,null,null,null,null,null,null,null,null,null,null,{"$f":"SUM(Q222:Q232)","v":0},{"$f":"SUM(R222:R232)","v":0},{"$f":"SUM(S222:S232)","v":0},0,0,0,0,0]
["AMBIENTES",null,null,null,null,null,null,null,null,null,null,null,null,null,null,null,null,null,null,null,null,null,null,null,{"$f":"SUM(Q223:Q228)","v":0},{"$f":"SUM(R223:R228)","v":0},{"$f":"SUM(S223:S228)","v":0},0,0,0,0,0]
["Limpio",{"$f":"B1","v":"Anx:"},{"$f":"C$1","v":"Cant x Espacio:"},"Requerido:","Tipo:","Funcional:","No Funcional:",null,null,"Calif:","Observaciones:",{"$f":"Infraestructura!F69","v":0},{"$f":"Infraestructura!G69","v":0}]
["Mesón con lavabo",null,1,{"$f":"IF(AND($L$223=0,$M$223=0),0,IF(AND($L$223>0,$M$223>0),($L$223+$M$223)*C224,IF(AND($L$223=0,$M$223>0),C224*$M$223,$L$223*C224)))","v":0},{"$f":"IF(D224>0, \"Requerido\", \"Sin Infraestructura\")","v":"Sin Infraestructura"},0,0,{"$f":"IF(AND(F224>=D224,D224>0,F224>=1),10,0)","v":0},{"$f":"IF(AND(G224>=D224,D224>0,G224>=1),10,0)","v":0},{"$f":"IF(AND(OR(F224=0,F224<D224),G224=0),0,IF(AND(OR(F224=0,F224<D224),G224>=D224),-10,IF(D224=0,0,IF(F224>=D224,10,0))))","v":0},null,null,null,null,null,null,{"$f":"IF(UPPER(E224)=\"REQUERIDO\", 10, \"\")","v":""},{"$f":"IF(UPPER(E224)=\"REQUERIDO\", J224, \"\")","v":""}]
["Dispensador de papel toalla",null,1,{"$f":"IF(AND($L$223=0,$M$223=0),0,IF(AND($L$223>0,$M$223>0),($L$223+$M$223)*C225,IF(AND($L$223=0,$M$223>0),C225*$M$223,$L$223*C225)))","v":0},"Sin Infraestructura",0,0,0,0,0,null,null,null,null,null,null,{"$f":"IF(UPPER(E225)=\"REQUERIDO\", 10, \"\")","v":""},""]
["Dispensador de jabón",null,1,0,{"$f":"IF(D226>0, \"Requerido\", \"Sin Infraestructura\")","v":"Sin Infraestructura"},0,0,0,0,0,null,null,null,null,null,null,{"$f":"IF(UPPER(E226)=\"REQUERIDO\", 10, \"\")","v":""},""]
["Armario/Vitrina/Estantería",null,1,0,"Sin Infraestructura",0,0,0,0,0,null,null,null,null,null,null,{"$f":"IF(UPPER(E227)=\"REQUERIDO\", 10, \"\")","v":""},""]
["Basurero",null,1,0,"Sin Infraestructura",0,0,0,0,0,null,null,null,null,null,null,"",""]
["Usado",{"$f":"B1","v":"Anx:"},{"$f":"C$1","v":"Cant x Espacio:"},{"$f":"D$1","v":"Requerido:"},"Tipo:","Funcional:","No Funcional:",null,null,"Calif:","Observaciones:",{"$f":"Infraestructura!F70","v":0},{"$f":"Infraestructura!G70","v":0},null,null,null,null,null,null,null,null,null,null,null,{"$f":"SUM(Q230:Q232)","v":0},{"$f":"SUM(R230:R232)","v":0},{"$f":"SUM(S230:S232)","v":0},0,0,0,0,0]
["Estantería",null,1,{"$f":"IF(AND($L$229=0,$M$229=0),0,IF(AND($L$229>0,$M$229>0),($L$229+$M$229)*C230,IF(AND($L$229=0,$M$229>0),C230*$M$229,$L$229*C230)))","v":0},"Sin Infraestructura",0,0,{"$f":"IF(AND(F230>=D230,D230>0,F230>=1),10,0)","v":0},0,0,null,null,null,null,null,null,{"$f":"IF(UPPER(E230)=\"REQUERIDO\", 10, \"\")","v":""},{"$f":"IF(UPPER(E230)=\"REQUERIDO\", J230, \"\")","v":""}]
["Basurero",null,1,{"$f":"IF(AND($L$229=0,$M$229=0),0,IF(AND($L$229>0,$M$229>0),($L$229+$M$229)*C231,IF(AND($L$229=0,$M$229>0),C231*$M$229,$L$229*C231)))","v":0},"Sin Infraestructura",0,0,0,0,0,null,null,null,null,null,null,{"$f":"IF(UPPER(E231)=\"REQUERIDO\", 10, \"\")","v":""},{"$f":"IF(UPPER(E231)=\"REQUERIDO\", J231, \"\")","v":""}]
["Fregadero",null,1,0,"Sin Infraestructura",0,0,0,0,0,null,null,null,null,null,null,{"$f":"IF(UPPER(E232)=\"REQUERIDO\", 10, \"\")","v":""},{"$f":"IF(UPPER(E232)=\"REQUERIDO\", J232, \"\")","v":""}]
["ÁREA PARA LOS USUARIOS",null,null,null,null,null,null,null,null,null,null,null,null,null,null,null,null,null,null,null,null,null,null,null,{"$f":"SUM(Q234:Q256)","v":130},{"$f":"SUM(R234:R256)","v":0},{"$f":"SUM(S234:S256)","v":0},0,0,0,0,0]
["AMBIENTES",null,null,null,null,null,null,null,null,null,null,null,null,null,null,null,null,null,null,null,null,null,null,null,{"$f":"SUM(Q235:Q241)","v":0},{"$f":"SUM(R235:R241)","v":0},{"$f":"SUM(S235:S241)","v":0},0,0,0,0,0]
["Repostería",{"$f":"B1","v":"Anx:"},{"$f":"C$1","v":"Cant x Espacio:"},"Requerido:","Tipo:","Funcional:","No Funcional:",null,null,"Calif:","Observaciones:",{"$f":"Infraestructura!$F$76","v":0},{"$f":"Infraestructura!G76","v":0}]
["Lavabo",null,1,{"$f":"IF(AND($L$235=0,$M$235=0),0,IF(AND($L$235>0,$M$235>0),($L$235+$M$235)*C236,IF(AND($L$235=0,$M$235>0),C236*$M$235,$L$235*C236)))","v":0},{"$f":"IF(D236>0, \"Requerido\", \"Sin Infraestructura\")","v":"Sin Infraestructura"},0,0,{"$f":"IF(AND(F236>=D236,D236>0,F236>=1),10,0)","v":0},{"$f":"IF(AND(G236>=D236,D236>0,G236>=1),10,0)","v":0},{"$f":"IF(AND(OR(F236=0,F236<D236),G236=0),0,IF(AND(OR(F236=0,F236<D236),G236>=D236),-10,IF(D236=0,0,IF(F236>=D236,10,0))))","v":0},null,null,null,null,null,null,{"$f":"IF(UPPER(E236)=\"REQUERIDO\", 10, \"\")","v":""},{"$f":"IF(UPPER(E236)=\"REQUERIDO\", J236, \"\")","v":""}]
["Dispensador de papel toalla",null,1,{"$f":"IF(AND($L$235=0,$M$235=0),0,IF(AND($L$235>0,$M$235>0),($L$235+$M$235)*C237,IF(AND($L$235=0,$M$235>0),C237*$M$235,$L$235*C237)))","v":0},{"$f":"IF(D237>0, \"Requerido\", \"Sin Infraestructura\")","v":"Sin Infraestructura"},0,0,{"$f":"IF(AND(F237>=D237,D237>0,F237>=1),10,0)","v":0},0,0,null,null,null,null,null,null,"",""]
["Dispensador de jabón",null,1,0,"Sin Infraestructura",0,0,0,0,0,null,null,null,null,null,null,"",""]
["Basurero",null,1,0,"Sin Infraestructura",0,0,0,0,0,null,null,null,null,null,null,"",""]
["Mesa ",null,1,0,"Sin Infraestructura",0,0,0,0,0,null,null,null,null,null,null,"",""]
["Silla",null,4,0,"Sin Infraestructura",0,0,0,0,0,null,null,null,null,null,null,{"$f":"IF(UPPER(E241)=\"REQUERIDO\", 10, \"\")","v":""},{"$f":"IF(UPPER(E241)=\"REQUERIDO\", J241, \"\")","v":""}]
["Vestidor de pacientes",{"$f":"B1","v":"Anx:"},{"$f":"C$1","v":"Cant x Espacio:"},"Requerido:","Tipo:","Funcional:","No Funcional:",null,null,"Calif:","Observaciones:",{"$f":"Infraestructura!$F$77","v":0},{"$f":"Infraestructura!$G$77","v":0},null,null,null,null,null,null,null,null,null,null,null,{"$f":"SUM(Q243:Q246)","v":40},{"$f":"SUM(R243:R246)","v":0},{"$f":"SUM(S243:S246)","v":0},0,0,0,0,0]
["Casilleros/Lockers",null,5,{"$f":"IF(AND($L$242=0,$M$242=0),0,IF(AND($L$242>0,$M$242>0),($L$242+$M$242)*C243,IF(AND($L$242=0,$M$242>0),C243*$M$242,$L$242*C243)))","v":0},"Requerido",0,0,{"$f":"IF(AND(F243>=D243,D243>0,F243>=1),10,0)","v":0},0,{"$f":"IF(AND(OR(F243=0,F243<D243),G243=0),0,IF(AND(OR(F243=0,F243<D243),G243>=D243),-10,IF(D243=0,0,IF(F243>=D243,10,0))))","v":0},null,null,null,null,null,null,{"$f":"IF(UPPER(E243)=\"REQUERIDO\", 10, \"\")","v":10},{"$f":"IF(UPPER(E243)=\"REQUERIDO\", J243, \"\")","v":0}]
["Banco de vestuario",null,1,{"$f":"IF(AND($L$242=0,$M$242=0),0,IF(AND($L$242>0,$M$242>0),($L$242+$M$242)*C244,IF(AND($L$242=0,$M$242>0),C244*$M$242,$L$242*C244)))","v":0},"Requerido",0,0,{"$f":"IF(AND(F244>=D244,D244>0,F244>=1),10,0)","v":0},{"$f":"IF(AND(G244>=D244,D244>0,G244>=1),10,0)","v":0},{"$f":"IF(AND(OR(F244=0,F244<D244),G244=0),0,IF(AND(OR(F244=0,F244<D244),G244>=D244),-10,IF(D244=0,0,IF(F244>=D244,10,0))))","v":0},null,null,null,null,null,null,{"$f":"IF(UPPER(E244)=\"REQUERIDO\", 10, \"\")","v":10},{"$f":"IF(UPPER(E244)=\"REQUERIDO\", J244, \"\")","v":0}]
["Gancho doble",null,1,0,"Requerido",0,0,{"$f":"IF(AND(F245>=D245,D245>0,F245>=1),10,0)","v":0},0,0,null,null,null,null,null,null,{"$f":"IF(UPPER(E245)=\"REQUERIDO\", 10, \"\")","v":10},{"$f":"IF(UPPER(E245)=\"REQUERIDO\", J245, \"\")","v":0}]
["Basurero",null,1,0,"Requerido",0,0,0,0,0,null,null,null,null,null,null,{"$f":"IF(UPPER(E246)=\"REQUERIDO\", 10, \"\")","v":10},{"$f":"IF(UPPER(E246)=\"REQUERIDO\", J246, \"\")","v":0}]
["Baño de vestidor",{"$f":"B1","v":"Anx:"},{"$f":"C$1","v":"Cant x Espacio:"},"Requerido:","Tipo:","Funcional:","No Funcional:",null,null,"Calif:","Observaciones:",{"$f":"Infraestructura!F78","v":0},{"$f":"Infraestructura!G78","v":0},null,null,null,null,null,null,null,null,null,null,null,{"$f":"SUM(Q248:Q256)","v":90},{"$f":"SUM(R248:R256)","v":0},{"$f":"SUM(S248:S256)","v":0},0,0,0,0,0]
["Inodoro",null,1,{"$f":"IF(AND($L$247=0,$M$247=0),0,IF(AND($L$247>0,$M$247>0),($L$247+$M$247)*C248,IF(AND($L$247=0,$M$247>0),C248*$M$247,$L$247*C248)))","v":0},"Requerido",0,0,{"$f":"IF(AND(F248>=D248,D248>0,F248>=1),10,0)","v":0},0,0,null,null,null,null,null,null,{"$f":"IF(UPPER(E248)=\"REQUERIDO\", 10, \"\")","v":10},{"$f":"IF(UPPER(E248)=\"REQUERIDO\", J248, \"\")","v":0}]
["Lavabo",null,1,{"$f":"IF(AND($L$247=0,$M$247=0),0,IF(AND($L$247>0,$M$247>0),($L$247+$M$247)*C249,IF(AND($L$247=0,$M$247>0),C249*$M$247,$L$247*C249)))","v":0},"Requerido",0,0,0,0,0,null,null,null,null,null,null,10,0]
["Dispensador de papel toalla",null,1,0,"Requerido",0,0,0,0,0,null,null,null,null,null,null,10,0]
["Dispensador de jabón",null,1,0,"Requerido",0,0,0,0,0,null,null,null,null,null,null,10,0]
["Dispensador de papel higiénico",null,1,0,"Requerido",0,0,0,0,0,null,null,null,null,null,null,10,0]
["Gancho doble",null,1,0,"Requerido",0,0,0,0,0,null,null,null,null,null,null,10,0]
["Espejo empotrado ",null,1,0,"Requerido",0,0,0,0,0,null,null,null,null,null,null,10,0]
["Barras de apoyo",null,1,0,"Requerido",0,0,0,0,0,null,null,null,null,null,null,10,0]
["Basurero",null,1,0,"Requerido",0,0,0,0,0,null,null,null,null,null,null,10,0]
["APOYO DIAGNÓSTICO",null,null,null,null,null,null,null,null,null,null,null,null,null,null,null,null,null,null,null,null,null,null,null,{"$f":"SUM(Q258:Q390)","v":80},{"$f":"SUM(R258:R390)","v":0},{"$f":"SUM(S258:S390)","v":0},0,0,0,0,0]
["DIAGNÓSTICO EN LABORATORIO (LABORATORIO DE ANÁLISIS CLÍNICO)",null,null,null,null,null,null,null,null,null,null,null,null,null,null,null,null,null,null,null,null,null,null,null,{"$f":"SUM(Q260:Q390)","v":80},{"$f":"SUM(R260:R390)","v":0},{"$f":"SUM(S260:S390)","v":0},0,0,0,0,0]
[" (En el caso de no contar con el servicio dentro del establecimiento debe existir un convenio con un Laboratorio de Análisis Clínico con permiso de funcionamiento emitido por el MSP; debe cumplir con las normas de transporte y conservación de muestras)"]
["ÁREA DE PREANÁLISIS",null,null,null,null,null,null,null,null,null,null,null,null,null,null,null,null,null,null,null,null,null,null,null,{"$f":"SUM(Q261:Q278)","v":80},{"$f":"SUM(R261:R278)","v":0},{"$f":"SUM(S261:S278)","v":0},0,0,0,0,0]
["AMBIENTES",null,null,null,null,null,null,null,null,null,null,null,null,null,null,null,null,null,null,null,null,null,null,null,{"$f":"SUM(Q262:Q269)","v":0},{"$f":"SUM(R262:R269)","v":0},{"$f":"SUM(S262:S269)","v":0},0,0,0,0,0]
["Toma de muestras",{"$f":"B1","v":"Anx:"},{"$f":"C$1","v":"Cant x Espacio:"},"Requerido:","Tipo:","Funcional:","No Funcional:",null,null,"Calif:","Observaciones:",{"$f":"Infraestructura!$F$87","v":0},{"$f":"Infraestructura!$G$87","v":0}]
["Silla para toma de muestras",null,1,{"$f":"IF(AND($L$262=0,$M$262=0),0,IF(AND($L$262>0,$M$262>0),($L$262+$M$262)*C263,IF(AND($L$262=0,$M$262>0),C263*$M$262,$L$262*C263)))","v":0},{"$f":"IF(D263>0, \"Requerido\", \"Sin Infraestructura\")","v":"Sin Infraestructura"},0,0,{"$f":"IF(AND(F263>=D263,D263>0,F263>=1),10,0)","v":0},{"$f":"IF(AND(G263>=D263,D263>0,G263>=1),10,0)","v":0},{"$f":"IF(AND(OR(F263=0,F263<D263),G263=0),0,IF(AND(OR(F263=0,F263<D263),G263>=D263),-10,IF(D263=0,0,IF(F263>=D263,10,0))))","v":0},null,null,null,null,null,null,{"$f":"IF(UPPER(E263)=\"REQUERIDO\", 10, \"\")","v":""},{"$f":"IF(UPPER(E263)=\"REQUERIDO\", J263, \"\")","v":""}]
["Mesa auxiliar",null,1,{"$f":"IF(AND($L$262=0,$M$262=0),0,IF(AND($L$262>0,$M$262>0),($L$262+$M$262)*C264,IF(AND($L$262=0,$M$262>0),C264*$M$262,$L$262*C264)))","v":0},{"$f":"IF(D264>0, \"Requerido\", \"Sin Infraestructura\")","v":"Sin Infraestructura"},0,0,0,0,0,null,null,null,null,null,null,{"$f":"IF(UPPER(E264)=\"REQUERIDO\", 10, \"\")","v":""},{"$f":"IF(UPPER(E264)=\"REQUERIDO\", J264, \"\")","v":""}]
["Set de recipientes para el manejo de desechos peligrosos y no peligrosos","EQ_07",1,0,"Sin Infraestructura",0,0,0,0,0,null,null,null,null,null,null,{"$f":"IF(UPPER(E265)=\"REQUERIDO\", 10, \"\")","v":""},""]
["Dispensador de papel toalla",null,1,0,"Sin Infraestructura",0,0,0,0,0,null,null,null,null,null,null,{"$f":"IF(UPPER(E266)=\"REQUERIDO\", 10, \"\")","v":""},""]
["Dispensador de jabón",null,1,0,"Sin Infraestructura",0,0,0,0,0,null,null,null,null,null,null,{"$f":"IF(UPPER(E267)=\"REQUERIDO\", 10, \"\")","v":""},""]
["Lavabo ",null,1,0,"Sin Infraestructura",0,0,0,0,0,null,null,null,null,null,null,{"$f":"IF(UPPER(E268)=\"REQUERIDO\", 10, \"\")","v":""},""]
["Taburete giratorio",null,1,0,"Sin Infraestructura",0,0,0,0,0,null,null,null,null,null,null,{"$f":"IF(UPPER(E269)=\"REQUERIDO\", 10, \"\")","v":""},""]
["Pre análisis",{"$f":"B1","v":"Anx:"},{"$f":"C$1","v":"Cant x Espacio:"},"Requerido:","Tipo:","Funcional:","No Funcional:",null,null,"Calif:","Observaciones:",{"$f":"Infraestructura!$F$88","v":0},{"$f":"Infraestructura!$G$88","v":0},null,null,null,null,null,null,null,null,null,null,null,{"$f":"SUM(Q271:Q278)","v":80},{"$f":"SUM(R271:R278)","v":0},{"$f":"SUM(S271:S278)","v":0},0,0,0,0,0]
["Centrífuga",null,1,{"$f":"IF(AND($L$270=0,$M$270=0),0,IF(AND($L$270>0,$M$270>0),($L$270+$M$270)*C271,IF(AND($L$270=0,$M$270>0),C271*$M$270,$L$270*C271)))","v":0},"Requerido",0,0,{"$f":"IF(AND(F271>=D271,D271>0,F271>=1),10,0)","v":0},0,0,null,null,null,null,null,null,{"$f":"IF(UPPER(E271)=\"REQUERIDO\", 10, \"\")","v":10},{"$f":"IF(UPPER(E271)=\"REQUERIDO\", J271, \"\")","v":0}]
["Silla",null,1,{"$f":"IF(AND($L$270=0,$M$270=0),0,IF(AND($L$270>0,$M$270>0),($L$270+$M$270)*C272,IF(AND($L$270=0,$M$270>0),C272*$M$270,$L$270*C272)))","v":0},"Requerido",0,0,0,0,0,null,null,null,null,null,null,{"$f":"IF(UPPER(E272)=\"REQUERIDO\", 10, \"\")","v":10},{"$f":"IF(UPPER(E272)=\"REQUERIDO\", J272, \"\")","v":0}]
["Canastilla para transporte de material",null,1,{"$f":"IF(AND($L$270=0,$M$270=0),0,IF(AND($L$270>0,$M$270>0),($L$270+$M$270)*C273,IF(AND($L$270=0,$M$270>0),C273*$M$270,$L$270*C273)))","v":0},"Requerido",0,0,0,0,0,null,null,null,null,null,null,10,0]
["Refrigeradora de 2 a 8 ºC con termómetro",null,1,{"$f":"IF(AND($L$270=0,$M$270=0),0,IF(AND($L$270>0,$M$270>0),($L$270+$M$270)*C274,IF(AND($L$270=0,$M$270>0),C274*$M$270,$L$270*C274)))","v":0},"Requerido",0,0,0,0,0,null,null,null,null,null,null,10,0]
["Lavabo",null,1,{"$f":"IF(AND($L$270=0,$M$270=0),0,IF(AND($L$270>0,$M$270>0),($L$270+$M$270)*C275,IF(AND($L$270=0,$M$270>0),C275*$M$270,$L$270*C275)))","v":0},"Requerido",0,0,0,0,0,null,null,null,null,null,null,10,0]
["Dispensador de jabón",null,1,{"$f":"IF(AND($L$270=0,$M$270=0),0,IF(AND($L$270>0,$M$270>0),($L$270+$M$270)*C276,IF(AND($L$270=0,$M$270>0),C276*$M$270,$L$270*C276)))","v":0},"Requerido",0,0,0,0,0,null,null,null,null,null,null,10,0]
["Dispensador de papel toalla",null,1,{"$f":"IF(AND($L$270=0,$M$270=0),0,IF(AND($L$270>0,$M$270>0),($L$270+$M$270)*C277,IF(AND($L$270=0,$M$270>0),C277*$M$270,$L$270*C277)))","v":0},"Requerido",0,0,0,0,0,null,null,null,null,null,null,10,0]
["Basurero","EQ_07",2,0,"Requerido",0,0,0,0,0,null,null,null,null,null,null,10,0]
["ÁREA DE ANÁLISIS",null,null,null,null,null,null,null,null,null,null,null,null,null,null,null,null,null,null,null,null,null,null,null,{"$f":"SUM(Q280:Q357)","v":0},{"$f":"SUM(R280:R357)","v":0},{"$f":"SUM(S280:S357)","v":0},0,0,0,0,0]
["AMBIENTES",null,null,null,null,null,null,null,null,null,null,null,null,null,null,null,null,null,null,null,null,null,null,null,{"$f":"SUM(Q281:Q295)","v":0},{"$f":"SUM(R281:R295)","v":0},{"$f":"SUM(S281:S295)","v":0},0,0,0,0,0]
["Hematología",{"$f":"B1","v":"Anx:"},{"$f":"C$1","v":"Cant x Espacio:"},"Requerido:","Tipo:","Funcional:","No Funcional:",null,null,"Calif:","Observaciones:",{"$f":"Infraestructura!$F$94","v":0},{"$f":"Infraestructura!G94","v":0}]
["Analizador Hematológico",null,1,{"$f":"IF(AND($L$281=0,$M$281=0),0,IF(AND($L$281>0,$M$281>0),($L$281+$M$281)*C282,IF(AND($L$281=0,$M$281>0),C282*$M$281,$L$281*C282)))","v":0},{"$f":"IF(D282>0, \"Deseable\", \"Sin Infraestructura\")","v":"Sin Infraestructura"},0,0,{"$f":"IF(AND(F282>=D282,D282>0,F282>=1),10,0)","v":0},{"$f":"IF(AND(G282>=D282,D282>0,G282>=1),10,0)","v":0},{"$f":"IF(AND(OR(F282=0,F282<D282),G282=0),0,IF(AND(OR(F282=0,F282<D282),G282>=D282),-10,IF(D282=0,0,IF(F282>=D282,10,0))))","v":0},null,null,null,null,null,null,null,null,null,null,null,null,{"$f":"IF(UPPER(E282)=\"DESEABLE\", 10, \"\")","v":""},{"$f":"IF(UPPER(E282)=\"DESEABLE\", J282, \"\")","v":""}]
["Microscopio binocular",null,1,{"$f":"IF(AND($L$281=0,$M$281=0),0,IF(AND($L$281>0,$M$281>0),($L$281+$M$281)*C283,IF(AND($L$281=0,$M$281>0),C283*$M$281,$L$281*C283)))","v":0},{"$f":"IF(D283>0, \"Requerido\", \"Sin Infraestructura\")","v":"Sin Infraestructura"},0,0,0,0,0,null,null,null,null,null,null,{"$f":"IF(UPPER(E283)=\"REQUERIDO\", 10, \"\")","v":""},{"$f":"IF(UPPER(E283)=\"REQUERIDO\", J283, \"\")","v":""}]
["Agitador de tubos",null,1,0,"Sin Infraestructura",0,0,0,0,0,null,null,null,null,null,null,"",""]
["Gradilla para tubos",null,2,0,"Sin Infraestructura",0,0,0,0,0,null,null,null,null,null,null,"",""]
["Cámara de Neubauer",null,1,0,"Sin Infraestructura",0,0,0,0,0,null,null,null,null,null,null,"",""]
["Contador diferencial para contaje de células(piano)",null,1,0,"Sin Infraestructura",0,0,0,0,0,null,null,null,null,null,null,"",""]
["Micro centrifuga",null,1,0,"Sin Infraestructura",0,0,0,0,0,null,null,null,null,null,null,"",""]
["Gradilla para velocidad de eritrosedimentación",null,1,0,"Sin Infraestructura",0,0,0,0,0,null,null,null,null,null,null,"",""]
["Cronómetro",null,1,0,"Sin Infraestructura",0,0,0,0,0,null,null,null,null,null,null,"",""]
["Silla para laboratorio",null,1,0,"Sin Infraestructura",0,0,0,0,0,null,null,null,null,null,null,"",""]
["Lavabo",null,1,0,"Sin Infraestructura",0,0,0,0,0,null,null,null,null,null,null,"",""]
["Dispensador  de jabón",null,1,0,"Sin Infraestructura",0,0,0,0,0,null,null,null,null,null,null,"",""]
["Dispensador de papel toalla ",null,1,0,"Sin Infraestructura",0,0,0,0,0,null,null,null,null,null,null,"",""]
["Set de recipientes para el manejo de desechos peligrosos y no peligrosos ","EQ_07",1,0,"Sin Infraestructura",0,0,0,0,0,null,null,null,null,null,null,"",""]
["Química Clínica",{"$f":"B1","v":"Anx:"},{"$f":"C$1","v":"Cant x Espacio:"},"Requerido:","Tipo:","Funcional:","No Funcional:",null,null,"Calif:","Observaciones:",{"$f":"Infraestructura!$F$95","v":0},{"$f":"Infraestructura!$G$95","v":0},null,null,null,null,null,null,null,null,null,null,null,{"$f":"SUM(Q297:Q301)","v":0},{"$f":"SUM(R297:R301)","v":0},{"$f":"SUM(S297:S301)","v":0},0,0,0,0,0]
["Equipo para química clínica",null,1,{"$f":"IF(AND($L$296=0,$M$296=0),0,IF(AND($L$296>0,$M$296>0),($L$296+$M$296)*C297,IF(AND($L$296=0,$M$296>0),C297*$M$296,$L$296*C297)))","v":0},{"$f":"IF(D297>0, \"Requerido\", \"Sin Infraestructura\")","v":"Sin Infraestructura"},0,0,{"$f":"IF(AND(F297>=D297,D297>0,F297>=1),10,0)","v":0},0,0,null,null,null,null,null,null,{"$f":"IF(UPPER(E297)=\"REQUERIDO\", 10, \"\")","v":""},{"$f":"IF(UPPER(E297)=\"REQUERIDO\", J297, \"\")","v":""}]
["Gradillas para tubos",null,1,{"$f":"IF(AND($L$296=0,$M$296=0),0,IF(AND($L$296>0,$M$296>0),($L$296+$M$296)*C298,IF(AND($L$296=0,$M$296>0),C298*$M$296,$L$296*C298)))","v":0},{"$f":"IF(D298>0, \"Requerido\", \"Sin Infraestructura\")","v":"Sin Infraestructura"},0,0,0,0,0,null,null,null,null,null,null,{"$f":"IF(UPPER(E298)=\"REQUERIDO\", 10, \"\")","v":""},{"$f":"IF(UPPER(E298)=\"REQUERIDO\", J298, \"\")","v":""}]
["Pipetas semiautomáticas variables o fijas 5 a 1000UL",null,1,0,"Sin Infraestructura",0,0,0,0,0,null,null,null,null,null,null,"",""]
["Set de recipientes para el manejo de desechos peligrosos y no peligrosos ","EQ_07",1,0,{"$f":"IF(D300>0, \"Condición\", \"Sin Infraestructura\")","v":"Sin Infraestructura"},0,0,0,0,0,null,null,null,null,null,null,null,null,{"$f":"IF(UPPER(E300)=\"CONDICIÓN\", 10, \"\")","v":""},{"$f":"IF(UPPER(E300)=\"CONDICIÓN\", H300, \"\")","v":""},{"$f":"IF(UPPER(E300)=\"CONDICIÓN\", 10, \"\")","v":""},{"$f":"IF(UPPER(E300)=\"CONDICIÓN\", I300, \"\")","v":""}]
["Silla para laboratorio",null,1,0,"Sin Infraestructura",0,0,0,{"$f":"IF(AND(G301>=D301,D301>0,G301>=1),10,0)","v":0},0,null,null,null,null,null,null,"",""]
["Hemostasia",{"$f":"B1","v":"Anx:"},{"$f":"C$1","v":"Cant x Espacio:"},"Requerido:","Tipo:","Funcional:","No Funcional:",null,null,"Calif:","Observaciones:",{"$f":"Infraestructura!$F$96","v":0},{"$f":"Infraestructura!$G$96","v":0},null,null,null,null,null,null,null,null,null,null,null,{"$f":"SUM(Q303:Q308)","v":0},{"$f":"SUM(R303:R308)","v":0},{"$f":"SUM(S303:S308)","v":0},0,0,0,0,0]
["Equipo para coagulación",null,1,{"$f":"IF(AND($L$302=0,$M$302=0),0,IF(AND($L$302>0,$M$302>0),($L$302+$M$302)*C303,IF(AND($L$302=0,$M$302>0),C303*$M$302,$L$302*C303)))","v":0},{"$f":"IF(D303>0, \"Condición\", \"Sin Infraestructura\")","v":"Sin Infraestructura"},0,0,{"$f":"IF(AND(F303>=D303,D303>0,F303>=1),10,0)","v":0},{"$f":"IF(AND(G303>=D303,D303>0,G303>=1),10,0)","v":0},0,null,null,null,null,null,null,null,null,{"$f":"IF(UPPER(E303)=\"CONDICIÓN\", 10, \"\")","v":""},{"$f":"IF(UPPER(E303)=\"CONDICIÓN\", H303, \"\")","v":""},{"$f":"IF(UPPER(E303)=\"CONDICIÓN\", 10, \"\")","v":""},{"$f":"IF(UPPER(E303)=\"CONDICIÓN\", I303, \"\")","v":""}]
["Baño  maría",null,1,{"$f":"IF(AND($L$302=0,$M$302=0),0,IF(AND($L$302>0,$M$302>0),($L$302+$M$302)*C304,IF(AND($L$302=0,$M$302>0),C304*$M$302,$L$302*C304)))","v":0},{"$f":"IF(D304>0,\"Condición\", \"Sin Infraestructura\")","v":"Sin Infraestructura"},0,0,0,0,0,null,null,null,null,null,null,null,null,"","","",""]
["Gradilla para tubos",null,1,0,{"$f":"IF(D305>0, \"Requerido\", \"Sin Infraestructura\")","v":"Sin Infraestructura"},0,0,0,0,0,null,null,null,null,null,null,{"$f":"IF(UPPER(E305)=\"REQUERIDO\", 10, \"\")","v":""},{"$f":"IF(UPPER(E305)=\"REQUERIDO\", J305, \"\")","v":""}]
["Cronómetro",null,1,0,"Sin Infraestructura",0,0,0,0,0,null,null,null,null,null,null,"",""]
["Silla para laboratorio",null,1,0,"Sin Infraestructura",0,0,0,0,0,null,null,null,null,null,null,"",""]
["Set de recipientes para el manejo de desechos peligrosos y no peligrosos ","EQ_07",1,0,{"$f":"IF(D308>0, \"Requerido\", \"Sin Infraestructura\")","v":"Sin Infraestructura"},0,0,0,0,0,null,null,null,null,null,null,"",""]
["Uroanálisis y Coproanálisis",{"$f":"B8","v":"Anx:"},{"$f":"C$1","v":"Cant x Espacio:"},"Requerido:","Tipo:","Funcional:","No Funcional:",null,null,"Calif:","Observaciones:",{"$f":"Infraestructura!$F$97","v":0},{"$f":"Infraestructura!$G$97","v":0},null,null,null,null,null,null,null,null,null,null,null,{"$f":"SUM(Q310:Q319)","v":0},{"$f":"SUM(R310:R319)","v":0},{"$f":"SUM(S310:S319)","v":0},0,0,0,0,0]
["Analizador automático de tiras de orina",null,1,{"$f":"IF(AND($L$309=0,$M$309=0),0,IF(AND($L$309>0,$M$309>0),($L$309+$M$309)*C310,IF(AND($L$309=0,$M$309>0),C310*$M$309,$L$309*C310)))","v":0},{"$f":"IF(D310>0, \"Requerido\", \"Sin Infraestructura\")","v":"Sin Infraestructura"},0,0,{"$f":"IF(AND(F310>=D310,D310>0,F310>=1),10,0)","v":0},0,0,null,null,null,null,null,null,{"$f":"IF(UPPER(E310)=\"REQUERIDO\", 10, \"\")","v":""},{"$f":"IF(UPPER(E310)=\"REQUERIDO\", J310, \"\")","v":""}]
["Analizador automático microscopico de orina",null,1,{"$f":"IF(AND($L$309=0,$M$309=0),0,IF(AND($L$309>0,$M$309>0),($L$309+$M$309)*C311,IF(AND($L$309=0,$M$309>0),C311*$M$309,$L$309*C311)))","v":0},{"$f":"IF(D311>0, \"Requerido\", \"Sin Infraestructura\")","v":"Sin Infraestructura"},0,0,0,0,0,null,null,null,null,null,null,{"$f":"IF(UPPER(E311)=\"REQUERIDO\", 10, \"\")","v":""},{"$f":"IF(UPPER(E311)=\"REQUERIDO\", J311, \"\")","v":""}]
["Microscopio binocular",null,1,0,"Sin Infraestructura",0,0,0,0,0,null,null,null,null,null,null,"",""]
["Centrifuga",null,1,0,"Sin Infraestructura",0,0,0,0,0,null,null,null,null,null,null,"",""]
["Gradillas para tubos",null,1,0,"Sin Infraestructura",0,0,0,0,0,null,null,null,null,null,null,"",""]
["Silla para laboratorio",null,1,0,"Sin Infraestructura",0,0,0,0,0,null,null,null,null,null,null,"",""]
["Fregadero",null,1,0,"Sin Infraestructura",0,0,0,0,0,null,null,null,null,null,null,"",""]
["Set de recipientes para el manejo de desechos peligrosos y no peligrosos ","EQ_07",1,0,"Sin Infraestructura",0,0,0,0,0,null,null,null,null,null,null,"",""]
["Dispensador de papel toalla ",null,1,0,"Sin Infraestructura",0,0,0,0,0,null,null,null,null,null,null,"",""]
["Dispensador  de jabón",null,1,0,"Sin Infraestructura",0,0,0,0,0,null,null,null,null,null,null,"",""]
["Microbiología de mediana complejidad",{"$f":"B1","v":"Anx:"},{"$f":"C$1","v":"Cant x Espacio:"},"Requerido:","Tipo:","Funcional:","No Funcional:",null,null,"Calif:","Observaciones:",{"$f":"Infraestructura!$F$98","v":0},{"$f":"Infraestructura!$G$98","v":0},null,null,null,null,null,null,null,null,null,null,null,{"$f":"SUM(Q321:Q333)","v":0},{"$f":"SUM(R321:R333)","v":0},{"$f":"SUM(S321:S333)","v":0},0,0,0,0,0]
["Microscopio binocular",null,1,{"$f":"IF(AND($L$320=0,$M$320=0),0,IF(AND($L$320>0,$M$320>0),($L$320+$M$320)*C321,IF(AND($L$320=0,$M$320>0),C321*$M$320,$L$320*C321)))","v":0},{"$f":"IF(D321>0, \"Requerido\", \"Sin Infraestructura\")","v":"Sin Infraestructura"},0,0,{"$f":"IF(AND(F321>=D321,D321>0,F321>=1),10,0)","v":0},0,0,null,null,null,null,null,null,{"$f":"IF(UPPER(E321)=\"REQUERIDO\", 10, \"\")","v":""},{"$f":"IF(UPPER(E321)=\"REQUERIDO\", J321, \"\")","v":""}]
["Contador diferencial para contaje de células(piano)",null,1,{"$f":"IF(AND($L$320=0,$M$320=0),0,IF(AND($L$320>0,$M$320>0),($L$320+$M$320)*C322,IF(AND($L$320=0,$M$320>0),C322*$M$320,$L$320*C322)))","v":0},{"$f":"IF(D322>0, \"Requerido\", \"Sin Infraestructura\")","v":"Sin Infraestructura"},0,0,0,0,0,null,null,null,null,null,null,{"$f":"IF(UPPER(E322)=\"REQUERIDO\", 10, \"\")","v":""},{"$f":"IF(UPPER(E322)=\"REQUERIDO\", J322, \"\")","v":""}]
["Gradillas para placas",null,1,0,"Sin Infraestructura",0,0,0,0,0,null,null,null,null,null,null,"",""]
["Cámara de Neubauer",null,1,0,"Sin Infraestructura",0,0,0,0,0,null,null,null,null,null,null,"",""]
["Coloreador de placas automatizado",null,1,0,"Sin Infraestructura",0,0,0,0,0,null,null,null,null,null,null,"",""]
["Incinerador de asas",null,1,0,"Sin Infraestructura",0,0,0,0,0,null,null,null,null,null,null,"",""]
["Rejilla para tinción de placas",null,1,0,"Sin Infraestructura",0,0,0,0,0,null,null,null,null,null,null,"",""]
["Mechero",null,1,0,"Sin Infraestructura",0,0,0,0,0,null,null,null,null,null,null,"",""]
["Fregadero",null,1,0,"Sin Infraestructura",0,0,0,0,0,null,null,null,null,null,null,"",""]
["Silla para laboratorio",null,1,0,"Sin Infraestructura",0,0,0,0,0,null,null,null,null,null,null,"",""]
["Set de recipientes para el manejo de desechos peligrosos y no peligrosos ","EQ_07",1,0,"Sin Infraestructura",0,0,0,0,0,null,null,null,null,null,null,"",""]
["Dispensador de papel toalla ",null,1,0,"Sin Infraestructura",0,0,0,0,0,null,null,null,null,null,null,"",""]
["Dispensador  de jabón",null,1,0,{"$f":"IF(D333>0, \"Requerido\", \"Sin Infraestructura\")","v":"Sin Infraestructura"},0,0,0,0,0,null,null,null,null,null,null,"",""]
["Inmunología e Inmunoquímica",{"$f":"B1","v":"Anx:"},{"$f":"C$1","v":"Cant x Espacio:"},"Requerido:","Tipo:","Funcional:","No Funcional:",null,null,"Calif:","Observaciones:",{"$f":"Infraestructura!$F$99","v":0},{"$f":"Infraestructura!$G$99","v":0},null,null,null,null,null,null,null,null,null,null,null,{"$f":"SUM(Q335:Q355)","v":0},{"$f":"SUM(R335:R355)","v":0},{"$f":"SUM(S335:S355)","v":0},0,0,0,0,0]
["Analizador automático para inmunología",null,1,{"$f":"IF(AND($L$334=0,$M$334=0),0,IF(AND($L$334>0,$M$334>0),($L$334+M334)*C335,IF(AND($L$334=0,$M$334>0),C335*$M$334,$L$334*C335)))","v":0},{"$f":"IF(D335>0, \"Requerido\", \"Sin Infraestructura\")","v":"Sin Infraestructura"},0,0,{"$f":"IF(AND(F335>=D335,D335>0,F335>=1),10,0)","v":0},0,0,null,null,null,null,null,null,{"$f":"IF(UPPER(E335)=\"REQUERIDO\", 10, \"\")","v":""},{"$f":"IF(UPPER(E335)=\"REQUERIDO\", J335, \"\")","v":""}]
["Analizador automático para ELISA",null,1,{"$f":"IF(AND($L$334=0,$M$334=0),0,IF(AND($L$334>0,$M$334>0),($L$334+M335)*C336,IF(AND($L$334=0,$M$334>0),C336*$M$334,$L$334*C336)))","v":0},{"$f":"IF(D336>0, \"Requerido\", \"Sin Infraestructura\")","v":"Sin Infraestructura"},0,0,{"$f":"IF(AND(F336>=D336,D336>0,F336>=1),10,0)","v":0},0,0,null,null,null,null,null,null,{"$f":"IF(UPPER(E336)=\"REQUERIDO\", 10, \"\")","v":""},{"$f":"IF(UPPER(E336)=\"REQUERIDO\", J336, \"\")","v":""}]
["Lector de microplacas para ELISA",null,1,0,"Sin Infraestructura",0,0,0,0,0,null,null,null,null,null,null,"",""]
["Analizador automático para inmunoquímica",null,1,0,"Sin Infraestructura",0,0,0,0,0,null,null,null,null,null,null,"",""]
["Estufa ",null,1,0,"Sin Infraestructura",0,0,0,0,0,null,null,null,null,null,null,"",""]
["Lavador de microplacas para ELISA",null,1,0,"Sin Infraestructura",0,0,0,0,0,null,null,null,null,null,null,"",""]
["Centrifuga",null,1,0,"Sin Infraestructura",0,0,0,0,0,null,null,null,null,null,null,"",""]
["Vórtex",null,1,0,"Sin Infraestructura",0,0,0,0,0,null,null,null,null,null,null,"",""]
["Nefelómetro",null,1,0,"Sin Infraestructura",0,0,0,0,0,null,null,null,null,null,null,"",""]
["Turbidímetro para inmunología",null,1,0,"Sin Infraestructura",0,0,0,0,0,null,null,null,null,null,null,"",""]
["Gradillas para tubos",null,2,0,"Sin Infraestructura",0,0,0,0,0,null,null,null,null,null,null,"",""]
["Pipetas semiautomaticas variables o fijas 5 a 1000UL",null,1,0,"Sin Infraestructura",0,0,0,0,{"$f":"IF(AND(OR(F346=0,F346<D346),G346=0),0,IF(AND(OR(F346=0,F346<D346),G346>=D346),-10,IF(D346=0,0,IF(F346>=D346,10,0))))","v":0},null,null,null,null,null,null,"",""]
["Cronómetro",null,1,0,"Sin Infraestructura",0,0,0,0,0,null,null,null,null,null,null,"",""]
["Agitador lineal",null,1,0,"Sin Infraestructura",0,0,0,0,0,null,null,null,null,null,null,"",""]
["Silla para laboratorio",null,1,0,"Sin Infraestructura",0,0,0,0,0,null,null,null,null,null,null,"",""]
["Set de recipientes para el manejo de desechos peligrosos y no peligrosos. ","EQ_07",1,0,"Sin Infraestructura",0,0,0,0,0,null,null,null,null,null,null,"",""]
["Microscopio binocular",null,1,0,"Sin Infraestructura",0,0,0,0,0,null,null,null,null,null,null,"",""]
["Placas para VDRL",null,1,0,"Sin Infraestructura",0,0,0,0,0,null,null,null,null,null,null,"",""]
["Placas cóncavas",null,1,0,"Sin Infraestructura",0,0,0,0,0,null,null,null,null,null,null,"",""]
["Refrigeradora de 2 a 8 ºC con termómetro",null,1,0,"Sin Infraestructura",0,0,0,0,0,null,null,null,null,null,null,"",""]
["Termohigrómetro ambiental",null,1,0,"Sin Infraestructura",0,0,0,0,0,null,null,null,null,null,null,"",""]
["Área para Bioseguridad laboral",{"$f":"B1","v":"Anx:"},{"$f":"C$1","v":"Cant x Espacio:"},"Requerido:","Tipo:","Funcional:","No Funcional:",null,null,"Calif:","Observaciones:",{"$f":"Infraestructura!$F$100","v":0},{"$f":"Infraestructura!$G$100","v":0},null,null,null,null,null,null,null,null,null,null,null,{"$f":"SUM(Q357:Q357)","v":0},{"$f":"SUM(R357:R357)","v":0},{"$f":"SUM(S357:S357)","v":0},0,0,0,0,0]
["Lavaojos",null,1,{"$f":"IF(AND($L$356=0,$M$356=0),0,IF(AND($L$356>0,$M$356>0),($L$356+$M$356)*C357,IF(AND($L$356=0,$M$356>0),C357*$M$356,$L$356*C357)))","v":0},{"$f":"IF(D357>0, \"Requerido\", \"Sin Infraestructura\")","v":"Sin Infraestructura"},0,0,{"$f":"IF(AND(F357>=D357,D357>0,F357>=1),10,0)","v":0},0,0,null,null,null,null,null,null,{"$f":"IF(UPPER(E357)=\"REQUERIDO\", 10, \"\")","v":""},{"$f":"IF(UPPER(E357)=\"REQUERIDO\", J357, \"\")","v":""}]
["ÁREA DE SOPORTE ",null,null,null,null,null,null,null,null,null,null,null,null,null,null,null,null,null,null,null,null,null,null,null,{"$f":"SUM(Q359:Q380)","v":0},{"$f":"SUM(R359:R380)","v":0},{"$f":"SUM(S359:S380)","v":0},0,0,0,0,0]
["AMBIENTES",null,null,null,null,null,null,null,null,null,null,null,null,null,null,null,null,null,null,null,null,null,null,null,{"$f":"SUM(Q360:Q362)","v":0},{"$f":"SUM(R360:R362)","v":0},{"$f":"SUM(S360:S362)","v":0},0,0,0,0,0]
["Zona de Refrigeradores y Congeladores",{"$f":"B1","v":"Anx:"},{"$f":"C$1","v":"Cant x Espacio:"},"Requerido:","Tipo:","Funcional:","No Funcional:",null,null,"Calif:","Observaciones:",{"$f":"Infraestructura!$F$106","v":0},{"$f":"Infraestructura!G94","v":0}]
["Refrigerador con congelador ",null,1,{"$f":"IF(AND($L$360=0,$M$360=0),0,IF(AND($L$360>0,$M$360>0),($L$360+M360)*C361,IF(AND($L$360=0,$M$360>0),C361*$M$360,$L$360*C361)))","v":0},{"$f":"IF(D361>0, \"Requerido\", \"Sin Infraestructura\")","v":"Sin Infraestructura"},0,0,{"$f":"IF(AND(F361>=D361,D361>0,F361>=1),10,0)","v":0},{"$f":"IF(AND(G361>=D361,D361>0,G361>=1),10,0)","v":0},{"$f":"IF(AND(OR(F361=0,F361<D361),G361=0),0,IF(AND(OR(F361=0,F361<D361),G361>=D361),-10,IF(D361=0,0,IF(F361>=D361,10,0))))","v":0},null,null,null,null,null,null,{"$f":"IF(UPPER(E361)=\"REQUERIDO\", 10, \"\")","v":""},{"$f":"IF(UPPER(E361)=\"REQUERIDO\", J361, \"\")","v":""}]
["Termómetro",null,1,{"$f":"IF(AND($L$360=0,$M$360=0),0,IF(AND($L$360>0,$M$360>0),($L$360+$M$360)*C362,IF(AND($L$360=0,$M$360>0),C362*$M$360,$L$360*C362)))","v":0},{"$f":"IF(D362>0, \"Requerido\", \"Sin Infraestructura\")","v":"Sin Infraestructura"},0,0,0,0,0,null,null,null,null,null,null,{"$f":"IF(UPPER(E362)=\"REQUERIDO\", 10, \"\")","v":""},{"$f":"IF(UPPER(E362)=\"REQUERIDO\", J362, \"\")","v":""}]
["Bodega o almacenamiento de Material ",{"$f":"B1","v":"Anx:"},{"$f":"C$1","v":"Cant x Espacio:"},"Requerido:","Tipo:","Funcional:","No Funcional:",null,null,"Calif:","Observaciones:",{"$f":"Infraestructura!$F$107","v":0},{"$f":"Infraestructura!$G$107","v":0}]
["Estantería",null,1,{"$f":"IF(AND($L$363=0,$M$363=0),0,IF(AND($L$363>0,$M$363>0),($L$363+M363)*C364,IF(AND($L$363=0,$M$363>0),C364*$M$363,$L$363*C364)))","v":0},{"$f":"IF(D364>0, \"Requerido\", \"Sin Infraestructura\")","v":"Sin Infraestructura"},0,0,{"$f":"IF(AND(F364>=D364,D364>0,F364>=1),10,0)","v":0},0,0,null,null,null,null,null,null,{"$f":"IF(UPPER(E364)=\"REQUERIDO\", 10, \"\")","v":""},{"$f":"IF(UPPER(E364)=\"REQUERIDO\", J364, \"\")","v":""}]
["Escalera pata de gallo / Gradilla",null,1,{"$f":"IF(AND($L$363=0,$M$363=0),0,IF(AND($L$363>0,$M$363>0),($L$363+M364)*C365,IF(AND($L$363=0,$M$363>0),C365*$M$363,$L$363*C365)))","v":0},{"$f":"IF(D365>0, \"Condición\", \"Sin Infraestructura\")","v":"Sin Infraestructura"},0,0,0,0,0,null,null,null,null,null,null,null,null,{"$f":"IF(UPPER(E365)=\"CONDICIÓN\", 10, \"\")","v":""},{"$f":"IF(UPPER(E365)=\"CONDICIÓN\", H365, \"\")","v":""},{"$f":"IF(UPPER(E365)=\"CONDICIÓN\", 10, \"\")","v":""},{"$f":"IF(UPPER(E365)=\"CONDICIÓN\", I365, \"\")","v":""}]
["Stock de Reactivos de Laboratorio","EQ_44",1,0,{"$f":"IF(D366>0, \"Requerido\", \"Sin Infraestructura\")","v":"Sin Infraestructura"},0,0,0,0,0,null,null,null,null,null,null,{"$f":"IF(UPPER(E366)=\"REQUERIDO\", 10, \"\")","v":""},{"$f":"IF(UPPER(E366)=\"REQUERIDO\", J366, \"\")","v":""}]
["Refrigerador",null,1,0,{"$f":"IF(D367>0, \"Condición\", \"Sin Infraestructura\")","v":"Sin Infraestructura"},0,0,0,0,0,null,null,null,null,null,null,null,null,{"$f":"IF(UPPER(E367)=\"CONDICIÓN\", 10, \"\")","v":""},{"$f":"IF(UPPER(E367)=\"CONDICIÓN\", H367, \"\")","v":""},{"$f":"IF(UPPER(E367)=\"CONDICIÓN\", 10, \"\")","v":""},{"$f":"IF(UPPER(E367)=\"CONDICIÓN\", I367, \"\")","v":""}]
["Termómetro",null,1,0,{"$f":"IF(D368>0, \"Requerido\", \"Sin Infraestructura\")","v":"Sin Infraestructura"},0,0,0,0,0,null,null,null,null,null,null,"",""]
["Usado.\n(para lavado y esterilización de material)",{"$f":"B1","v":"Anx:"},{"$f":"C$1","v":"Cant x Espacio:"},"Requerido:","Tipo:","Funcional:","No Funcional:",null,null,"Calif:","Observaciones:",{"$f":"Infraestructura!$F$108","v":0},{"$f":"Infraestructura!$G$108","v":0},null,null,null,null,null,null,null,null,null,null,null,{"$f":"SUM(Q370:Q375)","v":0},{"$f":"SUM(R370:R375)","v":0},{"$f":"SUM(S370:S375)","v":0},0,0,0,0,0]
["Fregadero",null,1,{"$f":"IF(AND($L$369=0,$M$369=0),0,IF(AND($L$369>0,$M$369>0),($L$369+$M$369)*C370,IF(AND($L$369=0,$M$369>0),C370*$M$369,$L$369*C370)))","v":0},{"$f":"IF(D370>0, \"Requerido\", \"Sin Infraestructura\")","v":"Sin Infraestructura"},0,0,{"$f":"IF(AND(F370>=D370,D370>0,F370>=1),10,0)","v":0},0,0,null,null,null,null,null,null,{"$f":"IF(UPPER(E370)=\"REQUERIDO\", 10, \"\")","v":""},{"$f":"IF(UPPER(E370)=\"REQUERIDO\", J370, \"\")","v":""}]
["Set de recipientes para el manejo de desechos peligrosos y no peligrosos ","EQ_07",1,{"$f":"IF(AND($L$369=0,$M$369=0),0,IF(AND($L$369>0,$M$369>0),($L$369+$M$369)*C371,IF(AND($L$369=0,$M$369>0),C371*$M$369,$L$369*C371)))","v":0},"Sin Infraestructura",0,0,0,0,0,null,null,null,null,null,null,"",""]
["Canastilla/Coche de transporte de muestras",null,1,0,"Sin Infraestructura",0,0,0,0,0,null,null,null,null,null,null,"",""]
["Esterilizador a vapor/seco",null,1,0,{"$f":"IF(D373>0, \"Condición\", \"Sin Infraestructura\")","v":"Sin Infraestructura"},0,0,0,0,0,null,null,null,null,null,null,null,null,{"$f":"IF(UPPER(E373)=\"CONDICIÓN\", 10, \"\")","v":""},{"$f":"IF(UPPER(E373)=\"CONDICIÓN\", H373, \"\")","v":""},{"$f":"IF(UPPER(E373)=\"CONDICIÓN\", 10, \"\")","v":""},{"$f":"IF(UPPER(E373)=\"CONDICIÓN\", I373, \"\")","v":""}]
["Dispensador de papel toalla ",null,1,0,"Sin Infraestructura",0,0,0,0,0,null,null,null,null,null,null,"",""]
["Dispensador  de jabón",null,1,0,"Sin Infraestructura",0,0,0,0,0,null,null,null,null,null,null,"",""]
["Cuarto de Limpieza - se justifica si esta centralizado para todos los servicios ",{"$f":"B1","v":"Anx:"},{"$f":"C$1","v":"Cant x Espacio:"},"Requerido:","Tipo:","Funcional:","No Funcional:",null,null,"Calif:","Observaciones:",{"$f":"Infraestructura!$F$109","v":0},{"$f":"Infraestructura!$G$109","v":0},null,null,null,null,null,null,null,null,null,null,null,{"$f":"SUM(Q377:Q380)","v":0},{"$f":"SUM(R377:R380)","v":0},{"$f":"SUM(S377:S380)","v":0},0,0,0,0,0]
["Coche de limpieza ",null,1,{"$f":"IF(AND($L$376=0,$M$376=0),0,IF(AND($L$376>0,$M$376>0),($L$376+$M$376)*C377,IF(AND($L$376=0,$M$376>0),C377*$M$376,$L$376*C377)))","v":0},{"$f":"IF(D377>0, \"Requerido\", \"Sin Infraestructura\")","v":"Sin Infraestructura"},0,0,{"$f":"IF(AND(F377>=D377,D377>0,F377>=1),10,0)","v":0},0,0,null,null,null,null,null,null,{"$f":"IF(UPPER(E377)=\"REQUERIDO\", 10, \"\")","v":""},{"$f":"IF(UPPER(E377)=\"REQUERIDO\", J377, \"\")","v":""}]
["Stock de insumos de limpieza ",null,1,{"$f":"IF(AND($L$376=0,$M$376=0),0,IF(AND($L$376>0,$M$376>0),($L$376+$M$376)*C378,IF(AND($L$376=0,$M$376>0),C378*$M$376,$L$376*C378)))","v":0},"Sin Infraestructura",0,0,0,0,0,null,null,null,null,null,null,{"$f":"IF(UPPER(E378)=\"REQUERIDO\", 10, \"\")","v":""},{"$f":"IF(UPPER(E378)=\"REQUERIDO\", J378, \"\")","v":""}]
["Estantería ",null,1,0,"Sin Infraestructura",0,0,0,0,0,null,null,null,null,null,null,"",""]
["Lavadero con poza profunda para el preparado y enjuague de los útiles de limpieza",null,1,0,"Sin Infraestructura",0,0,0,0,0,null,null,null,null,null,null,"",""]
["ÁREA ADMINISTRATIVA Y DE PERSONAL",null,null,null,null,null,null,null,null,null,null,null,null,null,null,null,null,null,null,null,null,null,null,null,{"$f":"SUM(Q382:Q390)","v":0},{"$f":"SUM(R382:R390)","v":0},{"$f":"SUM(S382:S390)","v":0},0,0,0,0,0]
["AMBIENTES",null,null,null,null,null,null,null,null,null,null,null,null,null,null,null,null,null,null,null,null,null,null,null,{"$f":"SUM(Q383:Q390)","v":0},{"$f":"SUM(R383:R390)","v":0},{"$f":"SUM(S383:S390)","v":0},0,0,0,0,0]
["Despacho de Responsable de Servicio",{"$f":"B1","v":"Anx:"},{"$f":"C$1","v":"Cant x Espacio:"},"Requerido:","Tipo:","Funcional:","No Funcional:",null,null,"Calif:","Observaciones:",{"$f":"Infraestructura!$F$115","v":0},{"$f":"Infraestructura!$G$115","v":0}]
["Escritorio/ Mesa de despacho  ","EQ_01",1,{"$f":"IF(AND($L$383=0,$M$383=0),0,IF(AND($L$383>0,$M$383>0),($L$383+$M$383)*C384,IF(AND($L$383=0,$M$383>0),C384*$M$383,$L$383*C384)))","v":0},{"$f":"IF(D384>0, \"Requerido\", \"Sin Infraestructura\")","v":"Sin Infraestructura"},0,0,{"$f":"IF(AND(F384>=D384,D384>0,F384>=1),10,0)","v":0},{"$f":"IF(AND(G384>=D384,D384>0,G384>=1),10,0)","v":0},{"$f":"IF(AND(OR(F384=0,F384<D384),G384=0),0,IF(AND(OR(F384=0,F384<D384),G384>=D384),-10,IF(D384=0,0,IF(F384>=D384,10,0))))","v":0},null,null,null,null,null,null,{"$f":"IF(UPPER(E384)=\"REQUERIDO\", 10, \"\")","v":""},{"$f":"IF(UPPER(E384)=\"REQUERIDO\", J384, \"\")","v":""}]
["Armario/Archivador",null,1,{"$f":"IF(AND($L$383=0,$M$383=0),0,IF(AND($L$383>0,$M$383>0),($L$383+$M$383)*C385,IF(AND($L$383=0,$M$383>0),C385*$M$383,$L$383*C385)))","v":0},{"$f":"IF(D385>0, \"Requerido\", \"Sin Infraestructura\")","v":"Sin Infraestructura"},0,0,0,0,0,null,null,null,null,null,null,"",""]
["Computador completo (Portátil o de Escritorio)","EQ_02",1,0,"Sin Infraestructura",0,0,0,0,0,null,null,null,null,null,null,"",""]
["Basurero ",null,1,0,"Sin Infraestructura",0,0,0,0,0,null,null,null,null,null,null,"",""]
["Perchero de pie /Gancho doble",null,1,0,{"$f":"IF(D388>0, \"Deseable\", \"Sin Infraestructura\")","v":"Sin Infraestructura"},0,0,0,0,0,null,null,null,null,null,null,null,null,null,null,null,null,{"$f":"IF(UPPER(E388)=\"DESEABLE\", 10, \"\")","v":""},{"$f":"IF(UPPER(E388)=\"DESEABLE\", J388, \"\")","v":""}]
["Silla Confidente ",null,2,0,"Sin Infraestructura",0,0,0,0,0,null,null,null,null,null,null,"",""]
["Silla",null,1,0,"Sin Infraestructura",0,0,0,0,0,null,null,null,null,null,null,"",""]
["APOYO TERAPÉUTICO",null,null,null,null,null,null,null,null,null,null,null,null,null,null,null,null,null,null,null,null,null,null,null,{"$f":"SUM(Q392:Q413)","v":160},{"$f":"SUM(R392:R413)","v":0},{"$f":"SUM(S392:S413)","v":10},0,10,0,0,0]
["DOTACIÓN DE MEDICAMENTOS Y DISPOSITIVOS MÉDICOS (FARMACIA)",null,null,null,null,null,null,null,null,null,null,null,null,null,null,null,null,null,null,null,null,null,null,null,{"$f":"SUM(Q393:Q413)","v":160},{"$f":"SUM(R393:R413)","v":0},{"$f":"SUM(S393:S413)","v":10},0,10,0,0,0]
["ÁREA DE FARMACIA",null,null,null,null,null,null,null,null,null,null,null,null,null,null,null,null,null,null,null,null,null,null,null,{"$f":"SUM(Q394:Q413)","v":160},{"$f":"SUM(R394:R413)","v":0},{"$f":"SUM(S394:S413)","v":10},0,10,0,0,0]
["AMBIENTES",null,null,null,null,null,null,null,null,null,null,null,null,null,null,null,null,null,null,null,null,null,null,null,{"$f":"SUM(Q395:Q406)","v":100},{"$f":"SUM(R395:R406)","v":0},{"$f":"SUM(S395:S406)","v":10},0,10,0,0,0]
["Dispensación",{"$f":"B1","v":"Anx:"},{"$f":"C$1","v":"Cant x Espacio:"},"Requerido:","Tipo:","Funcional:","No Funcional:",null,null,"Calif:","Observaciones:",{"$f":"Infraestructura!$F$123","v":0},{"$f":"Infraestructura!$G$123","v":0}]
["Mostrador/Escritorio","EQ_01",1,{"$f":"IF(AND($L$395=0,$M$395=0),0,IF(AND($L$395>0,$M$395>0),($L$395+$M$395)*C396,IF(AND($L$395=0,$M$395>0),C396*$M$395,$L$395*C396)))","v":0},"Requerido",0,0,{"$f":"IF(AND(F396>=D396,D396>0,F396>=1),10,0)","v":0},{"$f":"IF(AND(G396>=D396,D396>0,G396>=1),10,0)","v":0},{"$f":"IF(AND(OR(F396=0,F396<D396),G396=0),0,IF(AND(OR(F396=0,F396<D396),G396>=D396),-10,IF(D396=0,0,IF(F396>=D396,10,0))))","v":0},null,null,null,null,null,null,{"$f":"IF(UPPER(E396)=\"REQUERIDO\", 10, \"\")","v":10},{"$f":"IF(UPPER(E396)=\"REQUERIDO\", J396, \"\")","v":0}]
["Computador completo (Portátil o de Escritorio)","EQ_02",1,{"$f":"IF(AND($L$395=0,$M$395=0),0,IF(AND($L$395>0,$M$395>0),($L$395+$M$395)*C397,IF(AND($L$395=0,$M$395>0),C397*$M$395,$L$395*C397)))","v":0},"Requerido",0,0,0,0,0,null,null,null,null,null,null,{"$f":"IF(UPPER(E397)=\"REQUERIDO\", 10, \"\")","v":10},{"$f":"IF(UPPER(E397)=\"REQUERIDO\", J397, \"\")","v":0}]
["Silla",null,1,0,"Requerido",0,0,0,0,0,null,null,null,null,null,null,{"$f":"IF(UPPER(E398)=\"REQUERIDO\", 10, \"\")","v":10},{"$f":"IF(UPPER(E398)=\"REQUERIDO\", J398, \"\")","v":0}]
["Armario con seguridad",null,1,0,"Condición",0,0,0,0,0,null,null,null,null,null,null,null,null,{"$f":"IF(UPPER(E399)=\"CONDICIÓN\", 10, \"\")","v":10},{"$f":"IF(UPPER(E399)=\"CONDICIÓN\", H399, \"\")","v":0},{"$f":"IF(UPPER(E399)=\"CONDICIÓN\", 10, \"\")","v":10},{"$f":"IF(UPPER(E399)=\"CONDICIÓN\", I399, \"\")","v":0}]
["Estantería ",null,1,0,"Requerido",0,0,0,0,0,null,null,null,null,null,null,10,0]
["Refrigerador con termo higrómetro",null,1,0,"Requerido",0,0,0,0,0,null,null,null,null,null,null,10,0]
["Termo higrómetro ambiental",null,1,0,"Requerido",0,0,0,0,0,null,null,null,null,null,null,10,0]
["Basurero",null,2,0,"Requerido",0,0,0,0,0,null,null,null,null,null,null,10,0]
["Lavabo",null,1,0,"Requerido",0,0,0,0,0,null,null,null,null,null,null,10,0]
["Dispensador  de jabón",null,1,0,"Requerido",0,0,0,0,0,null,null,null,null,null,null,10,0]
["Dispensador de papel toalla ",null,1,0,"Requerido",0,0,0,0,0,null,null,null,null,null,null,10,0]
["Bodega",{"$f":"B1","v":"Anx:"},{"$f":"C$1","v":"Cant x Espacio:"},"Requerido:","Tipo:","Funcional:","No Funcional:",null,null,"Calif:","Observaciones:",{"$f":"Infraestructura!$F$124","v":0},{"$f":"Infraestructura!$G$124","v":0},null,null,null,null,null,null,null,null,null,null,null,{"$f":"SUM(Q408:Q413)","v":60},{"$f":"SUM(R408:R413)","v":0},{"$f":"SUM(S408:S413)","v":0},0,0,0,0,0]
["Estantería ",null,1,{"$f":"IF(AND($L$407=0,$M$407=0),0,IF(AND($L$407>0,$M$407>0),($L$407+$M$407)*C408,IF(AND($L$407=0,$M$407>0),C408*$M$407,$L$407*C408)))","v":0},"Requerido",0,0,{"$f":"IF(AND(F408>=D408,D408>0,F408>=1),10,0)","v":0},0,0,null,null,null,null,null,null,{"$f":"IF(UPPER(E408)=\"REQUERIDO\", 10, \"\")","v":10},{"$f":"IF(UPPER(E408)=\"REQUERIDO\", J408, \"\")","v":0}]
["Pallet",null,1,{"$f":"IF(AND($L$407=0,$M$407=0),0,IF(AND($L$407>0,$M$407>0),($L$407+$M$407)*C409,IF(AND($L$407=0,$M$407>0),C409*$M$407,$L$407*C409)))","v":0},"Requerido",0,0,0,0,0,null,null,null,null,null,null,{"$f":"IF(UPPER(E409)=\"REQUERIDO\", 10, \"\")","v":10},{"$f":"IF(UPPER(E409)=\"REQUERIDO\", J409, \"\")","v":0}]
["Refrigerador con termo higrómetro",null,1,0,"Requerido",0,0,0,0,0,null,null,null,null,null,null,10,0]
["Termo higrómetro ambiental",null,1,0,"Requerido",0,0,0,0,0,null,null,null,null,null,null,10,0]
["Extintor de incendios  portátil  ",null,1,0,"Requerido",0,0,0,0,0,null,null,null,null,null,null,10,0]
["Escalera pata de gallo / Gradilla",null,1,0,"Requerido",0,0,0,0,0,null,null,null,null,null,null,10,0]
["ADMINISTRATIVO",null,null,null,null,null,null,null,null,null,null,null,null,null,null,null,null,null,null,null,null,null,null,null,{"$f":"SUM(Q415:Q476)","v":340},{"$f":"SUM(R415:R476)","v":0},{"$f":"SUM(S415:S476)","v":10},0,10,0,0,0]
["ADMINISTRACIÓN TÉCNICA",null,null,null,null,null,null,null,null,null,null,null,null,null,null,null,null,null,null,null,null,null,null,null,{"$f":"SUM(Q416:Q476)","v":340},{"$f":"SUM(R416:R476)","v":0},{"$f":"SUM(S416:S476)","v":10},0,10,0,0,0]
["ÁREA TÉCNICA",null,null,null,null,null,null,null,null,null,null,null,null,null,null,null,null,null,null,null,null,null,null,null,{"$f":"SUM(Q417:Q476)","v":340},{"$f":"SUM(R417:R476)","v":0},{"$f":"SUM(S417:S476)","v":10},0,10,0,0,0]
["AMBIENTES",null,null,null,null,null,null,null,null,null,null,null,null,null,null,null,null,null,null,null,null,null,null,null,{"$f":"SUM(Q418:Q425)","v":70},{"$f":"SUM(R418:R425)","v":0},{"$f":"SUM(S418:S425)","v":0},0,0,0,0,0]
["Despacho del Director (Puede ser un consultorio médico de uso exclusivo del director [Nefrólogo])",{"$f":"B1","v":"Anx:"},{"$f":"C$1","v":"Cant x Espacio:"},"Requerido:","Tipo:","Funcional:","No Funcional:",null,null,"Calif:","Observaciones:",{"$f":"Infraestructura!$F$132","v":0},{"$f":"Infraestructura!$G$132","v":0}]
["Escritorio/Mesa de despacho","EQ_01",1,{"$f":"IF(AND($L$418=0,$M$418=0),0,IF(AND($L$418>0,$M$418>0),($L$418+$M$418)*C419,IF(AND($L$418=0,$M$418>0),C419*$M$418,$L$418*C419)))","v":0},"Requerido",0,0,{"$f":"IF(AND(F419>=D419,D419>0,F419>=1),10,0)","v":0},{"$f":"IF(AND(G419>=D419,D419>0,G419>=1),10,0)","v":0},{"$f":"IF(AND(OR(F419=0,F419<D419),G419=0),0,IF(AND(OR(F419=0,F419<D419),G419>=D419),-10,IF(D419=0,0,IF(F419>=D419,10,0))))","v":0},null,null,null,null,null,null,{"$f":"IF(UPPER(E419)=\"REQUERIDO\", 10, \"\")","v":10},{"$f":"IF(UPPER(E419)=\"REQUERIDO\", J419, \"\")","v":0}]
["Armario/Archivador",null,1,{"$f":"IF(AND($L$418=0,$M$418=0),0,IF(AND($L$418>0,$M$418>0),($L$418+$M$418)*C420,IF(AND($L$418=0,$M$418>0),C420*$M$418,$L$418*C420)))","v":0},"Requerido",0,0,0,0,0,null,null,null,null,null,null,{"$f":"IF(UPPER(E420)=\"REQUERIDO\", 10, \"\")","v":10},{"$f":"IF(UPPER(E420)=\"REQUERIDO\", J420, \"\")","v":0}]
["Computador completo (Portátil o de Escritorio)","EQ_02",1,0,"Requerido",0,0,0,0,0,null,null,null,null,null,null,{"$f":"IF(UPPER(E421)=\"REQUERIDO\", 10, \"\")","v":10},{"$f":"IF(UPPER(E421)=\"REQUERIDO\", J421, \"\")","v":0}]
["Basurero",null,1,0,"Requerido",0,0,0,0,0,null,null,null,null,null,null,10,0]
["Perchero de pie/Gancho doble",null,1,0,"Requerido",0,0,0,0,0,null,null,null,null,null,null,10,0]
["Silla confidente ",null,2,0,"Requerido",0,0,0,0,0,null,null,null,null,null,null,10,0]
["Silla",null,1,0,"Requerido",0,0,0,0,0,null,null,null,null,null,null,10,0]
["Sala de espera",{"$f":"B1","v":"Anx:"},{"$f":"C$1","v":"Cant x Espacio:"},"Requerido:","Tipo:","Funcional:","No Funcional:",null,null,"Calif:","Observaciones:",{"$f":"Infraestructura!$F$133","v":0},{"$f":"Infraestructura!$G$133","v":0},null,null,null,null,null,null,null,null,null,null,null,{"$f":"SUM(Q427:Q429)","v":0},{"$f":"SUM(R427:R429)","v":0},{"$f":"SUM(S427:S429)","v":0},0,0,0,0,0]
["Bancas / sillas",null,2,{"$f":"IF(AND($L$426=0,$M$426=0),0,IF(AND($L$426>0,$M$426>0),($L$426+$M$426)*C427,IF(AND($L$426=0,$M$426>0),C427*$M$426,$L$426*C427)))","v":0},{"$f":"IF(D427>0, \"Requerido\", \"Sin Infraestructura\")","v":"Sin Infraestructura"},0,0,{"$f":"IF(AND(F427>=D427,D427>0,F427>=1),10,0)","v":0},0,{"$f":"IF(AND(OR(F427=0,F427<D427),G427=0),0,IF(AND(OR(F427=0,F427<D427),G427>=D427),-10,IF(D427=0,0,IF(F427>=D427,10,0))))","v":0},null,null,null,null,null,null,{"$f":"IF(UPPER(E427)=\"REQUERIDO\", 10, \"\")","v":""},{"$f":"IF(UPPER(E427)=\"REQUERIDO\", J427, \"\")","v":""}]
["Basurero",null,1,{"$f":"IF(AND($L$426=0,$M$426=0),0,IF(AND($L$426>0,$M$426>0),($L$426+$M$426)*C428,IF(AND($L$426=0,$M$426>0),C428*$M$426,$L$426*C428)))","v":0},{"$f":"IF(D428>0, \"Requerido\", \"Sin Infraestructura\")","v":"Sin Infraestructura"},0,0,0,0,0,null,null,null,null,null,null,{"$f":"IF(UPPER(E428)=\"REQUERIDO\", 10, \"\")","v":""},{"$f":"IF(UPPER(E428)=\"REQUERIDO\", J428, \"\")","v":""}]
["Reloj de pared",null,1,0,{"$f":"IF(D429>0, \"Requerido\", \"Sin Infraestructura\")","v":"Sin Infraestructura"},0,0,0,0,0,null,null,null,null,null,null,{"$f":"IF(UPPER(E429)=\"REQUERIDO\", 10, \"\")","v":""},{"$f":"IF(UPPER(E429)=\"REQUERIDO\", J429, \"\")","v":""}]
["Secretaría (no exclusiva de la Dirección, puede encontrarse en el área de Admisión, Información y Recepción)",{"$f":"B1","v":"Anx:"},{"$f":"C$1","v":"Cant x Espacio:"},"Requerido:","Tipo:","Funcional:","No Funcional:",null,null,"Calif:","Observaciones:",{"$f":"Infraestructura!$F$134","v":0},{"$f":"Infraestructura!$G$134","v":0},null,null,null,null,null,null,null,null,null,null,null,{"$f":"SUM(Q431:Q436)","v":60},{"$f":"SUM(R431:R436)","v":0},{"$f":"SUM(S431:S436)","v":0},0,0,0,0,0]
["Escritorio/Mesa de despacho","EQ_01",1,{"$f":"IF(AND($L$430=0,$M$430=0),0,IF(AND($L$430>0,$M$430>0),($L$430+$M$430)*C431,IF(AND($L$430=0,$M$430>0),C431*$M$430,$L$430*C431)))","v":0},"Requerido",0,0,{"$f":"IF(AND(F431>=D431,D431>0,F431>=1),10,0)","v":0},0,{"$f":"IF(AND(OR(F431=0,F431<D431),G431=0),0,IF(AND(OR(F431=0,F431<D431),G431>=D431),-10,IF(D431=0,0,IF(F431>=D431,10,0))))","v":0},null,null,null,null,null,null,{"$f":"IF(UPPER(E431)=\"REQUERIDO\", 10, \"\")","v":10},{"$f":"IF(UPPER(E431)=\"REQUERIDO\", J431, \"\")","v":0}]
["Armario/Archivador",null,1,{"$f":"IF(AND($L$430=0,$M$430=0),0,IF(AND($L$430>0,$M$430>0),($L$430+$M$430)*C432,IF(AND($L$430=0,$M$430>0),C432*$M$430,$L$430*C432)))","v":0},"Requerido",0,0,0,0,0,null,null,null,null,null,null,{"$f":"IF(UPPER(E432)=\"REQUERIDO\", 10, \"\")","v":10},{"$f":"IF(UPPER(E432)=\"REQUERIDO\", J432, \"\")","v":0}]
["Basurero",null,1,0,"Requerido",0,0,0,0,0,null,null,null,null,null,null,10,0]
["Perchero de pie/Gancho doble",null,1,0,"Requerido",0,0,0,0,0,null,null,null,null,null,null,10,0]
["Silla confidente",null,2,0,"Requerido",0,0,0,0,0,null,null,null,null,null,null,10,0]
["Silla",null,1,0,"Requerido",0,0,0,0,0,null,null,null,null,null,null,10,0]
["Despacho de Jefe de Enfermeras",{"$f":"B1","v":"Anx:"},{"$f":"C$1","v":"Cant x Espacio:"},"Requerido:","Tipo:","Funcional:","No Funcional:",null,null,"Calif:","Observaciones:",{"$f":"Infraestructura!$F$135","v":0},{"$f":"Infraestructura!$G$135","v":0},null,null,null,null,null,null,null,null,null,null,null,{"$f":"SUM(Q438:Q443)","v":60},{"$f":"SUM(R438:R443)","v":0},{"$f":"SUM(S438:S443)","v":0},0,0,0,0,0]
["Escritorio/Mesa de despacho","EQ_01",1,{"$f":"IF(AND($L$437=0,$M$437=0),0,IF(AND($L$437>0,$M$437>0),($L$437+$M$437)*C438,IF(AND($L$437=0,$M$437>0),C438*$M$437,$L$437*C438)))","v":0},"Requerido",0,0,{"$f":"IF(AND(F438>=D438,D438>0,F438>=1),10,0)","v":0},0,{"$f":"IF(AND(OR(F438=0,F438<D438),G438=0),0,IF(AND(OR(F438=0,F438<D438),G438>=D438),-10,IF(D438=0,0,IF(F438>=D438,10,0))))","v":0},null,null,null,null,null,null,{"$f":"IF(UPPER(E438)=\"REQUERIDO\", 10, \"\")","v":10},{"$f":"IF(UPPER(E438)=\"REQUERIDO\", J438, \"\")","v":0}]
["Armario/Archivador",null,1,{"$f":"IF(AND($L$437=0,$M$437=0),0,IF(AND($L$437>0,$M$437>0),($L$437+$M$437)*C439,IF(AND($L$437=0,$M$437>0),C439*$M$437,$L$437*C439)))","v":0},"Requerido",0,0,0,0,0,null,null,null,null,null,null,{"$f":"IF(UPPER(E439)=\"REQUERIDO\", 10, \"\")","v":10},{"$f":"IF(UPPER(E439)=\"REQUERIDO\", J439, \"\")","v":0}]
["Computador completo (Portátil o de Escritorio)","EQ_02",1,0,"Requerido",0,0,0,0,0,null,null,null,null,null,null,10,0]
["Basurero",null,1,0,"Requerido",0,0,0,0,0,null,null,null,null,null,null,10,0]
["Perchero de pie/Gancho doble",null,1,0,"Requerido",0,0,0,0,0,null,null,null,null,null,null,10,0]
["Silla",null,2,0,"Requerido",0,0,0,0,0,null,null,null,null,null,null,10,0]
["Oficina de  Trabajo Social (Puede compartir con los Consultorios de Psicología y Nutrición, únicamente cuando esta se encuentre en consulta externa. Es un área de uso exclusivo que debe asegurar la privacidad del usuario)",{"$f":"B8","v":"Anx:"},{"$f":"C$1","v":"Cant x Espacio:"},"Requerido:","Tipo:","Funcional:","No Funcional:",null,null,"Calif:","Observaciones:",{"$f":"Infraestructura!$F$136","v":0},{"$f":"Infraestructura!$G$136","v":0},null,null,null,null,null,null,null,null,null,null,null,{"$f":"SUM(Q445:Q451)","v":70},{"$f":"SUM(R445:R451)","v":0},{"$f":"SUM(S445:S451)","v":0},0,0,0,0,0]
["Escritorio/Mesa de despacho","EQ_01",1,{"$f":"IF(AND($L$444=0,$M$444=0),0,IF(AND($L$444>0,$M$444>0),($L$444+$M$444)*C445,IF(AND($L$444=0,$M$444>0),C445*$M$444,$L$444*C445)))","v":0},"Requerido",0,0,{"$f":"IF(AND(F445>=D445,D445>0,F445>=1),10,0)","v":0},0,0,null,null,null,null,null,null,{"$f":"IF(UPPER(E445)=\"REQUERIDO\", 10, \"\")","v":10},{"$f":"IF(UPPER(E445)=\"REQUERIDO\", J445, \"\")","v":0}]
["Computador completo (Portátil o de escritorio)","EQ_02",1,{"$f":"IF(AND($L$444=0,$M$444=0),0,IF(AND($L$444>0,$M$444>0),($L$444+$M$444)*C446,IF(AND($L$444=0,$M$444>0),C446*$M$444,$L$444*C446)))","v":0},"Requerido",0,0,0,0,0,null,null,null,null,null,null,{"$f":"IF(UPPER(E446)=\"REQUERIDO\", 10, \"\")","v":10},{"$f":"IF(UPPER(E446)=\"REQUERIDO\", J446, \"\")","v":0}]
["Armario/Vitrina/Archivador",null,1,0,"Requerido",0,0,0,0,0,null,null,null,null,null,null,10,0]
["Basurero",null,1,0,"Requerido",0,0,0,0,0,null,null,null,null,null,null,10,0]
["Dispensador para solución hidroalcohólica",null,1,0,"Requerido",0,0,0,0,0,null,null,null,null,null,null,10,0]
["Silla confidente",null,2,0,"Requerido",0,0,0,0,0,null,null,null,null,null,null,10,0]
["Silla",null,1,0,"Requerido",0,0,0,0,0,null,null,null,null,null,null,10,0]
["Despacho de Responsable de Talento Humano (Puede estar en un ambiente compartido con la Zona de Trabajo de técnico financiero, debe demostrarse la gestión)",{"$f":"B1","v":"Anx:"},{"$f":"C$1","v":"Cant x Espacio:"},"Requerido:","Tipo:","Funcional:","No Funcional:",null,null,"Calif:","Observaciones:",{"$f":"Infraestructura!$F$137","v":0},{"$f":"Infraestructura!$G$137","v":0},null,null,null,null,null,null,null,null,null,null,null,{"$f":"SUM(Q453:Q459)","v":0},{"$f":"SUM(R453:R459)","v":0},{"$f":"SUM(S453:S459)","v":0},0,0,0,0,0]
["Escritorio/Mesa de despacho","EQ_01",1,{"$f":"IF(AND($L$452=0,$M$452=0),0,IF(AND($L$452>0,$M$452>0),($L$452+$M$452)*C453,IF(AND($L$452=0,$M$452>0),C453*$M$452,$L$452*C453)))","v":0},{"$f":"IF(D453>0, \"Requerido\", \"Sin Infraestructura\")","v":"Sin Infraestructura"},0,0,{"$f":"IF(AND(F453>=D453,D453>0,F453>=1),10,0)","v":0},0,0,null,null,null,null,null,null,{"$f":"IF(UPPER(E453)=\"REQUERIDO\", 10, \"\")","v":""},{"$f":"IF(UPPER(E453)=\"REQUERIDO\", J453, \"\")","v":""}]
["Armario/Archivador",null,1,{"$f":"IF(AND($L$452=0,$M$452=0),0,IF(AND($L$452>0,$M$452>0),($L$452+$M$452)*C454,IF(AND($L$452=0,$M$452>0),C454*$M$452,$L$452*C454)))","v":0},"Sin Infraestructura",0,0,0,0,0,null,null,null,null,null,null,{"$f":"IF(UPPER(E454)=\"REQUERIDO\", 10, \"\")","v":""},{"$f":"IF(UPPER(E454)=\"REQUERIDO\", J454, \"\")","v":""}]
["Computador completo (Portátil o de Escritorio)","EQ_02",1,0,"Sin Infraestructura",0,0,0,0,0,null,null,null,null,null,null,{"$f":"IF(UPPER(E455)=\"REQUERIDO\", 10, \"\")","v":""},{"$f":"IF(UPPER(E455)=\"REQUERIDO\", J455, \"\")","v":""}]
["Basurero",null,1,0,"Sin Infraestructura",0,0,0,0,0,null,null,null,null,null,null,"",""]
["Perchero de pie/Gancho doble",null,1,0,"Sin Infraestructura",0,0,0,0,0,null,null,null,null,null,null,"",""]
["Silla confidente",null,2,0,"Sin Infraestructura",0,0,0,0,0,null,null,null,null,null,null,"",""]
["Silla",null,1,0,"Sin Infraestructura",0,0,0,0,0,null,null,null,null,null,null,"",""]
["Zona de trabajo de Técnico financiero",{"$f":"B1","v":"Anx:"},{"$f":"C$1","v":"Cant x Espacio:"},"Requerido:","Tipo:","Funcional:","No Funcional:",null,null,"Calif:","Observaciones:",{"$f":"Infraestructura!$F$138","v":0},{"$f":"Infraestructura!$G$138","v":0},null,null,null,null,null,null,null,null,null,null,null,{"$f":"SUM(Q461:Q466)","v":0},{"$f":"SUM(R461:R466)","v":0},{"$f":"SUM(S461:S466)","v":0},0,0,0,0,0]
["Escritorio/Mesa de despacho","EQ_01",1,{"$f":"IF(AND($L$460=0,$M$460=0),0,IF(AND($L$460>0,$M$460>0),($L$460+$M$460)*C461,IF(AND($L$460=0,$M$460>0),C461*$M$460,$L$460*C461)))","v":0},{"$f":"IF(D461>0, \"Requerido\", \"Sin Infraestructura\")","v":"Sin Infraestructura"},0,0,{"$f":"IF(AND(F461>=D461,D461>0,F461>=1),10,0)","v":0},0,0,null,null,null,null,null,null,{"$f":"IF(UPPER(E461)=\"REQUERIDO\", 10, \"\")","v":""},{"$f":"IF(UPPER(E461)=\"REQUERIDO\", J461, \"\")","v":""}]
["Armario/Archivador",null,1,{"$f":"IF(AND($L$460=0,$M$460=0),0,IF(AND($L$460>0,$M$460>0),($L$460+$M$460)*C462,IF(AND($L$460=0,$M$460>0),C462*$M$460,$L$460*C462)))","v":0},"Sin Infraestructura",0,0,{"$f":"IF(AND(F462>=D462,D462>0,F462>=1),10,0)","v":0},0,0,null,null,null,null,null,null,{"$f":"IF(UPPER(E462)=\"REQUERIDO\", 10, \"\")","v":""},{"$f":"IF(UPPER(E462)=\"REQUERIDO\", J462, \"\")","v":""}]
["Computador completo (Portátil o de Escritorio)","EQ_02",1,0,"Sin Infraestructura",0,0,0,0,0,null,null,null,null,null,null,"",""]
["Basurero",null,1,0,"Sin Infraestructura",0,0,0,0,0,null,null,null,null,null,null,"",""]
["Perchero de pie/Gancho doble",null,1,0,"Sin Infraestructura",0,0,0,0,0,null,null,null,null,null,null,"",""]
["Silla",null,1,0,"Sin Infraestructura",0,0,0,0,0,null,null,null,null,null,null,"",""]
["Baño de personal",{"$f":"B8","v":"Anx:"},{"$f":"C$1","v":"Cant x Espacio:"},"Requerido:","Tipo:","Funcional:","No Funcional:",null,null,"Calif:","Observaciones:",{"$f":"Infraestructura!$F$139","v":0},{"$f":"Infraestructura!$G$139","v":0},null,null,null,null,null,null,null,null,null,null,null,{"$f":"SUM(Q468:Q476)","v":80},{"$f":"SUM(R468:R476)","v":0},{"$f":"SUM(S468:S476)","v":10},0,10,0,0,0]
["Dispensador de jabón",null,1,{"$f":"IF(AND($L$467=0,$M$467=0),0,IF(AND($L$467>0,$M$467>0),($L$467+$M$467)*C468,IF(AND($L$467=0,$M$467>0),C468*$M$467,$L$467*C468)))","v":0},"Requerido",0,0,{"$f":"IF(AND(F468>=D468,D468>0,F468>=1),10,0)","v":0},0,0,null,null,null,null,null,null,{"$f":"IF(UPPER(E468)=\"REQUERIDO\", 10, \"\")","v":10},{"$f":"IF(UPPER(E468)=\"REQUERIDO\", J468, \"\")","v":0}]
["Dispensador de papel toalla",null,1,{"$f":"IF(AND($L$467=0,$M$467=0),0,IF(AND($L$467>0,$M$467>0),($L$467+$M$467)*C469,IF(AND($L$467=0,$M$467>0),C469*$M$467,$L$467*C469)))","v":0},"Requerido",0,0,{"$f":"IF(AND(F469>=D469,D469>0,F469>=1),10,0)","v":0},0,0,null,null,null,null,null,null,{"$f":"IF(UPPER(E469)=\"REQUERIDO\", 10, \"\")","v":10},{"$f":"IF(UPPER(E469)=\"REQUERIDO\", J469, \"\")","v":0}]
["Dispensador papel higiénico",null,1,0,"Requerido",0,0,{"$f":"IF(AND(F470>=D470,D470>0,F470>=1),10,0)","v":0},0,0,null,null,null,null,null,null,{"$f":"IF(UPPER(E470)=\"REQUERIDO\", 10, \"\")","v":10},{"$f":"IF(UPPER(E470)=\"REQUERIDO\", J470, \"\")","v":0}]
["Inodoro",null,1,0,"Requerido",0,0,0,0,0,null,null,null,null,null,null,10,0]
["Espejo empotrado ",null,1,0,"Requerido",0,0,0,0,0,null,null,null,null,null,null,10,0]
["Gancho doble",null,1,0,"Requerido",0,0,0,0,0,null,null,null,null,null,null,10,0]
["Lavabo ",null,1,0,"Requerido",0,0,0,0,0,null,null,null,null,null,null,10,0]
["Basurero",null,1,0,"Requerido",0,0,0,0,0,null,null,null,null,null,null,10,0]
["Barras de apoyo",null,1,0,"Condición",0,0,0,0,0,null,null,null,null,null,null,null,null,{"$f":"IF(UPPER(E476)=\"CONDICIÓN\", 10, \"\")","v":10},{"$f":"IF(UPPER(E476)=\"CONDICIÓN\", H476, \"\")","v":0},{"$f":"IF(UPPER(E476)=\"CONDICIÓN\", 10, \"\")","v":10},{"$f":"IF(UPPER(E476)=\"CONDICIÓN\", I476, \"\")","v":0}]
["GENERAL",null,null,null,null,null,null,null,null,null,null,null,null,null,null,null,null,null,null,null,null,null,null,null,{"$f":"SUM(Q478:Q573)","v":190},{"$f":"SUM(R478:R573)","v":0},{"$f":"SUM(S478:S573)","v":0},0,0,0,10,{"$f":"SUM(X478:X573)","v":0}]
["SERVICIOS INTERNOS DE APOYO",null,null,null,null,null,null,null,null,null,null,null,null,null,null,null,null,null,null,null,null,null,null,null,{"$f":"SUM(Q479:Q573)","v":190},{"$f":"SUM(R479:R573)","v":0},{"$f":"SUM(S479:S573)","v":0},0,0,0,10,0]
["ÁREA DE APOYO Y ALMACENAMIENTO( suministros e insumos) para el establecimiento",null,null,null,null,null,null,null,null,null,null,null,null,null,null,null,null,null,null,null,null,null,null,null,{"$f":"SUM(Q480:Q492)","v":30},{"$f":"SUM(R480:R492)","v":0},{"$f":"SUM(S480:S492)","v":0},0,0,0,0,0]
["AMBIENTES",null,null,null,null,null,null,null,null,null,null,null,null,null,null,null,null,null,null,null,null,null,null,null,{"$f":"SUM(Q481:Q488)","v":0},{"$f":"SUM(R481:R488)","v":0},{"$f":"SUM(S481:S488)","v":0},0,0,0,0,0]
["Recepción-Admisión",{"$f":"B1","v":"Anx:"},{"$f":"C$1","v":"Cant x Espacio:"},"Requerido:","Tipo:","Funcional:","No Funcional:",null,null,"Calif:","Observaciones:",{"$f":"Infraestructura!$F$147","v":0},{"$f":"Infraestructura!$G$147","v":0}]
["Mostrador / escritorio/Mesa de despacho","EQ_01",1,{"$f":"IF(AND($L$481=0,$M$481=0),0,IF(AND($L$481>0,$M$481>0),($L$481+$M$481)*C482,IF(AND($L$481=0,$M$481>0),C482*$M$481,$L$481*C482)))","v":0},{"$f":"IF(D482>0,\"Requerido\",\"Sin Infraestructura\")","v":"Sin Infraestructura"},0,0,{"$f":"IF(AND(F482>=D482,D482>0,F482>=1),10,0)","v":0},{"$f":"IF(AND(G482>=D482,D482>0,G482>=1),10,0)","v":0},{"$f":"IF(AND(OR(F482=0,F482<D482),G482=0),0,IF(AND(OR(F482=0,F482<D482),G482>=D482),-10,IF(D482=0,0,IF(F482>=D482,10,0))))","v":0},null,null,null,null,null,null,{"$f":"IF(UPPER(E482)=\"REQUERIDO\", 10, \"\")","v":""},{"$f":"IF(UPPER(E482)=\"REQUERIDO\", J482, \"\")","v":""}]
["Armario/Archivador",null,1,{"$f":"IF(AND($L$481=0,$M$481=0),0,IF(AND($L$481>0,$M$481>0),($L$481+$M$481)*C483,IF(AND($L$481=0,$M$481>0),C483*$M$481,$L$481*C483)))","v":0},{"$f":"IF(D483>0,\"Requerido\",\"Sin Infraestructura\")","v":"Sin Infraestructura"},0,0,{"$f":"IF(AND(F483>=D483,D483>0,F483>=1),10,0)","v":0},0,0,null,null,null,null,null,null,{"$f":"IF(UPPER(E483)=\"REQUERIDO\", 10, \"\")","v":""},{"$f":"IF(UPPER(E483)=\"REQUERIDO\", J483, \"\")","v":""}]
["Computador completo (Portátil o de Escritorio)","EQ_02",1,0,{"$f":"IF(D484>0,\"Condición\",\"Sin Infraestructura\")","v":"Sin Infraestructura"},0,0,0,0,0,null,null,null,null,null,null,null,null,{"$f":"IF(UPPER(E484)=\"CONDICIÓN\", 10, \"\")","v":""},{"$f":"IF(UPPER(E484)=\"CONDICIÓN\", H484, \"\")","v":""},{"$f":"IF(UPPER(E484)=\"CONDICIÓN\", 10, \"\")","v":""},{"$f":"IF(UPPER(E484)=\"CONDICIÓN\", I484, \"\")","v":""}]
["Basurero",null,1,0,"Sin Infraestructura",0,0,0,0,0,null,null,null,null,null,null,{"$f":"IF(UPPER(E485)=\"REQUERIDO\", 10, \"\")","v":""},{"$f":"IF(UPPER(E485)=\"REQUERIDO\", J485, \"\")","v":""}]
["Silla",null,1,0,"Sin Infraestructura",0,0,0,0,0,null,null,null,null,null,null,"",""]
["Tablero de avisos ",null,1,0,"Sin Infraestructura",0,0,0,0,0,null,null,null,null,null,null,"",""]
["Teléfono",null,1,0,{"$f":"IF(D488>0,\"Condición\",\"Sin Infraestructura\")","v":"Sin Infraestructura"},0,0,0,0,0,null,null,null,null,null,null,"","",{"$f":"IF(UPPER(E488)=\"CONDICIÓN\", 10, \"\")","v":""},{"$f":"IF(UPPER(E488)=\"CONDICIÓN\", H488, \"\")","v":""},{"$f":"IF(UPPER(E488)=\"CONDICIÓN\", 10, \"\")","v":""},{"$f":"IF(UPPER(E488)=\"CONDICIÓN\", I488, \"\")","v":""}]
["Bodega General",{"$f":"B1","v":"Anx:"},{"$f":"C$1","v":"Cant x Espacio:"},"Requerido:","Tipo:","Funcional:","No Funcional:",null,null,"Calif:","Observaciones:",{"$f":"Infraestructura!$F$148","v":0},{"$f":"Infraestructura!$G$148","v":0}]
["Escalera pata de gallo/Gradilla",null,1,{"$f":"IF(AND($L$489=0,$M$489=0),0,IF(AND($L$489>0,$M$489>0),($L$489+$M$489)*C490,IF(AND($L$489=0,$M$489>0),C490*$M$489,$L$489*C490)))","v":0},"Requerido",0,0,{"$f":"IF(AND(F490>=D490,D490>0,F490>=1),10,0)","v":0},{"$f":"IF(AND(G490>=D490,D490>0,G490>=1),10,0)","v":0},{"$f":"IF(AND(OR(F490=0,F490<D490),G490=0),0,IF(AND(OR(F490=0,F490<D490),G490>=D490),-10,IF(D490=0,0,IF(F490>=D490,10,0))))","v":0},null,null,null,null,null,null,{"$f":"IF(UPPER(E490)=\"REQUERIDO\", 10, \"\")","v":10},{"$f":"IF(UPPER(E490)=\"REQUERIDO\", J490, \"\")","v":0}]
["Extintor de incendios portátil",null,1,{"$f":"IF(AND($L$489=0,$M$489=0),0,IF(AND($L$489>0,$M$489>0),($L$489+$M$489)*C491,IF(AND($L$489=0,$M$489>0),C491*$M$489,$L$489*C491)))","v":0},"Requerido",0,0,0,0,0,null,null,null,null,null,null,10,0]
["Estantería",null,2,0,"Requerido",0,0,0,0,0,null,null,null,null,null,null,10,0]
["ÁREA DEL PERSONAL",null,null,null,null,null,null,null,null,null,null,null,null,null,null,null,null,null,null,null,null,null,null,null,{"$f":"SUM(Q494:Q523)","v":120},{"$f":"SUM(R494:R523)","v":0},{"$f":"SUM(S494:S523)","v":0},0,0,0,10,0]
["Vestidor",{"$f":"B1","v":"Anx:"},{"$f":"C$1","v":"Cant x Espacio:"},{"$f":"D$1","v":"Requerido:"},"Tipo:","Funcional:","No Funcional:",null,null,"Calif:","Observaciones:",{"$f":"Infraestructura!$F$154","v":0},{"$f":"Infraestructura!$G$154","v":0},null,null,null,null,null,null,null,null,null,null,null,{"$f":"SUM(Q495:Q498)","v":40},{"$f":"SUM(R495:R498)","v":0},{"$f":"SUM(S495:S498)","v":0},0,0,0,0,0]
["Casilleros/Lockers",null,5,{"$f":"IF(AND($L$494=0,$M$494=0),0,IF(AND($L$494>0,$M$494>0),($L$494+$M$494)*C495,IF(AND($L$494=0,$M$494>0),C495*$M$494,$L$494*C495)))","v":0},"Requerido",0,0,{"$f":"IF(AND(F495>=D495,D495>0,F495>=1),10,0)","v":0},{"$f":"IF(AND(G495>=D495,D495>0,G495>=1),10,0)","v":0},{"$f":"IF(AND(OR(F495=0,F495<D495),G495=0),0,IF(AND(OR(F495=0,F495<D495),G495>=D495),-10,IF(D495=0,0,IF(F495>=D495,10,0))))","v":0},null,null,null,null,null,null,{"$f":"IF(UPPER(E495)=\"REQUERIDO\", 10, \"\")","v":10},{"$f":"IF(UPPER(E495)=\"REQUERIDO\", J495, \"\")","v":0}]
["Banco de vestuario",null,1,{"$f":"IF(AND($L$494=0,$M$494=0),0,IF(AND($L$494>0,$M$494>0),($L$494+$M$494)*C496,IF(AND($L$494=0,$M$494>0),C496*$M$494,$L$494*C496)))","v":0},"Requerido",0,0,{"$f":"IF(AND(F496>=D496,D496>0,F496>=1),10,0)","v":0},0,0,null,null,null,null,null,null,10,0]
["Gancho doble",null,1,0,"Requerido",0,0,{"$f":"IF(AND(F497>=D497,D497>0,F497>=1),10,0)","v":0},0,0,null,null,null,null,null,null,10,0]
["Basurero",null,1,0,"Requerido",0,0,{"$f":"IF(AND(F498>=D498,D498>0,F498>=1),10,0)","v":0},0,0,null,null,null,null,null,null,10,0]
["Baño de vestidor",{"$f":"B1","v":"Anx:"},{"$f":"C$1","v":"Cant x Espacio:"},"Requerido:","Tipo:","Funcional:","No Funcional:",null,null,"Calif:","Observaciones:",{"$f":"Infraestructura!$F$155","v":0},{"$f":"Infraestructura!$G$155","v":0},null,null,null,null,null,null,null,null,null,null,null,{"$f":"SUM(Q500:Q508)","v":80},{"$f":"SUM(R500:R508)","v":0},{"$f":"SUM(S500:S508)","v":0},0,0,0,10,0]
["Dispensador de jabón",null,1,{"$f":"IF(AND($L$499=0,$M$499=0),0,IF(AND($L$499>0,$M$499>0),($L$499+$M$499)*C500,IF(AND($L$499=0,$M$499>0),C500*$M$499,$L$499*C500)))","v":0},"Requerido",0,0,{"$f":"IF(AND(F500>=D500,D500>0,F500>=1),10,0)","v":0},{"$f":"IF(AND(G500>=D500,D500>0,G500>=1),10,0)","v":0},{"$f":"IF(AND(OR(F500=0,F500<D500),G500=0),0,IF(AND(OR(F500=0,F500<D500),G500>=D500),-10,IF(D500=0,0,IF(F500>=D500,10,0))))","v":0},null,null,null,null,null,null,{"$f":"IF(UPPER(E500)=\"REQUERIDO\", 10, \"\")","v":10},{"$f":"IF(UPPER(E500)=\"REQUERIDO\", J500, \"\")","v":0}]
["Dispensador de papel toalla",null,1,{"$f":"IF(AND($L$499=0,$M$499=0),0,IF(AND($L$499>0,$M$499>0),($L$499+$M$499)*C501,IF(AND($L$499=0,$M$499>0),C501*$M$499,$L$499*C501)))","v":0},"Requerido",0,0,0,0,0,null,null,null,null,null,null,10,0]
["Dispensador de papel higiénico",null,1,0,"Requerido",0,0,0,0,0,null,null,null,null,null,null,10,0]
["Inodoro",null,1,0,"Requerido",0,0,0,0,0,null,null,null,null,null,null,10,0]
["Espejo empotrado ",null,1,0,"Requerido",0,0,0,0,0,null,null,null,null,null,null,10,0]
["Gancho doble",null,1,0,"Requerido",0,0,0,0,0,null,null,null,null,null,null,10,0]
["Barras de apoyo",null,1,0,"Deseable",0,0,0,0,0,null,null,null,null,null,null,null,null,null,null,null,null,{"$f":"IF(UPPER(E506)=\"DESEABLE\", 10, \"\")","v":10},{"$f":"IF(UPPER(E506)=\"DESEABLE\", J506, \"\")","v":0}]
["Lavabo ",null,1,0,"Requerido",0,0,0,0,0,null,null,null,null,null,null,{"$f":"IF(UPPER(E507)=\"REQUERIDO\", 10, \"\")","v":10},{"$f":"IF(UPPER(E507)=\"REQUERIDO\", J507, \"\")","v":0}]
["Basurero",null,1,0,"Requerido",0,0,0,0,0,null,null,null,null,null,null,10,0]
["Cafetería",{"$f":"B1","v":"Anx:"},{"$f":"C$1","v":"Cant x Espacio:"},{"$f":"D$1","v":"Requerido:"},"Tipo:","Funcional:","No Funcional:",null,null,"Calif:","Observaciones:",{"$f":"Infraestructura!$F$156","v":0},{"$f":"Infraestructura!$G$156","v":0},null,null,null,null,null,null,null,null,null,null,null,{"$f":"SUM(Q510:Q516)","v":0},{"$f":"SUM(R510:R516)","v":0},{"$f":"SUM(S510:S516)","v":0},0,0,0,0,0]
["Mesa",null,1,{"$f":"IF(AND($L$509=0,$M$509=0),0,IF(AND($L$509>0,$M$509>0),($L$509+$M$509)*C510,IF(AND($L$509=0,$M$509>0),C510*$M$509,$L$509*C510)))","v":0},{"$f":"IF(D510>0,\"Requerido\",\"Sin Infraestructura\")","v":"Sin Infraestructura"},0,0,{"$f":"IF(AND(F510>=D510,D510>0,F510>=1),10,0)","v":0},0,{"$f":"IF(AND(OR(F510=0,F510<D510),G510=0),0,IF(AND(OR(F510=0,F510<D510),G510>=D510),-10,IF(D510=0,0,IF(F510>=D510,10,0))))","v":0},null,null,null,null,null,null,{"$f":"IF(UPPER(E510)=\"REQUERIDO\", 10, \"\")","v":""},{"$f":"IF(UPPER(E510)=\"REQUERIDO\", J510, \"\")","v":""}]
["Cafetera ",null,1,{"$f":"IF(AND($L$509=0,$M$509=0),0,IF(AND($L$509>0,$M$509>0),($L$509+$M$509)*C511,IF(AND($L$509=0,$M$509>0),C511*$M$509,$L$509*C511)))","v":0},{"$f":"IF(D511>0,\"Requerido\",\"Sin Infraestructura\")","v":"Sin Infraestructura"},0,0,0,0,0,null,null,null,null,null,null,"",""]
["Gancho doble",null,1,0,"Sin Infraestructura",0,0,0,0,0,null,null,null,null,null,null,"",""]
["Mesón con Lavabo",null,1,{"$f":"IF(AND($L$509=0,$M$509=0),0,IF(AND($L$509>0,$M$509>0),($L$509+$M$509)*C513,IF(AND($L$509=0,$M$509>0),C513*$M$509,$L$509*C513)))","v":0},"Sin Infraestructura",0,0,0,0,0,null,null,null,null,null,null,"",""]
["Microondas",null,1,0,"Sin Infraestructura",0,0,0,0,0,null,null,null,null,null,null,"",""]
["Basurero",null,1,0,"Sin Infraestructura",0,0,0,0,0,null,null,null,null,null,null,"",""]
["Silla",null,4,0,"Sin Infraestructura",0,0,0,0,0,null,null,null,null,null,null,"",""]
["Sala de reuniones",{"$f":"B1","v":"Anx:"},{"$f":"C$1","v":"Cant x Espacio:"},"Requerido:","Tipo:","Funcional:","No Funcional:",null,null,"Calif:","Observaciones:",{"$f":"Infraestructura!$F$157","v":0},{"$f":"Infraestructura!$G$157","v":0},null,null,null,null,null,null,null,null,null,null,null,{"$f":"SUM(Q518:Q524)","v":0},{"$f":"SUM(R518:R524)","v":0},{"$f":"SUM(S518:S524)","v":0},0,0,0,0,0]
["Mesa de reuniones",null,1,{"$f":"IF(AND($L$517=0,$M$517=0),0,IF(AND($L$517>0,$M$517>0),($L$517+$M$517)*C518,IF(AND($L$517=0,$M$517>0),C518*$M$517,$L$517*C518)))","v":0},{"$f":"IF(D518>0,\"Requerido\",\"Sin Infraestructura\")","v":"Sin Infraestructura"},0,0,{"$f":"IF(AND(F518>=D518,D518>0,F518>=1),10,0)","v":0},0,{"$f":"IF(AND(OR(F518=0,F518<D518),G518=0),0,IF(AND(OR(F518=0,F518<D518),G518>=D518),-10,IF(D518=0,0,IF(F518>=D518,10,0))))","v":0},null,null,null,null,null,null,{"$f":"IF(UPPER(E518)=\"REQUERIDO\", 10, \"\")","v":""},{"$f":"IF(UPPER(E518)=\"REQUERIDO\", J518, \"\")","v":""}]
["Computador completo (Portátil o de Escritorio)","EQ_02",1,{"$f":"IF(AND($L$517=0,$M$517=0),0,IF(AND($L$517>0,$M$517>0),($L$517+$M$517)*C519,IF(AND($L$517=0,$M$517>0),C519*$M$517,$L$517*C519)))","v":0},{"$f":"IF(D519>0,\"Condición\",\"Sin Infraestructura\")","v":"Sin Infraestructura"},0,0,0,0,0,null,null,null,null,null,null,null,null,{"$f":"IF(UPPER(E519)=\"CONDICIÓN\", 10, \"\")","v":""},{"$f":"IF(UPPER(E519)=\"CONDICIÓN\", H519, \"\")","v":""},{"$f":"IF(UPPER(E519)=\"CONDICIÓN\", 10, \"\")","v":""},{"$f":"IF(UPPER(E519)=\"CONDICIÓN\", I519, \"\")","v":""}]
["Mueble para computadora",null,1,{"$f":"IF(AND($L$517=0,$M$517=0),0,IF(AND($L$517>0,$M$517>0),($L$517+$M$517)*C520,IF(AND($L$517=0,$M$517>0),C520*$M$517,$L$517*C520)))","v":0},{"$f":"IF(D520>0,\"Condición\",\"Sin Infraestructura\")","v":"Sin Infraestructura"},0,0,0,0,0,null,null,null,null,null,null,null,null,"","","",""]
["Proyector multimedia",null,1,{"$f":"IF(AND($L$517=0,$M$517=0),0,IF(AND($L$517>0,$M$517>0),($L$517+$M$517)*C521,IF(AND($L$517=0,$M$517>0),C521*$M$517,$L$517*C521)))","v":0},{"$f":"IF(D521>0,\"Requerido\",\"Sin Infraestructura\")","v":"Sin Infraestructura"},0,0,0,0,0,null,null,null,null,null,null,{"$f":"IF(UPPER(E521)=\"REQUERIDO\", 10, \"\")","v":""},{"$f":"IF(UPPER(E521)=\"REQUERIDO\", J521, \"\")","v":""}]
["Silla",null,4,{"$f":"IF(AND($L$517=0,$M$517=0),0,IF(AND($L$517>0,$M$517>0),($L$517+$M$517)*C522,IF(AND($L$517=0,$M$517>0),C522*$M$517,$L$517*C522)))","v":0},"Sin Infraestructura",0,0,0,0,0,null,null,null,null,null,null,"",""]
["Archivador",null,1,0,"Sin Infraestructura",0,0,0,0,0,null,null,null,null,null,null,"",""]
["LIMPIEZA",null,null,null,null,null,null,null,null,null,null,null,null,null,null,null,null,null,null,null,null,null,null,null,{"$f":"SUM(Q525:Q547)","v":10},{"$f":"SUM(R525:R547)","v":0},{"$f":"SUM(S525:S547)","v":0},0,0,0,0,0]
["AMBIENTES",null,null,null,null,null,null,null,null,null,null,null,null,null,null,null,null,null,null,null,null,null,null,null,{"$f":"SUM(Q526:Q527)","v":10},{"$f":"SUM(R526:R527)","v":0},{"$f":"SUM(S526:S527)","v":0},0,0,0,0,0]
["Bodega (Puede encontrarse dentro de la bodega general, pero en un área diferenciada)",{"$f":"B1","v":"Anx:"},{"$f":"C$1","v":"Cant x Espacio:"},"Requerido:","Tipo:","Funcional:","No Funcional:",null,null,"Calif:","Observaciones:",{"$f":"Infraestructura!$F$163","v":0},{"$f":"Infraestructura!$G$163","v":0}]
["Estantería",null,1,{"$f":"IF(AND($L$526=0,$M$526=0),0,IF(AND($L$526>0,$M$526>0),($L$526+$M$526)*C527,IF(AND($L$526=0,$M$526>0),C527*$M$526,$L$526*C527)))","v":0},"Requerido",0,0,{"$f":"IF(AND(F527>=D527,D527>0,F527>=1),10,0)","v":0},{"$f":"IF(AND(G527>=D527,D527>0,G527>=1),10,0)","v":0},{"$f":"IF(AND(OR(F527=0,F527<D527),G527=0),0,IF(AND(OR(F527=0,F527<D527),G527>=D527),-10,IF(D527=0,0,IF(F527>=D527,10,0))))","v":0},null,null,null,null,null,null,{"$f":"IF(UPPER(E527)=\"REQUERIDO\", 10, \"\")","v":10},{"$f":"IF(UPPER(E527)=\"REQUERIDO\", J527, \"\")","v":0}]
["Cuarto de Limpieza (será requerido en el caso de no contar con cuartos de limpieza en los servicios que lo requieran) ",{"$f":"B1","v":"Anx:"},{"$f":"C$1","v":"Cant x Espacio:"},"Requerido:","Tipo:","Funcional:","No Funcional:",null,null,"Calif:","Observaciones:",{"$f":"Infraestructura!$F$164","v":0},{"$f":"Infraestructura!$G$164","v":0},null,null,null,null,null,null,null,null,null,null,null,{"$f":"SUM(Q528:Q532)","v":0},{"$f":"SUM(R528:R532)","v":0},{"$f":"SUM(S528:S532)","v":0},0,0,0,0,0]
["Coche de limpieza",null,1,{"$f":"IF(AND($L$528=0,$M$528=0),0,IF(AND($L$528>0,$M$528>0),($L$528+M528)*C529,IF(AND($L$528=0,$M$528>0),C529*$M$528,$L$528*C529)))","v":0},{"$f":"IF(D529>0,\"Requerido\",\"Sin Infraestructura\")","v":"Sin Infraestructura"},0,0,{"$f":"IF(AND(F529>=D529,D529>0,F529>=1),10,0)","v":0},0,0,null,null,null,null,null,null,{"$f":"IF(UPPER(E529)=\"REQUERIDO\", 10, \"\")","v":""},{"$f":"IF(UPPER(E529)=\"REQUERIDO\", J529, \"\")","v":""}]
["Stock de Insumos de Limpieza","EQ_05",1,{"$f":"IF(AND($L$528=0,$M$528=0),0,IF(AND($L$528>0,$M$528>0),($L$528+M529)*C530,IF(AND($L$528=0,$M$528>0),C530*$M$528,$L$528*C530)))","v":0},{"$f":"IF(D530>0,\"Requerido\",\"Sin Infraestructura\")","v":"Sin Infraestructura"},0,0,0,0,0,null,null,null,null,null,null,{"$f":"IF(UPPER(E530)=\"REQUERIDO\", 10, \"\")","v":""},{"$f":"IF(UPPER(E530)=\"REQUERIDO\", J530, \"\")","v":""}]
["Estantería",null,1,0,"Sin Infraestructura",0,0,0,0,0,null,null,null,null,null,null,{"$f":"IF(UPPER(E531)=\"REQUERIDO\", 10, \"\")","v":""},{"$f":"IF(UPPER(E531)=\"REQUERIDO\", J531, \"\")","v":""}]
["Lavadero con poza profunda para el preparado y enjuague de los útiles de limpieza",null,1,0,"Sin Infraestructura",0,0,0,0,0,null,null,null,null,null,null,{"$f":"IF(UPPER(E532)=\"REQUERIDO\", 10, \"\")","v":""},{"$f":"IF(UPPER(E532)=\"REQUERIDO\", J532, \"\")","v":""}]
["Vestidor (Será requerido en el caso de que en el vestidor del área de personal no se ha previsto un espacio exclusivo para el personal de limpieza)",{"$f":"B1","v":"Anx:"},{"$f":"C$1","v":"Cant x Espacio:"},"Requerido:","Tipo:",{"$f":"F$1","v":"Funcional:"},"No Funcional:",null,null,"Calif:","Observaciones:",{"$f":"Infraestructura!$F$165","v":0},{"$f":"Infraestructura!$G$165","v":0},null,null,null,null,null,null,null,null,null,null,null,{"$f":"SUM(Q534:Q537)","v":0},{"$f":"SUM(R534:R537)","v":0},{"$f":"SUM(S534:S537)","v":0},0,0,0,0,0]
["Casilleros/Lockers",null,5,{"$f":"IF(AND($L$533=0,$M$533=0),0,IF(AND($L$533>0,$M$533>0),($L$533+M533)*C534,IF(AND($L$533=0,$M$533>0),C534*$M$533,$L$533*C534)))","v":0},{"$f":"IF(D534>0,\"Requerido\",\"Sin Infraestructura\")","v":"Sin Infraestructura"},0,0,{"$f":"IF(AND(F534>=D534,D534>0,F534>=1),10,0)","v":0},0,0,null,null,null,null,null,null,{"$f":"IF(UPPER(E534)=\"REQUERIDO\", 10, \"\")","v":""},{"$f":"IF(UPPER(E534)=\"REQUERIDO\", J534, \"\")","v":""}]
["Banco de vestuario",null,1,{"$f":"IF(AND($L$533=0,$M$533=0),0,IF(AND($L$533>0,$M$533>0),($L$533+M534)*C535,IF(AND($L$533=0,$M$533>0),C535*$M$533,$L$533*C535)))","v":0},{"$f":"IF(D535>0,\"Requerido\",\"Sin Infraestructura\")","v":"Sin Infraestructura"},0,0,{"$f":"IF(AND(F535>=D535,D535>0,F535>=1),10,0)","v":0},0,0,null,null,null,null,null,null,{"$f":"IF(UPPER(E535)=\"REQUERIDO\", 10, \"\")","v":""},{"$f":"IF(UPPER(E535)=\"REQUERIDO\", J535, \"\")","v":""},{"$f":"IF(UPPER(E535)=\"CONDICIÓN\", 10, \"\")","v":""},{"$f":"IF(UPPER(E535)=\"CONDICIÓN\", H535, \"\")","v":""},{"$f":"IF(UPPER(E535)=\"CONDICIÓN\", 10, \"\")","v":""},{"$f":"IF(UPPER(E535)=\"CONDICIÓN\", I535, \"\")","v":""}]
["Gancho doble",null,1,0,{"$f":"IF(D536>0,\"Requerido\",\"Sin Infraestructura\")","v":"Sin Infraestructura"},0,0,0,0,0,null,null,null,null,null,null,"","","","","",""]
["Basurero",null,1,0,{"$f":"IF(D537>0,\"Requerido\",\"Sin Infraestructura\")","v":"Sin Infraestructura"},0,0,0,0,0,null,null,null,null,null,null,{"$f":"IF(UPPER(E537)=\"REQUERIDO\", 10, \"\")","v":""},{"$f":"IF(UPPER(E537)=\"REQUERIDO\", J537, \"\")","v":""}]
["Baño de vestidor",{"$f":"B1","v":"Anx:"},{"$f":"C$1","v":"Cant x Espacio:"},"Requerido:","Tipo:","Funcional:","No Funcional:",null,null,"Calif:","Observaciones:",{"$f":"Infraestructura!$F$166","v":0},{"$f":"Infraestructura!$G$166","v":0},null,null,null,null,null,null,null,null,null,null,null,{"$f":"SUM(Q539:Q547)","v":0},{"$f":"SUM(R539:R547)","v":0},{"$f":"SUM(S539:S547)","v":0},0,0,0,0,0]
["Dispensador de jabón",null,1,{"$f":"IF(AND($L$538=0,$M$538=0),0,IF(AND($L$538>0,$M$538>0),($L$538+M538)*C539,IF(AND($L$538=0,$M$538>0),C539*$M$538,$L$538*C539)))","v":0},{"$f":"IF(D539>0,\"Requerido\",\"Sin Infraestructura\")","v":"Sin Infraestructura"},0,0,{"$f":"IF(AND(F539>=D539,D539>0,F539>=1),10,0)","v":0},0,0,null,null,null,null,null,null,{"$f":"IF(UPPER(E539)=\"REQUERIDO\", 10, \"\")","v":""},{"$f":"IF(UPPER(E539)=\"REQUERIDO\", J539, \"\")","v":""}]
["Dispensador de papel toalla",null,1,{"$f":"IF(AND($L$538=0,$M$538=0),0,IF(AND($L$538>0,$M$538>0),($L$538+M539)*C540,IF(AND($L$538=0,$M$538>0),C540*$M$538,$L$538*C540)))","v":0},{"$f":"IF(D540>0,\"Requerido\",\"Sin Infraestructura\")","v":"Sin Infraestructura"},0,0,0,0,0,null,null,null,null,null,null,{"$f":"IF(UPPER(E540)=\"REQUERIDO\", 10, \"\")","v":""},{"$f":"IF(UPPER(E540)=\"REQUERIDO\", J540, \"\")","v":""}]
["Dispensador de papel higiénico",null,1,0,"Sin Infraestructura",0,0,0,0,0,null,null,null,null,null,null,"",""]
["Inodoro",null,1,0,"Sin Infraestructura",0,0,0,0,0,null,null,null,null,null,null,"",""]
["Espejo empotrado ",null,1,0,"Sin Infraestructura",0,0,0,0,0,null,null,null,null,null,null,"",""]
["Gancho doble",null,1,0,"Sin Infraestructura",0,0,0,0,0,null,null,null,null,null,null,"",""]
["Barras de apoyo",null,1,0,{"$f":"IF(D545>0,\"Deseable\",\"Sin Infraestructura\")","v":"Sin Infraestructura"},0,0,0,0,0,null,null,null,null,null,null,null,null,null,null,null,null,{"$f":"IF(UPPER(E545)=\"DESEABLE\", 10, \"\")","v":""},{"$f":"IF(UPPER(E545)=\"DESEABLE\", J545, \"\")","v":""}]
["Lavabo ",null,1,0,"Sin Infraestructura",0,0,0,0,0,null,null,null,null,null,null,"",""]
["Basurero",null,1,0,"Sin Infraestructura",0,0,0,0,0,null,null,null,null,null,null,"",""]
["LAVANDERIA ",null,null,null,null,null,null,null,null,null,null,null,null,null,null,null,null,null,null,null,null,null,null,null,{"$f":"SUM(Q549:Q565)","v":0},{"$f":"SUM(R549:R565)","v":0},{"$f":"SUM(S549:S565)","v":0},0,0,0,0,0]
["AMBIENTES",null,null,null,null,null,null,null,null,null,null,null,null,null,null,null,null,null,null,null,null,null,null,null,{"$f":"SUM(Q550:Q554)","v":0},{"$f":"SUM(R550:R554)","v":0},{"$f":"SUM(S550:S554)","v":0},0,0,0,0,0]
["Recepción y clasificación de ropa usada",{"$f":"B1","v":"Anx:"},{"$f":"C$1","v":"Cant x Espacio:"},"Requerido:","Tipo:","Funcional:","No Funcional:",null,null,"Calif:","Observaciones:",{"$f":"Infraestructura!$F$172","v":0},{"$f":"Infraestructura!$G$172","v":0}]
["Mostrador ","EQ_01",1,{"$f":"IF(AND($L$550=0,$M$550=0),0,IF(AND($L$550>0,$M$550>0),($L$550+$M$550)*C551,IF(AND($L$550=0,$M$550>0),C551*$M$550,$L$550*C551)))","v":0},{"$f":"IF(D551>0,\"Condición\",\"Sin Infraestructura\")","v":"Sin Infraestructura"},0,0,{"$f":"IF(AND(F551>=D551,D551>0,F551>=1),10,0)","v":0},{"$f":"IF(AND(G551>=D551,D551>0,G551>=1),10,0)","v":0},{"$f":"IF(AND(OR(F551=0,F551<D551),G551=0),0,IF(AND(OR(F551=0,F551<D551),G551>=D551),-10,IF(D551=0,0,IF(F551>=D551,10,0))))","v":0},null,null,null,null,null,null,null,null,{"$f":"IF(UPPER(E551)=\"CONDICIÓN\", 10, \"\")","v":""},{"$f":"IF(UPPER(E551)=\"CONDICIÓN\", H551, \"\")","v":""},{"$f":"IF(UPPER(E551)=\"CONDICIÓN\", 10, \"\")","v":""},{"$f":"IF(UPPER(E551)=\"CONDICIÓN\", I551, \"\")","v":""}]
["Armario/Archivador",null,1,{"$f":"IF(AND($L$550=0,$M$550=0),0,IF(AND($L$550>0,$M$550>0),($L$550+$M$550)*C552,IF(AND($L$550=0,$M$550>0),C552*$M$550,$L$550*C552)))","v":0},{"$f":"IF(D552>0, \"Requerido\", \"Sin Infraestructura\")","v":"Sin Infraestructura"},0,0,0,0,0,null,null,null,null,null,null,{"$f":"IF(UPPER(E552)=\"REQUERIDO\", 10, \"\")","v":""},{"$f":"IF(UPPER(E552)=\"REQUERIDO\", J552, \"\")","v":""}]
["Coche de transporte de ropa sucia",null,1,0,{"$f":"IF(D553>0, \"Requerido\", \"Sin Infraestructura\")","v":"Sin Infraestructura"},0,0,0,0,0,null,null,null,null,null,null,{"$f":"IF(UPPER(E553)=\"REQUERIDO\", 10, \"\")","v":""},{"$f":"IF(UPPER(E553)=\"REQUERIDO\", J553, \"\")","v":""}]
["Basurero",null,1,0,{"$f":"IF(D554>0, \"Requerido\", \"Sin Infraestructura\")","v":"Sin Infraestructura"},0,0,0,0,0,null,null,null,null,null,null,{"$f":"IF(UPPER(E554)=\"REQUERIDO\", 10, \"\")","v":""},{"$f":"IF(UPPER(E554)=\"REQUERIDO\", J554, \"\")","v":""}]
["Lavado",{"$f":"B1","v":"Anx:"},{"$f":"C$1","v":"Cant x Espacio:"},"Requerido:","Tipo:","Funcional:","No Funcional:",null,null,"Calif:","Observaciones:",{"$f":"Infraestructura!$F$173","v":0},{"$f":"Infraestructura!$G$173","v":0},null,null,null,null,null,null,null,null,null,null,null,{"$f":"SUM(Q556:Q558)","v":0},{"$f":"SUM(R556:R558)","v":0},{"$f":"SUM(S556:S558)","v":0},0,0,0,0,0]
["Lavadora ",null,1,{"$f":"IF(AND($L$555=0,$M$555=0),0,IF(AND($L$555>0,$M$555>0),($L$555+$M$555)*C556,IF(AND($L$555=0,$M$555>0),C556*$M$555,$L$555*C556)))","v":0},{"$f":"IF(D556>0, \"Requerido\", \"Sin Infraestructura\")","v":"Sin Infraestructura"},0,0,{"$f":"IF(AND(F556>=D556,D556>0,F556>=1),10,0)","v":0},0,{"$f":"IF(AND(OR(F556=0,F556<D556),G556=0),0,IF(AND(OR(F556=0,F556<D556),G556>=D556),-10,IF(D556=0,0,IF(F556>=D556,10,0))))","v":0},null,null,null,null,null,null,{"$f":"IF(UPPER(E556)=\"REQUERIDO\", 10, \"\")","v":""},{"$f":"IF(UPPER(E556)=\"REQUERIDO\", J556, \"\")","v":""}]
["Secadora",null,1,{"$f":"IF(AND($L$555=0,$M$555=0),0,IF(AND($L$555>0,$M$555>0),($L$555+$M$555)*C557,IF(AND($L$555=0,$M$555>0),C557*$M$555,$L$555*C557)))","v":0},{"$f":"IF(D557>0, \"Requerido\", \"Sin Infraestructura\")","v":"Sin Infraestructura"},0,0,{"$f":"IF(AND(F557>=D557,D557>0,F557>=1),10,0)","v":0},0,0,null,null,null,null,null,null,"",""]
["Mesa de trabajo  ",null,1,0,{"$f":"IF(D558>0, \"Requerido\", \"Sin Infraestructura\")","v":"Sin Infraestructura"},0,0,0,0,0,null,null,null,null,null,null,"",""]
["Planchado",{"$f":"B1","v":"Anx:"},{"$f":"C$1","v":"Cant x Espacio:"},"Requerido:","Tipo:","Funcional:","No Funcional:",null,null,"Calif:","Observaciones:",{"$f":"Infraestructura!$F$174","v":0},{"$f":"Infraestructura!$G$174","v":0},null,null,null,null,null,null,null,null,null,null,null,{"$f":"SUM(Q560:Q562)","v":0},{"$f":"SUM(R560:R562)","v":0},{"$f":"SUM(S560:S562)","v":0},0,0,0,0,0]
["Estantería básica",null,1,{"$f":"IF(AND($L$559=0,$M$559=0),0,IF(AND($L$559>0,$M$559>0),($L$559+$M$559)*C560,IF(AND($L$559=0,$M$559>0),C560*$M$559,$L$559*C560)))","v":0},{"$f":"IF(D560>0, \"Requerido\", \"Sin Infraestructura\")","v":"Sin Infraestructura"},0,0,{"$f":"IF(AND(F560>=D560,D560>0,F560>=1),10,0)","v":0},0,0,null,null,null,null,null,null,{"$f":"IF(UPPER(E560)=\"REQUERIDO\", 10, \"\")","v":""},{"$f":"IF(UPPER(E560)=\"REQUERIDO\", J560, \"\")","v":""}]
["Mesa de trabajo  ",null,1,{"$f":"IF(AND($L$559=0,$M$559=0),0,IF(AND($L$559>0,$M$559>0),($L$559+$M$559)*C561,IF(AND($L$559=0,$M$559>0),C561*$M$559,$L$559*C561)))","v":0},{"$f":"IF(D561>0, \"Requerido\", \"Sin Infraestructura\")","v":"Sin Infraestructura"},0,0,0,0,0,null,null,null,null,null,null,"",""]
["Plancha",null,1,0,{"$f":"IF(D562>0, \"Requerido\", \"Sin Infraestructura\")","v":"Sin Infraestructura"},0,0,0,0,0,null,null,null,null,null,null,"",""]
["Bodega general de ropería",{"$f":"B16","v":"Anx:"},{"$f":"C$1","v":"Cant x Espacio:"},"Requerido:","Tipo:","Funcional:","No Funcional:",null,null,{"$f":"J$1","v":"Calif:"},"Observaciones:",{"$f":"Infraestructura!$F$175","v":0},{"$f":"Infraestructura!$G$175","v":0},null,null,null,null,null,null,null,null,null,null,null,{"$f":"SUM(Q564:Q566)","v":0},{"$f":"SUM(R564:R566)","v":0},{"$f":"SUM(S564:S566)","v":0},0,0,0,0,0]
["Coche de transporte de ropa limpia ",null,1,{"$f":"IF(AND($L$563=0,$M$563=0),0,IF(AND($L$563>0,$M$563>0),($L$563+$M$563)*C564,IF(AND($L$563=0,$M$563>0),C564*$M$563,$L$563*C564)))","v":0},{"$f":"IF(D564>0, \"Requerido\", \"Sin Infraestructura\")","v":"Sin Infraestructura"},0,0,{"$f":"IF(AND(F564>=D564,D564>0,F564>=1),10,0)","v":0},0,0,null,null,null,null,null,null,{"$f":"IF(UPPER(E564)=\"REQUERIDO\", 10, \"\")","v":""},{"$f":"IF(UPPER(E564)=\"REQUERIDO\", J564, \"\")","v":""}]
["Estantería básica",null,4,{"$f":"IF(AND($L$563=0,$M$563=0),0,IF(AND($L$563>0,$M$563>0),($L$563+$M$563)*C565,IF(AND($L$563=0,$M$563>0),C565*$M$563,$L$563*C565)))","v":0},{"$f":"IF(D565>0, \"Requerido\", \"Sin Infraestructura\")","v":"Sin Infraestructura"},0,0,0,0,{"$f":"IF(AND(OR(F565=0,F565<D565),G565=0),0,IF(AND(OR(F565=0,F565<D565),G565>=D565),-10,IF(D565=0,0,IF(F565>=D565,10,0))))","v":0},null,null,null,null,null,null,"",""]
["ALMACENAMIENTO FINAL DE DESECHOS",null,null,null,null,null,null,null,null,null,null,null,null,null,null,null,null,null,null,null,null,null,null,null,{"$f":"SUM(Q567:Q573)","v":30},{"$f":"SUM(R567:R573)","v":0},{"$f":"SUM(S567:S573)","v":0},0,0,0,0,0]
["AMBIENTES",null,null,null,null,null,null,null,null,null,null,null,null,null,null,null,null,null,null,null,null,null,null,null,{"$f":"SUM(Q568:Q573)","v":30},{"$f":"SUM(R568:R573)","v":0},{"$f":"SUM(S568:S573)","v":0},0,0,0,0,0]
["Área de Almacenamiento de Desechos no peligrosos - Comunes",{"$f":"B1","v":"Anx:"},{"$f":"C$1","v":"Cant x Espacio:"},"Requerido:","Tipo:","Funcional:","No Funcional:",null,null,"Calif:","Observaciones:",{"$f":"Infraestructura!$F$181","v":0},{"$f":"Infraestructura!$G$181","v":0}]
["Contenedor ",null,1,{"$f":"IF(AND($L$568=0,$M$568=0),0,IF(AND($L$568>0,$M$568>0),($L$568+$M$568)*C569,IF(AND($L$568=0,$M$568>0),C569*$M$568,$L$568*C569)))","v":0},"Requerido",0,0,{"$f":"IF(AND(F569>=D569,D569>0,F569>=1),10,0)","v":0},{"$f":"IF(AND(G569>=D569,D569>0,G569>=1),10,0)","v":0},{"$f":"IF(AND(OR(F569=0,F569<D569),G569=0),0,IF(AND(OR(F569=0,F569<D569),G569>=D569),-10,IF(D569=0,0,IF(F569>=D569,10,0))))","v":0},null,null,null,null,null,null,{"$f":"IF(UPPER(E569)=\"REQUERIDO\", 10, \"\")","v":10},{"$f":"IF(UPPER(E569)=\"REQUERIDO\", J569, \"\")","v":0}]
["Área de Almacenamiento de Desechos Peligrosos- Infecciosos",{"$f":"B1","v":"Anx:"},{"$f":"C$1","v":"Cant x Espacio:"},"Requerido:","Tipo:","Funcional:","No Funcional:",null,null,"Calif:","Observaciones:",{"$f":"Infraestructura!$F$182","v":0},{"$f":"Infraestructura!$G$182","v":0}]
["Contenedor ",null,1,{"$f":"IF(AND($L$570=0,$M$570=0),0,IF(AND($L$570>0,$M$570>0),($L$570+$M$570)*C571,IF(AND($L$570=0,$M$570>0),C571*$M$570,$L$570*C571)))","v":0},"Requerido",0,0,{"$f":"IF(AND(F571>=D571,D571>0,F571>=1),10,0)","v":0},{"$f":"IF(AND(G571>=D571,D571>0,G571>=1),10,0)","v":0},{"$f":"IF(AND(OR(F571=0,F571<D571),G571=0),0,IF(AND(OR(F571=0,F571<D571),G571>=D571),-10,IF(D571=0,0,IF(F571>=D571,10,0))))","v":0},null,null,null,null,null,null,{"$f":"IF(UPPER(E571)=\"REQUERIDO\", 10, \"\")","v":10},{"$f":"IF(UPPER(E571)=\"REQUERIDO\", J571, \"\")","v":0}]
["Área de Desechos Peligrosos- Especiales",{"$f":"B1","v":"Anx:"},{"$f":"C$1","v":"Cant x Espacio:"},"Requerido:","Tipo:","Funcional:","No Funcional:",null,null,"Calif:","Observaciones:",{"$f":"Infraestructura!$F$183","v":0},{"$f":"Infraestructura!$G$183","v":0}]
["Contenedor ",null,1,{"$f":"IF(AND($L$572=0,$M$572=0),0,IF(AND($L$572>0,$M$572>0),($L$572+$M$572)*C573,IF(AND($L$572=0,$M$572>0),C573*$M$572,$L$572*C573)))","v":0},"Requerido",0,0,{"$f":"IF(AND(F573>=D573,D573>0,F573>=1),10,0)","v":0},{"$f":"IF(AND(G573>=D573,D573>0,G573>=1),10,0)","v":0},{"$f":"IF(AND(OR(F573=0,F573<D573),G573=0),0,IF(AND(OR(F573=0,F573<D573),G573>=D573),-10,IF(D573=0,0,IF(F573>=D573,10,0))))","v":0},null,null,null,null,null,null,{"$f":"IF(UPPER(E573)=\"REQUERIDO\", 10, \"\")","v":10},{"$f":"IF(UPPER(E573)=\"REQUERIDO\", J573, \"\")","v":0}]
["TOTALES PARCIALES:",null,null,null,null,null,null,null,null,null,null,null,null,null,null,null,null,null,null,null,null,null,null,null,"REQ",null,"COND+",null,"COND-",null,"DES"]
["MOBILIARIO GENERAL:",null,"% Obtenido:","% Obtenido:","% Obtenido:","% A Cumplir:","% Final:",null,null,null,null,null,null,null,null,null,null,null,null,null,null,null,null,null,{"$f":"(+Equipamiento!Y4+Equipamiento!Y24+Equipamiento!Y109+Equipamiento!Y257+Equipamiento!Y391+Equipamiento!Y414+Equipamiento!Y477)","v":1840},{"$f":"(+Equipamiento!Z4+Equipamiento!Z24+Equipamiento!Z109+Equipamiento!Z257+Equipamiento!Z391+Equipamiento!Z414+Equipamiento!Z477)","v":0},{"$f":"(+Equipamiento!AA4+Equipamiento!AA24+Equipamiento!AA109+Equipamiento!AA257+Equipamiento!AA391+Equipamiento!AA414+Equipamiento!AA477)","v":140},{"$f":"(+Equipamiento!AB4+Equipamiento!AB24+Equipamiento!AB109+Equipamiento!AB257+Equipamiento!AB391+Equipamiento!AB414+Equipamiento!AB477)","v":0},{"$f":"(+Equipamiento!AC4+Equipamiento!AC24+Equipamiento!AC109+Equipamiento!AC257+Equipamiento!AC391+Equipamiento!AC414+Equipamiento!AC477)","v":140},{"$f":"(+Equipamiento!AD4+Equipamiento!AD24+Equipamiento!AD109+Equipamiento!AD257+Equipamiento!AD391+Equipamiento!AD414+Equipamiento!AD477)","v":0},{"$f":"(+Equipamiento!AE4+Equipamiento!AE24+Equipamiento!AE109+Equipamiento!AE257+Equipamiento!AE391+Equipamiento!AE414+Equipamiento!AE477)","v":30},{"$f":"(+Equipamiento!AF4+Equipamiento!AF24+Equipamiento!AF109+Equipamiento!AF257+Equipamiento!AF391+Equipamiento!AF414+Equipamiento!AF477)","v":0}]
[{"$f":"Equipamiento!S576","v":"ADMINISTRATIVO"},null,{"$f":"Equipamiento!$Z$576*100/100/100","v":0},null,null,{"$f":"Equipamiento!$Y$576*100/100/100","v":5.434782608695652E-2},{"$f":"IF(Equipamiento!$C$576=Equipamiento!$F$576, \"CUMPLE\", \"NO CUMPLE\")","v":"NO CUMPLE"},null,null,null,null,null,null,null,null,null,null,4,"ADMINISTRATIVO",null,null,null,null,null,{"$f":"Y4*100/Y575","v":5.4347826086956523},{"$f":"Z4*100/Y575","v":0},{"$f":"AA4*100/AA575","v":28.571428571428573},{"$f":"AB4*100/AA575","v":0},{"$f":"AC4*100/AC575","v":28.571428571428573},{"$f":"AD4*100/AC575","v":0},{"$f":"AE4*100/AE575","v":0},{"$f":"AF4*100/AE575","v":0}]
[{"$f":"Equipamiento!S577","v":"ADMISIÓN Y ESTADÍSTICA "},null,null,{"$f":"Equipamiento!$Z$577*100/100/100","v":0},null,{"$f":"Equipamiento!$Y$577*100/100/100","v":5.434782608695652E-2},{"$f":"IF(Equipamiento!$D$577=Equipamiento!$F$577, \"CUMPLE\", \"NO CUMPLE\")","v":"NO CUMPLE"},null,null,null,null,null,null,null,null,null,null,5,"ADMISIÓN Y ESTADÍSTICA ",null,null,null,null,null,{"$f":"Y5*100/Y575","v":5.4347826086956523},{"$f":"Z5*100/Y575","v":0},{"$f":"AA5*100/AA575","v":28.571428571428573},{"$f":"AB5*100/AA575","v":0},{"$f":"AC5*100/AC575","v":28.571428571428573},{"$f":"AD5*100/AC575","v":0},{"$f":"AE5*100/AE575","v":0},{"$f":"AF5*100/AE575","v":0}]
[{"$f":"Equipamiento!S578","v":"ÁREA TÉCNICA"},null,null,null,{"$f":"Equipamiento!$Z$578*100/100/100","v":0},{"$f":"Equipamiento!$Y$578*100/100/100","v":5.434782608695652E-2},{"$f":"IF(Equipamiento!$E$578=Equipamiento!$F$578, \"CUMPLE\", \"NO CUMPLE\")","v":"NO CUMPLE"},null,null,null,null,null,null,null,null,null,null,6,"ÁREA TÉCNICA",null,null,null,null,null,{"$f":"Y6*100/Y575","v":5.4347826086956523},{"$f":"Z6*100/Y575","v":0},{"$f":"AA6*100/AA575","v":28.571428571428573},{"$f":"AB6*100/AA575","v":0},{"$f":"AC6*100/AC575","v":28.571428571428573},{"$f":"AD6*100/AC575","v":0},{"$f":"AE6*100/AE575","v":0},{"$f":"AF6*100/AE575","v":0}]
[{"$f":"Equipamiento!S579","v":"ASISTENCIAL"},null,{"$f":"Equipamiento!$Z$579*100/100/100","v":0},null,null,{"$f":"Equipamiento!$Y$579*100/100/100","v":0.25543478260869568},{"$f":"IF(Equipamiento!$C$579=Equipamiento!$F$579, \"CUMPLE\", \"NO CUMPLE\")","v":"NO CUMPLE"},null,null,null,null,null,null,null,null,null,null,24,"ASISTENCIAL",null,null,null,null,null,{"$f":"Y24*100/Y575","v":25.543478260869566},{"$f":"Z24*100/Y575","v":0},{"$f":"AA24*100/AA575","v":35.714285714285715},{"$f":"AB24*100/AA575","v":0},{"$f":"AC24*100/AC575","v":35.714285714285715},{"$f":"AD24*100/AC575","v":0},{"$f":"AE24*100/AE575","v":66.666666666666671},{"$f":"AF24*100/AE575","v":0}]
[{"$f":"Equipamiento!S580","v":"CONSULTA EXTERNA"},null,null,{"$f":"Equipamiento!$Z$580*100/100/100","v":0},null,{"$f":"Equipamiento!$Y$580*100/100/100","v":0.25543478260869568},{"$f":"IF(Equipamiento!$D$580=Equipamiento!$F$580, \"CUMPLE\", \"NO CUMPLE\")","v":"NO CUMPLE"},null,null,null,null,null,null,null,null,null,null,25,"CONSULTA EXTERNA",null,null,null,null,null,{"$f":"Y25*100/Y575","v":25.543478260869566},{"$f":"Z25*100/Y575","v":0},{"$f":"AA25*100/AA575","v":35.714285714285715},{"$f":"AB25*100/AA575","v":0},{"$f":"AC25*100/AC575","v":35.714285714285715},{"$f":"AD25*100/AC575","v":0},{"$f":"AE25*100/AE575","v":66.666666666666671},{"$f":"AF25*100/AE575","v":0}]
[{"$f":"Equipamiento!S581","v":"ÁREA DE ATENCIÓN DE CONSULTA"},null,null,null,{"$f":"Equipamiento!$Z$581*100/100/100","v":0},{"$f":"Equipamiento!$Y$581*100/100/100","v":0.25543478260869568},{"$f":"IF(Equipamiento!$E$581=Equipamiento!$F$581, \"CUMPLE\", \"NO CUMPLE\")","v":"NO CUMPLE"},null,null,null,null,null,null,null,null,null,null,26,"ÁREA DE ATENCIÓN DE CONSULTA",null,null,null,null,null,{"$f":"Y26*100/Y575","v":25.543478260869566},{"$f":"Z26*100/Y575","v":0},{"$f":"AA26*100/AA575","v":35.714285714285715},{"$f":"AB26*100/AA575","v":0},{"$f":"AC26*100/AC575","v":35.714285714285715},{"$f":"AD26*100/AC575","v":0},{"$f":"AE26*100/AE575","v":66.666666666666671},{"$f":"AF26*100/AE575","v":0}]
[{"$f":"Equipamiento!S582","v":"APOYO TERAPÉUTICO"},null,{"$f":"Equipamiento!$Z$582*100/100/100","v":0},null,null,{"$f":"Equipamiento!$Y$582*100/100/100","v":0.27173913043478259},{"$f":"IF(Equipamiento!$C$582=Equipamiento!$F$582, \"CUMPLE\", \"NO CUMPLE\")","v":"NO CUMPLE"},null,null,null,null,null,null,null,null,null,null,109,"APOYO TERAPÉUTICO",null,null,null,null,null,{"$f":"Y109*100/Y575","v":27.173913043478262},{"$f":"Z109*100/Y575","v":0},{"$f":"AA109*100/AA575","v":21.428571428571427},{"$f":"AB109*100/AA575","v":0},{"$f":"AC109*100/AC575","v":21.428571428571427},{"$f":"AD109*100/AC575","v":0},{"$f":"AE109*100/AE575","v":0},{"$f":"AF109*100/AE575","v":0}]
[{"$f":"Equipamiento!S583","v":"ATENCIÓN DE APOYO TERAPÉUTICO"},null,null,{"$f":"Equipamiento!$Z$583*100/100/100","v":0},null,{"$f":"Equipamiento!$Y$583*100/100/100","v":0.27173913043478259},{"$f":"IF(Equipamiento!$D$583=Equipamiento!$F$583, \"CUMPLE\", \"NO CUMPLE\")","v":"NO CUMPLE"},null,null,null,null,null,null,null,null,null,null,110,"ATENCIÓN DE APOYO TERAPÉUTICO",null,null,null,null,null,{"$f":"Y110*100/Y575","v":27.173913043478262},{"$f":"Z110*100/Y575","v":0},{"$f":"AA110*100/AA575","v":21.428571428571427},{"$f":"AB110*100/AA575","v":0},{"$f":"AC110*100/AC575","v":21.428571428571427},{"$f":"AD110*100/AC575","v":0},{"$f":"AE110*100/AE575","v":0},{"$f":"AF110*100/AE575","v":0}]
[{"$f":"Equipamiento!S584","v":"ÁREA DE PROCEDIMIENTOS"},null,null,null,{"$f":"Equipamiento!$Z$584*100/100/100","v":0},{"$f":"Equipamiento!$Y$584*100/100/100","v":0},{"$f":"IF(Equipamiento!$E$584=Equipamiento!$F$584, \"CUMPLE\", \"NO CUMPLE\")","v":"CUMPLE"},null,null,null,null,null,null,null,null,null,null,111,"ÁREA DE PROCEDIMIENTOS",null,null,null,null,null,{"$f":"Y111*100/Y575","v":0},{"$f":"Z111*100/Y575","v":0},{"$f":"AA111*100/AA575","v":0},{"$f":"AB111*100/AA575","v":0},{"$f":"AC111*100/AC575","v":0},{"$f":"AD111*100/AC575","v":0},{"$f":"AE111*100/AE575","v":0},{"$f":"AF111*100/AE575","v":0}]
[{"$f":"Equipamiento!S585","v":"ÁREA DE SOPORTE Y SUMINISTROS  "},null,null,null,{"$f":"Equipamiento!$Z$585*100/100/100","v":0},{"$f":"Equipamiento!$Y$585*100/100/100","v":2.1739130434782608E-2},{"$f":"IF(Equipamiento!$E$585=Equipamiento!$F$585, \"CUMPLE\", \"NO CUMPLE\")","v":"NO CUMPLE"},null,null,null,null,null,null,null,null,null,null,145,"ÁREA DE SOPORTE Y SUMINISTROS  ",null,null,null,null,null,{"$f":"Y145*100/Y575","v":2.1739130434782608},{"$f":"Z145*100/Y575","v":0},{"$f":"AA145*100/AA575","v":0},{"$f":"AB145*100/AA575","v":0},{"$f":"AC145*100/AC575","v":0},{"$f":"AD145*100/AC575","v":0},{"$f":"AE145*100/AE575","v":0},{"$f":"AF145*100/AE575","v":0}]
[{"$f":"Equipamiento!S586","v":"ÁREA DE TRATAMIENTO DE HEMODIÁLISIS"},null,null,null,{"$f":"Equipamiento!$Z$586*100/100/100","v":0},{"$f":"Equipamiento!$Y$586*100/100/100","v":0.1358695652173913},{"$f":"IF(Equipamiento!$E$586=Equipamiento!$F$586, \"CUMPLE\", \"NO CUMPLE\")","v":"NO CUMPLE"},null,null,null,null,null,null,null,null,null,null,158,"ÁREA DE TRATAMIENTO DE HEMODIÁLISIS",null,null,null,null,null,{"$f":"Y158*100/Y575","v":13.586956521739131},{"$f":"Z158*100/Y575","v":0},{"$f":"AA158*100/AA575","v":21.428571428571427},{"$f":"AB158*100/AA575","v":0},{"$f":"AC158*100/AC575","v":21.428571428571427},{"$f":"AD158*100/AC575","v":0},{"$f":"AE158*100/AE575","v":0},{"$f":"AF158*100/AE575","v":0}]
[{"$f":"Equipamiento!S587","v":"ÁREA TÉCNICA DE APOYO"},null,null,null,{"$f":"Equipamiento!$Z$587*100/100/100","v":0},{"$f":"Equipamiento!$Y$587*100/100/100","v":4.3478260869565216E-2},{"$f":"IF(Equipamiento!$E$587=Equipamiento!$F$587, \"CUMPLE\", \"NO CUMPLE\")","v":"NO CUMPLE"},null,null,null,null,null,null,null,null,null,null,205,"ÁREA TÉCNICA DE APOYO",null,null,null,null,null,{"$f":"Y190*100/Y575","v":4.3478260869565215},{"$f":"Z190*100/Y575","v":0},{"$f":"AA190*100/AA575","v":0},{"$f":"AB190*100/AA575","v":0},{"$f":"AC190*100/AC575","v":0},{"$f":"AD190*100/AC575","v":0},{"$f":"AE190*100/AE575","v":0},{"$f":"AF190*100/AE575","v":0}]
[{"$f":"Equipamiento!S588","v":"ÁREA DE DIÁLISIS PERITONEAL"},null,null,null,{"$f":"Equipamiento!$Z$588*100/100/100","v":0},{"$f":"Equipamiento!$Y$588*100/100/100","v":0},{"$f":"IF(Equipamiento!$E$588=Equipamiento!$F$588, \"CUMPLE\", \"NO CUMPLE\")","v":"CUMPLE"},null,null,null,null,null,null,null,null,null,null,217,"ÁREA DE DIÁLISIS PERITONEAL",null,null,null,null,null,{"$f":"Y202*100/Y575","v":0},{"$f":"Z202*100/Y575","v":0},{"$f":"AA202*100/AA575","v":0},{"$f":"AB202*100/AA575","v":0},{"$f":"AC202*100/AC575","v":0},{"$f":"AD202*100/AC575","v":0},{"$f":"AE202*100/AE575","v":0},{"$f":"AF202*100/AE575","v":0}]
[{"$f":"Equipamiento!S589","v":"ÁREA TECNICA DE APOYO"},null,null,null,{"$f":"Equipamiento!$Z$589*100/100/100","v":0},{"$f":"Equipamiento!$Y$589*100/100/100","v":0},{"$f":"IF(Equipamiento!$E$589=Equipamiento!$F$589, \"CUMPLE\", \"NO CUMPLE\")","v":"CUMPLE"},null,null,null,null,null,null,null,null,null,null,236,"ÁREA TECNICA DE APOYO",null,null,null,null,null,{"$f":"Y221*100/Y575","v":0},{"$f":"Z221*100/Y575","v":0},{"$f":"AA221*100/AA575","v":0},{"$f":"AB221*100/AA575","v":0},{"$f":"AC221*100/AC575","v":0},{"$f":"AD221*100/AC575","v":0},{"$f":"AE221*100/AE575","v":0},{"$f":"AF221*100/AE575","v":0}]
[{"$f":"Equipamiento!S590","v":"ÁREA PARA LOS USUARIOS"},null,null,null,{"$f":"Equipamiento!$Z$590*100/100/100","v":0},{"$f":"Equipamiento!$Y$590*100/100/100","v":7.0652173913043473E-2},{"$f":"IF(Equipamiento!$E$590=Equipamiento!$F$590, \"CUMPLE\", \"NO CUMPLE\")","v":"NO CUMPLE"},null,null,null,null,null,null,null,null,null,null,248,"ÁREA PARA LOS USUARIOS",null,null,null,null,null,{"$f":"Y233*100/Y575","v":7.0652173913043477},{"$f":"Z233*100/Y575","v":0},{"$f":"AA233*100/AA575","v":0},{"$f":"AB233*100/AA575","v":0},{"$f":"AC233*100/AC575","v":0},{"$f":"AD233*100/AC575","v":0},{"$f":"AE233*100/AE575","v":0},{"$f":"AF233*100/AE575","v":0}]
[{"$f":"Equipamiento!S591","v":"APOYO DIAGNÓSTICO"},null,{"$f":"Equipamiento!$Z$591*100/100/100","v":0},null,null,{"$f":"Equipamiento!$Y$591*100/100/100","v":4.3478260869565216E-2},{"$f":"IF(Equipamiento!$C$591=Equipamiento!$F$591, \"CUMPLE\", \"NO CUMPLE\")","v":"NO CUMPLE"},null,null,null,null,null,null,null,null,null,null,272,"APOYO DIAGNÓSTICO",null,null,null,null,null,{"$f":"Y257*100/Y575","v":4.3478260869565215},{"$f":"Z257*100/Y575","v":0},{"$f":"AA257*100/AA575","v":0},{"$f":"AB257*100/AA575","v":0},{"$f":"AC257*100/AC575","v":0},{"$f":"AD257*100/AC575","v":0},{"$f":"AE257*100/AE575","v":0},{"$f":"AF257*100/AE575","v":0}]
[{"$f":"Equipamiento!S592","v":"DIAGNÓSTICO EN LABORATORIO (LABORATORIO DE ANÁLISIS CLÍNICO)"},null,null,{"$f":"Equipamiento!$Z$592*100/100/100","v":0},null,{"$f":"Equipamiento!$Y$592*100/100/100","v":4.3478260869565216E-2},{"$f":"IF(Equipamiento!$D$592=Equipamiento!$F$592, \"CUMPLE\", \"NO CUMPLE\")","v":"NO CUMPLE"},null,null,null,null,null,null,null,null,null,null,273,"DIAGNÓSTICO EN LABORATORIO (LABORATORIO DE ANÁLISIS CLÍNICO)",null,null,null,null,null,{"$f":"Y258*100/Y575","v":4.3478260869565215},{"$f":"Z258*100/Y575","v":0},{"$f":"AA258*100/AA575","v":0},{"$f":"AB258*100/AA575","v":0},{"$f":"AC258*100/AC575","v":0},{"$f":"AD258*100/AC575","v":0},{"$f":"AE258*100/AE575","v":0},{"$f":"AF258*100/AE575","v":0}]
[{"$f":"Equipamiento!S593","v":"ÁREA DE PREANÁLISIS"},null,null,null,{"$f":"Equipamiento!$Z$593*100/100/100","v":0},{"$f":"Equipamiento!$Y$593*100/100/100","v":4.3478260869565216E-2},{"$f":"IF(Equipamiento!$E$593=Equipamiento!$F$593, \"CUMPLE\", \"NO CUMPLE\")","v":"NO CUMPLE"},null,null,null,null,null,null,null,null,null,null,275,"ÁREA DE PREANÁLISIS",null,null,null,null,null,{"$f":"Y260*100/Y575","v":4.3478260869565215},{"$f":"Z260*100/Y575","v":0},{"$f":"AA260*100/AA575","v":0},{"$f":"AB260*100/AA575","v":0},{"$f":"AC260*100/AC575","v":0},{"$f":"AD260*100/AC575","v":0},{"$f":"AE260*100/AE575","v":0},{"$f":"AF260*100/AE575","v":0}]
[{"$f":"Equipamiento!S594","v":"ÁREA DE ANÁLISIS"},null,null,null,{"$f":"Equipamiento!$Z$594*100/100/100","v":0},{"$f":"Equipamiento!$Y$594*100/100/100","v":0},{"$f":"IF(Equipamiento!$E$594=Equipamiento!$F$594, \"CUMPLE\", \"NO CUMPLE\")","v":"CUMPLE"},null,null,null,null,null,null,null,null,null,null,294,"ÁREA DE ANÁLISIS",null,null,null,null,null,{"$f":"Y279*100/Y575","v":0},{"$f":"Z279*100/Y575","v":0},{"$f":"AA279*100/AA575","v":0},{"$f":"AB279*100/AA575","v":0},{"$f":"AC279*100/AC575","v":0},{"$f":"AD279*100/AC575","v":0},{"$f":"AE279*100/AE575","v":0},{"$f":"AF279*100/AE575","v":0}]
[{"$f":"Equipamiento!S595","v":"ÁREA DE SOPORTE "},null,null,null,{"$f":"Equipamiento!$Z$595*100/100/100","v":0},{"$f":"Equipamiento!$Y$595*100/100/100","v":0},{"$f":"IF(Equipamiento!$E$595=Equipamiento!$F$595, \"CUMPLE\", \"NO CUMPLE\")","v":"CUMPLE"},null,null,null,null,null,null,null,null,null,null,373,"ÁREA DE SOPORTE ",null,null,null,null,null,{"$f":"Y358*100/Y575","v":0},{"$f":"Z358*100/Y575","v":0},{"$f":"AA358*100/AA575","v":0},{"$f":"AB358*100/AA575","v":0},{"$f":"AC358*100/AC575","v":0},{"$f":"AD358*100/AC575","v":0},{"$f":"AE358*100/AE575","v":0},{"$f":"AF358*100/AE575","v":0}]
[{"$f":"Equipamiento!S596","v":"ÁREA ADMINISTRATIVA Y DE PERSONAL"},null,null,null,{"$f":"Equipamiento!$Z$596*100/100/100","v":0},{"$f":"Equipamiento!$Y$596*100/100/100","v":0},{"$f":"IF(Equipamiento!$E$596=Equipamiento!$F$596, \"CUMPLE\", \"NO CUMPLE\")","v":"CUMPLE"},null,null,null,null,null,null,null,null,null,null,396,"ÁREA ADMINISTRATIVA Y DE PERSONAL",null,null,null,null,null,{"$f":"Y381*100/Y575","v":0},{"$f":"Z381*100/Y575","v":0},{"$f":"AA381*100/AA575","v":0},{"$f":"AB381*100/AA575","v":0},{"$f":"AC381*100/AC575","v":0},{"$f":"AD381*100/AC575","v":0},{"$f":"AE381*100/AE575","v":0},{"$f":"AF381*100/AE575","v":0}]
[{"$f":"Equipamiento!S597","v":"APOYO TERAPÉUTICO"},null,{"$f":"Equipamiento!$Z$597*100/100/100","v":0},null,null,{"$f":"Equipamiento!$Y$597*100/100/100","v":8.6956521739130432E-2},{"$f":"IF(Equipamiento!$C$597=Equipamiento!$F$597, \"CUMPLE\", \"NO CUMPLE\")","v":"NO CUMPLE"},null,null,null,null,null,null,null,null,null,null,406,"APOYO TERAPÉUTICO",null,null,null,null,null,{"$f":"Y391*100/Y575","v":8.695652173913043},{"$f":"Z391*100/Y575","v":0},{"$f":"AA391*100/AA575","v":7.1428571428571432},{"$f":"AB391*100/AA575","v":0},{"$f":"AC391*100/AC575","v":7.1428571428571432},{"$f":"AD391*100/AC575","v":0},{"$f":"AE391*100/AE575","v":0},{"$f":"AF391*100/AE575","v":0}]
[{"$f":"Equipamiento!S598","v":"DOTACIÓN DE MEDICAMENTOS Y DISPOSITIVOS MÉDICOS (FARMACIA)"},null,null,{"$f":"Equipamiento!$Z$598*100/100/100","v":0},null,{"$f":"Equipamiento!$Y$598*100/100/100","v":8.6956521739130432E-2},{"$f":"IF(Equipamiento!$D$598=Equipamiento!$F$598, \"CUMPLE\", \"NO CUMPLE\")","v":"NO CUMPLE"},null,null,null,null,null,null,null,null,null,null,407,"DOTACIÓN DE MEDICAMENTOS Y DISPOSITIVOS MÉDICOS (FARMACIA)",null,null,null,null,null,{"$f":"Y392*100/Y575","v":8.695652173913043},{"$f":"Z392*100/Y575","v":0},{"$f":"AA392*100/AA575","v":7.1428571428571432},{"$f":"AB392*100/AA575","v":0},{"$f":"AC392*100/AC575","v":7.1428571428571432},{"$f":"AD392*100/AC575","v":0},{"$f":"AE392*100/AE575","v":0},{"$f":"AF392*100/AE575","v":0}]
[{"$f":"Equipamiento!S599","v":"ÁREA DE FARMACIA"},null,null,null,{"$f":"Equipamiento!$Z$599*100/100/100","v":0},{"$f":"Equipamiento!$Y$599*100/100/100","v":8.6956521739130432E-2},{"$f":"IF(Equipamiento!$E$599=Equipamiento!$F$599, \"CUMPLE\", \"NO CUMPLE\")","v":"NO CUMPLE"},null,null,null,null,null,null,null,null,null,null,408,"ÁREA DE FARMACIA",null,null,null,null,null,{"$f":"Y393*100/Y575","v":8.695652173913043},{"$f":"Z393*100/Y575","v":0},{"$f":"AA393*100/AA575","v":7.1428571428571432},{"$f":"AB393*100/AA575","v":0},{"$f":"AC393*100/AC575","v":7.1428571428571432},{"$f":"AD393*100/AC575","v":0},{"$f":"AE393*100/AE575","v":0},{"$f":"AF393*100/AE575","v":0}]
[{"$f":"Equipamiento!S600","v":"ADMINISTRATIVO"},null,{"$f":"Equipamiento!$Z$600*100/100/100","v":0},null,null,{"$f":"Equipamiento!$Y$600*100/100/100","v":0.18478260869565219},{"$f":"IF(Equipamiento!$C$600=Equipamiento!$F$600, \"CUMPLE\", \"NO CUMPLE\")","v":"NO CUMPLE"},null,null,null,null,null,null,null,null,null,null,429,"ADMINISTRATIVO",null,null,null,null,null,{"$f":"Y414*100/Y575","v":18.478260869565219},{"$f":"Z414*100/Y575","v":0},{"$f":"AA414*100/AA575","v":7.1428571428571432},{"$f":"AB414*100/AA575","v":0},{"$f":"AC414*100/AC575","v":7.1428571428571432},{"$f":"AD414*100/AC575","v":0},{"$f":"AE414*100/AE575","v":0},{"$f":"AF414*100/AE575","v":0}]
[{"$f":"Equipamiento!S601","v":"ADMINISTRACIÓN TÉCNICA"},null,null,{"$f":"Equipamiento!$Z$601*100/100/100","v":0},null,{"$f":"Equipamiento!$Y$601*100/100/100","v":0.18478260869565219},{"$f":"IF(Equipamiento!$D$601=Equipamiento!$F$601, \"CUMPLE\", \"NO CUMPLE\")","v":"NO CUMPLE"},null,null,null,null,null,null,null,null,null,null,430,"ADMINISTRACIÓN TÉCNICA",null,null,null,null,null,{"$f":"Y415*100/Y575","v":18.478260869565219},{"$f":"Z415*100/Y575","v":0},{"$f":"AA415*100/AA575","v":7.1428571428571432},{"$f":"AB415*100/AA575","v":0},{"$f":"AC415*100/AC575","v":7.1428571428571432},{"$f":"AD415*100/AC575","v":0},{"$f":"AE415*100/AE575","v":0},{"$f":"AF415*100/AE575","v":0}]
[{"$f":"Equipamiento!S602","v":"ÁREA TÉCNICA"},null,null,null,{"$f":"Equipamiento!$Z$602*100/100/100","v":0},{"$f":"Equipamiento!$Y$602*100/100/100","v":0.18478260869565219},{"$f":"IF(Equipamiento!$E$602=Equipamiento!$F$602, \"CUMPLE\", \"NO CUMPLE\")","v":"NO CUMPLE"},null,null,null,null,null,null,null,null,null,null,431,"ÁREA TÉCNICA",null,null,null,null,null,{"$f":"Y416*100/Y575","v":18.478260869565219},{"$f":"Z416*100/Y575","v":0},{"$f":"AA416*100/AA575","v":7.1428571428571432},{"$f":"AB416*100/AA575","v":0},{"$f":"AC416*100/AC575","v":7.1428571428571432},{"$f":"AD416*100/AC575","v":0},{"$f":"AE416*100/AE575","v":0},{"$f":"AF416*100/AE575","v":0}]
[{"$f":"Equipamiento!S603","v":"GENERAL"},null,{"$f":"Equipamiento!$Z$603*100/100/100","v":0},null,null,{"$f":"Equipamiento!$Y$603*100/100/100","v":0.10326086956521738},{"$f":"IF(Equipamiento!$C$603=Equipamiento!$F$603, \"CUMPLE\", \"NO CUMPLE\")","v":"NO CUMPLE"},null,null,null,null,null,null,null,null,null,null,492,"GENERAL",null,null,null,null,null,{"$f":"Y477*100/Y575","v":10.326086956521738},{"$f":"Z477*100/Y575","v":0},{"$f":"AA477*100/AA575","v":0},{"$f":"AB477*100/AA575","v":0},{"$f":"AC477*100/AC575","v":0},{"$f":"AD477*100/AC575","v":0},{"$f":"AE477*100/AE575","v":33.333333333333336},{"$f":"AF477*100/AE575","v":0}]
[{"$f":"Equipamiento!S604","v":"SERVICIOS INTERNOS DE APOYO"},null,null,{"$f":"Equipamiento!$Z$604*100/100/100","v":0},null,{"$f":"Equipamiento!$Y$604*100/100/100","v":0.10326086956521738},{"$f":"IF(Equipamiento!$D$604=Equipamiento!$F$604, \"CUMPLE\", \"NO CUMPLE\")","v":"NO CUMPLE"},null,null,null,null,null,null,null,null,null,null,493,"SERVICIOS INTERNOS DE APOYO",null,null,null,null,null,{"$f":"Y478*100/Y575","v":10.326086956521738},{"$f":"Z478*100/Y575","v":0},{"$f":"AA478*100/AA575","v":0},{"$f":"AB478*100/AA575","v":0},{"$f":"AC478*100/AC575","v":0},{"$f":"AD478*100/AC575","v":0},{"$f":"AE478*100/AE575","v":33.333333333333336},{"$f":"AF478*100/AE575","v":0}]
[{"$f":"Equipamiento!S605","v":"ÁREA DE APOYO Y ALMACENAMIENTO( suministros e insumos) para el establecimiento"},null,null,null,{"$f":"Equipamiento!$Z$605*100/100/100","v":0},{"$f":"Equipamiento!$Y$605*100/100/100","v":1.6304347826086956E-2},{"$f":"IF(Equipamiento!$E$605=Equipamiento!$F$605, \"CUMPLE\", \"NO CUMPLE\")","v":"NO CUMPLE"},null,null,null,null,null,null,null,null,null,null,494,"ÁREA DE APOYO Y ALMACENAMIENTO( suministros e insumos) para el establecimiento",null,null,null,null,null,{"$f":"Y479*100/Y575","v":1.6304347826086956},{"$f":"Z479*100/Y575","v":0},{"$f":"AA479*100/AA575","v":0},{"$f":"AB479*100/AA575","v":0},{"$f":"AC479*100/AC575","v":0},{"$f":"AD479*100/AC575","v":0},{"$f":"AE479*100/AE575","v":0},{"$f":"AF479*100/AE575","v":0}]
[{"$f":"Equipamiento!S606","v":"ÁREA DEL PERSONAL"},null,null,null,{"$f":"Equipamiento!$Z$606*100/100/100","v":0},{"$f":"Equipamiento!$Y$606*100/100/100","v":6.5217391304347824E-2},{"$f":"IF(Equipamiento!$E$606=Equipamiento!$F$606, \"CUMPLE\", \"NO CUMPLE\")","v":"NO CUMPLE"},null,null,null,null,null,null,null,null,null,null,508,"ÁREA DEL PERSONAL",null,null,null,null,null,{"$f":"Y493*100/Y575","v":6.5217391304347823},{"$f":"Z493*100/Y575","v":0},{"$f":"AA493*100/AA575","v":0},{"$f":"AB493*100/AA575","v":0},{"$f":"AC493*100/AC575","v":0},{"$f":"AD493*100/AC575","v":0},{"$f":"AE493*100/AE575","v":33.333333333333336},{"$f":"AF493*100/AE575","v":0}]
[{"$f":"Equipamiento!S607","v":"LIMPIEZA"},null,null,null,{"$f":"Equipamiento!$Z$607*100/100/100","v":0},{"$f":"Equipamiento!$Y$607*100/100/100","v":5.434782608695652E-3},{"$f":"IF(Equipamiento!$E$607=Equipamiento!$F$607, \"CUMPLE\", \"NO CUMPLE\")","v":"NO CUMPLE"},null,null,null,null,null,null,null,null,null,null,539,"LIMPIEZA",null,null,null,null,null,{"$f":"Y524*100/Y575","v":0.54347826086956519},{"$f":"Z524*100/Y575","v":0},{"$f":"AA524*100/AA575","v":0},{"$f":"AB524*100/AA575","v":0},{"$f":"AC524*100/AC575","v":0},{"$f":"AD524*100/AC575","v":0},{"$f":"AE524*100/AE575","v":0},{"$f":"AF524*100/AE575","v":0}]
[{"$f":"Equipamiento!S608","v":"LAVANDERIA "},null,null,null,{"$f":"Equipamiento!$Z$608*100/100/100","v":0},{"$f":"Equipamiento!$Y$608*100/100/100","v":0},{"$f":"IF(Equipamiento!$E$608=Equipamiento!$F$608, \"CUMPLE\", \"NO CUMPLE\")","v":"CUMPLE"},null,null,null,null,null,null,null,null,null,null,563,"LAVANDERIA ",null,null,null,null,null,{"$f":"Y548*100/Y575","v":0},{"$f":"Z548*100/Y575","v":0},{"$f":"AA548*100/AA575","v":0},{"$f":"AB548*100/AA575","v":0},{"$f":"AC548*100/AC575","v":0},{"$f":"AD548*100/AC575","v":0},{"$f":"AE548*100/AE575","v":0},{"$f":"AF548*100/AE575","v":0}]
[{"$f":"Equipamiento!S609","v":"ALMACENAMIENTO FINAL DE DESECHOS"},null,null,null,{"$f":"Equipamiento!$Z$609*100/100/100","v":0},{"$f":"Equipamiento!$Y$609*100/100/100","v":1.6304347826086956E-2},{"$f":"IF(Equipamiento!$E$609=Equipamiento!$F$609, \"CUMPLE\", \"NO CUMPLE\")","v":"NO CUMPLE"},null,null,null,null,null,null,null,null,null,null,581,"ALMACENAMIENTO FINAL DE DESECHOS",null,null,null,null,null,{"$f":"Y566*100/Y575","v":1.6304347826086956},{"$f":"Z566*100/Y575","v":0},{"$f":"AA566*100/AA575","v":0},{"$f":"AB566*100/AA575","v":0},{"$f":"AC566*100/AC575","v":0},{"$f":"AD566*100/AC575","v":0},{"$f":"AE566*100/AE575","v":0},{"$f":"AF566*100/AE575","v":0}]
["TOTAL REQUERIDO:",null,null,null,null,0.3,{"$f":"SUM(Equipamiento!$C$576                                                                                                                                                                                                  : Equipamiento!C609)*0.3","v":0}]
["TOTAL CONDICIONADOS +:"]
["MOBILIARIO GENERAL:",null,"% Obtenido:","% Obtenido:","% Obtenido:","% A Cumplir:","% Final:"]
["ADMINISTRATIVO",null,{"$f":"Equipamiento!$AB$576*100/100/100","v":0},null,null,{"$f":"Equipamiento!AA576*100/100/100","v":0.28571428571428575},{"$f":"IF(C613=F613, \"CUMPLE\", \"NO CUMPLE\")","v":"NO CUMPLE"}]
["ADMISIÓN Y ESTADÍSTICA ",null,null,{"$f":"Equipamiento!$AB$577*100/100/100","v":0},null,{"$f":"Equipamiento!AA577*100/100/100","v":0.28571428571428575},{"$f":"IF(D614=F614, \"CUMPLE\", \"NO CUMPLE\")","v":"NO CUMPLE"}]
["ÁREA TÉCNICA",null,null,null,{"$f":"Equipamiento!$AB$578*100/100/100","v":0},{"$f":"Equipamiento!AA578*100/100/100","v":0.28571428571428575},{"$f":"IF(E615=F615, \"CUMPLE\", \"NO CUMPLE\")","v":"NO CUMPLE"}]
["ASISTENCIAL",null,{"$f":"Equipamiento!$AB$579*100/100/100","v":0},null,null,{"$f":"Equipamiento!$AA$579*100/100/100","v":0.35714285714285715},{"$f":"IF(C616=F616, \"CUMPLE\", \"NO CUMPLE\")","v":"NO CUMPLE"}]
["CONSULTA EXTERNA",null,null,{"$f":"Equipamiento!$AB$580*100/100/100","v":0},null,{"$f":"Equipamiento!$AA$580*100/100/100","v":0.35714285714285715},{"$f":"IF(D617=F617, \"CUMPLE\", \"NO CUMPLE\")","v":"NO CUMPLE"}]
["ÁREA DE ATENCIÓN DE CONSULTA",null,null,null,{"$f":"Equipamiento!$AB$581*100/100/100","v":0},{"$f":"Equipamiento!$AA$581*100/100/100","v":0.35714285714285715},{"$f":"IF(E618=F618, \"CUMPLE\", \"NO CUMPLE\")","v":"NO CUMPLE"}]
["APOYO TERAPÉUTICO",null,{"$f":"Equipamiento!$AB$582*100/100/100","v":0},null,null,{"$f":"Equipamiento!$AA$582*100/100/100","v":0.21428571428571427},{"$f":"IF(C619=F619, \"CUMPLE\", \"NO CUMPLE\")","v":"NO CUMPLE"}]
["ATENCIÓN DE APOYO TERAPÉUTICO",null,null,{"$f":"Equipamiento!$AB$583*100/100/100","v":0},null,{"$f":"Equipamiento!$AA$583*100/100/100","v":0.21428571428571427},{"$f":"IF(D620=F620, \"CUMPLE\", \"NO CUMPLE\")","v":"NO CUMPLE"}]
["ÁREA DE PROCEDIMIENTOS",null,null,null,{"$f":"Equipamiento!$AB$584*100/100/100","v":0},{"$f":"Equipamiento!$AA$584*100/100/100","v":0},{"$f":"IF(E621=F621, \"CUMPLE\", \"NO CUMPLE\")","v":"CUMPLE"}]
["ÁREA DE SOPORTE Y SUMINISTROS  ",null,null,null,{"$f":"Equipamiento!$AB$585*100/100/100","v":0},{"$f":"Equipamiento!$AA$585*100/100/100","v":0},{"$f":"IF(E622=F622, \"CUMPLE\", \"NO CUMPLE\")","v":"CUMPLE"}]
["ÁREA DE TRATAMIENTO DE HEMODIÁLISIS",null,null,null,{"$f":"Equipamiento!$AB$586*100/100/100","v":0},{"$f":"Equipamiento!$AA$586*100/100/100","v":0.21428571428571427},"NO CUMPLE"]
["ÁREA TÉCNICA DE APOYO",null,null,null,{"$f":"Equipamiento!$AB$587*100/100/100","v":0},{"$f":"Equipamiento!$AA$587*100/100/100","v":0},"CUMPLE"]
["ÁREA DE DIÁLISIS PERITONEAL",null,null,null,{"$f":"Equipamiento!$AB$588*100/100/100","v":0},{"$f":"Equipamiento!$AA$588*100/100/100","v":0},"CUMPLE"]
["ÁREA TECNICA DE APOYO",null,null,null,{"$f":"Equipamiento!$AB$589*100/100/100","v":0},{"$f":"Equipamiento!$AA$589*100/100/100","v":0},"CUMPLE"]
["ÁREA PARA LOS USUARIOS",null,null,null,{"$f":"Equipamiento!$AB$590*100/100/100","v":0},{"$f":"Equipamiento!$AA$590*100/100/100","v":0},"CUMPLE"]
["APOYO DIAGNÓSTICO",null,{"$f":"Equipamiento!$AB$591*100/100/100","v":0},null,null,{"$f":"Equipamiento!$AA$591*100/100/100","v":0},{"$f":"IF(C628=F628, \"CUMPLE\", \"NO CUMPLE\")","v":"CUMPLE"}]
["DIAGNÓSTICO EN LABORATORIO (LABORATORIO DE ANÁLISIS CLÍNICO)",null,null,{"$f":"Equipamiento!$AB$592*100/100/100","v":0},null,{"$f":"Equipamiento!$AA$592*100/100/100","v":0},{"$f":"IF(D629=F629, \"CUMPLE\", \"NO CUMPLE\")","v":"CUMPLE"}]
["ÁREA DE PREANÁLISIS",null,null,null,{"$f":"Equipamiento!$AB$593*100/100/100","v":0},{"$f":"Equipamiento!$AA$593*100/100/100","v":0},{"$f":"IF(E630=F630, \"CUMPLE\", \"NO CUMPLE\")","v":"CUMPLE"}]
["ÁREA DE ANÁLISIS",null,null,null,{"$f":"Equipamiento!$AB$594*100/100/100","v":0},{"$f":"Equipamiento!$AA$594*100/100/100","v":0},{"$f":"IF(E631=F631, \"CUMPLE\", \"NO CUMPLE\")","v":"CUMPLE"}]
["ÁREA DE SOPORTE ",null,null,null,{"$f":"Equipamiento!$AB$595*100/100/100","v":0},{"$f":"Equipamiento!$AA$595*100/100/100","v":0},"CUMPLE"]
["ÁREA ADMINISTRATIVA Y DE PERSONAL",null,null,null,{"$f":"Equipamiento!$AB$596*100/100/100","v":0},{"$f":"Equipamiento!$AA$596*100/100/100","v":0},"CUMPLE"]
["APOYO TERAPÉUTICO",null,{"$f":"Equipamiento!$AB$597*100/100/100","v":0},null,null,{"$f":"Equipamiento!$AA$597*100/100/100","v":7.1428571428571438E-2},{"$f":"IF(C634=F634, \"CUMPLE\", \"NO CUMPLE\")","v":"NO CUMPLE"}]
["DOTACIÓN DE MEDICAMENTOS Y DISPOSITIVOS MÉDICOS (FARMACIA)",null,null,{"$f":"Equipamiento!$AB$598*100/100/100","v":0},null,{"$f":"Equipamiento!$AA$598*100/100/100","v":7.1428571428571438E-2},{"$f":"IF(D635=F635, \"CUMPLE\", \"NO CUMPLE\")","v":"NO CUMPLE"}]
["ÁREA DE FARMACIA",null,null,null,{"$f":"Equipamiento!$AB$599*100/100/100","v":0},{"$f":"Equipamiento!$AA$599*100/100/100","v":7.1428571428571438E-2},{"$f":"IF(E636=F636, \"CUMPLE\", \"NO CUMPLE\")","v":"NO CUMPLE"}]
["ADMINISTRATIVO",null,{"$f":"Equipamiento!$AB$600*100/100/100","v":0},null,null,{"$f":"Equipamiento!$AA$600*100/100/100","v":7.1428571428571438E-2},{"$f":"IF(C637=F637, \"CUMPLE\", \"NO CUMPLE\")","v":"NO CUMPLE"}]
["ADMINISTRACIÓN TÉCNICA",null,null,{"$f":"Equipamiento!$AB$601*100/100/100","v":0},null,{"$f":"Equipamiento!$AA$601*100/100/100","v":7.1428571428571438E-2},{"$f":"IF(D638=F638, \"CUMPLE\", \"NO CUMPLE\")","v":"NO CUMPLE"}]
["ÁREA TÉCNICA",null,null,null,{"$f":"Equipamiento!$Z$602*100/100/100","v":0},{"$f":"Equipamiento!$Y$602*100/100/100","v":0.18478260869565219},{"$f":"IF(E639=F639, \"CUMPLE\", \"NO CUMPLE\")","v":"NO CUMPLE"}]
["GENERAL",null,{"$f":"Equipamiento!$AB$603*100/100/100","v":0},null,null,{"$f":"Equipamiento!$AA$603*100/100/100","v":0},{"$f":"IF(C640=F640, \"CUMPLE\", \"NO CUMPLE\")","v":"CUMPLE"}]
["SERVICIOS INTERNOS DE APOYO",null,null,{"$f":"Equipamiento!$AB$604*100/100/100","v":0},null,{"$f":"Equipamiento!$AA$604*100/100/100","v":0},{"$f":"IF(D641=F641, \"CUMPLE\", \"NO CUMPLE\")","v":"CUMPLE"}]
["ÁREA DE APOYO Y ALMACENAMIENTO( suministros e insumos) para el establecimiento",null,null,null,{"$f":"Equipamiento!$AB$605*100/100/100","v":0},{"$f":"Equipamiento!$AA$605*100/100/100","v":0},{"$f":"IF(E642=F642, \"CUMPLE\", \"NO CUMPLE\")","v":"CUMPLE"}]
["ÁREA DEL PERSONAL",null,null,null,{"$f":"Equipamiento!$AB$606*100/100/100","v":0},{"$f":"Equipamiento!$AA$606*100/100/100","v":0},{"$f":"IF(E643=F643, \"CUMPLE\", \"NO CUMPLE\")","v":"CUMPLE"}]
["LIMPIEZA",null,null,null,{"$f":"Equipamiento!$AB$607*100/100/100","v":0},{"$f":"Equipamiento!$AA$607*100/100/100","v":0},"CUMPLE"]
["LAVANDERIA ",null,null,null,{"$f":"Equipamiento!$AB$608*100/100/100","v":0},{"$f":"Equipamiento!$AA$608*100/100/100","v":0},"CUMPLE"]
["ALMACENAMIENTO FINAL DE DESECHOS",null,null,null,{"$f":"Equipamiento!$AB$609*100/100/100","v":0},{"$f":"Equipamiento!$AA$609*100/100/100","v":0},"CUMPLE"]
["TOTAL CONDICIÓN+:",null,null,null,null,0.3,{"$f":"SUM(C613:C646)*0.3","v":0}]
["TOTAL CONDICIONADOS -:"]
["MOBILIARIO GENERAL:",null,"% Obtenido:","% Obtenido:","% Obtenido:","% A Cumplir:","% Final:"]
["ADMINISTRATIVO",null,{"$f":"-Equipamiento!$AD$576*100/100/100","v":0},null,null,{"$f":"-Equipamiento!AC576*100/100/100","v":-0.28571428571428575},{"$f":"IF(C650=F650, \"CUMPLE\", \"NO CUMPLE\")","v":"NO CUMPLE"}]
["ADMISIÓN Y ESTADÍSTICA ",null,null,{"$f":"-Equipamiento!$AD$577*100/100/100","v":0},null,{"$f":"-Equipamiento!AC577*100/100/100","v":-0.28571428571428575},{"$f":"IF(D651=F651, \"CUMPLE\", \"NO CUMPLE\")","v":"NO CUMPLE"}]
["ÁREA TÉCNICA",null,null,null,{"$f":"-Equipamiento!$AD$578*100/100/100","v":0},{"$f":"-Equipamiento!AC578*100/100/100","v":-0.28571428571428575},{"$f":"IF(E652=F652, \"CUMPLE\", \"NO CUMPLE\")","v":"NO CUMPLE"}]
["ASISTENCIAL",null,{"$f":"-Equipamiento!$AD$579*100/100/100","v":0},null,null,{"$f":"-Equipamiento!AC579*100/100/100","v":-0.35714285714285715},{"$f":"IF(C653=F653, \"CUMPLE\", \"NO CUMPLE\")","v":"NO CUMPLE"}]
["CONSULTA EXTERNA",null,null,{"$f":"-Equipamiento!$AD$580*100/100/100","v":0},null,{"$f":"-Equipamiento!AC580*100/100/100","v":-0.35714285714285715},{"$f":"IF(D654=F654, \"CUMPLE\", \"NO CUMPLE\")","v":"NO CUMPLE"}]
["ÁREA DE ATENCIÓN DE CONSULTA",null,null,null,{"$f":"-Equipamiento!$AD$581*100/100/100","v":0},{"$f":"-Equipamiento!AC581*100/100/100","v":-0.35714285714285715},{"$f":"IF(E655=F655, \"CUMPLE\", \"NO CUMPLE\")","v":"NO CUMPLE"}]
["APOYO TERAPÉUTICO",null,{"$f":"-Equipamiento!$AD$582*100/100/100","v":0},null,null,{"$f":"-Equipamiento!AC582*100/100/100","v":-0.21428571428571427},{"$f":"IF(C656=F656, \"CUMPLE\", \"NO CUMPLE\")","v":"NO CUMPLE"}]
["ATENCIÓN DE APOYO TERAPÉUTICO",null,null,{"$f":"-Equipamiento!$AD$583*100/100/100","v":0},null,{"$f":"-Equipamiento!AC583*100/100/100","v":-0.21428571428571427},{"$f":"IF(D657=F657, \"CUMPLE\", \"NO CUMPLE\")","v":"NO CUMPLE"}]
["ÁREA DE PROCEDIMIENTOS",null,null,null,{"$f":"-Equipamiento!$AD$584*100/100/100","v":0},{"$f":"-Equipamiento!AC584*100/100/100","v":0},{"$f":"IF(E658=F658, \"CUMPLE\", \"NO CUMPLE\")","v":"CUMPLE"}]
["ÁREA DE SOPORTE Y SUMINISTROS  ",null,null,null,{"$f":"-Equipamiento!$AD$585*100/100/100","v":0},{"$f":"-Equipamiento!AC585*100/100/100","v":0},{"$f":"IF(E659=F659, \"CUMPLE\", \"NO CUMPLE\")","v":"CUMPLE"}]
["ÁREA DE TRATAMIENTO DE HEMODIÁLISIS",null,null,null,{"$f":"-Equipamiento!$AD$586*100/100/100","v":0},{"$f":"-Equipamiento!AC586*100/100/100","v":-0.21428571428571427},"NO CUMPLE"]
["ÁREA TÉCNICA DE APOYO",null,null,null,{"$f":"-Equipamiento!$AD$587*100/100/100","v":0},{"$f":"-Equipamiento!AC587*100/100/100","v":0},"CUMPLE"]
["ÁREA DE DIÁLISIS PERITONEAL",null,null,null,{"$f":"-Equipamiento!$AD$588*100/100/100","v":0},{"$f":"-Equipamiento!AC588*100/100/100","v":0},"CUMPLE"]
["ÁREA TECNICA DE APOYO",null,null,null,{"$f":"-Equipamiento!$AD$589*100/100/100","v":0},{"$f":"-Equipamiento!AC589*100/100/100","v":0},"CUMPLE"]
["ÁREA PARA LOS USUARIOS",null,null,null,{"$f":"-Equipamiento!$AD$590*100/100/100","v":0},{"$f":"-Equipamiento!AC590*100/100/100","v":0},"CUMPLE"]
["APOYO DIAGNÓSTICO",null,{"$f":"-Equipamiento!$AD$591*100/100/100","v":0},null,null,{"$f":"-Equipamiento!AC591*100/100/100","v":0},{"$f":"IF(C665=F665, \"CUMPLE\", \"NO CUMPLE\")","v":"CUMPLE"}]
["DIAGNÓSTICO EN LABORATORIO (LABORATORIO DE ANÁLISIS CLÍNICO)",null,null,{"$f":"-Equipamiento!$AD$592*100/100/100","v":0},null,{"$f":"-Equipamiento!AC592*100/100/100","v":0},{"$f":"IF(D666=F666, \"CUMPLE\", \"NO CUMPLE\")","v":"CUMPLE"}]
["ÁREA DE PREANÁLISIS",null,null,null,{"$f":"-Equipamiento!$AD$593*100/100/100","v":0},{"$f":"-Equipamiento!AC593*100/100/100","v":0},{"$f":"IF(E667=F667, \"CUMPLE\", \"NO CUMPLE\")","v":"CUMPLE"}]
["ÁREA DE ANÁLISIS",null,null,null,{"$f":"-Equipamiento!$AD$594*100/100/100","v":0},{"$f":"-Equipamiento!AC594*100/100/100","v":0},{"$f":"IF(E668=F668, \"CUMPLE\", \"NO CUMPLE\")","v":"CUMPLE"}]
["ÁREA DE SOPORTE ",null,null,null,{"$f":"-Equipamiento!$AD$595*100/100/100","v":0},{"$f":"-Equipamiento!AC595*100/100/100","v":0},"CUMPLE"]
["ÁREA ADMINISTRATIVA Y DE PERSONAL",null,null,null,{"$f":"-Equipamiento!$AD$596*100/100/100","v":0},{"$f":"-Equipamiento!AC596*100/100/100","v":0},"CUMPLE"]
["APOYO TERAPÉUTICO",null,{"$f":"-Equipamiento!$AD$597*100/100/100","v":0},null,null,{"$f":"-Equipamiento!AC597*100/100/100","v":-7.1428571428571438E-2},{"$f":"IF(C671=F671, \"CUMPLE\", \"NO CUMPLE\")","v":"NO CUMPLE"}]
["DOTACIÓN DE MEDICAMENTOS Y DISPOSITIVOS MÉDICOS (FARMACIA)",null,null,{"$f":"-Equipamiento!$AD$598*100/100/100","v":0},null,{"$f":"-Equipamiento!AC598*100/100/100","v":-7.1428571428571438E-2},{"$f":"IF(D672=F672, \"CUMPLE\", \"NO CUMPLE\")","v":"NO CUMPLE"}]
["ÁREA DE FARMACIA",null,null,null,{"$f":"-Equipamiento!$AD$599*100/100/100","v":0},{"$f":"-Equipamiento!AC599*100/100/100","v":-7.1428571428571438E-2},{"$f":"IF(E673=F673, \"CUMPLE\", \"NO CUMPLE\")","v":"NO CUMPLE"}]
["ADMINISTRATIVO",null,{"$f":"-Equipamiento!$AD$600*100/100/100","v":0},null,null,{"$f":"-Equipamiento!AC600*100/100/100","v":-7.1428571428571438E-2},{"$f":"IF(C674=F674, \"CUMPLE\", \"NO CUMPLE\")","v":"NO CUMPLE"}]
["ADMINISTRACIÓN TÉCNICA",null,null,{"$f":"-Equipamiento!$AD$601*100/100/100","v":0},null,{"$f":"-Equipamiento!AC601*100/100/100","v":-7.1428571428571438E-2},{"$f":"IF(D675=F675, \"CUMPLE\", \"NO CUMPLE\")","v":"NO CUMPLE"}]
["ÁREA TÉCNICA",null,null,null,{"$f":"-Equipamiento!$AD$602*100/100/100","v":0},{"$f":"-Equipamiento!AC602*100/100/100","v":-7.1428571428571438E-2},{"$f":"IF(E676=F676, \"CUMPLE\", \"NO CUMPLE\")","v":"NO CUMPLE"}]
["GENERAL",null,{"$f":"-Equipamiento!$AD$603*100/100/100","v":0},null,null,{"$f":"-Equipamiento!AC603*100/100/100","v":0},{"$f":"IF(C677=F677, \"CUMPLE\", \"NO CUMPLE\")","v":"CUMPLE"}]
["SERVICIOS INTERNOS DE APOYO",null,null,{"$f":"-Equipamiento!$AD$604*100/100/100","v":0},null,{"$f":"-Equipamiento!AC604*100/100/100","v":0},{"$f":"IF(D678=F678, \"CUMPLE\", \"NO CUMPLE\")","v":"CUMPLE"}]
["ÁREA DE APOYO Y ALMACENAMIENTO( suministros e insumos) para el establecimiento",null,null,null,{"$f":"-Equipamiento!$AD$605*100/100/100","v":0},{"$f":"-Equipamiento!AC605*100/100/100","v":0},{"$f":"IF(E679=F679, \"CUMPLE\", \"NO CUMPLE\")","v":"CUMPLE"}]
["ÁREA DEL PERSONAL",null,null,null,{"$f":"-Equipamiento!$AD$606*100/100/100","v":0},{"$f":"-Equipamiento!AC606*100/100/100","v":0},{"$f":"IF(E680=F680, \"CUMPLE\", \"NO CUMPLE\")","v":"CUMPLE"}]
["LAVANDERIA ",null,null,null,{"$f":"-Equipamiento!$AD$608*100/100/100","v":0},{"$f":"-Equipamiento!AC608*100/100/100","v":0},"CUMPLE"]
["TOTAL CONDICIÓN-:",null,null,null,null,0.3,{"$f":"SUM(C650:C681)*0.3","v":0}]
["TOTALES COMPONENTE:"]
["TOTAL % REQUERIDO:",null,null,null,null,0.3,{"$f":"G610","v":0}]
["TOTAL % DESEABLE:",null,null,null,null,0.3,{"$f":"(AF575*0.3/AE575)","v":0}]
["TOTAL % CONDICIÓN:",null,null,null,null,0.3,{"$f":"(G647+G682)","v":0}]

{"sheet":"Norma","index":6,"n_rows":379,"n_cols":29,"rows_kept":379,"cut":false,"hidden":false,"merged":[[149,0,149,9],[150,0,150,9],[368,0,368,1],[369,0,369,1],[370,0,370,1],[363,0,363,1],[364,0,364,1],[365,0,365,1],[366,0,366,1],[367,0,367,1],[361,0,361,1],[362,0,362,1],[345,0,345,1],[346,0,346,1],[347,0,347,1],[348,0,348,1],[373,0,373,1],[374,0,374,4],[327,13,327,20],[328,13,328,20],[371,0,371,1],[372,0,372,1],[355,0,355,1],[356,0,356,4],[358,0,358,1],[359,0,359,1],[360,0,360,1],[350,0,350,1],[351,0,351,1],[352,0,352,1],[353,0,353,1],[354,0,354,1],[349,0,349,1],[340,0,340,1],[341,0,341,1],[342,0,342,1],[343,0,343,1],[344,0,344,1],[333,13,333,20],[1,27,1,28],[5,19,5,20],[320,25,320,26],[320,21,320,22],[331,13,331,20],[1,23,1,24],[376,0,376,4],[377,0,377,4],[378,0,378,4],[322,13,322,20],[323,13,323,20],[324,13,324,20],[325,13,325,20],[326,13,326,20],[329,13,329,20],[328,0,328,1],[335,13,335,20],[336,13,336,20],[330,13,330,20],[322,0,322,1],[332,13,332,20],[334,13,334,20],[221,0,221,9],[233,0,233,9],[232,0,232,9],[220,0,220,9],[329,0,329,1],[323,0,323,1],[324,0,324,1],[325,0,325,1],[326,0,326,1],[327,0,327,1],[335,0,335,1],[336,0,336,1],[337,0,337,1],[338,0,338,4],[251,0,251,9],[321,0,321,5],[334,0,334,1],[330,0,330,1],[331,0,331,1],[332,0,332,1],[333,0,333,1],[339,0,339,5],[357,0,357,5],[375,0,375,8],[1,25,1,26],[320,23,320,24],[252,0,252,9],[312,0,312,9],[313,0,313,9],[5,15,5,16],[5,17,5,18],[1,0,1,9],[2,0,2,9],[3,0,3,9],[4,0,4,9],[25,0,25,9],[24,0,24,9]]}
["FILTROS:","Anx:","Cantidad Mínima:","Tipo:","Posee:","No Posee:",null,null,"Calif:","Observaciones:"]
[{"$f":"Menu!$B$4","v":"CENTRO ESPECIALIZADO EN SALUD RENAL"},null,null,null,null,null,null,null,null,null,null,null,null,null,null,null,null,null,null,null,null,null,null,"REQ",null,"COND+",null,"COND-"]
["NORMAS",null,null,null,null,null,null,null,null,null,{"$f":"ROW(A3)","v":3},null,null,null,null,null,null,null,null,null,null,null,null,{"$f":"SUM(P4:P321)","v":1760},0,1150,0,1110,0]
["ADMINISTRATIVO",null,null,null,null,null,null,null,null,null,{"$f":"ROW(A4)","v":4},null,null,null,null,null,null,null,null,null,null,null,null,{"$f":"SUM(P5:P24)","v":130},{"$f":"SUM(Q5:Q24)","v":0},{"$f":"SUM(R5:R24)","v":50},0,40,0]
["ADMISIÓN Y ESTADISTICA",null,null,null,null,null,null,null,null,null,5,null,null,null,null,null,null,null,null,null,null,null,null,{"$f":"SUM(P6:P24)","v":130},{"$f":"SUM(Q6:Q24)","v":0},{"$f":"SUM(R6:R24)","v":50},0,40,0]
["Admisión, Información y Recepción",{"$f":"B1","v":"Anx:"},{"$f":"C$1","v":"Cantidad Mínima:"},"Tipo:","Posee:","No Posee:",null,null,"Calif:","Observaciones:",null,null,null,null,null,"REQ",null,"COND+",null,"COND-",null,null,null,{"$f":"SUM(P7:P24)","v":130},{"$f":"SUM(Q7:Q24)","v":0},{"$f":"SUM(R7:R24)","v":50},0,40,0]
["Instructivo para el Llenado del Registro Diario Automatizado de Consultas y Atenciones Ambulatorias (RDACAA). 2013",null,1,"Condición",0,0,{"$f":"IF(AND(E7>=C7,E7>0),10,0)","v":0},{"$f":"IF(AND(F7>=C7,F7>0),10,0)","v":0},{"$f":"IF(AND(E7=0,F7=0),0,IF(AND(E7>0,F7>0),10,IF(AND(E7=0,F7>0),-10,IF(AND(E7>0,F7=0),10))))","v":0},null,null,null,null,null,null,null,null,{"$f":"IF(UPPER(D7)=\"CONDICIÓN\", 10, \"\")","v":10},{"$f":"IF(UPPER(D7)=\"CONDICIÓN\", G7, \"\")","v":0},{"$f":"IF(UPPER(D7)=\"CONDICIÓN\", 10, \"\")","v":10},{"$f":"IF(UPPER(D7)=\"CONDICIÓN\", H7, \"\")","v":0}]
["Manual de Instalación del Tarjetero índice",null,1,"Condición",0,0,{"$f":"IF(AND(E8>=C8,E8>0),10,0)","v":0},{"$f":"IF(AND(F8>=C8,F8>0),10,0)","v":0},{"$f":"IF(AND(E8=0,F8=0),0,IF(AND(E8>0,F8>0),10,IF(AND(E8=0,F8>0),-10,IF(AND(E8>0,F8=0),10))))","v":0},null,null,null,null,null,null,null,null,{"$f":"IF(UPPER(D8)=\"CONDICIÓN\", 10, \"\")","v":10},{"$f":"IF(UPPER(D8)=\"CONDICIÓN\", G8, \"\")","v":0},{"$f":"IF(UPPER(D8)=\"CONDICIÓN\", 10, \"\")","v":10},{"$f":"IF(UPPER(D8)=\"CONDICIÓN\", H8, \"\")","v":0}]
["Manual del Usuario del Tarjetero Indice",null,1,"Condición",0,0,0,0,0,null,null,null,null,null,null,null,null,10,{"$f":"IF(UPPER(D9)=\"CONDICIÓN\", G9, \"\")","v":0},10,0]
["Manual de Manejo, Archivo de las Historias Clínicas",null,1,"Requerido",0,0,0,0,0,null,null,null,null,null,null,{"$f":"IF(UPPER(D10)=\"REQUERIDO\", 10, \"\")","v":10},{"$f":"IF(UPPER(D10)=\"REQUERIDO\", I10, \"\")","v":0}]
["Norma Técnica: Subsistema de Referencia, Derivación, Contrareferencia, Referencia inversa y Transferencia del Sistema Nacional de Salud. 2014",null,1,"Requerido",0,0,0,0,0,null,null,null,null,null,null,10,0]
["Políticas Uso de Servicios de Red y Servicios Informáticos del Ministerio de Salud Pública",null,1,"Condición",0,0,0,0,0,null,null,null,null,null,null,null,null,{"$f":"IF(UPPER(D12)=\"CONDICIÓN\", 10, \"\")","v":10},{"$f":"IF(UPPER(D12)=\"CONDICIÓN\", G12, \"\")","v":0},{"$f":"IF(UPPER(D12)=\"CONDICIÓN\", 10, \"\")","v":10},{"$f":"IF(UPPER(D12)=\"CONDICIÓN\", H12, \"\")","v":0}]
["Modelo de Gestión de requerimientos e inconformidades ciudadanas para mejorar los servicios de salud a nivel nacional",null,1,"Condición",0,0,0,0,0,null,null,null,null,null,null,null,null,{"$f":"IF(UPPER(D13)=\"CONDICIÓN\", 10, \"\")","v":10},{"$f":"IF(UPPER(D13)=\"CONDICIÓN\", G13, \"\")","v":0}]
["Reglamento de Señalización de Seguridad para Establecimientos de Salud",null,1,"Requerido",0,0,0,0,0,null,null,null,null,null,null,10,0]
["Registro de Indicadores de Morbilidad y Mortalidad",null,1,"Requerido",0,0,0,0,0,null,null,null,null,null,null,10,0]
["Acuerdo Ministerial 5212: Tipología Sustitutiva para Homologar los Establecimientos de Salud por Niveles de Atención y Servicios de Apoyo del Sistema Nacional de Salud",null,1,"Requerido",0,0,0,0,0,null,null,null,null,null,null,10,0]
["Manual de Normas de Bioseguridad para la Red de Servicios de Salud en el Ecuador",null,1,"Requerido",0,0,0,0,0,null,null,null,null,null,null,10,0]
["Norma Técnica: Atención Integral en Violencia de Género. 2014",null,1,"Requerido",0,0,0,0,0,null,null,null,null,null,null,10,0]
["Protocolos de Procedimientos de Limpieza",null,1,"Requerido",0,0,0,0,0,null,null,null,null,null,null,10,0]
["Registro de limpieza del área funcional del Establecimiento",null,1,"Requerido",0,0,0,0,0,null,null,null,null,null,null,10,0]
["Registro de Mantenimiento de Equipos: Preventivo y/o Correctivo",null,1,"Requerido",0,0,0,0,0,null,null,null,null,null,null,10,0]
["Acuerdo Ministerial 115: Manual de Seguridad del Paciente- Usuario",null,1,"Requerido",0,0,0,0,0,null,null,null,null,null,null,10,0]
["Acuerdo Ministerial 5186: Reglamento Interministerial para la Gestión Integral de Desechos Sanitarios",null,1,"Requerido",0,0,0,0,0,null,null,null,null,null,null,10,0]
["Registro de Sistema de Información y Análisis Estadístico que Incluya: Consultas, Interconsultas, Procedimientos, Índice de Infecciones, Morbimortalidad, Manejo de Accesos Vasculare y/o Catéteres Peritoneales, Anemia, Hipertensión Arterial, Enfermedad Ósea, Nutrición, Atención Psicológica, Trabajo Social y Complicaciones de la hemodiálisis y/o Diálisis Peritoneal",null,1,"Requerido",0,0,0,0,0,null,null,null,null,null,null,10,0]
["ASISTENCIAL",null,null,null,null,null,null,null,null,null,{"$f":"ROW(A25)","v":25},null,null,null,null,null,null,null,null,null,null,null,null,{"$f":"SUM(P26:P149)","v":650},{"$f":"SUM(Q26:Q149)","v":0},{"$f":"SUM(R26:R149)","v":540},{"$f":"SUM(S26:S149)","v":0},520,0]
["CONSULTA EXTERNA",null,null,null,null,null,null,null,null,null,26,null,null,null,null,null,null,null,null,null,null,null,null,{"$f":"SUM(P27:P149)","v":650},{"$f":"SUM(Q27:Q149)","v":0},{"$f":"SUM(R27:R149)","v":540},0,520,0]
["Enfermería (En el caso de contar con la prestación, las condiciones se vuelven requeridas)",{"$f":"B1","v":"Anx:"},{"$f":"C$1","v":"Cantidad Mínima:"},"Tipo:","Posee:","No Posee:",null,null,"Calif:","Observaciones:",null,null,null,null,null,null,null,null,null,null,null,null,null,{"$f":"SUM(P28:P65)","v":0},{"$f":"SUM(Q28:Q65)","v":0},380,{"$f":"SUM(S28:S65)","v":0},360,{"$f":"SUM(U28:U65)","v":0}]
["Instructivo para el Llenado del Registro Diario Automatizado de Consultas y Atenciones Ambulatorias (RDACAA). 2013",null,1,"Condición",0,0,{"$f":"IF(AND(E28>=C28,E28>0),10,0)","v":0},{"$f":"IF(AND(F28>=C28,F28>0),10,0)","v":0},{"$f":"IF(AND(E28=0,F28=0),0,IF(AND(E28>0,F28>0),10,IF(AND(E28=0,F28>0),-10,IF(AND(E28>0,F28=0),10))))","v":0},null,null,null,null,null,null,null,null,{"$f":"IF(UPPER(D28)=\"CONDICIÓN\", 10, \"\")","v":10},{"$f":"IF(UPPER(D28)=\"CONDICIÓN\", G28, \"\")","v":0},{"$f":"IF(UPPER(D28)=\"CONDICIÓN\", 10, \"\")","v":10},{"$f":"IF(UPPER(D28)=\"CONDICIÓN\", H28, \"\")","v":0}]
["Clasificación Estadística Internacional de Enfermedades y Problemas Relacionados con la Salud. Décima Revisión - CIE10 ",null,1,"Condición",0,0,0,0,0,null,null,null,null,null,null,null,null,10,0,10,0]
["Reglamento a la Ley Organica de Salud",null,1,"Condición",0,0,0,0,0,null,null,null,null,null,null,null,null,10,0,10,0]
["Guía para la adecuación cultural de los servicios de salud. 2006",null,1,"Condición",0,0,0,0,0,null,null,null,null,null,null,null,null,10,0,10,0]
["Manual del modelo de atención integral en salud - MAIS. 2013",null,1,"Condición",0,0,0,0,0,null,null,null,null,null,null,null,null,10,0,10,0]
["Ley Derechos y Amparo al Paciente",null,1,"Condición",0,0,0,0,0,null,null,null,null,null,null,null,null,10,0,10,0]
["Cuadro nacional de medicamentos básicos y registro terapéutico. 9na revisión",null,1,"Condición",0,0,0,0,0,null,null,null,null,null,null,null,null,10,0,10,0]
["Acuerdo Ministerial 4693: Reforma a la 9na. Revisión del Cuadro Nacional de Medicamentos Básicos y Registro Terapéutico",null,1,"Condición",0,0,0,0,0,null,null,null,null,null,null,null,null,10,0,10,0]
["Modelo de gestión de aplicación de consentimiento informado en práctica asistencial. 2015",null,1,"Condición",0,0,0,0,0,null,null,null,null,null,null,null,null,10,0,10,0]
["Guía de Práctica Clínica: Cuidados Paliativos. 2014",null,1,"Condición",0,0,0,0,0,null,null,null,null,null,null,null,null,10,0,10,0]
["Norma de atención Cuidados Paliativos. 2015 ",null,1,"Condición",0,0,0,0,0,null,null,null,null,null,null,null,null,10,0,10,0]
["Guía de cuidados paliativos para el ciudadano",null,1,"Condición",0,0,0,0,0,null,null,null,null,null,null,null,null,10,0,10,0]
["Manual de procedimientos de Enfermería",null,1,"Condición",0,0,0,0,0,null,null,null,null,null,null,null,null,10,0,10,0]
["Guía de Práctica Clínica: Lupus eritematoso sistémico (LES). 2013 ",null,1,"Condición",0,0,0,0,0,null,null,null,null,null,null,null,null,10,0,10,0]
["Guía de Práctica Clínica: Transfusión de sangre y sus componentes. 2013 ",null,1,"Condición",0,0,0,0,0,null,null,null,null,null,null,null,null,10,0,10,0]
["Guía de Práctica Clínica: Prevención, Diagnóstico, Tratamiento y Control de la Tuberculosis. 2015",null,1,"Condición",0,0,0,0,0,null,null,null,null,null,null,null,null,10,0,10,0]
["Manual de Normas y Procedimientos para el Control de la Tuberculosis en Ecuador. 2010",null,1,"Condición",0,0,0,0,0,null,null,null,null,null,null,null,null,10,0,10,0]
["Guía de atención integral de adultos y Adolescentes con infección por VIH/SIDA. 2012",null,1,"Condición",0,0,0,0,0,null,null,null,null,null,null,null,null,10,0,10,0]
["Normas y protocolos de atención integral de salud de las y los adultos mayores - 1. 2010",null,1,"Condición",0,0,0,0,0,null,null,null,null,null,null,null,null,10,0,10,0]
["Normas y protocolos de atención integral de salud de las y los adultos mayores - 2. 2010",null,1,"Condición",0,0,0,0,0,null,null,null,null,null,null,null,null,10,0,10,0]
["Normas y protocolos de atención integral de salud de las y los adultos mayores - 3. 2010",null,1,"Condición",0,0,0,0,0,null,null,null,null,null,null,null,null,10,0,10,0]
["Manual para cuidadores de la persona adulta mayor dependiente",null,1,"Condición",0,0,0,0,0,null,null,null,null,null,null,null,null,10,0,10,0]
["Normas de atención integral a la niñez. 2011 ",null,1,"Condición",0,0,0,0,0,null,null,null,null,null,null,null,null,10,0,10,0]
["Normas y procedimientos para la atención integral de salud a adolescentes. 2009",null,1,"Condición",0,0,0,0,0,null,null,null,null,null,null,null,null,10,0,10,0]
["Guía de Supervisión: Salud de Adolescentes. 2014",null,1,"Condición",0,0,0,0,0,null,null,null,null,null,null,null,null,10,0,10,0]
["Promoción de la Salud Mental: Manejo del Estrés",null,1,"Condición",0,0,0,0,0,null,null,null,null,null,null,null,null,10,0,10,0]
["Guía de Abordaje del Tabaquismo en Atención Primaria de Salud",null,1,"Condición",0,0,0,0,0,null,null,null,null,null,null,null,null,10,0,10,0]
["Manual de procedimientos de antropometría y determinación de la presión arterial. 2012",null,1,"Condición",0,0,0,0,0,null,null,null,null,null,null,null,null,{"$f":"IF(UPPER(D55)=\"CONDICIÓN\", 10, \"\")","v":10},{"$f":"IF(UPPER(D55)=\"CONDICIÓN\", G55, \"\")","v":0}]
["Acuerdo Ministerial 114: Vigilancia epidemiológica de las enfermedades crónicas no transmisibles",null,1,"Condición",0,0,0,0,0,null,null,null,null,null,null,null,null,{"$f":"IF(UPPER(D56)=\"CONDICIÓN\", 10, \"\")","v":10},{"$f":"IF(UPPER(D56)=\"CONDICIÓN\", G56, \"\")","v":0},{"$f":"IF(UPPER(D56)=\"CONDICIÓN\", 10, \"\")","v":10},{"$f":"IF(UPPER(D56)=\"CONDICIÓN\", H56, \"\")","v":0}]
["Acuerdo Ministerial 1124: Instructivo para el uso de la Receta Médica. ",null,1,"Condición",0,0,0,0,0,null,null,null,null,null,null,null,null,10,0,10,0]
["Acuerdo Ministerial 4912: Reforma al Reglamento para la Gestión del Suministro de Medicamentos y Control Administrativo Financiero, y el Instructivo  para el uso de la Receta Médica.",null,1,"Condición",0,0,0,0,0,null,null,null,null,null,null,null,null,10,{"$f":"IF(UPPER(D58)=\"CONDICIÓN\", G58, \"\")","v":0},10,0]
["Acuerdo Ministerial 115: Manual de Seguridad del Paciente- Usuario",null,1,"Condición",0,0,0,0,0,null,null,null,null,null,null,null,null,{"$f":"IF(UPPER(D59)=\"CONDICIÓN\", 10, \"\")","v":10},{"$f":"IF(UPPER(D59)=\"CONDICIÓN\", G59, \"\")","v":0}]
["Acuerdo Ministerial 5186: Reglamento Interministerial para la Gestión Integral de Desechos Sanitarios",null,1,"Condición",0,0,0,0,0,null,null,null,null,null,null,null,null,10,{"$f":"IF(UPPER(D60)=\"CONDICIÓN\", G60, \"\")","v":0},{"$f":"IF(UPPER(D60)=\"CONDICIÓN\", 10, \"\")","v":10},{"$f":"IF(UPPER(D60)=\"CONDICIÓN\", H60, \"\")","v":0}]
["Manual de lencería sanitaria para los establecimientos de salud pertenecientes al MSP. 2014",null,1,"Condición",0,0,0,0,0,null,null,null,null,null,null,null,null,10,{"$f":"IF(UPPER(D61)=\"CONDICIÓN\", G61, \"\")","v":0},10,0]
["Manual de Normas de Bioseguridad para la Red de Servicios de Salud en el Ecuador",null,1,"Condición",0,0,0,0,0,null,null,null,null,null,null,null,null,10,{"$f":"IF(UPPER(D62)=\"CONDICIÓN\", G62, \"\")","v":0},10,0]
["Protocolos de Procedimientos de Limpieza, Desinfección y Esterilización",null,1,"Condición",0,0,0,0,0,null,null,null,null,null,null,null,null,10,0,10,0]
["Registro de limpieza y desinfección del área funcional del Establecimiento",null,1,"Condición",0,0,0,0,0,null,null,null,null,null,null,null,null,10,0,10,0]
["Registro de Mantenimiento de Equipos: Preventivo y/o Correctivo",null,1,"Condición",0,0,0,0,0,null,null,null,null,null,null,null,null,10,0,10,0]
["Consultorio Médico",{"$f":"B1","v":"Anx:"},{"$f":"C$1","v":"Cantidad Mínima:"},"Tipo:","Posee:","No Posee:",null,null,"Calif:","Observaciones:",null,null,null,null,null,null,null,null,null,null,null,null,null,{"$f":"SUM(P67:P102)","v":290},{"$f":"SUM(Q67:Q102)","v":0},70,0]
["Instructivo para el Llenado del Registro Diario Automatizado de Consultas y Atenciones Ambulatorias (RDACAA). 2013",null,1,"Condición",0,0,{"$f":"IF(AND(E67>=C67,E67>0),10,0)","v":0},{"$f":"IF(AND(F67>=C67,F67>0),10,0)","v":0},0,null,null,null,null,null,null,null,null,{"$f":"IF(UPPER(D67)=\"CONDICIÓN\", 10, \"\")","v":10},{"$f":"IF(UPPER(D67)=\"CONDICIÓN\", G67, \"\")","v":0},{"$f":"IF(UPPER(D67)=\"CONDICIÓN\", 10, \"\")","v":10},{"$f":"IF(UPPER(D67)=\"CONDICIÓN\", H67, \"\")","v":0}]
["Clasificación Estadística Internacional de Enfermedades y Problemas Relacionados con la Salud. Décima Revisión - CIE10 ",null,1,"Requerido",0,0,0,0,0,null,null,null,null,null,null,{"$f":"IF(UPPER(D68)=\"REQUERIDO\", 10, \"\")","v":10},{"$f":"IF(UPPER(D68)=\"REQUERIDO\", I68, \"\")","v":0}]
["Reglamento a la Ley Organica de Salud",null,1,"Requerido",0,0,0,0,0,null,null,null,null,null,null,10,0]
["Guía para la adecuación cultural de los servicios de salud. 2006",null,1,"Requerido",0,0,0,0,0,null,null,null,null,null,null,10,0]
["Manual del modelo de atención integral en salud - MAIS. 2013",null,1,"Requerido",0,0,0,0,0,null,null,null,null,null,null,10,0]
["Ley Derechos y Amparo al Paciente",null,1,"Requerido",0,0,0,0,0,null,null,null,null,null,null,10,0]
["Ley de sustancias estupefacientes y Psicotrópicas",null,1,"Requerido",0,0,0,0,0,null,null,null,null,null,null,10,0]
["Cuadro nacional de medicamentos básicos y registro terapéutico. 9na revisión",null,1,"Requerido",0,0,0,0,0,null,null,null,null,null,null,10,0]
["Acuerdo Ministerial 4693: Reforma a la 9na. Revisión del Cuadro Nacional de Medicamentos Básicos y Registro Terapéutico",null,1,"Requerido",0,0,0,0,0,null,null,null,null,null,null,10,0]
["Norma Técnica: Subsistema de Referencia, Derivación, Contrareferencia, Referencia inversa y Transferencia del Sistema Nacional de Salud. 2014",null,1,"Requerido",0,0,0,0,0,null,null,null,null,null,null,10,0]
["Registro de Evolución de la Atención Médica y Procedimientos Efectuados",null,1,"Requerido",0,0,0,0,0,null,null,null,null,null,null,10,0]
["Registro de Indicadores para la Satisfacción del Usuario",null,1,"Requerido",0,0,0,0,0,null,null,null,null,null,null,10,0]
["Guía de Práctica Clínica: Cuidados Paliativos. 2014",null,1,"Requerido",0,0,0,0,0,null,null,null,null,null,null,10,0]
["Guía de Práctica Clínica: Lupus eritematoso sistémico (LES). 2013 ",null,1,"Requerido",0,0,0,0,0,null,null,null,null,null,null,10,0]
["Guía de Práctica Clínica: Transfusión de sangre y sus componentes. 2013 ",null,1,"Requerido",0,0,0,0,0,null,null,null,null,null,null,10,0]
["Guía de atención integral de adultos y Adolescentes con infección por VIH/SIDA. 2012",null,1,"Condición",0,0,0,0,0,null,null,null,null,null,null,null,null,{"$f":"IF(UPPER(D82)=\"CONDICIÓN\", 10, \"\")","v":10},{"$f":"IF(UPPER(D82)=\"CONDICIÓN\", G82, \"\")","v":0},{"$f":"IF(UPPER(D82)=\"CONDICIÓN\", 10, \"\")","v":10},{"$f":"IF(UPPER(D82)=\"CONDICIÓN\", H82, \"\")","v":0}]
["Guía de Práctica Clínica: Prevención, Diagnóstico, Tratamiento y Control de la Tuberculosis. 2015",null,1,"Requerido",0,0,0,0,0,null,null,null,null,null,null,10,0]
["Protocolo: Atención integral del consumo nocivo de alcohol, tabaco y otras drogas. 2016",null,1,"Requerido",0,0,0,0,0,null,null,null,null,null,null,10,0]
["Manual de Normas y Procedimientos para el Control de la Tuberculosis en Ecuador. 2010",null,1,"Requerido",0,0,0,0,0,null,null,null,null,null,null,10,0]
["Normas y protocolos para la alimentación y nutrición en la atención integral a personas que viven con VIH/SIDA. 2010",null,1,"Condición",0,0,0,0,0,null,null,null,null,null,null,null,null,{"$f":"IF(UPPER(D86)=\"CONDICIÓN\", 10, \"\")","v":10},{"$f":"IF(UPPER(D86)=\"CONDICIÓN\", G86, \"\")","v":0},{"$f":"IF(UPPER(D86)=\"CONDICIÓN\", 10, \"\")","v":10},{"$f":"IF(UPPER(D86)=\"CONDICIÓN\", H86, \"\")","v":0}]
["Norma de atención Cuidados Paliativos. 2015 ",null,1,"Requerido",0,0,0,0,0,null,null,null,null,null,null,10,0]
["Guía de cuidados paliativos para el ciudadano",null,1,"Requerido",0,0,0,0,0,null,null,null,null,null,null,10,0]
["Normas y protocolos de atención integral de salud de las y los adultos mayores - 1. 2010",null,1,"Requerido",0,0,0,0,0,null,null,null,null,null,null,10,0]
["Normas y protocolos de atención integral de salud de las y los adultos mayores - 2. 2010",null,1,"Requerido",0,0,0,0,0,null,null,null,null,null,null,10,0]
["Normas y protocolos de atención integral de salud de las y los adultos mayores - 3. 2010",null,1,"Requerido",0,0,0,0,0,null,null,null,null,null,null,10,0]
["Normas y procedimientos para la atención integral de salud a adolescentes. 2009",null,1,"Condición",0,0,0,0,{"$f":"IF(AND(E92=0,F92=0),0,IF(AND(E92>0,F92>0),10,IF(AND(E92=0,F92>0),-10,IF(AND(E92>0,F92=0),10))))","v":0},null,null,null,null,null,null,null,null,{"$f":"IF(UPPER(D92)=\"CONDICIÓN\", 10, \"\")","v":10},{"$f":"IF(UPPER(D92)=\"CONDICIÓN\", G92, \"\")","v":0},{"$f":"IF(UPPER(D92)=\"CONDICIÓN\", 10, \"\")","v":10},{"$f":"IF(UPPER(D92)=\"CONDICIÓN\", H92, \"\")","v":0}]
["Guía de Supervisión: Salud de Adolescentes. 2014",null,1,"Condición",0,0,0,0,0,null,null,null,null,null,null,null,null,10,0,10,0]
["Manual de procedimientos de antropometría y determinación de la presión arterial. 2012",null,1,"Requerido",0,0,0,0,0,null,null,null,null,null,null,10,0]
["Acuerdo Ministerial 1124: Instructivo para el uso de la Receta Médica. ",null,1,"Condición",0,0,0,0,0,null,null,null,null,null,null,null,null,{"$f":"IF(UPPER(D95)=\"CONDICIÓN\", 10, \"\")","v":10},{"$f":"IF(UPPER(D95)=\"CONDICIÓN\", G95, \"\")","v":0},{"$f":"IF(UPPER(D95)=\"CONDICIÓN\", 10, \"\")","v":10},{"$f":"IF(UPPER(D95)=\"CONDICIÓN\", H95, \"\")","v":0}]
["Acuerdo Ministerial 4912: Reforma al Reglamento para la Gestión del Suministro de Medicamentos y Control Administrativo Financiero, y el Instructivo  para el uso de la Receta Médica.",null,1,"Condición",0,0,0,0,0,null,null,null,null,null,null,null,null,10,0,10,0]
["Acuerdo Ministerial 115: Manual de Seguridad del Paciente- Usuario",null,1,"Requerido",0,0,0,0,0,null,null,null,null,null,null,10,0]
["Acuerdo Ministerial 5186: Reglamento Interministerial para la Gestión Integral de Desechos Sanitarios",null,1,"Requerido",0,0,0,0,0,null,null,null,null,null,null,10,0]
["Manual de Normas de Bioseguridad para la Red de Servicios de Salud en el Ecuador",null,1,"Requerido",0,0,0,0,0,null,null,null,null,null,null,10,0]
["Protocolos de Procedimientos de Limpieza, Desinfección y Esterilización",null,1,"Requerido",0,0,0,0,0,null,null,null,null,null,null,10,0]
["Registro de limpieza y desinfección del área funcional del Establecimiento",null,1,"Requerido",0,0,0,0,0,null,null,null,null,null,null,10,0]
["Registro de Mantenimiento de Equipos: Preventivo y/o Correctivo",null,1,"Requerido",0,0,0,0,0,null,null,null,null,null,null,10,0]
["Consultorio de Psicología",{"$f":"B1","v":"Anx:"},{"$f":"C$1","v":"Cantidad Mínima:"},"Tipo:","Posee:","No Posee:",null,null,"Calif:","Observaciones:",null,null,null,null,null,null,null,null,null,null,null,null,null,{"$f":"SUM(P104:P127)","v":190},{"$f":"SUM(Q104:Q127)","v":0},50,0]
["Instructivo para el Llenado del Registro Diario Automatizado de Consultas y Atenciones Ambulatorias (RDACAA). 2013",null,1,"Condición",0,0,{"$f":"IF(AND(E104>=C104,E104>0),10,0)","v":0},{"$f":"IF(AND(F104>=C104,F104>0),10,0)","v":0},0,null,null,null,null,null,null,null,null,{"$f":"IF(UPPER(D104)=\"CONDICIÓN\", 10, \"\")","v":10},{"$f":"IF(UPPER(D104)=\"CONDICIÓN\", G104, \"\")","v":0},{"$f":"IF(UPPER(D104)=\"CONDICIÓN\", 10, \"\")","v":10},{"$f":"IF(UPPER(D104)=\"CONDICIÓN\", H104, \"\")","v":0}]
["Clasificación Estadística Internacional de Enfermedades y Problemas Relacionados con la Salud. Décima Revisión - CIE10 ",null,1,"Requerido",0,0,0,0,0,null,null,null,null,null,null,{"$f":"IF(UPPER(D105)=\"REQUERIDO\", 10, \"\")","v":10},{"$f":"IF(UPPER(D105)=\"REQUERIDO\", I105, \"\")","v":0}]
["Reglamento a la Ley Organica de Salud",null,1,"Requerido",0,0,0,0,0,null,null,null,null,null,null,10,0]
["Guía para la adecuación cultural de los servicios de salud. 2006",null,1,"Requerido",0,0,0,0,0,null,null,null,null,null,null,10,0]
["Manual del modelo de atención integral en salud - MAIS. 2013",null,1,"Requerido",0,0,0,0,0,null,null,null,null,null,null,10,0]
["Ley Derechos y Amparo al Paciente",null,1,"Requerido",0,0,0,0,0,null,null,null,null,null,null,10,0]
["Ley de sustancias estupefacientes y Psicotrópicas",null,1,"Requerido",0,0,0,0,0,null,null,null,null,null,null,10,0]
["Cuadro nacional de medicamentos básicos y registro terapéutico. 9na revisión",null,1,"Requerido",0,0,0,0,0,null,null,null,null,null,null,10,0]
["Acuerdo Ministerial 4693: Reforma a la 9na. Revisión del Cuadro Nacional de Medicamentos Básicos y Registro Terapéutico",null,1,"Requerido",0,0,0,0,0,null,null,null,null,null,null,10,0]
["Norma Técnica: Subsistema de Referencia, Derivación, Contrareferencia, Referencia inversa y Transferencia del Sistema Nacional de Salud. 2014",null,1,"Requerido",0,0,0,0,0,null,null,null,null,null,null,10,0]
["Fundamentos de la Prevención en Materia de Drogas",null,1,"Condición",0,0,0,0,0,null,null,null,null,null,null,null,null,{"$f":"IF(UPPER(D114)=\"CONDICIÓN\", 10, \"\")","v":10},{"$f":"IF(UPPER(D114)=\"CONDICIÓN\", G114, \"\")","v":0},{"$f":"IF(UPPER(D114)=\"CONDICIÓN\", 10, \"\")","v":10},{"$f":"IF(UPPER(D114)=\"CONDICIÓN\", H114, \"\")","v":0}]
["Guía de Abordaje del Tabaquismo en Atención Primaria de Salud",null,1,"Condición",0,0,0,0,0,null,null,null,null,null,null,null,null,10,0,10,0]
["Protocolo: Atención integral del consumo nocivo de alcohol, tabaco y otras drogas. 2016",null,1,"Requerido",0,0,0,0,0,null,null,null,null,null,null,10,0]
["Guía de Práctica Clínica: Lupus eritematoso sistémico (LES). 2013 ",null,1,"Requerido",0,0,0,0,0,null,null,null,null,null,null,10,0]
["Plan Estratégico Nacional de Salud Mental 2015 - 2017",null,1,"Requerido",0,0,0,0,0,null,null,null,null,null,null,10,0]
["Modelo de Atención de Salud Mental, en el Marco del Modelo de Atención Integral de Salud (MAIS) - con enfoque familiar, comunitario e intercultural",null,1,"Requerido",0,0,0,0,0,null,null,null,null,null,null,10,0]
["Acuerdo Ministerial 1124: Instructivo para el uso de la Receta Médica. ",null,1,"Condición",0,0,0,0,0,null,null,null,null,null,null,null,null,{"$f":"IF(UPPER(D120)=\"CONDICIÓN\", 10, \"\")","v":10},{"$f":"IF(UPPER(D120)=\"CONDICIÓN\", G120, \"\")","v":0},{"$f":"IF(UPPER(D120)=\"CONDICIÓN\", 10, \"\")","v":10},{"$f":"IF(UPPER(D120)=\"CONDICIÓN\", H120, \"\")","v":0}]
["Acuerdo Ministerial 4912: Reforma al Reglamento para la Gestión del Suministro de Medicamentos y Control Administrativo Financiero, y el Instructivo  para el uso de la Receta Médica.",null,1,"Condición",0,0,0,0,0,null,null,null,null,null,null,null,null,10,0,10,0]
["Acuerdo Ministerial 115: Manual de Seguridad del Paciente- Usuario",null,1,"Requerido",0,0,0,0,0,null,null,null,null,null,null,10,0]
["Acuerdo Ministerial 5186: Reglamento Interministerial para la Gestión Integral de Desechos Sanitarios",null,1,"Requerido",0,0,0,0,0,null,null,null,null,null,null,10,0]
["Manual de Normas de Bioseguridad para la Red de Servicios de Salud en el Ecuador",null,1,"Requerido",0,0,0,0,0,null,null,null,null,null,null,10,0]
["Protocolos de Procedimientos de Limpieza, Desinfección y Esterilización",null,1,"Requerido",0,0,0,0,0,null,null,null,null,null,null,10,0]
["Registro de limpieza y desinfección del área funcional del Establecimiento",null,1,"Requerido",0,0,0,0,0,null,null,null,null,null,null,10,0]
["Registro de Mantenimiento de Equipos: Preventivo y/o Correctivo",null,1,"Requerido",0,0,0,0,0,null,null,null,null,null,null,10,0]
["Consultorio de Nutrición",{"$f":"B1","v":"Anx:"},{"$f":"C$1","v":"Cantidad Mínima:"},"Tipo:","Posee:","No Posee:",null,null,"Calif:","Observaciones:",null,null,null,null,null,null,null,null,null,null,null,null,null,{"$f":"SUM(P129:P149)","v":170},{"$f":"SUM(Q129:Q149)","v":0},40,0]
["Instructivo para el Llenado del Registro Diario Automatizado de Consultas y Atenciones Ambulatorias (RDACAA). 2013",null,1,"Condición",0,0,{"$f":"IF(AND(E129>=C129,E129>0),10,0)","v":0},{"$f":"IF(AND(F129>=C129,F129>0),10,0)","v":0},0,null,null,null,null,null,null,null,null,{"$f":"IF(UPPER(D129)=\"CONDICIÓN\", 10, \"\")","v":10},{"$f":"IF(UPPER(D129)=\"CONDICIÓN\", G129, \"\")","v":0},{"$f":"IF(UPPER(D129)=\"CONDICIÓN\", 10, \"\")","v":10},{"$f":"IF(UPPER(D129)=\"CONDICIÓN\", H129, \"\")","v":0}]
["Clasificación Estadística Internacional de Enfermedades y Problemas Relacionados con la Salud. Décima Revisión - CIE10 ",null,1,"Requerido",0,0,0,0,0,null,null,null,null,null,null,{"$f":"IF(UPPER(D130)=\"REQUERIDO\", 10, \"\")","v":10},{"$f":"IF(UPPER(D130)=\"REQUERIDO\", I130, \"\")","v":0}]
["Reglamento a la Ley Organica de Salud",null,1,"Requerido",0,0,0,0,0,null,null,null,null,null,null,10,0]
["Guía para la adecuación cultural de los servicios de salud. 2006",null,1,"Requerido",0,0,0,0,0,null,null,null,null,null,null,10,0]
["Manual del modelo de atención integral en salud - MAIS. 2013",null,1,"Requerido",0,0,0,0,0,null,null,null,null,null,null,10,0]
["Ley Derechos y Amparo al Paciente",null,1,"Requerido",0,0,0,0,0,null,null,null,null,null,null,10,0]
["Cuadro nacional de medicamentos básicos y registro terapéutico. 9na revisión",null,1,"Requerido",0,0,0,0,0,null,null,null,null,null,null,10,0]
["Acuerdo Ministerial 4693: Reforma a la 9na. Revisión del Cuadro Nacional de Medicamentos Básicos y Registro Terapéutico",null,1,"Requerido",0,0,0,0,0,null,null,null,null,null,null,10,0]
["Norma Técnica: Subsistema de Referencia, Derivación, Contrareferencia, Referencia inversa y Transferencia del Sistema Nacional de Salud. 2014",null,1,"Requerido",0,0,0,0,0,null,null,null,null,null,null,10,0]
["Normas y protocolos para la alimentación y nutrición en la atención integral a personas que viven con VIH/SIDA. 2010",null,1,"Condición",0,0,0,0,0,null,null,null,null,null,null,null,null,{"$f":"IF(UPPER(D138)=\"CONDICIÓN\", 10, \"\")","v":10},{"$f":"IF(UPPER(D138)=\"CONDICIÓN\", G138, \"\")","v":0},{"$f":"IF(UPPER(D138)=\"CONDICIÓN\", 10, \"\")","v":10},{"$f":"IF(UPPER(D138)=\"CONDICIÓN\", H138, \"\")","v":0}]
["Introducción a la Guía de actividad Física dirigido al personal de salud I. 2011",null,1,"Requerido",0,0,0,0,0,null,null,null,null,null,null,10,0]
["Guía de actividad Física dirigido al personal de salud II. 2011",null,1,"Requerido",0,0,0,0,0,null,null,null,null,null,null,10,0]
["Manual de procedimientos de antropometría y determinación de la presión arterial. 2012",null,1,"Requerido",0,0,0,0,0,null,null,null,null,null,null,10,0]
["Acuerdo Ministerial 1124: Instructivo para el uso de la Receta Médica. ",null,1,"Condición",0,0,0,0,0,null,null,null,null,null,null,null,null,{"$f":"IF(UPPER(D142)=\"CONDICIÓN\", 10, \"\")","v":10},{"$f":"IF(UPPER(D142)=\"CONDICIÓN\", G142, \"\")","v":0},{"$f":"IF(UPPER(D142)=\"CONDICIÓN\", 10, \"\")","v":10},{"$f":"IF(UPPER(D142)=\"CONDICIÓN\", H142, \"\")","v":0}]
["Acuerdo Ministerial 4912: Reforma al Reglamento para la Gestión del Suministro de Medicamentos y Control Administrativo Financiero, y el Instructivo  para el uso de la Receta Médica.",null,1,"Condición",0,0,0,0,0,null,null,null,null,null,null,null,null,10,0,10,0]
["Acuerdo Ministerial 115: Manual de Seguridad del Paciente- Usuario",null,1,"Requerido",0,0,0,0,0,null,null,null,null,null,null,10,0]
["Acuerdo Ministerial 5186: Reglamento Interministerial para la Gestión Integral de Desechos Sanitarios",null,1,"Requerido",0,0,0,0,0,null,null,null,null,null,null,10,0]
["Manual de Normas de Bioseguridad para la Red de Servicios de Salud en el Ecuador",null,1,"Requerido",0,0,0,0,0,null,null,null,null,null,null,10,0]
["Protocolos de Procedimientos de Limpieza, Desinfección y Esterilización",null,1,"Requerido",0,0,0,0,0,null,null,null,null,null,null,10,0]
["Registro de limpieza y desinfección del área funcional del Establecimiento",null,1,"Requerido",0,0,0,0,0,null,null,null,null,null,null,10,0]
["Registro de Mantenimiento de Equipos: Preventivo y/o Correctivo",null,1,"Requerido",0,0,0,0,0,null,null,null,null,null,null,10,0]
["APOYO TERAPEÚTICO",null,null,null,null,null,null,null,null,null,{"$f":"ROW(A150)","v":150},null,null,null,null,null,null,null,null,null,null,null,null,{"$f":"SUM(P151:P220)","v":230},{"$f":"SUM(Q151:Q220)","v":0},{"$f":"SUM(R151:R220)","v":430},0,420,0]
["ATENCIÓN DE APOYO TERAPÉUTICO",null,null,null,null,null,null,null,null,null,{"$f":"ROW(A151)","v":151},null,null,null,null,null,null,null,null,null,null,null,null,{"$f":"SUM(P152:P220)","v":230},{"$f":"SUM(Q152:Q220)","v":0},{"$f":"SUM(R152:R220)","v":430},0,420,0]
["Área de Procedimientos",{"$f":"B1","v":"Anx:"},{"$f":"C$1","v":"Cantidad Mínima:"},"Tipo:","Posee:","No Posee:",null,null,"Calif:","Observaciones:",null,null,null,null,null,null,null,null,null,null,null,null,null,{"$f":"SUM(P153:P164)","v":0},{"$f":"SUM(Q153:Q164)","v":0},{"$f":"SUM(R153:R164)","v":120},0,110,0]
["Instructivo para el Llenado del Registro Diario Automatizado de Consultas y Atenciones Ambulatorias (RDACAA). 2013",null,1,"Condición",0,0,{"$f":"IF(AND(E153>=C153,E153>0),10,0)","v":0},{"$f":"IF(AND(F153>=C153,F153>0),10,0)","v":0},{"$f":"IF(AND(E153=0,F153=0),0,IF(AND(E153>0,F153>0),10,IF(AND(E153=0,F153>0),-10,IF(AND(E153>0,F153=0),10))))","v":0},null,null,null,null,null,null,null,null,{"$f":"IF(UPPER(D153)=\"CONDICIÓN\", 10, \"\")","v":10},{"$f":"IF(UPPER(D153)=\"CONDICIÓN\", G153, \"\")","v":0},{"$f":"IF(UPPER(D153)=\"CONDICIÓN\", 10, \"\")","v":10},{"$f":"IF(UPPER(D153)=\"CONDICIÓN\", H153, \"\")","v":0}]
["Norma Técnica: Subsistema de Referencia, Derivación, Contrareferencia, Referencia inversa y Transferencia del Sistema Nacional de Salud. 2014",null,1,"Condición",0,0,0,0,0,null,null,null,null,null,null,null,null,10,0,10,0]
["Modelo de gestión de aplicación de consentimiento informado en práctica asistencial. 2015",null,1,"Condición",0,0,0,0,0,null,null,null,null,null,null,null,null,10,0,10,0]
["Lista de Verificación de la Seguridad de la Cirugía",null,1,"Condición",0,0,0,0,0,null,null,null,null,null,null,null,null,10,0,10,0]
["Manual de Aplicación de la lista OMS de verificación de la seguridad de la cirugía. 2009",null,1,"Condición",0,0,0,0,0,null,null,null,null,null,null,null,null,10,0,10,0]
["La Cirugía Segura Salva Vidas. 2013",null,1,"Condición",0,0,0,0,0,null,null,null,null,null,null,null,null,10,0,10,0]
["Acuerdo Ministerial 115: Manual de Seguridad del Paciente- Usuario",null,1,"Condición",0,0,0,0,0,null,null,null,null,null,null,null,null,{"$f":"IF(UPPER(D159)=\"CONDICIÓN\", 10, \"\")","v":10},{"$f":"IF(UPPER(D159)=\"CONDICIÓN\", G159, \"\")","v":0}]
["Acuerdo Ministerial 5186: Reglamento Interministerial para la Gestión Integral de Desechos Sanitarios",null,1,"Condición",0,0,0,0,0,null,null,null,null,null,null,null,null,{"$f":"IF(UPPER(D160)=\"CONDICIÓN\", 10, \"\")","v":10},{"$f":"IF(UPPER(D160)=\"CONDICIÓN\", G160, \"\")","v":0},{"$f":"IF(UPPER(D160)=\"CONDICIÓN\", 10, \"\")","v":10},{"$f":"IF(UPPER(D160)=\"CONDICIÓN\", H160, \"\")","v":0}]
["Manual de Normas de Bioseguridad para la Red de Servicios de Salud en el Ecuador",null,1,"Condición",0,0,0,0,0,null,null,null,null,null,null,null,null,10,{"$f":"IF(UPPER(D161)=\"CONDICIÓN\", G161, \"\")","v":0},10,0]
["Protocolos de Procedimientos de Limpieza, Desinfección y Esterilización",null,1,"Condición",0,0,0,0,0,null,null,null,null,null,null,null,null,10,0,10,0]
["Registro de limpieza y desinfección del área funcional del Establecimiento",null,1,"Condición",0,0,0,0,0,null,null,null,null,null,null,null,null,10,0,10,0]
["Registro de Mantenimiento de Equipos: Preventivo y/o Correctivo",null,1,"Condición",0,0,0,0,0,null,null,null,null,null,null,null,null,10,0,10,0]
["Área de Tratamiento de Hemodiálisis",{"$f":"B1","v":"Anx:"},{"$f":"C$1","v":"Cantidad Mínima:"},"Tipo:","Posee:","No Posee:",null,null,"Calif:","Observaciones:",null,null,null,null,null,null,null,null,null,null,null,null,null,{"$f":"SUM(P166:P192)","v":230},{"$f":"SUM(Q166:Q192)","v":0},40,{"$f":"SUM(S166:S192)","v":0},40,{"$f":"SUM(U166:U192)","v":0}]
["Instructivo para el Llenado del Registro Diario Automatizado de Consultas y Atenciones Ambulatorias (RDACAA). 2013",null,1,"Condición",0,0,{"$f":"IF(AND(E166>=C166,E166>0),10,0)","v":0},{"$f":"IF(AND(F166>=C166,F166>0),10,0)","v":0},0,null,null,null,null,null,null,null,null,{"$f":"IF(UPPER(D166)=\"CONDICIÓN\", 10, \"\")","v":10},{"$f":"IF(UPPER(D166)=\"CONDICIÓN\", G166, \"\")","v":0},{"$f":"IF(UPPER(D166)=\"CONDICIÓN\", 10, \"\")","v":10},{"$f":"IF(UPPER(D166)=\"CONDICIÓN\", H166, \"\")","v":0}]
["Clasificación Estadística Internacional de Enfermedades y Problemas Relacionados con la Salud. Décima Revisión - CIE10 ",null,1,"Requerido",0,0,0,0,0,null,null,null,null,null,null,{"$f":"IF(UPPER(D167)=\"REQUERIDO\", 10, \"\")","v":10},{"$f":"IF(UPPER(D167)=\"REQUERIDO\", I167, \"\")","v":0}]
["Reglamento a la Ley Organica de Salud",null,1,"Requerido",0,0,0,0,0,null,null,null,null,null,null,10,0]
["Guía para la adecuación cultural de los servicios de salud. 2006",null,1,"Requerido",0,0,0,0,0,null,null,null,null,null,null,10,0]
["Manual del modelo de atención integral en salud - MAIS. 2013",null,1,"Requerido",0,0,0,0,0,null,null,null,null,null,null,10,0]
["Ley Derechos y Amparo al Paciente",null,1,"Requerido",0,0,0,0,0,null,null,null,null,null,null,10,0]
["Ley de sustancias estupefacientes y Psicotrópicas",null,1,"Requerido",0,0,0,0,0,null,null,null,null,null,null,10,0]
["Cuadro nacional de medicamentos básicos y registro terapéutico. 9na revisión",null,1,"Requerido",0,0,0,0,0,null,null,null,null,null,null,10,0]
["Acuerdo Ministerial 4693: Reforma a la 9na. Revisión del Cuadro Nacional de Medicamentos Básicos y Registro Terapéutico",null,1,"Requerido",0,0,0,0,0,null,null,null,null,null,null,10,0]
["Norma Técnica: Subsistema de Referencia, Derivación, Contrareferencia, Referencia inversa y Transferencia del Sistema Nacional de Salud. 2014",null,1,"Requerido",0,0,0,0,0,null,null,null,null,null,null,10,0]
["Protocolo de procedimientos de Hemodiálisis",null,1,"Requerido",0,0,0,0,0,null,null,null,null,null,null,10,0]
["Registro de Evolución de la Atención Médica y Procedimientos Efectuados",null,1,"Requerido",0,0,0,0,0,null,null,null,null,null,null,10,0]
["Registro de Indicadores para la Satisfacción del Usuario",null,1,"Requerido",0,0,0,0,0,null,null,null,null,null,null,10,0]
["Guía de Práctica Clínica: Transfusión de sangre y sus componentes. 2013 ",null,1,"Requerido",0,0,0,0,0,null,null,null,null,null,null,10,0]
["Guía de atención integral de adultos y Adolescentes con infección por VIH/SIDA. 2012",null,1,"Condición",0,0,0,0,0,null,null,null,null,null,null,null,null,{"$f":"IF(UPPER(D180)=\"CONDICIÓN\", 10, \"\")","v":10},{"$f":"IF(UPPER(D180)=\"CONDICIÓN\", G180, \"\")","v":0},{"$f":"IF(UPPER(D180)=\"CONDICIÓN\", 10, \"\")","v":10},{"$f":"IF(UPPER(D180)=\"CONDICIÓN\", H180, \"\")","v":0}]
["Normas y protocolos de atención integral de salud de las y los adultos mayores - 1. 2010",null,1,"Requerido",0,0,0,0,0,null,null,null,null,null,null,10,0,{"$f":"IF(UPPER(D181)=\"CONDICIÓN\", 10, \"\")","v":""},{"$f":"IF(UPPER(D181)=\"CONDICIÓN\", I181, \"\")","v":""}]
["Normas y protocolos de atención integral de salud de las y los adultos mayores - 2. 2010",null,1,"Requerido",0,0,0,0,0,null,null,null,null,null,null,10,0,"",""]
["Normas y protocolos de atención integral de salud de las y los adultos mayores - 3. 2010",null,1,"Requerido",0,0,0,0,0,null,null,null,null,null,null,10,0,"",""]
["Normas y procedimientos para la atención integral de salud a adolescentes. 2009",null,1,"Condición",0,0,0,0,0,null,null,null,null,null,null,"","",10,{"$f":"IF(UPPER(D184)=\"CONDICIÓN\", G184, \"\")","v":0},{"$f":"IF(UPPER(D184)=\"CONDICIÓN\", 10, \"\")","v":10},{"$f":"IF(UPPER(D184)=\"CONDICIÓN\", H184, \"\")","v":0}]
["Guía de Supervisión: Salud de Adolescentes. 2014",null,1,"Condición",0,0,0,0,0,null,null,null,null,null,null,"","",10,0,10,0]
["Manual de procedimientos de antropometría y determinación de la presión arterial. 2012",null,1,"Requerido",0,0,0,0,0,null,null,null,null,null,null,10,0,"",""]
["Acuerdo Ministerial 115: Manual de Seguridad del Paciente- Usuario",null,1,"Requerido",0,0,0,0,0,null,null,null,null,null,null,10,0,"",""]
["Acuerdo Ministerial 5186: Reglamento Interministerial para la Gestión Integral de Desechos Sanitarios",null,1,"Requerido",0,0,0,0,0,null,null,null,null,null,null,10,0,"",""]
["Manual de Normas de Bioseguridad para la Red de Servicios de Salud en el Ecuador",null,1,"Requerido",0,0,0,0,0,null,null,null,null,null,null,10,0,"",""]
["Protocolos de Procedimientos de Limpieza, Desinfección y Esterilización",null,1,"Requerido",0,0,0,0,0,null,null,null,null,null,null,10,0,"",""]
["Registro de limpieza y desinfección del área funcional del Establecimiento",null,1,"Requerido",0,0,0,0,0,null,null,null,null,null,null,10,0,"",""]
["Registro de Mantenimiento de Equipos: Preventivo y/o Correctivo",null,1,"Requerido",0,0,0,0,0,null,null,null,null,null,null,10,0,"",""]
["Área de Diálisis Peritoneal",{"$f":"B1","v":"Anx:"},{"$f":"C$1","v":"Cantidad Mínima:"},"Tipo:","Posee:","No Posee:",null,null,"Calif:","Observaciones:",null,null,null,null,null,null,null,null,null,null,null,null,null,{"$f":"SUM(P194:P220)","v":0},{"$f":"SUM(Q194:Q220)","v":0},270,{"$f":"SUM(S194:S220)","v":0},270,{"$f":"SUM(U194:U220)","v":0}]
["Instructivo para el Llenado del Registro Diario Automatizado de Consultas y Atenciones Ambulatorias (RDACAA). 2013",null,1,"Condición",0,0,{"$f":"IF(AND(E194>=C194,E194>0),10,0)","v":0},{"$f":"IF(AND(F194>=C194,F194>0),10,0)","v":0},0,null,null,null,null,null,null,null,null,{"$f":"IF(UPPER(D194)=\"CONDICIÓN\", 10, \"\")","v":10},{"$f":"IF(UPPER(D194)=\"CONDICIÓN\", G194, \"\")","v":0},{"$f":"IF(UPPER(D194)=\"CONDICIÓN\", 10, \"\")","v":10},{"$f":"IF(UPPER(D194)=\"CONDICIÓN\", H194, \"\")","v":0}]
["Clasificación Estadística Internacional de Enfermedades y Problemas Relacionados con la Salud. Décima Revisión - CIE10 ",null,1,"Condición",0,0,0,0,0,null,null,null,null,null,null,null,null,10,0,10,0]
["Reglamento a la Ley Organica de Salud",null,1,"Condición",0,0,0,0,0,null,null,null,null,null,null,null,null,10,0,10,0]
["Guía para la adecuación cultural de los servicios de salud. 2006",null,1,"Condición",0,0,0,0,0,null,null,null,null,null,null,null,null,10,0,10,0]
["Manual del modelo de atención integral en salud - MAIS. 2013",null,1,"Condición",0,0,0,0,0,null,null,null,null,null,null,null,null,10,0,10,0]
["Ley Derechos y Amparo al Paciente",null,1,"Condición",0,0,0,0,0,null,null,null,null,null,null,null,null,10,0,10,0]
["Ley de sustancias estupefacientes y Psicotrópicas",null,1,"Condición",0,0,0,0,0,null,null,null,null,null,null,null,null,10,0,10,0]
["Cuadro nacional de medicamentos básicos y registro terapéutico. 9na revisión",null,1,"Condición",0,0,0,0,0,null,null,null,null,null,null,null,null,10,0,10,0]
["Acuerdo Ministerial 4693: Reforma a la 9na. Revisión del Cuadro Nacional de Medicamentos Básicos y Registro Terapéutico",null,1,"Condición",0,0,0,0,0,null,null,null,null,null,null,null,null,10,0,10,0]
["Norma Técnica: Subsistema de Referencia, Derivación, Contrareferencia, Referencia inversa y Transferencia del Sistema Nacional de Salud. 2014",null,1,"Condición",0,0,0,0,0,null,null,null,null,null,null,null,null,10,0,10,0]
["Protocolo de procedimientos de Diálisis Peritoneal",null,1,"Condición",0,0,0,0,0,null,null,null,null,null,null,null,null,10,0,10,0]
["Registro de Evolución de la Atención Médica y Procedimientos Efectuados",null,1,"Condición",0,0,0,0,0,null,null,null,null,null,null,null,null,10,0,10,0]
["Registro de Indicadores para la Satisfacción del Usuario",null,1,"Condición",0,0,0,0,0,null,null,null,null,null,null,null,null,10,0,10,0]
["Guía de Práctica Clínica: Transfusión de sangre y sus componentes. 2013 ",null,1,"Condición",0,0,0,0,0,null,null,null,null,null,null,null,null,10,0,10,0]
["Guía de atención integral de adultos y Adolescentes con infección por VIH/SIDA. 2012",null,1,"Condición",0,0,0,0,0,null,null,null,null,null,null,null,null,10,0,10,0]
["Normas y protocolos de atención integral de salud de las y los adultos mayores - 1. 2010",null,1,"Condición",0,0,0,0,0,null,null,null,null,null,null,null,null,10,0,10,0]
["Normas y protocolos de atención integral de salud de las y los adultos mayores - 2. 2010",null,1,"Condición",0,0,0,0,0,null,null,null,null,null,null,null,null,10,0,10,0]
["Normas y protocolos de atención integral de salud de las y los adultos mayores - 3. 2010",null,1,"Condición",0,0,0,0,0,null,null,null,null,null,null,null,null,10,0,10,0]
["Normas y procedimientos para la atención integral de salud a adolescentes. 2009",null,1,"Condición",0,0,0,0,0,null,null,null,null,null,null,null,null,10,0,10,0]
["Guía de Supervisión: Salud de Adolescentes. 2014",null,1,"Condición",0,0,0,0,0,null,null,null,null,null,null,null,null,10,0,10,0]
["Manual de procedimientos de antropometría y determinación de la presión arterial. 2012",null,1,"Condición",0,0,0,0,0,null,null,null,null,null,null,null,null,10,0,10,0]
["Acuerdo Ministerial 115: Manual de Seguridad del Paciente- Usuario",null,1,"Condición",0,0,0,0,0,null,null,null,null,null,null,null,null,{"$f":"IF(UPPER(D215)=\"CONDICIÓN\", 10, \"\")","v":10},{"$f":"IF(UPPER(D215)=\"CONDICIÓN\", G215, \"\")","v":0},{"$f":"IF(UPPER(D215)=\"CONDICIÓN\", 10, \"\")","v":10},{"$f":"IF(UPPER(D215)=\"CONDICIÓN\", H215, \"\")","v":0}]
["Acuerdo Ministerial 5186: Reglamento Interministerial para la Gestión Integral de Desechos Sanitarios",null,1,"Condición",0,0,0,0,0,null,null,null,null,null,null,null,null,{"$f":"IF(UPPER(D216)=\"CONDICIÓN\", 10, \"\")","v":10},{"$f":"IF(UPPER(D216)=\"CONDICIÓN\", G216, \"\")","v":0},{"$f":"IF(UPPER(D216)=\"CONDICIÓN\", 10, \"\")","v":10},{"$f":"IF(UPPER(D216)=\"CONDICIÓN\", H216, \"\")","v":0}]
["Manual de Normas de Bioseguridad para la Red de Servicios de Salud en el Ecuador",null,1,"Condición",0,0,0,0,{"$f":"IF(AND(E217=0,F217=0),0,IF(AND(E217>0,F217>0),10,IF(AND(E217=0,F217>0),-10,IF(AND(E217>0,F217=0),10))))","v":0},null,null,null,null,null,null,null,null,10,0,10,0]
["Protocolos de Procedimientos de Limpieza, Desinfección y Esterilización",null,1,"Condición",0,0,0,0,0,null,null,null,null,null,null,null,null,10,0,10,0]
["Registro de limpieza y desinfección del área funcional del Establecimiento",null,1,"Condición",0,0,0,0,0,null,null,null,null,null,null,null,null,10,0,10,0]
["Registro de Mantenimiento de Equipos: Preventivo y/o Correctivo",null,1,"Condición",0,0,0,0,0,null,null,null,null,null,null,null,null,10,0,10,0]
["APOYO DIAGNÓSTICO ",null,null,null,null,null,null,null,null,null,{"$f":"ROW(A221)","v":221},null,null,null,null,null,null,null,null,null,null,null,null,{"$f":"SUM(P222:P232)","v":90},{"$f":"SUM(Q222:Q232)","v":0},{"$f":"SUM(R222:R232)","v":0},0,0,0]
["DIAGNÓSTICO EN LABORATORIO (LABORATORIO DE ANÁLISIS CLÍNICO)",null,null,null,null,null,null,null,null,null,222,null,null,null,null,null,null,null,null,null,null,null,null,{"$f":"SUM(P223:P232)","v":90},{"$f":"SUM(Q223:Q232)","v":0},0,{"$f":"SUM(S223:S232)","v":0},0,{"$f":"SUM(U223:U232)","v":0}]
["Área de Laboratorio",{"$f":"B1","v":"Anx:"},{"$f":"C$1","v":"Cantidad Mínima:"},"Tipo:","Posee:","No Posee:",null,null,"Calif:","Observaciones:",null,null,null,null,null,null,null,null,null,null,null,null,null,{"$f":"SUM(P224:P232)","v":90},{"$f":"SUM(Q224:Q232)","v":0},0,{"$f":"SUM(S224:S232)","v":0},0,{"$f":"SUM(U224:U232)","v":0}]
["Acuerdo Ministerial 2393: Reglamento para el Funcionamiento de los Laboratorios Clinicos",null,1,"Requerido",0,0,{"$f":"IF(AND(E224>=C224,E224>0),10,0)","v":0},{"$f":"IF(AND(F224>=C224,F224>0),10,0)","v":0},{"$f":"IF(AND(E224=0,F224=0),0,IF(AND(E224>0,F224>0),10,IF(AND(E224=0,F224>0),-10,IF(AND(E224>0,F224=0),10))))","v":0},null,null,null,null,null,null,{"$f":"IF(UPPER(D224)=\"REQUERIDO\", 10, \"\")","v":10},{"$f":"IF(UPPER(D224)=\"REQUERIDO\", I224, \"\")","v":0}]
["Acuerdo Ministerial 115: Manual de Seguridad del Paciente- Usuario",null,1,"Requerido",0,0,0,0,0,null,null,null,null,null,null,10,0]
["Acuerdo Ministerial 5186: Reglamento Interministerial para la Gestión Integral de Desechos Sanitarios",null,1,"Requerido",0,0,0,0,0,null,null,null,null,null,null,{"$f":"IF(UPPER(D226)=\"REQUERIDO\", 10, \"\")","v":10},{"$f":"IF(UPPER(D226)=\"REQUERIDO\", I226, \"\")","v":0}]
["Formulario para trazabilidad de muestras biológicas",null,1,"Requerido",0,0,{"$f":"IF(AND(E227>=C227,E227>0),10,0)","v":0},{"$f":"IF(AND(F227>=C227,F227>0),10,0)","v":0},0,null,null,null,null,null,null,{"$f":"IF(UPPER(D227)=\"REQUERIDO\", 10, \"\")","v":10},{"$f":"IF(UPPER(D227)=\"REQUERIDO\", I227, \"\")","v":0}]
["Manual de Normas de Bioseguridad para la Red de Servicios de Salud en el Ecuador",null,1,"Requerido",0,0,0,0,0,null,null,null,null,null,null,10,0]
["Protocolos de Procedimientos de Limpieza, Desinfección y Esterilización",null,1,"Requerido",0,0,0,0,0,null,null,null,null,null,null,10,0]
["Registro de limpieza y desinfección del área funcional del Establecimiento",null,1,"Requerido",0,0,0,0,0,null,null,null,null,null,null,10,0]
["Registro de Mantenimiento de Equipos: Preventivo y/o Correctivo",null,1,"Requerido",0,0,0,0,0,null,null,null,null,null,null,10,0]
["Registro de Temperatura de los Refrigeradores",null,1,"Requerido",0,0,0,0,0,null,null,null,null,null,null,10,0]
["APOYO TERAPÉUTICO",null,null,null,null,null,null,null,null,null,{"$f":"ROW(A233)","v":233},null,null,null,null,null,null,null,null,null,null,null,null,{"$f":"SUM(P234:P251)","v":120},{"$f":"SUM(Q234:Q251)","v":0},40,{"$f":"SUM(S234:S251)","v":0},40,{"$f":"SUM(U234:U251)","v":0}]
["DOTACIÓN DE MEDICAMENTOS Y DISPOSITIVOS MÉDICOS (FARMACIA)",null,null,null,null,null,null,null,null,null,{"$f":"ROW(A234)","v":234},null,null,null,null,null,null,null,null,null,null,null,null,{"$f":"SUM(P235:P251)","v":120},{"$f":"SUM(Q235:Q251)","v":0},40,{"$f":"SUM(S235:S251)","v":0},40,{"$f":"SUM(U235:U251)","v":0}]
["Área de Farmacia",{"$f":"B1","v":"Anx:"},{"$f":"C$1","v":"Cantidad Mínima:"},"Tipo:","Posee:","No Posee:",null,null,"Calif:","Observaciones:",null,null,null,null,null,null,null,null,null,null,null,null,null,{"$f":"SUM(P236:P251)","v":120},{"$f":"SUM(Q236:Q251)","v":0},40,{"$f":"SUM(S236:S251)","v":0},40,{"$f":"SUM(U236:U251)","v":0}]
["Guía para la recepción y almacenamiento de medicamentos en el MSP",null,1,"Condición",0,0,{"$f":"IF(AND(E236>=C236,E236>0),10,0)","v":0},{"$f":"IF(AND(F236>=C236,F236>0),10,0)","v":0},{"$f":"IF(AND(E236=0,F236=0),0,IF(AND(E236>0,F236>0),10,IF(AND(E236=0,F236>0),-10,IF(AND(E236>0,F236=0),10))))","v":0},null,null,null,null,null,null,null,null,{"$f":"IF(UPPER(D236)=\"CONDICIÓN\", 10, \"\")","v":10},{"$f":"IF(UPPER(D236)=\"CONDICIÓN\", G236, \"\")","v":0},{"$f":"IF(UPPER(D236)=\"CONDICIÓN\", 10, \"\")","v":10},{"$f":"IF(UPPER(D236)=\"CONDICIÓN\", H236, \"\")","v":0}]
["Manual de Procesos para la Gestión de Suministros de Medicamentos",null,1,"Condición",0,0,0,0,0,null,null,null,null,null,null,null,null,10,0,10,0]
["Acuerdo Ministerial 1124: Instructivo para el uso de la Receta Médica. ",null,1,"Condición",0,0,0,0,0,null,null,null,null,null,null,null,null,10,0,10,0]
["Acuerdo Ministerial 4912: Reforma al Reglamento para la Gestión del Suministro de Medicamentos y Control Administrativo Financiero, y el Instructivo  para el uso de la Receta Médica.",null,1,"Condición",0,0,0,0,0,null,null,null,null,null,null,null,null,10,0,10,0]
["Cuadro nacional de medicamentos básicos y registro terapéutico. 9na revisión",null,1,"Requerido",0,0,0,0,0,null,null,null,null,null,null,{"$f":"IF(UPPER(D240)=\"REQUERIDO\", 10, \"\")","v":10},{"$f":"IF(UPPER(D240)=\"REQUERIDO\", I240, \"\")","v":0}]
["Acuerdo Ministerial 4693: Reforma a la 9na. Revisión del Cuadro Nacional de Medicamentos Básicos y Registro Terapéutico",null,1,"Requerido",0,0,0,0,0,null,null,null,null,null,null,10,0]
["Acuerdo Ministerial 205: Reglamento para el registro y control sanitario de dispositivos médicos, reactivos bioquímicos y de diagnóstico; y, productos dentales",null,1,"Requerido",0,0,0,0,0,null,null,null,null,null,null,10,0]
["Acuerdo Ministerial 4872: Reglamento de buenas prácticas de almacenamiento, distribución y transporte para establecimientos farmacéuticos",null,1,"Requerido",0,0,0,0,0,null,null,null,null,null,null,10,0]
["Registro de Temperatura de los refrigeradores ",null,1,"Requerido",0,0,0,0,0,null,null,null,null,null,null,10,0]
["Registro de Temperatura y Humedad ambiental",null,1,"Requerido",0,0,0,0,0,null,null,null,null,null,null,10,0]
["Acuerdo Ministerial 115: Manual de Seguridad del Paciente- Usuario",null,1,"Requerido",0,0,0,0,0,null,null,null,null,null,null,10,0]
["Acuerdo Ministerial 5186: Reglamento Interministerial para la Gestión Integral de Desechos Sanitarios",null,1,"Requerido",0,0,0,0,0,null,null,null,null,null,null,10,0]
["Manual de Normas de Bioseguridad para la Red de Servicios de Salud en el Ecuador",null,1,"Requerido",0,0,0,0,0,null,null,null,null,null,null,10,0]
["Protocolos de Procedimientos de Limpieza, Desinfección y Esterilización",null,1,"Requerido",0,0,0,0,0,null,null,null,null,null,null,10,0]
["Registro de limpieza y desinfección del área funcional del Establecimiento",null,1,"Requerido",0,0,0,0,0,null,null,null,null,null,null,10,0]
["Registro de Mantenimiento de Equipos: Preventivo y/o Correctivo",null,1,"Requerido",0,0,0,0,0,null,null,null,null,null,null,{"$f":"IF(UPPER(D251)=\"REQUERIDO\", 10, \"\")","v":10},0]
["ADMINISTRATIVO",null,null,null,null,null,null,null,null,null,{"$f":"ROW(A252)","v":252},null,null,null,null,null,null,null,null,null,null,null,null,{"$f":"SUM(P253:P312)","v":480},{"$f":"SUM(Q253:Q312)","v":0},90,{"$f":"SUM(S253:S312)","v":0},90,{"$f":"SUM(U253:U312)","v":0}]
["ADMINISTRACIÓN TÉCNICA",null,null,null,null,null,null,null,null,null,253,null,null,null,null,null,null,null,null,null,null,null,null,{"$f":"SUM(P253:P312)","v":480},{"$f":"SUM(Q253:Q312)","v":0},90,{"$f":"SUM(S253:S312)","v":0},90,{"$f":"SUM(U253:U312)","v":0}]
["Despacho del Director ",{"$f":"B1","v":"Anx:"},{"$f":"C$1","v":"Cantidad Mínima:"},"Tipo:",{"$f":"E$1","v":"Posee:"},"No Posee:",null,null,"Calif:","Observaciones:",null,null,null,null,null,null,null,null,null,null,null,null,null,{"$f":"SUM(P255:P300)","v":370},{"$f":"SUM(Q255:Q300)","v":0},90,{"$f":"SUM(S255:S300)","v":0},90,{"$f":"SUM(U255:U300)","v":0}]
["Constitución de la Republica del Ecuador",null,1,"Requerido",0,0,{"$f":"IF(AND(E255>=C255,E255>0),10,0)","v":0},{"$f":"IF(AND(F255>=C255,F255>0),10,0)","v":0},{"$f":"IF(AND(E255=0,F255=0),0,IF(AND(E255>0,F255>0),10,IF(AND(E255=0,F255>0),-10,IF(AND(E255>0,F255=0),10))))","v":0},null,null,null,null,null,null,{"$f":"IF(UPPER(D255)=\"REQUERIDO\", 10, \"\")","v":10},{"$f":"IF(UPPER(D255)=\"REQUERIDO\", I255, \"\")","v":0}]
["Plan Nacional del Buen Vivir 2013-2017",null,1,"Requerido",0,0,0,0,0,null,null,null,null,null,null,{"$f":"IF(UPPER(D256)=\"REQUERIDO\", 10, \"\")","v":10},{"$f":"IF(UPPER(D256)=\"REQUERIDO\", I256, \"\")","v":0}]
["Agenda Social 2017",null,1,"Requerido",0,0,0,0,0,null,null,null,null,null,null,10,0]
["Código Orgánico Integral Penal - COIP",null,1,"Requerido",0,0,0,0,0,null,null,null,null,null,null,10,0]
["Ley Orgánica del Servidor Publico - LOSEP",null,1,"Condición",0,0,0,0,0,null,null,null,null,null,null,null,null,{"$f":"IF(UPPER(D259)=\"CONDICIÓN\", 10, \"\")","v":10},{"$f":"IF(UPPER(D259)=\"CONDICIÓN\", G259, \"\")","v":0},{"$f":"IF(UPPER(D259)=\"CONDICIÓN\", 10, \"\")","v":10},{"$f":"IF(UPPER(D259)=\"CONDICIÓN\", H259, \"\")","v":0}]
["Reglamento a Ley Orgánica del Servidor Publico - LOSEP",null,1,"Condición",0,0,0,0,0,null,null,null,null,null,null,null,null,10,0,10,0]
["Codificación del Código del Trabajo (2005)",null,1,"Requerido",0,0,0,0,0,null,null,null,null,null,null,10,0]
["Código Orgánico de Organización Territorial, Autonomia y Descentralización - COOTAD",null,1,"Requerido",0,0,0,0,0,null,null,null,null,null,null,10,0]
["Instructivo para el Llenado del Registro Diario Automatizado de Consultas y Atenciones Ambulatorias (RDACAA). 2013",null,1,"Condición",0,0,0,0,0,null,null,null,null,null,null,null,null,{"$f":"IF(UPPER(D263)=\"CONDICIÓN\", 10, \"\")","v":10},{"$f":"IF(UPPER(D263)=\"CONDICIÓN\", G263, \"\")","v":0},{"$f":"IF(UPPER(D263)=\"CONDICIÓN\", 10, \"\")","v":10},{"$f":"IF(UPPER(D263)=\"CONDICIÓN\", H263, \"\")","v":0}]
["Estatuto orgánico de gestión organizacional por procesos del Ministerio de Salud Pública",null,1,"Condición",0,0,0,0,0,null,null,null,null,null,null,null,null,10,0,10,0]
["Estatuto orgánico de gestión organizacional por procesos de los hospitales del Ministerio de Salud Pública",null,1,"Condición",0,0,0,0,0,null,null,null,null,null,null,null,null,10,0,10,0]
["Distribución Zonas Distritos 2011",null,1,"Requerido",0,0,0,0,0,null,null,null,null,null,null,10,0]
["Manual del Sistema Organizado de la Red de Servicios de Salud",null,1,"Requerido",0,0,0,0,0,null,null,null,null,null,null,10,0]
["Guía para la adecuación cultural de los servicios de salud. 2006",null,1,"Requerido",0,0,0,0,0,null,null,null,null,null,null,10,0]
["Norma Técnica: Subsistema de Referencia, Derivación, Contrareferencia, Referencia inversa y Transferencia del Sistema Nacional de Salud. 2014",null,1,"Requerido",0,0,0,0,0,null,null,null,null,null,null,10,0]
["Políticas Uso de Servicios de Red y Servicios Informáticos del Ministerio de Salud Pública",null,1,"Condición",0,0,0,0,0,null,null,null,null,null,null,null,null,{"$f":"IF(UPPER(D270)=\"CONDICIÓN\", 10, \"\")","v":10},{"$f":"IF(UPPER(D270)=\"CONDICIÓN\", G270, \"\")","v":0},{"$f":"IF(UPPER(D270)=\"CONDICIÓN\", 10, \"\")","v":10},{"$f":"IF(UPPER(D270)=\"CONDICIÓN\", H270, \"\")","v":0}]
["Modelo de Gestión de requerimientos e inconformidades ciudadanas para mejorar los servicios de salud a nivel nacional",null,1,"Requerido",0,0,0,0,0,null,null,null,null,null,null,10,0]
["Reglamento de Señalización de Seguridad para Establecimientos de Salud",null,1,"Requerido",0,0,0,0,0,null,null,null,null,null,null,10,0]
["Registro de Interconsultas de especialidad según criterio del médico nefrólogo tratante (hasta 2 por un año): neumología, cardiología, gastroenterología, neurología y endocrinología",null,1,"Requerido",0,0,0,0,0,null,null,null,null,null,null,10,0]
["Registro de Atenciones de Morbilidad y Mortalidad",null,1,"Requerido",0,0,0,0,0,null,null,null,null,null,null,10,0]
["Acuerdo Ministerial 5212: Tipología Sustitutiva para Homologar los Establecimientos de Salud por Niveles de Atención y Servicios de Apoyo del Sistema Nacional de Salud",null,1,"Requerido",0,0,0,0,0,null,null,null,null,null,null,10,0]
["Consolidado de los Formularios para trazabilidad de muestras biológicas",null,1,"Requerido",0,0,{"$f":"IF(AND(E276>=C276,E276>0),10,0)","v":0},{"$f":"IF(AND(F276>=C276,F276>0),10,0)","v":0},0,null,null,null,null,null,null,{"$f":"IF(UPPER(D276)=\"REQUERIDO\", 10, \"\")","v":10},{"$f":"IF(UPPER(D276)=\"REQUERIDO\", I276, \"\")","v":0}]
["Registro de Mantenimiento de Equipos: Preventivo o Correctivo ",null,1,"Requerido",0,0,0,0,0,null,null,null,null,null,null,10,0]
["Registro Consolidado de mantenimiento de equipos: preventio y/o correctivo",null,1,"Requerido",0,0,0,0,0,null,null,null,null,null,null,10,0]
["Protocolo de desinfección externa e interna de máquinas",null,1,"Requerido",0,0,0,0,0,null,null,null,null,null,null,10,0]
["Registro de Desinfección de Máquinas",null,1,"Requerido",0,0,0,0,0,null,null,null,null,null,null,10,0]
["Protocolo de procedimientos de Hemodiálisis",null,1,"Requerido",0,0,0,0,0,null,null,null,null,null,null,10,0]
["Protocolo de procedimientos de Diálisis Peritoneal",null,1,"Condición",0,0,0,0,0,null,null,null,null,null,null,null,null,{"$f":"IF(UPPER(D282)=\"CONDICIÓN\", 10, \"\")","v":10},{"$f":"IF(UPPER(D282)=\"CONDICIÓN\", G282, \"\")","v":0},{"$f":"IF(UPPER(D282)=\"CONDICIÓN\", 10, \"\")","v":10},{"$f":"IF(UPPER(D282)=\"CONDICIÓN\", H282, \"\")","v":0}]
["Registro de Mantenimiento Preventivo y Correctivo de Sistema de Tratamiento de Agua",null,1,"Requerido",0,0,0,0,0,null,null,null,null,null,null,10,0]
["Registro de Evaluación Microbiológica y composición Química del Agua",null,1,"Requerido",0,0,0,0,0,null,null,null,null,null,null,10,0]
["Protocolo de procedimientos de enfermería",null,1,"Requerido",0,0,0,0,0,null,null,null,null,null,null,10,0]
["Plan de Gestión Integral de Desechos Sanitarios",null,1,"Requerido",0,0,0,0,0,null,null,null,null,null,null,10,0]
["Protocolos de Limpieza, Desinfección y Esterilización",null,1,"Requerido",0,0,0,0,0,null,null,null,null,null,null,10,0]
["Registro Consolidado de limpieza de las áreas funcionales del Establecimiento",null,1,"Requerido",0,0,0,0,0,null,null,null,null,null,null,10,0]
["Programa anual de capacitación continua para el personal del Establecimiento",null,1,"Requerido",0,0,0,0,0,null,null,null,null,null,null,10,0]
["Registros de asistencias del personal del Establecimiento a capacitaciones",null,1,"Requerido",0,0,0,0,0,null,null,null,null,null,null,10,0]
["Reglamento Interno",null,1,"Requerido",0,0,0,0,0,null,null,null,null,null,null,10,0]
["Manual de Normas de Bioseguridad para la Red de Servicios de Salud en el Ecuador.",null,1,"Requerido",0,0,0,0,0,null,null,null,null,null,null,10,0]
["Plan de Gestión Integral de Desechos Sanitarios",null,1,"Requerido",0,0,0,0,0,null,null,null,null,null,null,10,0]
["Acuerdo Ministerial 114: Vigilancia epidemiológica de las enfermedades crónicas no transmisibles",null,1,"Requerido",0,0,0,0,0,null,null,null,null,null,null,10,0]
["Acuerdo Ministerial 115: Manual de Seguridad del Paciente- Usuario",null,1,"Requerido",0,0,0,0,0,null,null,null,null,null,null,10,0]
["Acuerdo Ministerial 5186: Reglamento Interministerial para la Gestión Integral de Desechos Sanitarios",null,1,"Requerido",0,0,0,0,0,null,null,null,null,null,null,10,0]
["Norma técnica para la derivación y financiamiento de cobertura internacional para la atención integral de salud de usuarios con enfermedades catasrófica. 2013",null,1,"Requerido",0,0,0,0,0,null,null,null,null,null,null,10,0]
["Política nacional de hospitales seguros. 2008",null,1,"Requerido",0,0,0,0,0,null,null,null,null,null,null,10,0]
["Acuerdo Ministerial 1829: Emitir los criterios de inclusión de enfermedades consideredas catastróficas, raras y huérfanas para beneficiarios del bono Joaquín Gallegos Lara",null,1,"Condición",0,0,0,0,0,null,null,null,null,null,null,null,null,{"$f":"IF(UPPER(D299)=\"CONDICIÓN\", 10, \"\")","v":10},{"$f":"IF(UPPER(D299)=\"CONDICIÓN\", G299, \"\")","v":0},{"$f":"IF(UPPER(D299)=\"CONDICIÓN\", 10, \"\")","v":10},{"$f":"IF(UPPER(D299)=\"CONDICIÓN\", H299, \"\")","v":0}]
["Reforma a la ley orgánica de salud para incluir el tratamiento de las enfermedades raras, huérfanas y catastróficas. Año 2012. Oficio San-2012-00 ",null,1,"Condición",0,0,0,0,0,null,null,null,null,null,null,null,null,10,0,10,0]
["Oficina de Trabajo Social",{"$f":"B1","v":"Anx:"},{"$f":"C$1","v":"Cantidad Mínima:"},"Tipo:",{"$f":"E$1","v":"Posee:"},"No Posee:",null,null,"Calif:","Observaciones:",null,null,null,null,null,null,null,null,null,null,null,null,null,{"$f":"SUM(P302:P312)","v":110},{"$f":"SUM(Q302:Q312)","v":0},{"$f":"SUM(R302:R312)","v":0},{"$f":"SUM(S302:S312)","v":0},0,{"$f":"SUM(U302:U312)","v":0}]
["Reglamento a la Ley Organica de Salud",null,1,"Requerido",0,0,{"$f":"IF(AND(E302>=C302,E302>0),10,0)","v":0},{"$f":"IF(AND(F302>=C302,F302>0),10,0)","v":0},0,null,null,null,null,null,null,{"$f":"IF(UPPER(D302)=\"REQUERIDO\", 10, \"\")","v":10},{"$f":"IF(UPPER(D302)=\"REQUERIDO\", I302, \"\")","v":0}]
["Guía para la adecuación cultural de los servicios de salud. 2006",null,1,"Requerido",0,0,0,0,0,null,null,null,null,null,null,{"$f":"IF(UPPER(D303)=\"REQUERIDO\", 10, \"\")","v":10},{"$f":"IF(UPPER(D303)=\"REQUERIDO\", I303, \"\")","v":0}]
["Manual del modelo de atención integral en salud - MAIS. 2013",null,1,"Requerido",0,0,0,0,0,null,null,null,null,null,null,10,0]
["Ley Derechos y Amparo al Paciente",null,1,"Requerido",0,0,0,0,0,null,null,null,null,null,null,10,0]
["Cuadro nacional de medicamentos básicos y registro terapéutico. 9na revisión",null,1,"Requerido",0,0,0,0,0,null,null,null,null,null,null,10,0]
["Acuerdo Ministerial 115: Manual de Seguridad del Paciente- Usuario",null,1,"Requerido",0,0,0,0,0,null,null,null,null,null,null,10,0]
["Acuerdo Ministerial 5186: Reglamento Interministerial para la Gestión Integral de Desechos Sanitarios",null,1,"Requerido",0,0,0,0,0,null,null,null,null,null,null,10,0]
["Manual de Normas de Bioseguridad para la Red de Servicios de Salud en el Ecuador",null,1,"Requerido",0,0,0,0,0,null,null,null,null,null,null,10,0]
["Protocolos de Procedimientos de Limpieza, Desinfección y Esterilización",null,1,"Requerido",0,0,0,0,0,null,null,null,null,null,null,10,0]
["Registro de limpieza y desinfección del área funcional del Establecimiento",null,1,"Requerido",0,0,0,0,0,null,null,null,null,null,null,10,0]
["Registro de Mantenimiento de Equipos: Preventivo y/o Correctivo",null,1,"Requerido",0,0,0,0,0,null,null,null,null,null,null,10,0]
["GENERAL",null,null,null,null,null,null,null,null,null,{"$f":"ROW(A313)","v":313},null,null,null,null,null,null,null,null,null,null,null,null,{"$f":"SUM(P314:P321)","v":60},{"$f":"SUM(Q314:Q321)","v":0},{"$f":"SUM(R314:R321)","v":0},{"$f":"SUM(S314:S321)","v":0},0,{"$f":"SUM(U314:U321)","v":0}]
["SERVICIOS INTERNOS DE APOYO",null,null,null,null,null,null,null,null,null,{"$f":"ROW(A314)","v":314},null,null,null,null,null,null,null,null,null,null,null,null,{"$f":"SUM(P316:P321)","v":60},{"$f":"SUM(Q316:Q321)","v":0},{"$f":"SUM(R316:R321)","v":0},0,0,0]
["Servicios Internos de Apoyo",{"$f":"B1","v":"Anx:"},{"$f":"C$1","v":"Cantidad Mínima:"},"Tipo:","Posee:","No Posee:",null,null,"Calif:","Observaciones:",null,null,null,null,null,null,null,null,null,null,null,null,null,{"$f":"SUM(P316:P321)","v":60},{"$f":"SUM(Q316:Q321)","v":0},0,{"$f":"SUM(S316:S321)","v":0},0,{"$f":"SUM(U316:U321)","v":0}]
["Acuerdo Ministerial 5186: Reglamento Interministerial para la Gestión Integral de Desechos Sanitarios",null,1,"Requerido",0,0,{"$f":"IF(AND(E316>=C316,E316>0),10,0)","v":0},{"$f":"IF(AND(F316>=C316,F316>0),10,0)","v":0},{"$f":"IF(AND(E316=0,F316=0),0,IF(AND(E316>0,F316>0),10,IF(AND(E316=0,F316>0),-10,IF(AND(E316>0,F316=0),10))))","v":0},null,null,null,null,null,null,{"$f":"IF(UPPER(D316)=\"REQUERIDO\", 10, \"\")","v":10},{"$f":"IF(UPPER(D316)=\"REQUERIDO\", I316, \"\")","v":0}]
["Acuerdo Ministerial 115: Manual de Seguridad del Paciente- Usuario",null,1,"Requerido",0,0,0,0,0,null,null,null,null,null,null,{"$f":"IF(UPPER(D317)=\"REQUERIDO\", 10, \"\")","v":10},{"$f":"IF(UPPER(D317)=\"REQUERIDO\", I317, \"\")","v":0}]
["Manual de Normas de Bioseguridad para la Red de Servicios de Salud en el Ecuador",null,1,"Requerido",0,0,0,0,0,null,null,null,null,null,null,10,0]
["Protocolos de Procedimientos de Limpieza, Desinfección y Esterilización",null,1,"Requerido",0,0,0,0,0,null,null,null,null,null,null,10,0]
["Registro de limpieza y desinfección del área funcional del Establecimiento",null,1,"Requerido",0,0,0,0,0,null,null,null,null,null,null,10,0]
["Registro de Mantenimiento de Equipos: Preventivo y/o Correctivo",null,1,"Requerido",0,0,0,0,0,null,null,null,null,null,null,10,0,null,null,null,null,"req",null,"cond+",null,"cond-"]
["TOTALES PARCIALES:",null,null,null,null,null,null,null,null,null,null,null,null,null,null,"TOTAL GENERAL:",null,null,null,null,null,{"$f":"X3","v":1760},0,1150,{"$f":"AA3","v":0},1110,0]
["NORMAS:",null,"% Obtenido:","% Obtenido:","% Obtenido:","% A Cumplir:",null,null,"% Final:",null,null,null,3,"NORMAS",null,null,null,null,null,null,null,{"$f":"X3*100/V322","v":100},{"$f":"Y3*100/V322","v":0},{"$f":"Z3*100/X322","v":100},{"$f":"AA3*100/X322","v":0},{"$f":"AB3*100/Z322","v":100},{"$f":"AC3*100/Z322","v":0}]
[{"$f":"Norma!N323","v":"NORMAS"},null,{"$f":"Norma!$W$323*100/100/100","v":0},null,null,{"$f":"Norma!$V$323*100/100/100","v":1},null,null,{"$f":"IF(Norma!$C$324=Norma!$F$324, \"CUMPLE\", \"NO CUMPLE\")","v":"NO CUMPLE"},null,null,null,4,"ADMINISTRATIVO",null,null,null,null,null,null,null,{"$f":"X4*100/V322","v":7.3863636363636367},{"$f":"Y4*100/V322","v":0},{"$f":"Z4*100/X322","v":4.3478260869565215},{"$f":"AA4*100/X322","v":0},{"$f":"AB4*100/Z322","v":3.6036036036036037},{"$f":"AC4*100/Z322","v":0}]
[{"$f":"Norma!N324","v":"ADMINISTRATIVO"},null,null,{"$f":"Norma!$W$324*100/100/100","v":0},null,{"$f":"Norma!V324*100/100/100","v":7.3863636363636367E-2},null,null,{"$f":"IF(Norma!D325=Norma!$F$325, \"CUMPLE\", \"NO CUMPLE\")","v":"NO CUMPLE"},null,null,null,5,"ADMISIÓN Y ESTADISTICA",null,null,null,null,null,null,null,{"$f":"X5*100/V322","v":7.3863636363636367},{"$f":"Y5*100/V322","v":0},{"$f":"Z5*100/X322","v":4.3478260869565215},{"$f":"AA5*100/X322","v":0},{"$f":"AB5*100/Z322","v":3.6036036036036037},{"$f":"AC5*100/Z322","v":0}]
[{"$f":"Norma!N325","v":"ADMISIÓN Y ESTADISTICA"},null,null,null,{"$f":"Norma!$W$325*100/100/100","v":0},{"$f":"Norma!V$325*100/100/100","v":7.3863636363636367E-2},null,null,{"$f":"IF(Norma!$E$326=Norma!$F$326, \"CUMPLE\", \"NO CUMPLE\")","v":"NO CUMPLE"},null,null,null,25,"ASISTENCIAL",null,null,null,null,null,null,null,{"$f":"X25*100/V322","v":36.93181818181818},{"$f":"Y25*100/V322","v":0},{"$f":"Z25*100/X322","v":46.956521739130437},{"$f":"AA25*100/X322","v":0},{"$f":"AB25*100/Z322","v":46.846846846846844},{"$f":"AC25*100/Z322","v":0}]
[{"$f":"Norma!N326","v":"ASISTENCIAL"},null,null,{"$f":"Norma!$W$326*100/100/100","v":0},null,{"$f":"Norma!V326*100/100/100","v":0.36931818181818182},null,null,{"$f":"IF(Norma!D327=Norma!$F$327, \"CUMPLE\", \"NO CUMPLE\")","v":"NO CUMPLE"},null,null,null,26,"CONSULTA EXTERNA",null,null,null,null,null,null,null,{"$f":"X26*100/V322","v":36.93181818181818},{"$f":"Y26*100/V322","v":0},{"$f":"Z26*100/X322","v":46.956521739130437},{"$f":"AA26*100/X322","v":0},{"$f":"AB26*100/Z322","v":46.846846846846844},{"$f":"AC26*100/Z322","v":0}]
[{"$f":"Norma!N327","v":"CONSULTA EXTERNA"},null,null,null,{"$f":"Norma!$W$327*100/100/100","v":0},{"$f":"Norma!V$327*100/100/100","v":0.36931818181818182},null,null,{"$f":"IF(Norma!E328=Norma!$F$328, \"CUMPLE\", \"NO CUMPLE\")","v":"NO CUMPLE"},null,null,null,150,"APOYO TERAPEUTICO",null,null,null,null,null,null,null,{"$f":"X150*100/V322","v":13.068181818181818},{"$f":"Y150*100/V322","v":0},{"$f":"Z150*100/X322","v":37.391304347826086},{"$f":"AA150*100/X322","v":0},{"$f":"AB150*100/Z322","v":37.837837837837839},{"$f":"AC150*100/Z322","v":0}]
[{"$f":"Norma!N328","v":"APOYO TERAPEUTICO"},null,null,{"$f":"Norma!$W$328*100/100/100","v":0},null,{"$f":"Norma!V328*100/100/100","v":0.13068181818181818},null,null,{"$f":"IF(Norma!D329=Norma!$F$329, \"CUMPLE\", \"NO CUMPLE\")","v":"NO CUMPLE"},null,null,null,151,"ATENCIÓN DE APOYO TERAPEÚTICO",null,null,null,null,null,null,null,{"$f":"X151*100/V322","v":13.068181818181818},{"$f":"Y151*100/V322","v":0},{"$f":"Z151*100/X322","v":37.391304347826086},{"$f":"AA151*100/X322","v":0},{"$f":"AB151*100/Z322","v":37.837837837837839},{"$f":"AC151*100/Z322","v":0}]
[{"$f":"Norma!N329","v":"ATENCIÓN DE APOYO TERAPEÚTICO"},null,null,null,{"$f":"Norma!$W$329*100/100/100","v":0},{"$f":"Norma!V$329*100/100/100","v":0.13068181818181818},null,null,{"$f":"IF(Norma!$E$330=Norma!$F$330, \"CUMPLE\", \"NO CUMPLE\")","v":"NO CUMPLE"},null,null,null,221,"APOYO DIAGNÓSTICO ",null,null,null,null,null,null,null,{"$f":"X221*100/V322","v":5.1136363636363633},{"$f":"Y221*100/V322","v":0},{"$f":"Z221*100/X322","v":0},{"$f":"AA221*100/X322","v":0},{"$f":"AB221*100/Z322","v":0},{"$f":"AC221*100/Z322","v":0}]
[{"$f":"N330","v":"APOYO DIAGNÓSTICO "},null,null,{"$f":"Norma!W330*100/100/100","v":0},null,{"$f":"V330*100/100/100","v":5.1136363636363633E-2},null,null,{"$f":"IF(Norma!D331=Norma!$F$331, \"CUMPLE\", \"NO CUMPLE\")","v":"NO CUMPLE"},null,null,null,222,"DIAGNÓSTICO EN LABORATORIO (LABORATORIO DE ANÁLISIS CLÍNICO)",null,null,null,null,null,null,null,{"$f":"X222*100/V322","v":5.1136363636363633},{"$f":"Y222*100/V322","v":0},{"$f":"Z222*100/X322","v":0},{"$f":"AA222*100/X322","v":0},{"$f":"AB222*100/Z322","v":0},{"$f":"AC222*100/Z322","v":0}]
[{"$f":"N331","v":"DIAGNÓSTICO EN LABORATORIO (LABORATORIO DE ANÁLISIS CLÍNICO)"},null,null,null,{"$f":"W331*100/100/100","v":0},{"$f":"V331*100/100/100","v":5.1136363636363633E-2},null,null,{"$f":"IF(Norma!$E$332=Norma!$F$332, \"CUMPLE\", \"NO CUMPLE\")","v":"NO CUMPLE"},null,null,null,232,"APOYO TERAPÉUTICO",null,null,null,null,null,null,null,{"$f":"X233*100/V322","v":6.8181818181818183},{"$f":"Y233*100/V322","v":0},{"$f":"Z233*100/$X$322","v":3.4782608695652173},{"$f":"AA233*100/$X$322","v":0},{"$f":"AB233*100/Z322","v":3.6036036036036037},{"$f":"AC233*100/Z322","v":0}]
[{"$f":"Norma!N332","v":"APOYO TERAPÉUTICO"},null,null,{"$f":"Norma!$W$332*100/100/100","v":0},null,{"$f":"Norma!V332*100/100/100","v":6.8181818181818177E-2},null,null,{"$f":"IF(Norma!D333=Norma!$F$333, \"CUMPLE\", \"NO CUMPLE\")","v":"NO CUMPLE"},null,null,null,233,"DOTACIÓN DE MEDICAMENTOS Y DISPOSITIVOS MÉDICOS (FARMACIA)",null,null,null,null,null,null,null,{"$f":"X234*100/V322","v":6.8181818181818183},{"$f":"Y234*100/V322","v":0},{"$f":"Z234*100/X322","v":3.4782608695652173},{"$f":"AA234*100/X322","v":0},{"$f":"AB234*100/Z322","v":3.6036036036036037},{"$f":"AC234*100/Z322","v":0}]
[{"$f":"Norma!N333","v":"DOTACIÓN DE MEDICAMENTOS Y DISPOSITIVOS MÉDICOS (FARMACIA)"},null,null,null,{"$f":"Norma!W333*100/100/100","v":0},{"$f":"Norma!V$333*100/100/100","v":6.8181818181818177E-2},null,null,{"$f":"IF(Norma!$E$334=Norma!$F$334, \"CUMPLE\", \"NO CUMPLE\")","v":"NO CUMPLE"},null,null,null,251,"ADMINISTRATIVO",null,null,null,null,null,null,null,{"$f":"X252*100/V322","v":27.272727272727273},{"$f":"Y252*100/V322","v":0},{"$f":"Z252*100/X322","v":7.8260869565217392},{"$f":"AA252*100/X322","v":0},{"$f":"AB252*100/Z322","v":8.1081081081081088},{"$f":"AC252*100/Z322","v":0}]
[{"$f":"Norma!N334","v":"ADMINISTRATIVO"},null,null,{"$f":"Norma!$W$334*100/100/100","v":0},null,{"$f":"Norma!V334*100/100/100","v":0.27272727272727271},null,null,{"$f":"IF(Norma!D335=Norma!$F$335, \"CUMPLE\", \"NO CUMPLE\")","v":"NO CUMPLE"},null,null,null,252,"ADMINISTRACIÓN TÉCNICA",null,null,null,null,null,null,null,{"$f":"X253*100/V322","v":27.272727272727273},{"$f":"Y253*100/V322","v":0},{"$f":"Z253*100/X322","v":7.8260869565217392},{"$f":"AA253*100/X322","v":0},{"$f":"AB253*100/Z322","v":8.1081081081081088},{"$f":"AC253*100/Z322","v":0}]
[{"$f":"Norma!N335","v":"ADMINISTRACIÓN TÉCNICA"},null,null,null,{"$f":"Norma!W335*100/100/100","v":0},{"$f":"Norma!V$335*100/100/100","v":0.27272727272727271},null,null,{"$f":"IF(Norma!$E$336=Norma!$F$336, \"CUMPLE\", \"NO CUMPLE\")","v":"NO CUMPLE"},null,null,null,311,"GENERAL",null,null,null,null,null,null,null,{"$f":"X313*100/V322","v":3.4090909090909092},{"$f":"Y313*100/V322","v":0},{"$f":"Z313*100/X322","v":0},{"$f":"AA313*100/X322","v":0},{"$f":"AB313*100/Z322","v":0},{"$f":"AC313*100/Z322","v":0}]
[{"$f":"Norma!N336","v":"GENERAL"},null,null,{"$f":"Norma!$W$336*100/100/100","v":0},null,{"$f":"Norma!V336*100/100/100","v":3.4090909090909088E-2},null,null,{"$f":"IF(Norma!$D$337=Norma!$F$337, \"CUMPLE\", \"NO CUMPLE\")","v":"NO CUMPLE"},null,null,null,312,"SERVICIOS INTERNOS DE APOYO",null,null,null,null,null,null,null,{"$f":"X314*100/V322","v":3.4090909090909092},{"$f":"Y314*100/V322","v":0},{"$f":"Z314*100/X322","v":0},{"$f":"AA314*100/X322","v":0},{"$f":"AB314*100/Z322","v":0},{"$f":"AC314*100/Z322","v":0}]
[{"$f":"Norma!N337","v":"SERVICIOS INTERNOS DE APOYO"},null,null,null,{"$f":"Norma!W337*100/100/100","v":0},{"$f":"Norma!V$337*100/100/100","v":3.4090909090909088E-2},null,null,{"$f":"IF(Norma!$E$338=Norma!$F$338, \"CUMPLE\", \"NO CUMPLE\")","v":"NO CUMPLE"}]
["TOTAL REQUERIDO:",null,null,null,null,0.05,null,null,{"$f":"SUM(Norma!$C$324)*0.05","v":0}]
["TOTALES CONDICIONADOS +:"]
["NORMAS:",null,"% Obtenido:","% Obtenido:","% Obtenido:","% A Cumplir:",null,null,"% Final:"]
["NORMAS",null,{"$f":"Norma!$Y$323*100/100/100","v":0},null,null,{"$f":"Norma!$X$323*100/100/100","v":1},null,null,{"$f":"IF(Norma!$C$324=Norma!$F$324, \"CUMPLE\", \"NO CUMPLE\")","v":"NO CUMPLE"}]
["ADMINISTRATIVO",null,null,{"$f":"Norma!$Y$324*100/100/100","v":0},null,{"$f":"Norma!X324*100/100/100","v":4.3478260869565216E-2},null,null,{"$f":"IF(D343=F343, \"CUMPLE\", \"NO CUMPLE\")","v":"NO CUMPLE"}]
["ADMISIÓN Y ESTADISTICA",null,null,null,{"$f":"Norma!$Y$325*100/100/100","v":0},{"$f":"Norma!X$325*100/100/100","v":4.3478260869565216E-2},null,null,{"$f":"IF(E344=F344, \"CUMPLE\", \"NO CUMPLE\")","v":"NO CUMPLE"}]
["ASISTENCIAL",null,null,{"$f":"Norma!$Y$326*100/100/100","v":0},null,{"$f":"Norma!X326*100/100/100","v":0.46956521739130436},null,null,{"$f":"IF(D345=F345, \"CUMPLE\", \"NO CUMPLE\")","v":"NO CUMPLE"}]
["CONSULTA EXTERNA",null,null,null,{"$f":"Norma!$Y$327*100/100/100","v":0},{"$f":"Norma!X$327*100/100/100","v":0.46956521739130436},null,null,{"$f":"IF(E346=F346, \"CUMPLE\", \"NO CUMPLE\")","v":"NO CUMPLE"}]
["APOYO TERAPEUTICO",null,null,{"$f":"Norma!$Y$328*100/100/100","v":0},null,{"$f":"Norma!X328*100/100/100","v":0.37391304347826088},null,null,{"$f":"IF(D347=F347, \"CUMPLE\", \"NO CUMPLE\")","v":"NO CUMPLE"}]
["ATENCIÓN DE APOYO TERAPEÚTICO",null,null,null,{"$f":"Norma!$Y$329*100/100/100","v":0},{"$f":"Norma!X$329*100/100/100","v":0.37391304347826088},null,null,{"$f":"IF(E348=F348, \"CUMPLE\", \"NO CUMPLE\")","v":"NO CUMPLE"}]
["APOYO DIAGNÓSTICO ",null,null,{"$f":"Y330*100/100/100","v":0},null,{"$f":"X330*100/100/100","v":0},null,null,{"$f":"IF(D349=F349, \"CUMPLE\", \"NO CUMPLE\")","v":"CUMPLE"}]
["DIAGNÓSTICO EN LABORATORIO (LABORATORIO DE ANÁLISIS CLÍNICO)",null,null,null,{"$f":"Y331*100/100/100","v":0},{"$f":"X331*100/100/100","v":0},null,null,{"$f":"IF(E350=F350, \"CUMPLE\", \"NO CUMPLE\")","v":"CUMPLE"}]
["APOYO TERAPÉUTICO",null,null,{"$f":"Norma!$Y$332*100/100/100","v":0},null,{"$f":"Norma!X332*100/100/100","v":3.4782608695652174E-2},null,null,{"$f":"IF(D351=F351, \"CUMPLE\", \"NO CUMPLE\")","v":"NO CUMPLE"}]
["DOTACIÓN DE MEDICAMENTOS Y DISPOSITIVOS MÉDICOS (FARMACIA)",null,null,null,{"$f":"Norma!Y333*100/100/100","v":0},{"$f":"Norma!Y$333*100/100/100","v":0},null,null,{"$f":"IF(E352=F352, \"CUMPLE\", \"NO CUMPLE\")","v":"CUMPLE"}]
["ADMINISTRATIVO",null,null,{"$f":"Norma!$Y$334*100/100/100","v":0},null,{"$f":"Norma!X334*100/100/100","v":7.8260869565217384E-2},null,null,{"$f":"IF(D353=F353, \"CUMPLE\", \"NO CUMPLE\")","v":"NO CUMPLE"}]
["ADMINISTRACIÓN TÉCNICA",null,null,null,{"$f":"Norma!Y335*100/100/100","v":0},{"$f":"Norma!X$335*100/100/100","v":7.8260869565217384E-2},null,null,{"$f":"IF(E354=F354, \"CUMPLE\", \"NO CUMPLE\")","v":"NO CUMPLE"}]
["GENERAL",null,null,{"$f":"Norma!$Y$336*100/100/100","v":0},null,{"$f":"Norma!X336*100/100/100","v":0},null,null,{"$f":"IF(D355=F355, \"CUMPLE\", \"NO CUMPLE\")","v":"CUMPLE"}]
["SERVICIOS INTERNOS DE APOYO",null,null,null,{"$f":"Norma!Y337*100/100/100","v":0},{"$f":"Norma!X$337*100/100/100","v":0},null,null,{"$f":"IF(E356=F356, \"CUMPLE\", \"NO CUMPLE\")","v":"CUMPLE"}]
["TOTAL CONDICIÓN:",null,null,null,null,0.05,null,null,{"$f":"SUM(C342)*0.05","v":0}]
["TOTALES CONDICIONADOS -:"]
["NORMAS:",null,"% Obtenido:","% Obtenido:","% Obtenido:","% A Cumplir:",null,null,"% Final:"]
["NORMAS",null,{"$f":"-(Norma!$AA$323*100/100/100)","v":0},null,null,{"$f":"-Norma!$Z$323*100/100/100","v":-1},null,null,{"$f":"IF(Norma!$C$324=Norma!$F$324, \"CUMPLE\", \"NO CUMPLE\")","v":"NO CUMPLE"}]
["ADMINISTRATIVO",null,null,{"$f":"-Norma!$AA$324*100/100/100","v":0},null,{"$f":"-Norma!Z324*100/100/100","v":-3.6036036036036036E-2},null,null,{"$f":"IF(D361=F361, \"CUMPLE\", \"NO CUMPLE\")","v":"NO CUMPLE"}]
["ADMISIÓN Y ESTADISTICA",null,null,null,{"$f":"-Norma!$AA$325*100/100/100","v":0},{"$f":"-Norma!Z325*100/100/100","v":-3.6036036036036036E-2},null,null,{"$f":"IF(E362=F362, \"CUMPLE\", \"NO CUMPLE\")","v":"NO CUMPLE"}]
["ASISTENCIAL",null,null,{"$f":"-Norma!$AA$326*100/100/100","v":0},null,{"$f":"-Norma!Z326*100/100/100","v":-0.46846846846846846},null,null,{"$f":"IF(D363=F363, \"CUMPLE\", \"NO CUMPLE\")","v":"NO CUMPLE"}]
["CONSULTA EXTERNA",null,null,null,{"$f":"-Norma!$AA$327*100/100/100","v":0},{"$f":"-Norma!Z327*100/100/100","v":-0.46846846846846846},null,null,{"$f":"IF(E364=F364, \"CUMPLE\", \"NO CUMPLE\")","v":"NO CUMPLE"}]
["APOYO TERAPEUTICO",null,null,{"$f":"-Norma!$AA$328*100/100/100","v":0},null,{"$f":"-Norma!Z328*100/100/100","v":-0.3783783783783784},null,null,{"$f":"IF(D365=F365, \"CUMPLE\", \"NO CUMPLE\")","v":"NO CUMPLE"}]
["ATENCIÓN DE APOYO TERAPEÚTICO",null,null,null,{"$f":"-Norma!$AA$329*100/100/100","v":0},{"$f":"-Norma!Z329*100/100/100","v":-0.3783783783783784},null,null,{"$f":"IF(E366=F366, \"CUMPLE\", \"NO CUMPLE\")","v":"NO CUMPLE"}]
["APOYO DIAGNÓSTICO ",null,null,{"$f":"-AA330*100/100/100","v":0},null,{"$f":"-Z330*100/100/100","v":0},null,null,{"$f":"IF(D367=F367, \"CUMPLE\", \"NO CUMPLE\")","v":"CUMPLE"}]
["DIAGNÓSTICO EN LABORATORIO (LABORATORIO DE ANÁLISIS CLÍNICO)",null,null,null,{"$f":"-AA331*100/100/100","v":0},{"$f":"-Z331*100/100/100","v":0},null,null,{"$f":"IF(E368=F368, \"CUMPLE\", \"NO CUMPLE\")","v":"CUMPLE"}]
["APOYO TERAPÉUTICO",null,null,{"$f":"-Norma!$AA$332*100/100/100","v":0},null,{"$f":"-Norma!Z332*100/100/100","v":-3.6036036036036036E-2},null,null,{"$f":"IF(D369=F369, \"CUMPLE\", \"NO CUMPLE\")","v":"NO CUMPLE"}]
["DOTACIÓN DE MEDICAMENTOS Y DISPOSITIVOS MÉDICOS (FARMACIA)",null,null,null,{"$f":"-Norma!AA333*100/100/100","v":0},{"$f":"-Norma!Z333*100/100/100","v":-3.6036036036036036E-2},null,null,{"$f":"IF(E370=F370, \"CUMPLE\", \"NO CUMPLE\")","v":"NO CUMPLE"}]
["ADMINISTRATIVO",null,null,{"$f":"-Norma!$AA$334*100/100/100","v":0},null,{"$f":"-Norma!Z334*100/100/100","v":-8.1081081081081086E-2},null,null,{"$f":"IF(D371=F371, \"CUMPLE\", \"NO CUMPLE\")","v":"NO CUMPLE"}]
["ADMINISTRACIÓN TÉCNICA",null,null,null,{"$f":"-Norma!AA335*100/100/100","v":0},{"$f":"-Norma!Z335*100/100/100","v":-8.1081081081081086E-2},null,null,{"$f":"IF(E372=F372, \"CUMPLE\", \"NO CUMPLE\")","v":"NO CUMPLE"}]
["GENERAL",null,null,{"$f":"-Norma!$AA$336*100/100/100","v":0},null,{"$f":"-Norma!Z336*100/100/100","v":0},null,null,{"$f":"IF(D373=F373, \"CUMPLE\", \"NO CUMPLE\")","v":"CUMPLE"}]
["SERVICIOS INTERNOS DE APOYO",null,null,null,{"$f":"-Norma!AA337*100/100/100","v":0},{"$f":"-Norma!Z337*100/100/100","v":0},null,null,{"$f":"IF(E374=F374, \"CUMPLE\", \"NO CUMPLE\")","v":"CUMPLE"}]
["TOTAL CONDICIÓN:",null,null,null,null,0.05,null,null,{"$f":"SUM(C360)*0.05","v":0}]
["TOTALES COMPONENTE:"]
["TOTAL % REQUERIDO:",null,null,null,null,{"$f":"F339","v":0.05},null,null,{"$f":"(+Norma!$I$339)","v":0}]
["TOTAL % CONDICIÓN:",null,null,null,null,0.05,null,null,{"$f":"(I357+I375)","v":0}]
["TOTAL % DESEABLE:",null,null,null,null,0.05,null,null,0.05]

{"sheet":"TalentoHumano","index":7,"n_rows":165,"n_cols":52,"rows_kept":165,"cut":false,"hidden":false,"merged":[[7,0,7,10],[14,0,14,10],[3,0,3,10],[2,16,2,17],[2,18,2,19],[2,22,2,23],[2,20,2,21],[27,0,27,10],[32,0,32,10],[162,0,162,4],[163,0,163,4],[164,0,164,4],[161,0,161,6],[67,0,67,4],[68,0,68,1],[84,0,84,4],[86,0,86,4],[69,0,69,1],[70,0,70,1],[71,0,71,1],[72,0,72,1],[83,0,83,1],[85,0,85,6],[87,0,87,6],[88,0,88,1],[89,0,89,1],[78,0,78,1],[79,0,79,1],[80,0,80,1],[81,0,81,1],[82,0,82,1],[95,0,95,1],[96,0,96,1],[52,26,52,35],[53,26,53,35],[54,26,54,35],[55,26,55,35],[1,36,1,43],[1,44,1,51],[49,48,49,49],[49,50,49,51],[2,28,2,29],[51,26,51,35],[49,36,49,37],[49,38,49,39],[49,40,49,41],[49,42,49,43],[49,44,49,45],[49,46,49,47],[1,24,1,31],[2,24,2,25],[2,26,2,27],[2,30,2,31],[37,0,37,10],[44,0,44,10],[1,0,1,10],[1,16,1,23],[73,0,73,1],[74,0,74,1],[75,0,75,1],[76,0,76,1],[77,0,77,1],[66,0,66,1],[51,0,51,1],[52,0,52,1],[53,0,53,1],[54,0,54,1],[55,0,55,1],[50,0,50,6],[2,0,2,10],[4,0,4,10],[28,0,28,10],[38,0,38,10],[45,0,45,10],[8,0,8,10],[15,0,15,10],[33,0,33,10],[65,26,65,35],[56,0,56,1],[57,0,57,1],[58,0,58,1],[59,0,59,1],[60,0,60,1],[61,0,61,1],[62,0,62,1],[63,0,63,1],[64,0,64,1],[65,0,65,1],[60,26,60,35],[61,26,61,35],[62,26,62,35],[63,26,63,35],[64,26,64,35],[56,26,56,35],[57,26,57,35],[58,26,58,35],[59,26,59,35],[97,0,97,1],[98,0,98,1],[99,0,99,1],[90,0,90,1],[91,0,91,1],[92,0,92,1],[93,0,93,1],[94,0,94,1],[105,0,105,1],[106,0,106,1],[107,0,107,1],[108,0,108,1],[109,0,109,1],[100,0,100,1],[101,0,101,1],[102,0,102,1],[103,0,103,1],[104,0,104,4],[115,0,115,1],[116,0,116,1],[117,0,117,1],[118,0,118,1],[119,0,119,1],[110,0,110,1],[111,0,111,1],[112,0,112,1],[113,0,113,1],[114,0,114,1],[125,0,125,1],[126,0,126,1],[127,0,127,1],[128,0,128,1],[129,0,129,1],[120,0,120,1],[121,0,121,4],[122,0,122,6],[123,0,123,4],[124,0,124,6],[135,0,135,1],[136,0,136,1],[137,0,137,1],[138,0,138,1],[139,0,139,1],[130,0,130,1],[131,0,131,1],[132,0,132,1],[133,0,133,1],[134,0,134,1],[145,0,145,1],[146,0,146,1],[147,0,147,1],[148,0,148,1],[149,0,149,1],[140,0,140,1],[141,0,141,4],[142,0,142,1],[143,0,143,1],[144,0,144,1],[160,0,160,4],[155,0,155,1],[156,0,156,1],[157,0,157,1],[158,0,158,4],[159,0,159,6],[150,0,150,1],[151,0,151,1],[152,0,152,1],[153,0,153,1],[154,0,154,1]]}
["FILTROS:","Anx:","Cantidad mínima:","Por Puestos; Pacientes;Servicios; Turnos:","Tipo:","Cumple:","No Cumple:",null,null,"Calif:","Observaciones:",null,"TIPO DE PERSONAL"]
[{"$f":"Menu!$B$4","v":"CENTRO ESPECIALIZADO EN SALUD RENAL"},null,null,null,null,null,null,null,null,null,null,null,null,null,null,null,"ADMINISTRATIVO",null,null,null,null,null,null,null,"ASISTENCIALES",null,null,null,null,null,null,null,null,null,null,null,"ADMINISTRATIVOS",null,null,null,null,null,null,null,"ASISTENCIALES"]
["TALENTO HUMANO",null,null,null,null,null,null,null,null,null,null,{"$f":"ROW(A3)","v":3},null,null,null,null,"REQ",null,"COND+",null,"COND-",null,"DES",null,"REQ",null,"COND+",null,"COND-",null,"DES",null,null,null,null,null,{"$f":"SUM(Q4:Q50)","v":70},{"$f":"SUM(R4:R50)","v":0},{"$f":"SUM(S4:S50)","v":10},{"$f":"SUM(T4:T50)","v":0},10,0,0,0,90,{"$f":"SUM(Z4:Z50)","v":0},60,{"$f":"SUM(AB4:AB50)","v":0},60,0,0,0]
["ADMINISTRATIVO",null,null,null,null,null,null,null,null,null,null,{"$f":"ROW(A4)","v":4},null,null,null,null,null,null,null,null,null,null,null,null,null,null,null,null,null,null,null,null,null,null,null,null,{"$f":"SUM(Q5:Q7)","v":10},{"$f":"SUM(R5:R7)","v":0},{"$f":"SUM(S5:S7)","v":0},0,0,0,0,0,0,0,0,0,0,0,0,0]
["ADMISIÓN Y ESTADISTICA",null,null,null,null,null,null,null,null,null,null,5,null,null,null,null,null,null,null,null,null,null,null,null,null,null,null,null,null,null,null,null,null,null,null,null,{"$f":"SUM(Q6:Q7)","v":10},{"$f":"SUM(R6:R7)","v":0},{"$f":"SUM(S6:S7)","v":0},0,0,0,0,0,0,0,0,0,0,0,0,0]
["Recepción, Admisión e Información",{"$f":"B1","v":"Anx:"},{"$f":"C$1","v":"Cantidad mínima:"},"Por Puestos; Pacientes;Servicios; Turnos:","Tipo:","Cumple:","No Cumple:",null,null,"Calif:","Observaciones:",null,null,null,null,null,null,null,null,null,null,null,null,null,null,null,null,null,null,null,null,null,null,null,null,null,{"$f":"SUM(Q7)","v":10},{"$f":"SUM(R7)","v":0},0,0,0,0,0,0,0,0,0,0,0,0,0,0]
["Analista de Admisiones y Estadísticas",null,1,null,"Requerido",0,0,{"$f":"IF(AND(F7>=C7,F7>0),10,0)","v":0},{"$f":"IF(AND(G7>=C7,G7>0),10,0)","v":0},{"$f":"IF(AND(F7=0,G7=0),0,IF(AND(F7>0,G7>0),10,IF(AND(F7=0,G7>0),-10,IF(AND(F7>0,G7=0),10))))","v":0},null,null,"ADMINISTRATIVO",null,null,null,{"$f":"IF(UPPER(E7)=\"REQUERIDO\", 10, \"\")","v":10},{"$f":"IF(UPPER(E7)=\"REQUERIDO\", J7, \"\")","v":0}]
["ASISTENCIAL",null,null,null,null,null,null,null,null,null,null,{"$f":"ROW(A8)","v":8},null,null,null,null,null,null,null,null,null,null,null,null,null,null,null,null,null,null,null,null,null,null,null,null,{"$f":"SUM(Q9:Q14)","v":0},{"$f":"SUM(R9:R14)","v":0},{"$f":"SUM(S9:S14)","v":0},0,0,0,0,0,30,{"$f":"SUM(Z9:Z14)","v":0},10,0,10,0,0,0]
["CONSULTA EXTERNA",null,null,null,null,null,null,null,null,null,null,{"$f":"ROW(A9)","v":9},null,null,null,null,null,null,null,null,null,null,null,null,null,null,null,null,null,null,null,null,null,null,null,null,{"$f":"SUM(Q10:Q14)","v":0},{"$f":"SUM(R10:R14)","v":0},{"$f":"SUM(S10:S14)","v":0},0,0,0,0,0,30,0,10,0,10,0,0,0]
["Área de Atención de Consulta",{"$f":"B1","v":"Anx:"},{"$f":"C$1","v":"Cantidad mínima:"},"Por Puestos; Pacientes;Servicios; Turnos:","Tipo:","Cumple:","No Cumple:",null,null,"Calif:","Observaciones:",null,null,null,null,null,null,null,null,null,null,null,null,null,null,null,null,null,null,null,null,null,null,null,null,null,{"$f":"SUM(Q11:Q14)","v":0},{"$f":"SUM(R11:R14)","v":0},{"$f":"SUM(S11:S14)","v":0},0,0,0,0,0,30,0,10,0,10,0,0,0]
["Licenciada/o en Enfermería ",null,1,null,"Condición",0,0,{"$f":"IF(AND(F11>=C11,F11>0),10,0)","v":0},{"$f":"IF(AND(G11>=C11,G11>0),10,0)","v":0},{"$f":"IF(AND(F11=0,G11=0),0,IF(AND(F11>0,G11>0),10,IF(AND(F11=0,G11>0),-10,IF(AND(F11>0,G11=0),10))))","v":0},null,null,"ASISTENCIAL",null,null,null,null,null,null,null,null,null,null,null,null,null,{"$f":"IF(UPPER(E11)=\"CONDICIÓN\", 10, \"\")","v":10},{"$f":"IF(UPPER(E11)=\"CONDICIÓN\", H11, \"\")","v":0},{"$f":"IF(UPPER(E11)=\"CONDICIÓN\", 10, \"\")","v":10},{"$f":"IF(UPPER(E11)=\"CONDICIÓN\", I11, \"\")","v":0}]
["Médico Especialista en Nefrología",null,1,null,"Requerido",0,0,0,0,0,null,null,"ASISTENCIAL",null,null,null,null,null,null,null,null,null,null,null,{"$f":"IF(UPPER(E12)=\"REQUERIDO\", 10, \"\")","v":10},{"$f":"IF(UPPER(E12)=\"REQUERIDO\", J12, \"\")","v":0}]
["Psicologo  Clínico   ",null,1,null,"Requerido",0,0,0,0,0,null,null,"ASISTENCIAL",null,null,null,null,null,null,null,null,null,null,null,{"$f":"IF(UPPER(E13)=\"REQUERIDO\", 10, \"\")","v":10},{"$f":"IF(UPPER(E13)=\"REQUERIDO\", J13, \"\")","v":0}]
["Nutricionista",null,1,null,"Requerido",0,0,0,0,0,null,null,"ASISTENCIAL",null,null,null,null,null,null,null,null,null,null,null,{"$f":"IF(UPPER(E14)=\"REQUERIDO\", 10, \"\")","v":10},{"$f":"IF(UPPER(E14)=\"REQUERIDO\", J14, \"\")","v":0}]
["APOYO TERAPEÚTICO",null,null,null,null,null,null,null,null,null,null,{"$f":"ROW(A15)","v":15},null,null,null,null,null,null,null,null,null,null,null,null,null,null,null,null,null,null,null,null,null,null,null,null,{"$f":"SUM(Q16:Q27)","v":0},{"$f":"SUM(R16:R27)","v":0},{"$f":"SUM(S16:S27)","v":0},0,0,0,0,0,{"$f":"SUM(Y16:Y27)","v":30},{"$f":"SUM(Z16:Z27)","v":0},50,0,50,0,0,0]
["ATENCIÓN DE APOYO TERAPÉUTICO",null,null,null,null,null,null,null,null,null,null,{"$f":"ROW(A16)","v":16},null,null,null,null,null,null,null,null,null,null,null,null,null,null,null,null,null,null,null,null,null,null,null,null,{"$f":"SUM(Q17:Q27)","v":0},{"$f":"SUM(R17:R27)","v":0},{"$f":"SUM(S17:S27)","v":0},0,0,0,0,0,30,0,50,0,50,0,0,0]
["Área de Procedimientos",{"$f":"B1","v":"Anx:"},{"$f":"C$1","v":"Cantidad mínima:"},"Por Puestos; Pacientes;Servicios; Turnos:","Tipo:","Cumple:","No Cumple:",null,null,"Calif:","Observaciones:",null,null,null,null,null,null,null,null,null,null,null,null,null,null,null,null,null,null,null,null,null,null,null,null,null,{"$f":"SUM(Q18:Q21)","v":0},{"$f":"SUM(R18:R21)","v":0},{"$f":"SUM(S18:S21)","v":0},0,0,0,0,0,0,0,40,0,40,0,0,0]
["Médico Especialista en Cirugía Vascular",null,1,null,"Condición",0,0,{"$f":"IF(AND(F18>=C18,F18>0),10,0)","v":0},{"$f":"IF(AND(G18>=C18,G18>0),10,0)","v":0},{"$f":"IF(AND(F18=0,G18=0),0,IF(AND(F18>0,G18>0),10,IF(AND(F18=0,G18>0),-10,IF(AND(F18>0,G18=0),10))))","v":0},null,null,"ASISTENCIAL",null,null,null,null,null,null,null,null,null,null,null,null,null,{"$f":"IF(UPPER(E18)=\"CONDICIÓN\", 10, \"\")","v":10},{"$f":"IF(UPPER(E18)=\"CONDICIÓN\", H18, \"\")","v":0},{"$f":"IF(UPPER(E18)=\"CONDICIÓN\", 10, \"\")","v":10},{"$f":"IF(UPPER(E18)=\"CONDICIÓN\", I18, \"\")","v":0}]
["Médico Especialista en Cirugía Digestiva o en Cirugía General con experiencia en colocación de catéteres peritoneales",null,1,null,"Condición",0,0,0,0,0,null,null,"ASISTENCIAL",null,null,null,null,null,null,null,null,null,null,null,null,null,10,0,10,0]
["Licenciada/o en Enfermería con experiencia en instrumentación",null,1,null,"Condición",0,0,0,0,0,null,null,"ASISTENCIAL",null,null,null,null,null,null,null,null,null,null,null,null,null,10,0,10,0]
["Auxiliar o Asistente  de Enfermería",null,1,null,"Condición",0,0,0,0,0,null,null,"ASISTENCIAL",null,null,null,null,null,null,null,null,null,null,null,null,null,10,0,10,0]
["Área de Tratamiento de Hemodiálisis",{"$f":"B1","v":"Anx:"},{"$f":"C$1","v":"Cantidad mínima:"},"Por Puestos; Pacientes;Servicios; Turnos:","Tipo:","Cumple:","No Cumple:",null,null,"Calif:","Observaciones:",null,null,null,null,null,null,null,null,null,null,null,null,null,null,null,null,null,null,null,null,null,null,null,null,null,{"$f":"SUM(Q23:Q25)","v":0},{"$f":"SUM(R23:R25)","v":0},{"$f":"SUM(S23:S25)","v":0},0,0,0,{"$f":"SUM(W23:W25)","v":0},{"$f":"SUM(X23:X25)","v":0},30,0,{"$f":"SUM(AA23:AA25)","v":0},{"$f":"SUM(AB23:AB25)","v":0},0,0,{"$f":"SUM(AE23:AE25)","v":0},{"$f":"SUM(AF23:AF25)","v":0}]
["Médico Tratante especialista en Nefrología o cualquier Médico con experiencia mínima de 2 años en servicios de diálisis y/o emergencia y/o terapia intensiva y/o formación en diálisis certificada por Universidades acreditadas, notarizados)\n (1 profesional por turno)",null,{"$f":"ROUNDUP(D23/1,0)","v":0},0,"Requerido",0,0,{"$f":"IF(AND(F23>=D23,D23>0,F23>=1),10,0)","v":0},{"$f":"IF(AND(G23>=D23,D23>0,G23>=1),10,0)","v":0},0,null,null,"ASISTENCIAL",null,null,null,null,null,null,null,null,null,null,null,{"$f":"IF(UPPER(E23)=\"REQUERIDO\", 10, \"\")","v":10},{"$f":"IF(UPPER(E23)=\"REQUERIDO\", J23, \"\")","v":0}]
["Licenciada/o en Enfermería con experiencia mínima de 1 año en servicios de diálisis y/o emergencia y/o terapia intensiva y/o formación en diálisis certificada por Universidades acreditadas, notarizados)\n (1 profesional por cada 7 puestos)",null,{"$f":"ROUNDUP(D24/7,0)","v":0},0,"Requerido",0,0,{"$f":"IF(AND(F24>=D24,D24>0,F24>=1),10,0)","v":0},{"$f":"IF(AND(G24>=D24,D24>0,G24>=1),10,0)","v":0},0,null,null,"ASISTENCIAL",null,null,null,null,null,null,null,null,null,null,null,{"$f":"IF(UPPER(E24)=\"REQUERIDO\", 10, \"\")","v":10},{"$f":"IF(UPPER(E24)=\"REQUERIDO\", J24, \"\")","v":0}]
["Auxiliar o Asistente  de Enfermería \n(1 por cada 14 puestos) (personal de enfermería con experiencia en diálisis)",null,{"$f":"ROUNDUP(D25/14,0)","v":0},0,"Requerido",0,0,{"$f":"IF(AND(F25>=D25,D25>0,F25>=1),10,0)","v":0},{"$f":"IF(AND(G25>=D25,D25>0,G25>=1),10,0)","v":0},0,null,null,"ASISTENCIAL",null,null,null,null,null,null,null,null,null,null,null,{"$f":"IF(UPPER(E25)=\"REQUERIDO\", 10, \"\")","v":10},{"$f":"IF(UPPER(E25)=\"REQUERIDO\", J25, \"\")","v":0}]
["Área de Diálisis Peritoneal",{"$f":"B1","v":"Anx:"},{"$f":"C$1","v":"Cantidad mínima:"},"Por Puestos; Pacientes;Servicios; Turnos:","Tipo:","Cumple:","No Cumple:",null,null,"Calif:","Observaciones:",null,null,null,null,null,null,null,null,null,null,null,null,null,null,null,null,null,null,null,null,null,null,null,null,null,{"$f":"SUM(Q27)","v":0},{"$f":"SUM(R27)","v":0},{"$f":"SUM(S27)","v":0},0,0,0,0,0,0,0,10,0,10,0,0,0]
["Licenciada/o en Enfermería con experiencia mínima de 1 año en servicios de diálisis y/o emergencia y/o terapia intensiva y/o formación en diálisis certificada por Universidades acreditadas, notarizados) \n(1 profesional por cada 50 pacientes)",null,{"$f":"ROUNDUP(D27/50,0)","v":0},0,"Condición",0,0,{"$f":"IF(AND(F27>=C27,C27>0,F27>=1),10,0)","v":0},{"$f":"IF(AND(G27>=C27,C27>0,G27>=1),10,0)","v":0},0,null,null,"ASISTENCIAL",null,null,null,null,null,null,null,null,null,null,null,null,null,{"$f":"IF(UPPER(E27)=\"CONDICIÓN\", 10, \"\")","v":10},{"$f":"IF(UPPER(E27)=\"CONDICIÓN\", H27, \"\")","v":0},{"$f":"IF(UPPER(E27)=\"CONDICIÓN\", 10, \"\")","v":10},{"$f":"IF(UPPER(E27)=\"CONDICIÓN\", I27, \"\")","v":0}]
["APOYO DIAGNÓSTICO",null,null,null,null,null,null,null,null,null,null,{"$f":"ROW(A28)","v":28},null,null,null,null,null,null,null,null,null,null,null,null,null,null,null,null,null,null,null,null,null,null,null,null,{"$f":"SUM(Q29:Q32)","v":0},{"$f":"SUM(R29:R32)","v":0},{"$f":"SUM(S29:S32)","v":10},{"$f":"SUM(T29:T32)","v":0},10,0,0,0,{"$f":"SUM(Y29:Y32)","v":10},0,0,0,0,0,0,0]
["DIAGNÓSTICO EN LABORATORIO (LABORATORIO DE ANÁLISIS CLÍNICO)",null,null,null,null,null,null,null,null,null,null,{"$f":"ROW(A29)","v":29},null,null,null,null,null,null,null,null,null,null,null,null,null,null,null,null,null,null,null,null,null,null,null,null,{"$f":"SUM(Q30:Q32)","v":0},{"$f":"SUM(R30:R32)","v":0},{"$f":"SUM(S30:S32)","v":10},0,10,0,0,0,10,0,0,0,0,0,0,0]
["Área de Análisis",{"$f":"B1","v":"Anx:"},{"$f":"C$1","v":"Cantidad mínima:"},"Por Puestos; Pacientes;Servicios; Turnos:","Tipo:","Cumple:","No Cumple:",null,null,"Calif:","Observaciones:",null,null,null,null,null,null,null,null,null,null,null,null,null,null,null,null,null,null,null,null,null,null,null,null,null,{"$f":"SUM(Q31:Q32)","v":0},{"$f":"SUM(R31:R32)","v":0},{"$f":"SUM(S31:S32)","v":10},0,10,0,0,0,{"$f":"SUM(Y31:Y32)","v":10},{"$f":"SUM(Z31:Z32)","v":0},0,0,0,0,0,0]
["Tecnólogo /Licenciado en Laboratorio Clínico",null,1,null,"Requerido",0,0,{"$f":"IF(AND(F31>=C31,F31>0),10,0)","v":0},{"$f":"IF(AND(G31>=C31,G31>0),10,0)","v":0},{"$f":"IF(AND(F31=0,G31=0),0,IF(AND(F31>0,G31>0),10,IF(AND(F31=0,G31>0),-10,IF(AND(F31>0,G31=0),10))))","v":0},null,null,"ASISTENCIAL",null,null,null,null,null,null,null,null,null,null,null,{"$f":"IF(UPPER(E31)=\"REQUERIDO\", 10, \"\")","v":10},{"$f":"IF(UPPER(E31)=\"REQUERIDO\", J31, \"\")","v":0}]
["Auxiliar de Laboratorio ",null,1,null,"Condición",0,0,0,{"$f":"IF(AND(G32>=C32,G32>0),10,0)","v":0},0,null,null,"ADMINISTRATIVO",null,null,null,null,null,{"$f":"IF(UPPER(E32)=\"CONDICIÓN\", 10, \"\")","v":10},{"$f":"IF(UPPER(E32)=\"CONDICIÓN\", H32, \"\")","v":0},{"$f":"IF(UPPER(E32)=\"CONDICIÓN\", 10, \"\")","v":10},{"$f":"IF(UPPER(E32)=\"CONDICIÓN\", I32, \"\")","v":0}]
["APOYO TERAPEÚTICO",null,null,null,null,null,null,null,null,null,null,{"$f":"ROW(A33)","v":33},null,null,null,null,null,null,null,null,null,null,null,null,null,null,null,null,null,null,null,null,null,null,null,null,{"$f":"SUM(Q34:Q37)","v":10},{"$f":"SUM(R34:R37)","v":0},{"$f":"SUM(S34:S37)","v":0},0,0,0,0,0,10,0,0,0,0,0,0,0]
["DOTACIÓN DE MEDICAMENTOS Y DISPOSITIVOS MÉDICOS (FARMACIA)",null,null,null,null,null,null,null,null,null,null,{"$f":"ROW(A34)","v":34},null,null,null,null,null,null,null,null,null,null,null,null,null,null,null,null,null,null,null,null,null,null,null,null,{"$f":"SUM(Q35:Q37)","v":10},{"$f":"SUM(R35:R37)","v":0},{"$f":"SUM(S35:S37)","v":0},0,0,0,0,0,10,0,0,0,0,0,0,0]
["Dispensación",{"$f":"B1","v":"Anx:"},{"$f":"C$1","v":"Cantidad mínima:"},"Por Puestos; Pacientes;Servicios; Turnos:","Tipo:","Cumple:","No Cumple:",null,null,"Calif:","Observaciones:",null,null,null,null,null,null,null,null,null,null,null,null,null,null,null,null,null,null,null,null,null,null,null,null,null,{"$f":"SUM(Q36:Q37)","v":10},{"$f":"SUM(R36:R37)","v":0},{"$f":"SUM(S36:S37)","v":0},0,0,0,0,0,10,0,0,0,0,0,0,0]
["Químico / Bioquímico/Farmacéutico",null,1,null,"Requerido",0,0,{"$f":"IF(AND(F36>=C36,F36>0),10,0)","v":0},{"$f":"IF(AND(G36>=C36,G36>0),10,0)","v":0},{"$f":"IF(AND(F36=0,G36=0),0,IF(AND(F36>0,G36>0),10,IF(AND(F36=0,G36>0),-10,IF(AND(F36>0,G36=0),10))))","v":0},null,null,"ADMINISTRATIVO",null,null,null,{"$f":"IF(UPPER(E36)=\"REQUERIDO\", 10, \"\")","v":10},{"$f":"IF(UPPER(E36)=\"REQUERIDO\", J36, \"\")","v":0}]
["Asistente de Farmacia ",null,1,null,"Requerido",0,0,0,{"$f":"IF(AND(G37>=C37,G37>0),10,0)","v":0},0,null,null,"ASISTENCIAL",null,null,null,null,null,null,null,null,null,null,null,{"$f":"IF(UPPER(E37)=\"REQUERIDO\", 10, \"\")","v":10},{"$f":"IF(UPPER(E37)=\"REQUERIDO\", J37, \"\")","v":0}]
["ADMINISTRATIVO",null,null,null,null,null,null,null,null,null,null,{"$f":"ROW(A38)","v":38},null,null,null,null,null,null,null,null,null,null,null,null,null,null,null,null,null,null,null,null,null,null,null,null,{"$f":"SUM(Q39:Q44)","v":30},{"$f":"SUM(R39:R44)","v":0},{"$f":"SUM(S39:S44)","v":0},0,0,0,0,0,10,0,0,0,0,0,0,0]
["ADMINISTRACIÓN TÉCNICA",null,null,null,null,null,null,null,null,null,null,{"$f":"ROW(A39)","v":39},null,null,null,null,null,null,null,null,null,null,null,null,null,null,null,null,null,null,null,null,null,null,null,null,{"$f":"SUM(Q40:Q44)","v":30},{"$f":"SUM(R40:R44)","v":0},{"$f":"SUM(S40:S44)","v":0},0,0,0,0,0,10,0,0,0,0,0,0,0]
["Área Técnica",{"$f":"B1","v":"Anx:"},{"$f":"C$1","v":"Cantidad mínima:"},"Por Puestos; Pacientes;Servicios; Turnos:","Tipo:","Cumple:","No Cumple:",null,null,"Calif:","Observaciones:",null,null,null,null,null,null,null,null,null,null,null,null,null,null,null,null,null,null,null,null,null,null,null,null,null,{"$f":"SUM(Q41:Q44)","v":30},{"$f":"SUM(R41:R44)","v":0},{"$f":"SUM(S41:S44)","v":0},0,0,0,0,0,10,0,0,0,0,0,0,0]
["Director Médico (Médico espcialista en Nefrología)",null,1,null,"Requerido",0,0,{"$f":"IF(AND(F41>=C41,F41>0),10,0)","v":0},{"$f":"IF(AND(G41>=C41,G41>0),10,0)","v":0},{"$f":"IF(AND(F41=0,G41=0),0,IF(AND(F41>0,G41>0),10,IF(AND(F41=0,G41>0),-10,IF(AND(F41>0,G41=0),10))))","v":0},null,null,"ADMINISTRATIVO",null,null,null,{"$f":"IF(UPPER(E41)=\"REQUERIDO\", 10, \"\")","v":10},{"$f":"IF(UPPER(E41)=\"REQUERIDO\", J41, \"\")","v":0}]
["Secretaria",null,1,null,"Requerido",0,0,0,0,{"$f":"IF(AND(F42=0,G42=0),0,IF(AND(F42>0,G42>0),10,IF(AND(F42=0,G42>0),-10,IF(AND(F42>0,G42=0),10))))","v":0},null,null,"ADMINISTRATIVO",null,null,null,10,0]
["Trabajador Social",null,1,null,"Requerido",0,0,0,0,0,null,null,"ASISTENCIAL",null,null,null,null,null,null,null,null,null,null,null,{"$f":"IF(UPPER(E43)=\"REQUERIDO\", 10, \"\")","v":10},{"$f":"IF(UPPER(E43)=\"REQUERIDO\", J43, \"\")","v":0}]
["Jefe de Enfermería\n (Lcda/o en Enfermería con experiencia mínima de 2 años en servicios de diálisis y/o emergencia y/o terapia intensiva y/o formación en diálisis certificada por Universidades acreditadas, notarizados)",null,1,null,"Requerido",0,0,0,0,0,null,null,"ADMINISTRATIVO"," ",null,null,10,0]
["GENERAL",null,null,null,null,null,null,null,null,null,null,{"$f":"ROW(A45)","v":45},null,null,null,null,null,null,null,null,null,null,null,null,null,null,null,null,null,null,null,null,null,null,null,null,{"$f":"SUM(Q46:Q50)","v":20},{"$f":"SUM(R46:R50)","v":0},{"$f":"SUM(S46:S50)","v":0},0,0,0,0,0,0,0,0,0,0,0,0,0]
["SERVICIOS INTERNOS DE APOYO",null,null,null,null,null,null,null,null,null,null,{"$f":"ROW(A46)","v":46},null,null,null,null,null,null,null,null,null,null,null,null,null,null,null,null,null,null,null,null,null,null,null,null,{"$f":"SUM(Q47:Q50)","v":20},{"$f":"SUM(R47:R50)","v":0},{"$f":"SUM(S47:S50)","v":0},0,0,0,0,0,0,0,0,0,0,0,0,0]
["Área de Apoyo y  almacenamiento ( suministros e insumos) para el establecimiento",{"$f":"B1","v":"Anx:"},{"$f":"C$1","v":"Cantidad mínima:"},"Por Puestos; Pacientes;Servicios; Turnos:","Tipo:","Cumple:","No Cumple:",null,null,"Calif:","Observaciones:",null,null,null,null,null,null,null,null,null,null,null,null,null,null,null,null,null,null,null,null,null,null,null,null,null,{"$f":"SUM(Q48:Q48)","v":10},{"$f":"SUM(R48:R48)","v":0},{"$f":"SUM(S48:S48)","v":0},0,0,0,0,0,0,0,0,0,0,0,0,0]
["Auxiliar de Servicios",null,1,null,"Requerido",0,0,{"$f":"IF(AND(F48>=C48,F48>0),10,0)","v":0},{"$f":"IF(AND(G48>=C48,G48>0),10,0)","v":0},{"$f":"IF(AND(F48=0,G48=0),0,IF(AND(F48>0,G48>0),10,IF(AND(F48=0,G48>0),-10,IF(AND(F48>0,G48=0),10))))","v":0},null,null,"ADMINISTRATIVO",null,null,null,{"$f":"IF(UPPER(E48)=\"REQUERIDO\", 10, \"\")","v":10},{"$f":"IF(UPPER(E48)=\"REQUERIDO\", J48, \"\")","v":0}]
["Limpieza",{"$f":"B1","v":"Anx:"},{"$f":"C$1","v":"Cantidad mínima:"},"Por Puestos; Pacientes;Servicios; Turnos:","Tipo:","Cumple:","No Cumple:",null,null,"Calif:","Observaciones:",null,null,null,null,null,null,null,null,null,null,null,null,null,null,null,null,null,null,null,null,null,null,null,null,null,{"$f":"SUM(Q50:Q50)","v":10},{"$f":"SUM(R50:R50)","v":0},{"$f":"SUM(S50:S50)","v":0},0,0,0,0,0,0,0,0,0,0,0,0,0]
["Auxiliar de Servicios",null,1,null,"Requerido",0,0,{"$f":"IF(AND(F50>=C50,F50>0),10,0)","v":0},{"$f":"IF(AND(G50>=C50,G50>0),10,0)","v":0},{"$f":"IF(AND(F50=0,G50=0),0,IF(AND(F50>0,G50>0),10,IF(AND(F50=0,G50>0),-10,IF(AND(F50>0,G50=0),10))))","v":0},null,null,"ADMINISTRATIVO",null,null,null,{"$f":"IF(UPPER(E50)=\"REQUERIDO\", 10, \"\")","v":10},{"$f":"IF(UPPER(E50)=\"REQUERIDO\", J50, \"\")","v":0},null,null,null,null,null,null,null,null,null,null,null,null,null,null,null,null,null,null,"REQ",null,"COND",null,"COND -",null,"DES",null,"REQ ",null,"COND",null,"COND-",null,"DES"]
["TOTALES PARCIALES:",null,null,null,null,null,null,null,null,null,null,null,null,null,null,null,null,null,null,null,null,null,null,null,null,null,"TOTAL GENERAL:",null,null,null,null,null,null,null,null,null,{"$f":"(+TalentoHumano!AK3)","v":70},{"$f":"(+TalentoHumano!AL3)","v":0},{"$f":"(+TalentoHumano!AM3)","v":10},{"$f":"(+TalentoHumano!AN3)","v":0},{"$f":"(+TalentoHumano!AO3)","v":10},{"$f":"(+TalentoHumano!AP3)","v":0},{"$f":"(+TalentoHumano!AQ3)","v":0},{"$f":"(+TalentoHumano!AR3)","v":0},{"$f":"(+TalentoHumano!AS3)","v":90},{"$f":"(+TalentoHumano!AT3)","v":0},{"$f":"(+TalentoHumano!AU3)","v":60},{"$f":"(+TalentoHumano!AV3)","v":0},{"$f":"(+TalentoHumano!AW3)","v":60},{"$f":"(+TalentoHumano!AX3)","v":0},{"$f":"(+TalentoHumano!AY3)","v":0},{"$f":"(+TalentoHumano!AZ3)","v":0}]
["ADMINISTRATIVOS:",null,"% Obtenido:","% Obtenido:","% Obtenido:","% A Cumplir:","% Final:",null,null,null,null,null,null,null,null,null,null,null,null,null,null,null,null,null,null,3,"TALENTO HUMANO",null,null,null,null,null,null,null,null,null,{"$f":"AK3*100/AK51","v":100},{"$f":"AL3*100/AK51","v":0},{"$f":"AM3*100/AM51","v":100},{"$f":"AN3*100/AM51","v":0},{"$f":"AO3*100/AO51","v":100},{"$f":"AP3*100/AO51","v":0},{"$f":"AQ3*100/AQ51","v":{"$error":"#DIV/0!"}},{"$f":"AR3*100/AQ51","v":{"$error":"#DIV/0!"}},{"$f":"AS3*100/AS51","v":100},{"$f":"AT3*100/AS51","v":0},{"$f":"AU3*100/AU51","v":100},{"$f":"AV3*100/AU51","v":0},{"$f":"AW3*100/AW51","v":100},{"$f":"AX3*100/AW51","v":0},{"$f":"AY3*100/AY51","v":{"$error":"#DIV/0!"}},{"$f":"AZ3*100/AY51","v":{"$error":"#DIV/0!"}}]
[{"$f":"AA52","v":"TALENTO HUMANO"},null,{"$f":"TalentoHumano!$AL$52*30/100/100","v":0},null,null,{"$f":"TalentoHumano!$AK$52*30/100/100","v":0.3},{"$f":"IF(TalentoHumano!$C$53=TalentoHumano!$F$53, \"CUMPLE\", \"NO CUMPLE\")","v":"NO CUMPLE"},null,null,null,null,null,null,null,null,null,null,null,null,null,null,null,null,null,null,4,"ADMINISTRATIVO",null,null,null,null,null,null,null,null,null,{"$f":"AK4*100/AK51","v":14.285714285714286},{"$f":"AL4*100/AK51","v":0},{"$f":"AM4*100/AM51","v":0},{"$f":"AN4*100/AM51","v":0},{"$f":"AO4*100/AO51","v":0},{"$f":"AP4*100/AO51","v":0},{"$f":"AQ4*100/AQ51","v":{"$error":"#DIV/0!"}},{"$f":"AR4*100/AQ51","v":{"$error":"#DIV/0!"}},{"$f":"AS4*100/AS51","v":0},{"$f":"AT4*100/AS51","v":0},{"$f":"AU4*100/AU51","v":0},{"$f":"AV4*100/AU51","v":0},{"$f":"AW4*100/AW51","v":0},{"$f":"AX4*100/AW51","v":0},{"$f":"AY4*100/AY51","v":{"$error":"#DIV/0!"}},{"$f":"AZ4*100/AY51","v":{"$error":"#DIV/0!"}}]
["ADMINISTRATIVO",null,null,{"$f":"TalentoHumano!$AL$53*30/100/100","v":0},null,{"$f":"TalentoHumano!$AK$53*30/100/100","v":4.2857142857142864E-2},{"$f":"IF(D54=F54, \"CUMPLE\", \"NO CUMPLE\")","v":"NO CUMPLE"},null,null,null,null,null,null,null,null,null,null,null,null,null,null,null,null,null,null,5,"ADMISIÓN Y ESTADISTICA",null,null,null,null,null,null,null,null,null,{"$f":"AK5*100/AK51","v":14.285714285714286},{"$f":"AL5*100/AK51","v":0},{"$f":"AM5*100/AM51","v":0},{"$f":"AN5*100/AM51","v":0},{"$f":"AO5*100/AO51","v":0},{"$f":"AP5*100/AO51","v":0},{"$f":"AQ5*100/AQ51","v":{"$error":"#DIV/0!"}},{"$f":"AR5*100/AQ51","v":{"$error":"#DIV/0!"}},{"$f":"AS5*100/AS51","v":0},{"$f":"AT5*100/AS51","v":0},{"$f":"AU5*100/AU51","v":0},{"$f":"AV5*100/AU51","v":0},{"$f":"AW5*100/AW51","v":0},{"$f":"AX5*100/AW51","v":0},{"$f":"AY5*100/AY51","v":{"$error":"#DIV/0!"}},{"$f":"AZ5*100/AY51","v":{"$error":"#DIV/0!"}}]
["ADMISIÓN Y ESTADISTICA",null,null,null,{"$f":"TalentoHumano!$AL$54*30/100/100","v":0},{"$f":"TalentoHumano!$AK$54*30/100/100","v":4.2857142857142864E-2},{"$f":"IF(E55=F55, \"CUMPLE\", \"NO CUMPLE\")","v":"NO CUMPLE"},null,null,null,null,null,null,null,null,null,null,null,null,null,null,null,null,null,null,8,"ASISTENCIAL",null,null,null,null,null,null,null,null,null,{"$f":"AK8*100/AK51","v":0},{"$f":"AL8*100/AK51","v":0},{"$f":"AM8*100/AM51","v":0},{"$f":"AN8*100/AM51","v":0},{"$f":"AO8*100/AO51","v":0},{"$f":"AP8*100/AO51","v":0},{"$f":"AQ8*100/AQ51","v":{"$error":"#DIV/0!"}},{"$f":"AR8*100/AQ51","v":{"$error":"#DIV/0!"}},{"$f":"AS8*100/AS51","v":33.333333333333336},{"$f":"AT8*100/AS51","v":0},{"$f":"AU8*100/AU51","v":16.666666666666668},{"$f":"AV8*100/AU51","v":0},{"$f":"AW8*100/AW51","v":16.666666666666668},{"$f":"AX8*100/AW51","v":0},{"$f":"AY8*100/AY51","v":{"$error":"#DIV/0!"}},{"$f":"AZ8*100/AY51","v":{"$error":"#DIV/0!"}}]
["ASISTENCIAL",null,null,{"$f":"TalentoHumano!$AL$55*30/100/100","v":0},null,{"$f":"TalentoHumano!$AK$55*30/100/100","v":0},{"$f":"IF(D56=F56, \"CUMPLE\", \"NO CUMPLE\")","v":"CUMPLE"},null,null,null,null,null,null,null,null,null,null,null,null,null,null,null,null,null,null,9,"CONSULTA EXTERNA",null,null,null,null,null,null,null,null,null,{"$f":"AK9*100/AK51","v":0},{"$f":"AL9*100/AK51","v":0},{"$f":"AM9*100/AM51","v":0},{"$f":"AN9*100/AM51","v":0},{"$f":"AO9*100/AO51","v":0},{"$f":"AP9*100/AO51","v":0},{"$f":"AQ9*100/AQ51","v":{"$error":"#DIV/0!"}},{"$f":"AR9*100/AQ51","v":{"$error":"#DIV/0!"}},{"$f":"AS9*100/AS51","v":33.333333333333336},{"$f":"AT9*100/AS51","v":0},{"$f":"AU9*100/AU51","v":16.666666666666668},{"$f":"AV9*100/AU51","v":0},{"$f":"AW9*100/AW51","v":16.666666666666668},{"$f":"AX9*100/AW51","v":0},{"$f":"AY9*100/AY51","v":{"$error":"#DIV/0!"}},{"$f":"AZ9*100/AY51","v":{"$error":"#DIV/0!"}}]
["CONSULTA EXTERNA",null,null,null,{"$f":"TalentoHumano!$AL$56*30/100/100","v":0},{"$f":"TalentoHumano!$AK$56*30/100/100","v":0},{"$f":"IF(E57=F57, \"CUMPLE\", \"NO CUMPLE\")","v":"CUMPLE"},null,null,null,null,null,null,null,null,null,null,null,null,null,null,null,null,null,null,15,"APOYO TERAPEUTICO",null,null,null,null,null,null,null,null,null,{"$f":"AK15*100/AK51","v":0},{"$f":"AL15*100/AK51","v":0},{"$f":"AM15*100/AM51","v":0},{"$f":"AN15*100/AM51","v":0},{"$f":"AO15*100/AO51","v":0},{"$f":"AP15*100/AO51","v":0},{"$f":"AQ15*100/AQ51","v":{"$error":"#DIV/0!"}},{"$f":"AR15*100/AQ51","v":{"$error":"#DIV/0!"}},{"$f":"AS15*100/AS51","v":33.333333333333336},{"$f":"AT15*100/AS51","v":0},{"$f":"AU15*100/AU51","v":83.333333333333329},{"$f":"AV15*100/AU51","v":0},{"$f":"AW15*100/AW51","v":83.333333333333329},{"$f":"AX15*100/AW51","v":0},{"$f":"AY15*100/AY51","v":{"$error":"#DIV/0!"}},{"$f":"AZ15*100/AY51","v":{"$error":"#DIV/0!"}}]
["APOYO TERAPEUTICO",null,null,{"$f":"TalentoHumano!$AL$57*30/100/100","v":0},null,{"$f":"TalentoHumano!$AK$57*30/100/100","v":0},{"$f":"IF(D58=F58, \"CUMPLE\", \"NO CUMPLE\")","v":"CUMPLE"},null,null,null,null,null,null,null,null,null,null,null,null,null,null,null,null,null,null,16,"ATENCIÓN DE APOYO TERAPÉUTICO",null,null,null,null,null,null,null,null,null,{"$f":"AK16*100/AK51","v":0},{"$f":"AL16*100/AK51","v":0},{"$f":"AM16*100/AM51","v":0},{"$f":"AN16*100/AM51","v":0},{"$f":"AO16*100/AO51","v":0},{"$f":"AP16*100/AO51","v":0},{"$f":"AQ16*100/AQ51","v":{"$error":"#DIV/0!"}},{"$f":"AR16*100/AQ51","v":{"$error":"#DIV/0!"}},{"$f":"AS16*100/AS51","v":33.333333333333336},{"$f":"AT16*100/AS51","v":0},{"$f":"AU16*100/AU51","v":83.333333333333329},{"$f":"AV16*100/AU51","v":0},{"$f":"AW16*100/AW51","v":83.333333333333329},{"$f":"AX16*100/AW51","v":0},{"$f":"AY16*100/AY51","v":{"$error":"#DIV/0!"}},{"$f":"AZ16*100/AY51","v":{"$error":"#DIV/0!"}}]
["ATENCIÓN DE APOYO TERAPÉUTICO",null,null,null,{"$f":"TalentoHumano!$AL$58*30/100/100","v":0},{"$f":"TalentoHumano!$AK$58*30/100/100","v":0},{"$f":"IF(E59=F59, \"CUMPLE\", \"NO CUMPLE\")","v":"CUMPLE"},null,null,null,null,null,null,null,null,null,null,null,null,null,null,null,null,null,null,28,"APOYO DIAGNÓSTICO",null,null,null,null,null,null,null,null,null,{"$f":"AK28*100/AK51","v":0},{"$f":"AL28*100/AK51","v":0},{"$f":"AM28*100/AM51","v":100},{"$f":"AN28*100/AM51","v":0},{"$f":"AO28*100/AO51","v":100},{"$f":"AP28*100/AO51","v":0},{"$f":"AQ28*100/AQ51","v":{"$error":"#DIV/0!"}},{"$f":"AR28*100/AQ51","v":{"$error":"#DIV/0!"}},{"$f":"AS28*100/AS51","v":11.111111111111111},{"$f":"AT28*100/AS51","v":0},{"$f":"AU28*100/AU51","v":0},{"$f":"AV28*100/AU51","v":0},{"$f":"AW28*100/AW51","v":0},{"$f":"AX28*100/AW51","v":0},{"$f":"AY28*100/AY51","v":{"$error":"#DIV/0!"}},{"$f":"AZ28*100/AY51","v":{"$error":"#DIV/0!"}}]
["APOYO DIAGNÓSTICO",null,null,{"$f":"TalentoHumano!$AL$59*30/100/100","v":0},null,{"$f":"TalentoHumano!$AK$59*30/100/100","v":0},{"$f":"IF(D60=F60, \"CUMPLE\", \"NO CUMPLE\")","v":"CUMPLE"},null,null,null,null,null,null,null,null,null,null,null,null,null,null,null,null,null,null,29,"DIAGNÓSTICO EN LABORATORIO (LABORATORIO DE ANÁLISIS CLÍNICO)",null,null,null,null,null,null,null,null,null,{"$f":"AK29*100/AK51","v":0},{"$f":"AL29*100/AK51","v":0},{"$f":"AM29*100/AM51","v":100},{"$f":"AN29*100/AM51","v":0},{"$f":"AO29*100/AO51","v":100},{"$f":"AP29*100/AO51","v":0},{"$f":"AQ29*100/AQ51","v":{"$error":"#DIV/0!"}},{"$f":"AR29*100/AQ51","v":{"$error":"#DIV/0!"}},{"$f":"AS29*100/AS51","v":11.111111111111111},{"$f":"AT29*100/AS51","v":0},{"$f":"AU29*100/AU51","v":0},{"$f":"AV29*100/AU51","v":0},{"$f":"AW29*100/AW51","v":0},{"$f":"AX29*100/AW51","v":0},{"$f":"AY29*100/AY51","v":{"$error":"#DIV/0!"}},{"$f":"AZ29*100/AY51","v":{"$error":"#DIV/0!"}}]
["DIAGNÓSTICO EN LABORATORIO (LABORATORIO DE ANÁLISIS CLÍNICO)",null,null,null,{"$f":"TalentoHumano!$AL$60*30/100/100","v":0},{"$f":"TalentoHumano!$AK$60*30/100/100","v":0},{"$f":"IF(E61=F61, \"CUMPLE\", \"NO CUMPLE\")","v":"CUMPLE"},null,null,null,null,null,null,null,null,null,null,null,null,null,null,null,null,null,null,33,"APOYO TERAPÉUTICO",null,null,null,null,null,null,null,null,null,{"$f":"AK33*100/AK51","v":14.285714285714286},{"$f":"AL33*100/AK51","v":0},{"$f":"AM33*100/AM51","v":0},{"$f":"AN33*100/AM51","v":0},{"$f":"AO33*100/AO51","v":0},{"$f":"AP33*100/AO51","v":0},{"$f":"AQ33*100/AQ51","v":{"$error":"#DIV/0!"}},{"$f":"AR33*100/AQ51","v":{"$error":"#DIV/0!"}},{"$f":"AS33*100/AS51","v":11.111111111111111},{"$f":"AT33*100/AS51","v":0},{"$f":"AU33*100/AU51","v":0},{"$f":"AV33*100/AU51","v":0},{"$f":"AW33*100/AW51","v":0},{"$f":"AX33*100/AW51","v":0},{"$f":"AY33*100/AY51","v":{"$error":"#DIV/0!"}},{"$f":"AZ33*100/AY51","v":{"$error":"#DIV/0!"}}]
["APOYO TERAPÉUTICO",null,null,{"$f":"TalentoHumano!$AL$61*30/100/100","v":0},null,{"$f":"TalentoHumano!$AK$61*30/100/100","v":4.2857142857142864E-2},{"$f":"IF(D62=F62, \"CUMPLE\", \"NO CUMPLE\")","v":"NO CUMPLE"},null,null,null,null,null,null,null,null,null,null,null,null,null,null,null,null,null,null,34,"DOTACIÓN DE MEDICAMENTOS Y DISPOSITIVOS MÉDICOS (FARMACIA)",null,null,null,null,null,null,null,null,null,{"$f":"AK34*100/AK51","v":14.285714285714286},{"$f":"AL34*100/AK51","v":0},{"$f":"AM34*100/AM51","v":0},{"$f":"AN34*100/AM51","v":0},{"$f":"AO34*100/AO51","v":0},{"$f":"AP34*100/AO51","v":0},{"$f":"AQ34*100/AQ51","v":{"$error":"#DIV/0!"}},{"$f":"AR34*100/AQ51","v":{"$error":"#DIV/0!"}},{"$f":"AS34*100/AS51","v":11.111111111111111},{"$f":"AT34*100/AS51","v":0},{"$f":"AU34*100/AU51","v":0},{"$f":"AV34*100/AU51","v":0},{"$f":"AW34*100/AW51","v":0},{"$f":"AX34*100/AW51","v":0},{"$f":"AY34*100/AY51","v":{"$error":"#DIV/0!"}},{"$f":"AZ34*100/AY51","v":{"$error":"#DIV/0!"}}]
["DOTACIÓN DE MEDICAMENTOS Y DISPOSITIVOS MÉDICOS (FARMACIA)",null,null,null,{"$f":"TalentoHumano!$AL$62*30/100/100","v":0},{"$f":"TalentoHumano!$AK$62*30/100/100","v":4.2857142857142864E-2},{"$f":"IF(E63=F63, \"CUMPLE\", \"NO CUMPLE\")","v":"NO CUMPLE"},null,null,null,null,null,null,null,null,null,null,null,null,null,null,null,null,null,null,38,"ADMINISTRATIVO",null,null,null,null,null,null,null,null,null,{"$f":"AK38*100/AK51","v":42.857142857142854},{"$f":"AL38*100/AK51","v":0},{"$f":"AM38*100/AM51","v":0},{"$f":"AN38*100/AM51","v":0},{"$f":"AO38*100/AO51","v":0},{"$f":"AP38*100/AO51","v":0},{"$f":"AQ38*100/AQ51","v":{"$error":"#DIV/0!"}},{"$f":"AR38*100/AQ51","v":{"$error":"#DIV/0!"}},{"$f":"AS38*100/AS51","v":11.111111111111111},{"$f":"AT38*100/AS51","v":0},{"$f":"AU38*100/AU51","v":0},{"$f":"AV38*100/AU51","v":0},{"$f":"AW38*100/AW51","v":0},{"$f":"AX38*100/AW51","v":0},{"$f":"AY38*100/AY51","v":{"$error":"#DIV/0!"}},{"$f":"AZ38*100/AY51","v":{"$error":"#DIV/0!"}}]
["ADMINISTRATIVO",null,null,{"$f":"TalentoHumano!$AL$63*30/100/100","v":0},null,{"$f":"TalentoHumano!$AK$63*30/100/100","v":0.12857142857142856},{"$f":"IF(D64=F64, \"CUMPLE\", \"NO CUMPLE\")","v":"NO CUMPLE"},null,null,null,null,null,null,null,null,null,null,null,null,null,null,null,null,null,null,39,"ADMINISTRACIÓN TÉCNICA",null,null,null,null,null,null,null,null,null,{"$f":"AK39*100/AK51","v":42.857142857142854},{"$f":"AL39*100/AK51","v":0},{"$f":"AM39*100/AM51","v":0},{"$f":"AN39*100/AM51","v":0},{"$f":"AO39*100/AO51","v":0},{"$f":"AP39*100/AO51","v":0},{"$f":"AQ39*100/AQ51","v":{"$error":"#DIV/0!"}},{"$f":"AR39*100/AQ51","v":{"$error":"#DIV/0!"}},{"$f":"AS39*100/AS51","v":11.111111111111111},{"$f":"AT39*100/AS51","v":0},{"$f":"AU39*100/AU51","v":0},{"$f":"AV39*100/AU51","v":0},{"$f":"AW39*100/AW51","v":0},{"$f":"AX39*100/AW51","v":0},{"$f":"AY39*100/AY51","v":{"$error":"#DIV/0!"}},{"$f":"AZ39*100/AY51","v":{"$error":"#DIV/0!"}}]
["ADMINISTRACIÓN TÉCNICA",null,null,null,{"$f":"TalentoHumano!$AL$64*30/100/100","v":0},{"$f":"TalentoHumano!$AK$64*30/100/100","v":0.12857142857142856},{"$f":"IF(E65=F65, \"CUMPLE\", \"NO CUMPLE\")","v":"NO CUMPLE"},null,null,null,null,null,null,null,null,null,null,null,null,null,null,null,null,null,null,45,"GENERAL",null,null,null,null,null,null,null,null,null,{"$f":"AK45*100/AK51","v":28.571428571428573},{"$f":"AL45*100/AK51","v":0},{"$f":"AM45*100/AM51","v":0},{"$f":"AN40*100/AM51","v":0},{"$f":"AO45*100/AO51","v":0},{"$f":"AP45*100/AO51","v":0},{"$f":"AQ45*100/AQ51","v":{"$error":"#DIV/0!"}},{"$f":"AR45*100/AQ51","v":{"$error":"#DIV/0!"}},{"$f":"AS45*100/AS51","v":0},{"$f":"AT45*100/AS51","v":0},{"$f":"AU45*100/AU51","v":0},{"$f":"AV45*100/AU51","v":0},{"$f":"AW45*100/AW51","v":0},{"$f":"AX45*100/AW51","v":0},{"$f":"AY45*100/AY51","v":{"$error":"#DIV/0!"}},{"$f":"AZ40*100/AY51","v":{"$error":"#DIV/0!"}}]
["GENERAL",null,null,{"$f":"TalentoHumano!$AL$65*30/100/100","v":0},null,{"$f":"TalentoHumano!$AK$65*30/100/100","v":8.5714285714285729E-2},{"$f":"IF(D66=F66, \"CUMPLE\", \"NO CUMPLE\")","v":"NO CUMPLE"},null,null,null,null,null,null,null,null,null,null,null,null,null,null,null,null,null,null,46,"SERVICIOS INTERNOS DE APOYO",null,null,null,null,null,null,null,null,null,{"$f":"AK46*100/AK51","v":28.571428571428573},{"$f":"AL46*100/AK51","v":0},{"$f":"AM46*100/AM51","v":0},{"$f":"AN46*100/AM51","v":0},{"$f":"AO46*100/AO52","v":0},{"$f":"AP46*100/AO51","v":0},{"$f":"AQ46*100/AQ51","v":{"$error":"#DIV/0!"}},{"$f":"AR46*100/AQ51","v":{"$error":"#DIV/0!"}},{"$f":"AS46*100/AS52","v":0},{"$f":"AT46*100/AS51","v":0},{"$f":"AU46*100/AU51","v":0},{"$f":"AV46*100/AU51","v":0},{"$f":"AW46*100/AW52","v":0},{"$f":"AX46*100/AW51","v":0},{"$f":"AY46*100/AY51","v":{"$error":"#DIV/0!"}},{"$f":"AZ46*100/AY51","v":{"$error":"#DIV/0!"}}]
[{"$f":"AA66","v":"SERVICIOS INTERNOS DE APOYO"},null,null,null,{"$f":"TalentoHumano!$AL$66*30/100/100","v":0},{"$f":"TalentoHumano!$AK$66*30/100/100","v":8.5714285714285729E-2},{"$f":"IF(E67=F67, \"CUMPLE\", \"NO CUMPLE\")","v":"NO CUMPLE"}]
["TOTAL ADMINISTRATIVOS:",null,null,null,null,0.30000001192092801,{"$f":"C53","v":0}]
["ASISTENCIALES:",null,"% Obtenido:","% Obtenido:","% Obtenido:","% A Cumplir:","% Final:"]
["TALENTO HUMANO",null,{"$f":"TalentoHumano!$AT$52*70/100/100","v":0},null,null,{"$f":"TalentoHumano!AS52*70/100/100","v":0.7},{"$f":"IF(TalentoHumano!$C$70=TalentoHumano!$F$70, \"CUMPLE\", \"NO CUMPLE\")","v":"NO CUMPLE"}]
["ADMINISTRATIVO",null,null,{"$f":"TalentoHumano!$AT$53*70/100/100","v":0},null,{"$f":"TalentoHumano!AS53*70/100/100","v":0},{"$f":"IF(D71=F71, \"CUMPLE\", \"NO CUMPLE\")","v":"CUMPLE"}]
["ADMISIÓN Y ESTADISTICA",null,null,null,{"$f":"TalentoHumano!$AT$54*70/100/100","v":0},{"$f":"TalentoHumano!AS54*70/100/100","v":0},{"$f":"IF(E72=F72, \"CUMPLE\", \"NO CUMPLE\")","v":"CUMPLE"}]
["ASISTENCIAL",null,null,{"$f":"TalentoHumano!$AT$55*70/100/100","v":0},null,{"$f":"TalentoHumano!AS55*70/100/100","v":0.23333333333333336},{"$f":"IF(D73=F73, \"CUMPLE\", \"NO CUMPLE\")","v":"NO CUMPLE"}]
["CONSULTA EXTERNA",null,null,null,{"$f":"TalentoHumano!$AT$56*70/100/100","v":0},{"$f":"TalentoHumano!AS56*70/100/100","v":0.23333333333333336},{"$f":"IF(E74=F74, \"CUMPLE\", \"NO CUMPLE\")","v":"NO CUMPLE"}]
["APOYO TERAPEUTICO",null,null,{"$f":"TalentoHumano!$AT$57*70/100/100","v":0},null,{"$f":"TalentoHumano!AS57*70/100/100","v":0.23333333333333336},{"$f":"IF(D75=F75, \"CUMPLE\", \"NO CUMPLE\")","v":"NO CUMPLE"}]
["ATENCIÓN DE APOYO TERAPÉUTICO",null,null,null,{"$f":"TalentoHumano!$AT$58*70/100/100","v":0},{"$f":"TalentoHumano!AS58*70/100/100","v":0.23333333333333336},{"$f":"IF(E76=F76, \"CUMPLE\", \"NO CUMPLE\")","v":"NO CUMPLE"}]
["APOYO DIAGNÓSTICO",null,null,{"$f":"TalentoHumano!$AT$59*70/100/100","v":0},null,{"$f":"TalentoHumano!AS59*70/100/100","v":7.7777777777777765E-2},{"$f":"IF(D77=F77, \"CUMPLE\", \"NO CUMPLE\")","v":"NO CUMPLE"}]
["DIAGNÓSTICO EN LABORATORIO (LABORATORIO DE ANÁLISIS CLÍNICO)",null,null,null,{"$f":"TalentoHumano!$AT$60*70/100/100","v":0},{"$f":"TalentoHumano!AS60*70/100/100","v":7.7777777777777765E-2},{"$f":"IF(E78=F78, \"CUMPLE\", \"NO CUMPLE\")","v":"NO CUMPLE"}]
["APOYO TERAPÉUTICO",null,null,{"$f":"TalentoHumano!$AT$61*70/100/100","v":0},null,{"$f":"TalentoHumano!AS61*70/100/100","v":7.7777777777777765E-2},{"$f":"IF(D79=F79, \"CUMPLE\", \"NO CUMPLE\")","v":"NO CUMPLE"}]
["DOTACIÓN DE MEDICAMENTOS Y DISPOSITIVOS MÉDICOS (FARMACIA)",null,null,null,{"$f":"TalentoHumano!$AT$62*70/100/100","v":0},{"$f":"TalentoHumano!AS62*70/100/100","v":7.7777777777777765E-2},{"$f":"IF(E80=F80, \"CUMPLE\", \"NO CUMPLE\")","v":"NO CUMPLE"}]
["ADMINISTRATIVO",null,null,{"$f":"TalentoHumano!$AT$63*70/100/100","v":0},null,{"$f":"TalentoHumano!AS63*70/100/100","v":7.7777777777777765E-2},{"$f":"IF(D81=F81, \"CUMPLE\", \"NO CUMPLE\")","v":"NO CUMPLE"}]
["ADMINISTRACIÓN TÉCNICA",null,null,null,{"$f":"TalentoHumano!$AT$64*70/100/100","v":0},{"$f":"TalentoHumano!AS64*70/100/100","v":7.7777777777777765E-2},{"$f":"IF(E82=F82, \"CUMPLE\", \"NO CUMPLE\")","v":"NO CUMPLE"}]
["GENERAL",null,null,{"$f":"TalentoHumano!$AT$65*70/100/100","v":0},null,{"$f":"TalentoHumano!AS65*70/100/100","v":0},{"$f":"IF(D83=F83, \"CUMPLE\", \"NO CUMPLE\")","v":"CUMPLE"}]
["SERVICIOS INTERNOS DE APOYO",null,null,null,{"$f":"TalentoHumano!$AT$66*70/100/100","v":0},{"$f":"TalentoHumano!AS66*70/100/100","v":0},{"$f":"IF(E84=F84, \"CUMPLE\", \"NO CUMPLE\")","v":"CUMPLE"}]
["TOTAL ASISTENCIALES:",null,null,null,null,0.69999998807907104,{"$f":"C70","v":0}]
["TOTALES ITEMS REQUERIDOS:"]
["TOTAL ITEMS REQUERIDOS:",null,null,null,null,0.35,{"$f":"(G68+G85)*0.35","v":0}]
["TOTALES CONDICIONADOS +:"]
["ADMINISTRATIVOS:",null,"% Obtenido:","% Obtenido:","% Obtenido:","% A Cumplir:","% Final:"]
["TALENTO HUMANO",null,{"$f":"TalentoHumano!$AN$52*30/100/100","v":0},null,null,{"$f":"TalentoHumano!AM52*30/100/100","v":0.3},{"$f":"IF(TalentoHumano!$C$53=TalentoHumano!$F$53, \"CUMPLE\", \"NO CUMPLE\")","v":"NO CUMPLE"}]
["ADMINISTRATIVO",null,null,{"$f":"TalentoHumano!$AN$53*30/100/100","v":0},null,{"$f":"TalentoHumano!AM53*30/100/100","v":0},{"$f":"IF(D91=F91, \"CUMPLE\", \"NO CUMPLE\")","v":"CUMPLE"}]
["ADMISIÓN Y ESTADISTICA",null,null,null,{"$f":"TalentoHumano!$AN$54*30/100/100","v":0},{"$f":"TalentoHumano!AM54*30/100/100","v":0},{"$f":"IF(E92=F92, \"CUMPLE\", \"NO CUMPLE\")","v":"CUMPLE"}]
["ASISTENCIAL",null,null,{"$f":"TalentoHumano!$AN$55*30/100/100","v":0},null,{"$f":"TalentoHumano!AM55*30/100/100","v":0},{"$f":"IF(D93=F93, \"CUMPLE\", \"NO CUMPLE\")","v":"CUMPLE"}]
["CONSULTA EXTERNA",null,null,null,{"$f":"TalentoHumano!$AN$56*30/100/100","v":0},{"$f":"TalentoHumano!AM56*30/100/100","v":0},{"$f":"IF(E94=F94, \"CUMPLE\", \"NO CUMPLE\")","v":"CUMPLE"}]
["APOYO TERAPEUTICO",null,null,{"$f":"TalentoHumano!$AN$57*30/100/100","v":0},null,{"$f":"TalentoHumano!AM57*30/100/100","v":0},{"$f":"IF(D95=F95, \"CUMPLE\", \"NO CUMPLE\")","v":"CUMPLE"}]
["ATENCIÓN DE APOYO TERAPÉUTICO",null,null,null,{"$f":"TalentoHumano!$AN$58*30/100/100","v":0},{"$f":"TalentoHumano!AM58*30/100/100","v":0},{"$f":"IF(E96=F96, \"CUMPLE\", \"NO CUMPLE\")","v":"CUMPLE"}]
["APOYO DIAGNÓSTICO",null,null,{"$f":"TalentoHumano!$AN$59*30/100/100","v":0},null,{"$f":"TalentoHumano!AM59*30/100/100","v":0.3},{"$f":"IF(D97=F97, \"CUMPLE\", \"NO CUMPLE\")","v":"NO CUMPLE"}]
["DIAGNÓSTICO EN LABORATORIO (LABORATORIO DE ANÁLISIS CLÍNICO)",null,null,null,{"$f":"TalentoHumano!$AN$60*30/100/100","v":0},{"$f":"TalentoHumano!AM60*30/100/100","v":0.3},{"$f":"IF(E98=F98, \"CUMPLE\", \"NO CUMPLE\")","v":"NO CUMPLE"}]
["APOYO TERAPÉUTICO",null,null,{"$f":"TalentoHumano!$AN$61*30/100/100","v":0},null,{"$f":"TalentoHumano!AM61*30/100/100","v":0},{"$f":"IF(D99=F99, \"CUMPLE\", \"NO CUMPLE\")","v":"CUMPLE"}]
["DOTACIÓN DE MEDICAMENTOS Y DISPOSITIVOS MÉDICOS (FARMACIA)",null,null,null,{"$f":"TalentoHumano!$AN$62*30/100/100","v":0},{"$f":"TalentoHumano!AM62*30/100/100","v":0},{"$f":"IF(E100=F100, \"CUMPLE\", \"NO CUMPLE\")","v":"CUMPLE"}]
["ADMINISTRATIVO",null,null,{"$f":"TalentoHumano!$AN$63*30/100/100","v":0},null,{"$f":"TalentoHumano!AM63*30/100/100","v":0},{"$f":"IF(D101=F101, \"CUMPLE\", \"NO CUMPLE\")","v":"CUMPLE"}]
["ADMINISTRACIÓN TÉCNICA",null,null,null,{"$f":"TalentoHumano!$AN$64*30/100/100","v":0},{"$f":"TalentoHumano!AM64*30/100/100","v":0},{"$f":"IF(E102=F102, \"CUMPLE\", \"NO CUMPLE\")","v":"CUMPLE"}]
["GENERAL",null,null,{"$f":"TalentoHumano!$AN$65*30/100/100","v":0},null,{"$f":"TalentoHumano!AM65*30/100/100","v":0},{"$f":"IF(D103=F103, \"CUMPLE\", \"NO CUMPLE\")","v":"CUMPLE"}]
["SERVICIOS INTERNOS DE APOYO",null,null,null,{"$f":"TalentoHumano!$AN$66*30/100/100","v":0},{"$f":"TalentoHumano!AM66*30/100/100","v":0},{"$f":"IF(E104=F104, \"CUMPLE\", \"NO CUMPLE\")","v":"CUMPLE"}]
["TOTAL ADMINISTRATIVOS:",null,null,null,null,0.30000001192092801,{"$f":"C90","v":0}]
["ASISTENCIALES:",null,"% Obtenido:","% Obtenido:","% Obtenido:","% A Cumplir:","% Final:"]
["TALENTO HUMANO",null,{"$f":"TalentoHumano!$AV$52*70/100/100","v":0},null,null,{"$f":"AU52*70/100/100","v":0.7},{"$f":"IF(C107=F107, \"CUMPLE\", \"NO CUMPLE\")","v":"NO CUMPLE"}]
["ADMINISTRATIVO",null,null,{"$f":"TalentoHumano!$AV$53*70/100/100","v":0},null,{"$f":"AU53*70/100/100","v":0},{"$f":"IF(D108=F108, \"CUMPLE\", \"NO CUMPLE\")","v":"CUMPLE"}]
["ADMISIÓN Y ESTADISTICA",null,null,null,{"$f":"TalentoHumano!$AV$54*70/100/100","v":0},{"$f":"AU54*70/100/100","v":0},{"$f":"IF(D109=F109, \"CUMPLE\", \"NO CUMPLE\")","v":"CUMPLE"}]
["ASISTENCIAL",null,null,{"$f":"TalentoHumano!$AV$55*70/100/100","v":0},null,{"$f":"AU55*70/100/100","v":0.11666666666666668},"NO CUMPLE"]
["CONSULTA EXTERNA",null,null,null,{"$f":"TalentoHumano!$AV$56*70/100/100","v":0},{"$f":"AU56*70/100/100","v":0.11666666666666668},{"$f":"IF(E111=F111, \"CUMPLE\", \"NO CUMPLE\")","v":"NO CUMPLE"}]
["APOYO TERAPEUTICO",null,null,{"$f":"TalentoHumano!$AV$57*70/100/100","v":0},null,0.58333333333333326,"NO CUMPLE"]
["ATENCIÓN DE APOYO TERAPÉUTICO",null,null,null,{"$f":"TalentoHumano!$AV$58*70/100/100","v":0},0.58333333333333326,{"$f":"IF(E113=F113, \"CUMPLE\", \"NO CUMPLE\")","v":"NO CUMPLE"}]
["APOYO DIAGNÓSTICO",null,null,{"$f":"TalentoHumano!$AV$59*70/100/100","v":0},null,0,"CUMPLE"]
["DIAGNÓSTICO EN LABORATORIO (LABORATORIO DE ANÁLISIS CLÍNICO)",null,null,null,{"$f":"TalentoHumano!$AV$60*70/100/100","v":0},0,{"$f":"IF(E115=F115, \"CUMPLE\", \"NO CUMPLE\")","v":"CUMPLE"}]
["APOYO TERAPÉUTICO",null,null,{"$f":"TalentoHumano!$AV$61*70/100/100","v":0},null,0,"CUMPLE"]
["DOTACIÓN DE MEDICAMENTOS Y DISPOSITIVOS MÉDICOS (FARMACIA)",null,null,null,{"$f":"TalentoHumano!$AV$62*70/100/100","v":0},0,"CUMPLE"]
["ADMINISTRATIVO",null,null,{"$f":"TalentoHumano!$AV$63*70/100/100","v":0},null,0,"CUMPLE"]
["ADMINISTRACIÓN TÉCNICA",null,null,null,{"$f":"TalentoHumano!$AV$64*70/100/100","v":0},0,"CUMPLE"]
["GENERAL",null,null,{"$f":"TalentoHumano!$AV$65*70/100/100","v":0},null,0,"CUMPLE"]
["SERVICIOS INTERNOS DE APOYO",null,null,null,{"$f":"TalentoHumano!$AV$66*70/100/100","v":0},0,"CUMPLE"]
["TOTAL ASISTENCIALES:",null,null,null,null,0.69999998807907104,{"$f":"C107","v":0}]
["TOTALES ITEMS CONDICIONADOS+:"]
["TOTAL ITEMS CONDICIONADOS:",null,null,null,null,0.35,{"$f":"(G105+G122)*0.35","v":0}]
["TOTALES CONDICIONADOS -:"]
["ADMINISTRATIVOS:",null,"% Obtenido:","% Obtenido:","% Obtenido:","% A Cumplir:","% Final:"]
["TALENTO HUMANO",null,{"$f":"-TalentoHumano!$AP$52*30/100/100","v":0},null,null,{"$f":"-AO52*30/100/100","v":-0.3},{"$f":"IF(C127=F127, \"CUMPLE\", \"NO CUMPLE\")","v":"NO CUMPLE"}]
["ADMINISTRATIVO",null,null,{"$f":"-TalentoHumano!AP53*30/100/100","v":0},null,{"$f":"-AO53*30/100/100","v":0},{"$f":"IF(D128=F128, \"CUMPLE\", \"NO CUMPLE\")","v":"CUMPLE"}]
["ADMISIÓN Y ESTADISTICA",null,null,null,{"$f":"-TalentoHumano!AP54*30/100/100","v":0},{"$f":"-AO54*30/100/100","v":0},{"$f":"IF(E129=F129, \"CUMPLE\", \"NO CUMPLE\")","v":"CUMPLE"}]
["ASISTENCIAL",null,null,{"$f":"-TalentoHumano!AP55*30/100/100","v":0},null,{"$f":"-AO55*30/100/100","v":0},{"$f":"IF(D130=F130, \"CUMPLE\", \"NO CUMPLE\")","v":"CUMPLE"}]
["CONSULTA EXTERNA",null,null,null,{"$f":"-TalentoHumano!AP56*30/100/100","v":0},0,{"$f":"IF(E131=F131, \"CUMPLE\", \"NO CUMPLE\")","v":"CUMPLE"}]
["APOYO TERAPEUTICO",null,null,{"$f":"-TalentoHumano!AP57*30/100/100","v":0},null,0,{"$f":"IF(D132=F132, \"CUMPLE\", \"NO CUMPLE\")","v":"CUMPLE"}]
["ATENCIÓN DE APOYO TERAPÉUTICO",null,null,null,{"$f":"-TalentoHumano!AP58*30/100/100","v":0},0,{"$f":"IF(E133=F133, \"CUMPLE\", \"NO CUMPLE\")","v":"CUMPLE"}]
["APOYO DIAGNÓSTICO",null,null,{"$f":"-TalentoHumano!AP59*30/100/100","v":0},null,{"$f":"-AO59*30/100/100","v":-0.3},{"$f":"IF(D134=F134, \"CUMPLE\", \"NO CUMPLE\")","v":"NO CUMPLE"}]
["DIAGNÓSTICO EN LABORATORIO (LABORATORIO DE ANÁLISIS CLÍNICO)",null,null,null,{"$f":"-TalentoHumano!AP60*30/100/100","v":0},-0.3,{"$f":"IF(E135=F135, \"CUMPLE\", \"NO CUMPLE\")","v":"NO CUMPLE"}]
["APOYO TERAPÉUTICO",null,null,{"$f":"-TalentoHumano!AP61*30/100/100","v":0},null,0,{"$f":"IF(D136=F136, \"CUMPLE\", \"NO CUMPLE\")","v":"CUMPLE"}]
["DOTACIÓN DE MEDICAMENTOS Y DISPOSITIVOS MÉDICOS (FARMACIA)",null,null,null,{"$f":"-TalentoHumano!AP62*30/100/100","v":0},0,{"$f":"IF(E137=F137, \"CUMPLE\", \"NO CUMPLE\")","v":"CUMPLE"}]
["ADMINISTRATIVO",null,null,{"$f":"-TalentoHumano!AP63*30/100/100","v":0},null,0,{"$f":"IF(D138=F138, \"CUMPLE\", \"NO CUMPLE\")","v":"CUMPLE"}]
["ADMINISTRACIÓN TÉCNICA",null,null,null,{"$f":"-TalentoHumano!AP64*30/100/100","v":0},0,{"$f":"IF(E139=F139, \"CUMPLE\", \"NO CUMPLE\")","v":"CUMPLE"}]
["GENERAL",null,null,{"$f":"-TalentoHumano!AP65*30/100/100","v":0},null,0,{"$f":"IF(D140=F140, \"CUMPLE\", \"NO CUMPLE\")","v":"CUMPLE"}]
["SERVICIOS INTERNOS DE APOYO",null,null,null,{"$f":"-TalentoHumano!AP66*30/100/100","v":0},0,{"$f":"IF(E141=F141, \"CUMPLE\", \"NO CUMPLE\")","v":"CUMPLE"}]
["TOTAL ADMINISTRATIVOS:",null,null,null,null,0.30000001192092801,{"$f":"C127","v":0}]
["ASISTENCIALES:",null,"% Obtenido:","% Obtenido:","% Obtenido:","% A Cumplir:","% Final:"]
["TALENTO HUMANO",null,{"$f":"-TalentoHumano!$AX$52*70/100/100","v":0},null,null,{"$f":"-AW52*70/100/100","v":-0.7},{"$f":"IF(C144=F144, \"CUMPLE\", \"NO CUMPLE\")","v":"NO CUMPLE"}]
["ADMINISTRATIVO",null,null,{"$f":"-TalentoHumano!AX53*70/100/100","v":0},null,{"$f":"-AW53*70/100/100","v":0},{"$f":"IF(D145=F145, \"CUMPLE\", \"NO CUMPLE\")","v":"CUMPLE"}]
["ADMISIÓN Y ESTADISTICA",null,null,null,{"$f":"-TalentoHumano!AX54*70/100/100","v":0},{"$f":"-AW54*70/100/100","v":0},{"$f":"IF(E146=F146, \"CUMPLE\", \"NO CUMPLE\")","v":"CUMPLE"}]
["ASISTENCIAL",null,null,{"$f":"-TalentoHumano!$AX$55*70/100/100","v":0},null,{"$f":"-AW55*70/100/100","v":-0.11666666666666668},{"$f":"IF(D147=F147, \"CUMPLE\", \"NO CUMPLE\")","v":"NO CUMPLE"}]
["CONSULTA EXTERNA",null,null,null,{"$f":"-TalentoHumano!AX56*70/100/100","v":0},-0.11666666666666668,{"$f":"IF(E148=F148, \"CUMPLE\", \"NO CUMPLE\")","v":"NO CUMPLE"}]
["APOYO TERAPEUTICO",null,null,{"$f":"-TalentoHumano!AX57*70/100/100","v":0},null,-0.58333333333333326,{"$f":"IF(D149=F149, \"CUMPLE\", \"NO CUMPLE\")","v":"NO CUMPLE"}]
["ATENCIÓN DE APOYO TERAPÉUTICO",null,null,null,{"$f":"-TalentoHumano!AX58*70/100/100","v":0},-0.58333333333333326,{"$f":"IF(E150=F150, \"CUMPLE\", \"NO CUMPLE\")","v":"NO CUMPLE"}]
["APOYO DIAGNÓSTICO",null,null,{"$f":"-TalentoHumano!AX59*70/100/100","v":0},null,0,{"$f":"IF(D151=F151, \"CUMPLE\", \"NO CUMPLE\")","v":"CUMPLE"}]
["DIAGNÓSTICO EN LABORATORIO (LABORATORIO DE ANÁLISIS CLÍNICO)",null,null,null,{"$f":"-TalentoHumano!AX60*70/100/100","v":0},0,{"$f":"IF(E152=F152, \"CUMPLE\", \"NO CUMPLE\")","v":"CUMPLE"}]
["APOYO TERAPÉUTICO",null,null,{"$f":"-TalentoHumano!AX61*70/100/100","v":0},null,0,{"$f":"IF(D153=F153, \"CUMPLE\", \"NO CUMPLE\")","v":"CUMPLE"}]
["DOTACIÓN DE MEDICAMENTOS Y DISPOSITIVOS MÉDICOS (FARMACIA)",null,null,null,{"$f":"-TalentoHumano!AX62*70/100/100","v":0},0,{"$f":"IF(E154=F154, \"CUMPLE\", \"NO CUMPLE\")","v":"CUMPLE"}]
["ADMINISTRATIVO",null,null,{"$f":"-TalentoHumano!AX63*70/100/100","v":0},null,0,{"$f":"IF(D155=F155, \"CUMPLE\", \"NO CUMPLE\")","v":"CUMPLE"}]
["ADMINISTRACIÓN TÉCNICA",null,null,null,{"$f":"-TalentoHumano!AX64*70/100/100","v":0},0,{"$f":"IF(E156=F156, \"CUMPLE\", \"NO CUMPLE\")","v":"CUMPLE"}]
["GENERAL",null,null,{"$f":"-TalentoHumano!AX65*70/100/100","v":0},null,0,{"$f":"IF(D157=F157, \"CUMPLE\", \"NO CUMPLE\")","v":"CUMPLE"}]
["SERVICIOS INTERNOS DE APOYO",null,null,null,{"$f":"-TalentoHumano!AX66*70/100/100","v":0},0,{"$f":"IF(E158=F158, \"CUMPLE\", \"NO CUMPLE\")","v":"CUMPLE"}]
["TOTAL ASISTENCIALES:",null,null,null,null,0.69999998807907104,{"$f":"C144","v":0}]
["TOTALES ITEMS CONDICIONADOS+:"]
["TOTAL CONDICIONADOS:",null,null,null,null,-0.35,{"$f":"(G142+G159)*0.35","v":0}]
["TOTALES COMPONENTE:"]
["TOTAL % REQUERIDO:",null,null,null,null,0.34999999403953552,{"$f":"G87","v":0}]
["TOTAL % DESEABLE:",null,null,null,null,0.34999999403953552,{"$f":"35/100","v":0.35}]
["TOTAL % CONDICIÓN:",null,null,null,null,0.34999999403953552,{"$f":"G161+G124","v":0}]

{"sheet":"Reportes1","index":8,"n_rows":24,"n_cols":8,"rows_kept":24,"cut":false,"hidden":true,"merged":[[0,0,0,7],[1,0,1,7],[2,0,2,2],[2,3,2,8],[3,0,3,2],[3,3,3,8],[4,0,4,2],[4,3,4,4],[5,0,5,2],[5,3,5,4],[6,0,6,2],[6,3,6,6],[7,0,7,2],[7,3,7,6],[8,0,8,2],[8,3,8,6],[9,0,9,2],[9,3,9,6],[18,0,18,1],[18,7,19,8],[19,0,19,1],[10,0,10,2],[10,3,10,6],[11,3,11,4],[12,0,12,2],[12,3,12,6],[13,0,13,2],[13,3,13,8],[14,0,14,2],[14,3,14,6],[15,0,15,2],[15,3,15,4],[17,0,17,8],[20,0,20,1],[20,7,23,8],[21,0,21,1],[22,0,22,1],[23,0,23,1]]}
["MATRIZ DE LICENCIAMIENTO:"]
[{"$f":"Menu!B4","v":"CENTRO ESPECIALIZADO EN SALUD RENAL"}]
["ENTIDAD DEL SISTEMA:",null,null,""]
["NOMBRE UNIDAD OPERATIVA:"]
["CÓDIGO:",null,null,"dgdg"]
["REGION:",null,null,"INSULAR"]
["PROVINCIA:",null,null,"GALAPAGOS"]
["CANTON:",null,null,"ISABELA"]
["PARROQUIA:"]
["ZONA:"]
["DIRECCIÓN:"]
[null,null,"TELÉFONO:"]
["AREA/DISTRITO:"]
["RESPONSABLE:"]
["CORREO ELECTRÓNICO:",null,null," "]
["FECHA:"]
[]
["RESULTADOS TOTALES"]
["COMPONENTE:",null,"% A Cumplir","% Requerido","% Opcional","% Deseable","% Condición","RESULTADOS"]
["INFRAESTRUCTURA",null,{"$f":"30/100","v":0.3},{"$f":"Infraestructura!$G$361","v":0},{"$f":"Infraestructura!$G$362","v":0},{"$f":"Infraestructura!$G$363","v":0.3},{"$f":"Infraestructura!$G$364","v":0}]
["EQUIPAMIENTO",null,{"$f":"30/100","v":0.3},{"$f":"Equipamiento!$G$684","v":0},{"$f":"Equipamiento!$G$685","v":0},{"$f":"Equipamiento!$G$686","v":0},{"$f":"Equipamiento!$G$687","v":0},{"$f":"IF(D24<0.7, \"NO LICENCIA\", IF(D24<0.85,\"LICENCIA CONDICIONADA\", IF(D24<=1, \"SI LICENCIA\", \"\")))","v":"NO LICENCIA"}]
["TALENTO HUMANO",null,{"$f":"35/100","v":0.35},{"$f":"TalentoHumano!$G$163","v":0},{"$f":"TalentoHumano!#REF!","v":{"$error":"#REF!"}},{"$f":"TalentoHumano!$G$164","v":0.35},{"$f":"TalentoHumano!$G$165","v":0}]
["NORMA TECNICA",null,{"$f":"5/100","v":0.05},{"$f":"Norma!$I$377","v":0},{"$f":"Norma!$I$378","v":0},{"$f":"Norma!$I$379","v":0.05},{"$f":"Norma!#REF!","v":{"$error":"#REF!"}}]
["Total:",null,{"$f":"SUM(C20:C23)","v":1},{"$f":"SUM(D20:D23)","v":0},{"$f":"SUM(E20:E23)","v":{"$error":"#REF!"}},{"$f":"SUM(F20:F23)","v":0.7},{"$f":"SUM(G20:G23)","v":{"$error":"#REF!"}}]

{"sheet":"Reportes","index":9,"n_rows":55,"n_cols":15,"rows_kept":55,"cut":false,"hidden":false,"merged":[[54,6,60,8],[54,9,60,9],[54,10,60,11],[49,2,49,3],[49,4,49,5],[49,9,49,10],[49,11,49,12],[50,2,50,3],[50,4,50,5],[48,2,48,3],[48,4,48,5],[48,9,48,10],[48,11,48,12],[53,9,53,11],[44,1,44,7],[44,9,44,13],[46,2,46,3],[46,4,46,5],[46,6,50,7],[46,9,46,10],[46,11,46,12],[45,2,45,3],[45,4,45,5],[45,6,45,7],[45,9,45,10],[45,11,45,12],[47,2,47,3],[47,4,47,5],[47,9,47,10],[47,11,47,12],[29,14,30,14],[31,14,32,14],[33,14,34,14],[35,14,36,14],[40,0,41,0],[40,2,40,3],[40,5,40,6],[40,8,40,9],[40,11,40,12],[41,2,41,3],[41,5,41,6],[41,8,41,9],[41,11,41,12],[37,14,38,14],[27,14,28,14],[19,0,19,2],[19,3,19,14],[17,0,17,2],[17,3,17,14],[20,1,20,3],[20,4,20,6],[20,7,20,9],[20,10,20,12],[20,13,21,14],[21,1,21,2],[21,4,21,5],[21,7,21,8],[21,10,21,11],[23,14,24,14],[25,14,26,14],[15,0,15,2],[15,3,15,14],[16,0,16,2],[16,3,16,14],[18,0,18,2],[18,3,18,14],[12,0,12,2],[12,3,12,14],[13,0,13,2],[13,3,13,14],[14,0,14,2],[14,3,14,14],[9,0,9,2],[9,3,9,14],[10,0,10,2],[10,3,10,14],[11,0,11,2],[11,3,11,14],[8,0,8,2],[8,3,8,14],[4,0,4,14],[5,0,5,14],[6,0,6,14],[7,0,7,2],[7,3,7,14]]}
[]
[]
[]
[]
["MATRIZ DE LICENCIAMIENTO:"]
["CALIFICACIÓN POR SERVICIOS"]
["CENTRO ESPECIALIZADO EN SALUD RENAL"]
["ENTIDAD DEL SISTEMA:",null,null,"Privada"]
["ESTABLECIMIENTO DE SALUD:",null,null,""]
["CODIGO/RUC:",null,null,""]
["REGION:",null,null," "]
["PROVINCIA:",null,null," "]
["CANTON:"]
["PARROQUIA:",null,null,""]
["DISTRIBUCIÓN ZONAL SENPLADES:",null,null,"1"]
["DIRECCIÓN:",null,null,""]
["AREA/DISTRITO:",null,null,""]
["TELÉFONO:",null,null,""]
["RESPRESENTANTE LEGAL / CORREO ELECTRÓNICO UNIDAD OPERATIVA:",null,null," / "]
["FECHA:",null,null,""]
["COMPONENTES:","INFRAESTRUCTURA",null,null,"EQUIPAMIENTO",null,null,"NORMA",null,null,"TALENTO HUMANO",null,null,"CALIFICACIÓN POR SERVICIO"]
[null,"REQUERIDOS",null,"TOTAL","REQUERIDOS",null,"TOTAL","REQUERIDOS",null,"TOTAL","REQUERIDOS",null,"TOTAL"]
["                                                      PORCENTAJES \n\n      \n         \n SERVICIOS","% A CUMPLIR","% OBTENIDO","% CALIFICACIÓN","% A CUMPLIR","% OBTENIDO","% CALIFICACIÓN","% A CUMPLIR","% OBTENIDO","% CALIFICACIÓN","% A CUMPLIR","% OBTENIDO","% CALIFICACIÓN","% ÍNDICE GLOBAL DE LICENCIAMEINTO POR SERVICIO","CALIFICACIÓN POR SERVICIO"]
["ADMINISTRATIVO",{"$f":"(Infraestructura!F221*85)","v":2.8333333333333339},{"$f":"(Infraestructura!C221*85)","v":0},{"$f":"(C24*100/B24)*0.3","v":0},{"$f":"Equipamiento!F576*85","v":4.6195652173913047},{"$f":"Equipamiento!C576*85","v":0},{"$f":"(F24*100/E24)*0.3","v":0},{"$f":"(Norma!F325*85)","v":6.2784090909090908},{"$f":"(Norma!D325*85)","v":0},{"$f":"(I24*100/H24)*0.05","v":0},{"$f":"(TalentoHumano!F54+TalentoHumano!F71)*85","v":3.6428571428571437},{"$f":"(TalentoHumano!D54+TalentoHumano!D71)*85","v":0},{"$f":"(L24*100/K24)*0.35","v":0},{"$f":"(D24+G24+J24+M24)*0.85/100","v":0},{"$f":"IF(N24<0.7, \"NO LICENCIA\", IF(N24<0.85,\"LICENCIA CONDICIONADA\", IF(N24<=1, \"SI LICENCIA\", \"\")))","v":"NO LICENCIA"}]
["ADMISIÓN Y ESTADÍSTICA",{"$f":"(Infraestructura!F222*85)","v":2.8333333333333339},{"$f":"(Infraestructura!D222*85)","v":0},{"$f":"(C25*100/B25)*0.3","v":0},{"$f":"Equipamiento!F577*85","v":4.6195652173913047},{"$f":"(Equipamiento!D577*85)","v":0},{"$f":"(F25*100/E25)*0.3","v":0},{"$f":"(Norma!F326*85)","v":6.2784090909090908},{"$f":"(Norma!E326*85)","v":0},{"$f":"(I25*100/H25)*0.05","v":0},{"$f":"(TalentoHumano!F55+TalentoHumano!F72)*85","v":3.6428571428571437},{"$f":"(TalentoHumano!E55+TalentoHumano!E72)*85","v":0},{"$f":"(L25*100/K25)*0.35","v":0},{"$f":"(D25+G25+J25+M25)*0.85/100","v":0}]
["ASISTENCIAL",{"$f":"(Infraestructura!F224*85)","v":7.0833333333333339},{"$f":"(Infraestructura!C224*85)","v":0},{"$f":"(C26*100/B26)*0.3","v":0},{"$f":"Equipamiento!F579*85","v":21.711956521739133},{"$f":"Equipamiento!C579*85","v":0},{"$f":"(F26*100/E26)*0.3","v":0},{"$f":"(Norma!F327*85)","v":31.392045454545453},{"$f":"(Norma!D327*85)","v":0},{"$f":"(I26*100/H26)*0.05","v":0},{"$f":"(TalentoHumano!F56+TalentoHumano!F73)*85","v":19.833333333333336},{"$f":"(TalentoHumano!D56+TalentoHumano!D73)*85","v":0},{"$f":"(L26*100/K26)*0.35","v":0},{"$f":"(D26+G26+J26+M26)*0.85/100","v":0},{"$f":"IF(N26<0.7, \"NO LICENCIA\", IF(N26<0.85,\"LICENCIA CONDICIONADA\", IF(N26<=1, \"SI LICENCIA\", \"\")))","v":"NO LICENCIA"}]
["CONSULTA EXTERNA",{"$f":"(Infraestructura!F225*85)","v":7.0833333333333339},{"$f":"(Infraestructura!D225*85)","v":0},{"$f":"(C27*100/B27)*0.3","v":0},{"$f":"Equipamiento!F580*85","v":21.711956521739133},{"$f":"Equipamiento!D580*85","v":0},{"$f":"(F27*100/E27)*0.3","v":0},{"$f":"(Norma!F328*85)","v":31.392045454545453},{"$f":"(Norma!E328*85)","v":0},0,{"$f":"(TalentoHumano!F57+TalentoHumano!F74)*85","v":19.833333333333336},{"$f":"(TalentoHumano!E57+TalentoHumano!E74)*85","v":0},0,0]
["APOYO TERAPEÚTICO",{"$f":"(Infraestructura!F227*85)","v":11.333333333333336},{"$f":"(Infraestructura!C227*85)","v":0},0,{"$f":"Equipamiento!F582*85","v":23.09782608695652},{"$f":"Equipamiento!C582*85","v":0},{"$f":"(F28*100/E28)*0.3","v":0},{"$f":"(Norma!F329*85)","v":11.107954545454545},{"$f":"(Norma!D329*85)","v":0},0,{"$f":"(TalentoHumano!F58+TalentoHumano!F75)*85","v":19.833333333333336},{"$f":"(TalentoHumano!D58+TalentoHumano!D75)*85","v":0},0,{"$f":"(D28+G28+J28+M28)*0.85/100","v":0},{"$f":"IF(N28<0.7, \"NO LICENCIA\", IF(N28<0.85,\"LICENCIA CONDICIONADA\", IF(N28<=1, \"SI LICENCIA\", \"\")))","v":"NO LICENCIA"}]
["ATENCION DE APOYO TERAPEÚTICO",{"$f":"(Infraestructura!F228*85)","v":11.333333333333336},{"$f":"(Infraestructura!D228*85)","v":0},0,{"$f":"Equipamiento!F583*85","v":23.09782608695652},{"$f":"Equipamiento!D583*85","v":0},{"$f":"(F29*100/E29)*0.3","v":0},{"$f":"(Norma!F330*85)","v":11.107954545454545},{"$f":"(Norma!E330*85)","v":0},0,{"$f":"(TalentoHumano!F59+TalentoHumano!F76)*85","v":19.833333333333336},{"$f":"(TalentoHumano!E59+TalentoHumano!E76)*85","v":0},{"$f":"(L29*100/K29)*0.35","v":0},0]
["APOYO DIAGNÓSTICO",{"$f":"(Infraestructura!F236*85)","v":1.416666666666667},{"$f":"(Infraestructura!C236*85)","v":0},0,{"$f":"Equipamiento!F591*85","v":3.6956521739130435},{"$f":"Equipamiento!C591*85","v":0},0,{"$f":"(Norma!F331*85)","v":4.3465909090909092},{"$f":"(Norma!D331*85)","v":0},0,{"$f":"(TalentoHumano!F60+TalentoHumano!F77)*85","v":6.6111111111111098},{"$f":"(TalentoHumano!D60+TalentoHumano!D77)*85","v":0},{"$f":"(L30*100/K30)*0.35","v":0},{"$f":"(D30+G30+J30+M30)*0.85/100","v":0},{"$f":"IF(N30<0.7, \"NO LICENCIA\", IF(N30<0.85,\"LICENCIA CONDICIONADA\", IF(N30<=1, \"SI LICENCIA\", \"\")))","v":"NO LICENCIA"}]
["DIAGNÓSTICO EN LABORATORIO",{"$f":"(Infraestructura!F237*85)","v":1.416666666666667},{"$f":"(Infraestructura!D237*85)","v":0},0,{"$f":"Equipamiento!F592*85","v":3.6956521739130435},{"$f":"Equipamiento!D592*85","v":0},0,{"$f":"(Norma!F332*85)","v":4.3465909090909092},{"$f":"(Norma!E332*85)","v":0},0,{"$f":"(TalentoHumano!F61+TalentoHumano!F78)*85","v":6.6111111111111098},{"$f":"(TalentoHumano!E61+TalentoHumano!E78)*85","v":0},{"$f":"(L31*100/K31)*0.354","v":0},0]
["APOYO TERAPEÚTICO",{"$f":"(Infraestructura!F242*85)","v":2.8333333333333339},{"$f":"Infraestructura!C242*85","v":0},0,{"$f":"Equipamiento!F597*85","v":7.3913043478260869},{"$f":"Equipamiento!C597*85","v":0},0,{"$f":"(Norma!F333*85)","v":5.795454545454545},{"$f":"Norma!D333*85","v":0},0,{"$f":"(TalentoHumano!F62+TalentoHumano!F79)*85","v":10.253968253968253},{"$f":"(TalentoHumano!D62+TalentoHumano!D79)*85","v":0},0,0,{"$f":"IF(N32<0.7, \"NO LICENCIA\", IF(N32<0.85,\"LICENCIA CONDICIONADA\", IF(N32<=1, \"SI LICENCIA\", \"\")))","v":"NO LICENCIA"}]
["DOTACIÓN DE MEDICAMENTOS Y DISPOSITIVOS MÉDICOS (FARMACIA)",{"$f":"(Infraestructura!F243*85)*1","v":2.8333333333333339},{"$f":"Infraestructura!D243*85","v":0},0,{"$f":"Equipamiento!F598*85","v":7.3913043478260869},{"$f":"Equipamiento!D598*85","v":0},0,{"$f":"(Norma!F334*85)","v":5.795454545454545},{"$f":"Norma!E334*85","v":0},0,{"$f":"(TalentoHumano!F63+TalentoHumano!F80)*85","v":10.253968253968253},{"$f":"(TalentoHumano!E63+TalentoHumano!E80)*85","v":0},0,0]
["ADMINISTRATIVO",{"$f":"Infraestructura!F245*85","v":7.0833333333333339},{"$f":"Infraestructura!C245*85","v":0},0,{"$f":"Equipamiento!F600*85","v":15.706521739130435},{"$f":"Equipamiento!C600*85","v":0},0,{"$f":"(Norma!F335*85)","v":23.18181818181818},{"$f":"Norma!D335*85","v":0},0,{"$f":"(TalentoHumano!F64+TalentoHumano!F81)*85","v":17.539682539682538},{"$f":"(TalentoHumano!D64+TalentoHumano!D81)*85","v":0},0,0,{"$f":"IF(N34<0.7, \"NO LICENCIA\", IF(N34<0.85,\"LICENCIA CONDICIONADA\", IF(N34<=1, \"SI LICENCIA\", \"\")))","v":"NO LICENCIA"}]
["ADMINISTRACIÓN TÉCNICA",{"$f":"Infraestructura!F246*85","v":7.0833333333333339},{"$f":"Infraestructura!D246*85","v":0},0,{"$f":"Equipamiento!F601*85","v":15.706521739130435},{"$f":"Equipamiento!D601*85","v":0},0,{"$f":"(Norma!F336*85)","v":23.18181818181818},{"$f":"Norma!E336*85","v":0},0,{"$f":"(TalentoHumano!F65+TalentoHumano!F82)*85","v":17.539682539682538},{"$f":"(TalentoHumano!E65+TalentoHumano!E82)*85","v":0},0,0]
["GENERAL",{"$f":"Infraestructura!F248*85","v":9.9166666666666643},{"$f":"Infraestructura!C248*85","v":0},0,{"$f":"Equipamiento!F603*85","v":8.7771739130434767},{"$f":"Equipamiento!C603*85","v":0},0,{"$f":"(Norma!F337*85)","v":2.8977272727272725},{"$f":"Norma!D337*85","v":0},0,{"$f":"(TalentoHumano!F66+TalentoHumano!F83)*85","v":7.2857142857142874},{"$f":"(TalentoHumano!D66+TalentoHumano!D83)*85","v":0},0,{"$f":"(D36+G36+J36+M36)*0.85/100","v":0},{"$f":"IF(N36<0.7, \"NO LICENCIA\", IF(N36<0.85,\"LICENCIA CONDICIONADA\", IF(N36<=1, \"SI LICENCIA\", \"\")))","v":"NO LICENCIA"}]
["SERVICIOS INTERNOS DE APOYO",{"$f":"Infraestructura!F249*85","v":9.9166666666666643},{"$f":"Infraestructura!D249*85","v":0},0,{"$f":"Equipamiento!F604*85","v":8.7771739130434767},{"$f":"Equipamiento!D604*85","v":0},0,{"$f":"(Norma!F338*85)","v":2.8977272727272725},{"$f":"Norma!E338*85","v":0},0,{"$f":"(TalentoHumano!F67+TalentoHumano!F84)*85","v":7.2857142857142874},{"$f":"(TalentoHumano!E67+TalentoHumano!E84)*85","v":0},0,{"$f":"(D36+G36+J36+M36)*0.85/100","v":0}]
["INSTALACIONES",{"$f":"Infraestructura!F257*85","v":21.25},{"$f":"Infraestructura!C257*85","v":0},0,"  - ","  - ","  - ","  - ","  - ","  - ","  - ","  - ","  - ","  - "," - "]
["ESTRUCTURA GENERAL",{"$f":"Infraestructura!F260*85","v":21.25},{"$f":"Infraestructura!C260*85","v":0},0,"  - ","  - ","  - ","  - ","  - ","  - ","  - ","  - ","  - ","  - "]
[null,{"$f":"SUM(B24+B26+B28+B30+B32+B34+B36+B38+B39)","v":85},{"$f":"SUM(C24+C26+C28+C30+C32+C34+C36+C38+C39)","v":0},{"$f":"SUM(D24+D26+D28+D30+D32+D34+D36+D38+D39)/9","v":0},{"$f":"SUM(E24+E26+E28+E30+E32+E34+E36)","v":85},{"$f":"SUM(F24+F26+F28+F30+F32+F34+F36)","v":0},{"$f":"SUM(G24+G26+G28+G30+G32+G34+G36)/7","v":0},{"$f":"SUM(H24+H26+H28+H30+H32+H34+H36)","v":84.999999999999986},{"$f":"SUM(I24+I26+I28+I30+I32+I34+I36)","v":0},{"$f":"SUM(J24+J26+J28+J30+J32+J34+J36)/7","v":0},{"$f":"SUM(K24+K26+K28+K32+K34++K36)","v":78.3888888888889},{"$f":"SUM(L24+L26+L28+L32+L34+L36)","v":0},{"$f":"SUM(M24+M26+M28+M2+M32+M34+M36)/6","v":0},{"$f":"(N24+N26+N28+N32+N34+N36)/6","v":0},{"$f":"IF(N40<0.7, \"NO LICENCIA\", IF(N40<0.85,\"LICENCIA CONDICIONADA\", IF(N40<=1, \"SI LICENCIA\", \"\")))","v":"NO LICENCIA"}]
["% ÍNDICE GLOBAL DE LICENCIAMEINTO POR COMPONENTE","% A CUMPLIR","% OBTENIDO",null,"% A CUMPLIR","% OBTENIDO",null,"% A CUMPLIR","% OBTENIDO",null,"% A CUMPLIR","% OBTENIDO",null,"% ÍNDICE GLOBAL DE LICENCIAMEINTO POR SERVICIO","CALIFICACIÓN POR COMPONENTE"]
[null,30,{"$f":"D40","v":0},null,30,{"$f":"G40","v":0},null,5,{"$f":"J40","v":0},null,35,{"$f":"M40","v":0},null,{"$f":"SUM(N24:N39)/14*100","v":0},{"$f":"IF(N42<70, \"NO LICENCIA\", IF(N42<85,\"LICENCIA CONDICIONADA\", IF(N42<=100, \"SI LICENCIA\", \"\")))","v":"NO LICENCIA"}]
[]
[]
[null,"RESULTADOS DE ÍTEMS CONDICIONADOS",null,null,null,null,null,null,null,"RESULTADOS DE ÍTEMS DESEABLES"]
[null,"COMPONENTE","% A cumplir",null,"% Obtenido",null,"PUNTAJE TOTAL",null,null,"COMPONENTE",null,"% A cumplir",null,"% Obtenido"]
[null,"INFRAESTRUCTURA",{"$f":"30","v":30},null,{"$f":"Infraestructura!G362*100","v":0},null,{"$f":"ROUND(IF(E51>J510,IF(E51=0,\"0\",IF(E51<=69,\"5\",IF(E51<=84,\"10\",(IF(E51<=100,\"15\"))))),IF(E51=0,\"0\",IF(E51>=-69,-5,IF(E51>=-84,-10,(IF(E51>=-100,-15)))))),0)","v":0},null,null,"INFRAESTRUCTURA",null,{"$f":"30/100","v":0.3},null,{"$f":"Infraestructura!G362","v":0}]
[null,"EQUIPAMIENTO",{"$f":"30","v":30},null,{"$f":"Equipamiento!G686*100","v":0},null,null,null,null,"EQUIPAMIENTO",null,{"$f":"30/100","v":0.3},null,{"$f":"Equipamiento!G685","v":0}]
[null,"TALENTO HUMANO",{"$f":"35","v":35},null,{"$f":"TalentoHumano!G165*100","v":0},null,null,null,null,"TALENTO HUMANO",null,{"$f":"35/100","v":0.35},null,{"$f":"TalentoHumano!G164","v":0.35}]
[null,"NORMA TECNICA",{"$f":"5","v":5},null,{"$f":"Norma!I378*100","v":0},null,null,null,null,"NORMA TECNICA",null,{"$f":"5/100","v":0.05},null,{"$f":"Norma!I379","v":0.05}]
[null,"Total",{"$f":"SUM(C47:C50)","v":100},null,{"$f":"E47+E48+E49+E50","v":0},null,null,null,null,"Total",null,{"$f":"SUM(L47:L50)","v":1},null,{"$f":"SUM(N47:N50)","v":0.39999999999999997}]
[]
[]
[null,null,null,null,null,null,null,null,null,"CALIFICACIÓN OBTENIDA"]
[null,null,null,null,null,null,"RESULTADO FINAL % ÍNDICE GLOBAL DE LICENCIAMIENTO",null,null,{"$f":"IF(N42>=85,\"100\",G47+N42)","v":0},{"$f":"IF(J55<70,\"NO LICENCIA\",IF(AND(J55<=84,N26<=0.84),\"Alto Riesgo NO puede funcionar\",IF(AND(J55<=84,N28<=0.84),\"Alto Riesgo NOO puede funcionar\",IF(AND(J55<=84,N30<=0.84),\"Alto Riesgo NOOO puede funcionar\",IF(J55>84,\"SI LICENCIA\",\"LICENCIA CONDICIONADA\")))))","v":"NO LICENCIA"}]

{"sheet":"EG-01","index":10,"n_rows":57,"n_cols":6,"rows_kept":57,"cut":false,"hidden":false,"merged":[[30,1,30,5],[5,1,5,5],[6,1,6,5],[8,4,8,5],[19,1,19,5],[21,4,21,5],[32,4,32,5],[40,1,40,5],[42,4,42,5],[49,1,49,5],[51,4,51,5]]}
[]
[]
[]
[]
[]
[null,"ESTRUCTURA GENERAL"]
[null,"Areas generales no especializadas ( oficinas, salas de espera,reuniones, consultorios - area de entrevistas)"]
[]
[null,"ESTRUCTURA","MATERIALES","ACABADOS","REVISIÓN"]
[null,null,"ESTRUCTURA GENERAL",null,"PUNTOS CRITICOS","PUNTOS NO CRITICOS"]
[null,"PISOS\n","RESISTENTE A TRÁFICO COMERCIAL. \nEjemplo: PLACAS DE PIEDRA NATURAL PULIDA (GRANITO, MARMOL), PORCELANATO, CERÁMICA,  GRANO DE MARMOL FUNDIDO Y PULIDO (MARMETON), PISOS DE MADERA DURA PULIDOS Y LACADOS (TABLON, DUELA, PARQUET, PISO FLOTANTE, ETC), PISO FLOTANTE, VINYL.\n","SUPERFICIES CON TEXTURA UNIFORME, LISA,DE FACIL LIMPIEZA. \n","DEFORMACIONES EVIDENTES, AFLOJAMIENTOS, FALTANTES\nCONTAMINACION EVIDENTE POR HONGOS O SUCIEDAD ACUMULADA.\n","AFLOJAMIENTOS, GRIETAS, EROSIONES MENORES POR DESGASTE DE CIRCULACIÓN\n\n"]
[null,"PAREDES","RESISTENTES, ADECUADOS Y SEGUROS PARA LIMITAR UN AMBIENTE.\nEjemplo: MAMPOSTERIAS VISTAS SELLADAS, MAMPOSTERIAS ENLUCIDAS Y ESTUCADAS, SELLADAS Y PINTADAS. TABLEROS PREFABRICADOS (MADERA AGLOMERADA-CARTON/YESO) EN  SISTEMAS MODULARES CON ESTRUCTURA VISTA/OCULTA, SISTEMAS DE PUNTO FIJO Y VIDRIO TEMPLADO.      ","SUPERFICIES CON TEXTURA UNIFORME, LISA, IMPERMEABLE, DE FACIL LIMPIEZA Y LAVABLE. ","DEFORMACIONES ESTRUCTURALES EVIDENTES, GRIETAS ESTRUCTURALES, CUARTEAMIENTOS, GRANDES DESPRENDIMIENTOS DE RECUBRIMIENTOS.\nHUMEDAD RECURRENTE CON DETERIORO DE PARED Y/O PISO, CONTAMINACION  EVIDENTE POR HONGOS O SUCIEDAD ACUMULADA.","DEFORMACIONES SUPERFICIALES, GRIETAS Y/O CUARTEAMIENTOS NO ESTRUCTURALES, DESPRENDIMIENTOS LIGEROS DE ESTUCADOS.\nHUMEDAD OCASIONAL."]
[null,"CIELOS RASOS","ADECUADOS, SEGUROS Y RESISTENTES. \nTIPO CONTINUO (ENLUCIDOS, CARTON/YESO- GYPSUM BOARD CON ESTRUCTURA METALICA OCULTA) \nTIPO DESMONTABLE  RETICULADO  (ESTRUCTURA METÁLICA VISTA CON PANELES DE FIBRA MINERAL, YESO, ACERO PINTADO O INOXIDABLE).","TEXTURA UNIFORME, COLOR CLARO, PREFERENTEMENTE BLANCO (PINTURA O COLOR NATURAL EN CASO DE ACERO INOXIDABLE O ALUMINIO ANODIZADO).\n\n ","DEFORMACIONES  ESTRUCTURALES EVIDENTES, GRIETAS Y CUARTEAMIENTOS ESTRUCTURALES, DESPRENDIMIENTOS MAYORES, HUMEDAD RECURRENTE, POR  FILTRACIONES Y GOTERAS, CON DETERIORO DE LOS MATERIALES DEL CIELO FALSO. CONTAMINACION  EVIDENTE POR HONGOS O SUCIEDAD ACUMULADA.\n","DEFORMACIONES MENORES, GRIETAS Y CUARTEAMIENTOS NO ESTRUCTURALES, DESPRENDIMIENTOS MENORES, HUMEDAD OCASIONAL, SUCIEDAD SUPERFICIAL. \n"]
[null,"PUERTAS Y VENTANAS","MARCOS DE PUERTAS: MADERA SÓLIDA O PERFILES METÁLICOS.\nHOJA DE PUERTA: MADERA SÓLIDA O TABLEROS DE PARTÍCULAS DE MADERA. VIDRIO DE SEGURIDAD TEMPLADO/LAMINADO, PANELES DE ALUMINIO.\nVENTANAS\nESTRUCTURA: PERFILES DE ALUMINIO/PVC/ACERO INOXIDABLE. \nVIDRIO CON ESPESORES ADECUADOS SEGÚN DISEÑO. \nHERRAJES ADECUADOS A LA FUNCIÓN.","TEXTURA UNIFORME, LISA, IMPERMEABLE, LAVABLE. \n","DEFORMACIONES ESTRUCTURALES EVIDENTES, FISURAS Y ROTURAS ESTRUCTURALES, AUSENCIA PARCIAL O TOTAL, FALLAS ESTRUCTURALES DE FUNCIONAMIENTO EN ACCESORIOS (BISAGRAS, CERRADURAS, SISTEMAS DE CIERRE). CONTAMINACION  EVIDENTE POR HONGOS O SUCIEDAD ACUMULADA.\n \n","PROBLEMAS NO ESTRUCTURALES: DEFORMACIONES LIGERAS, FISURAS, TRIZAMIENTOS, ROTURAS, FALTANTES. CONTAMINACION OCASIONAL \n"]
[]
[]
[]
[]
[]
[null,"Áreas generales  de cuartos de baño y baterias sanitarias \nDeben contar con suficiente ventilación natural (ventanas) o artificial (sistema de extracción mecánica de aire).  "]
[]
[null,"ESTRUCTURA","MATERIALES","ACABADOS","REVISIÓN"]
[null,null,"USO GENERAL",null,"PUNTOS CRITICOS","PUNTOS NO CRITICOS"]
[null,"PISOS\nCon pendientes o caidas adecuadas para un desalojo de agua completo y rápido. ","RESISTENTE A TRÁFICO COMERCIAL. \nEjemplo: PORCELANATO, CERÁMICA,  GRANO DE MARMOL FUNDIDO Y PULIDO (MARMETON), VINYL.\n","SUPERFICIES CON TEXTURA UNIFORME, LISA,LAVABLE Y DE FACIL LIMPIEZA. \nSUMIDEROS SUFICIENTES Y ADECUADOS.","DEFORMACIONES EVIDENTES, AFLOJAMIENTOS, FALTANTES\nCONTAMINACION EVIDENTE POR HONGOS O SUCIEDAD ACUMULADA.\n","AFLOJAMIENTOS, GRIETAS, EROSIONES MENORES POR DESGASTE DE CIRCULACIÓN\n\n"]
[null,"PAREDES","RESISTENTES, ADECUADOS Y SEGUROS PARA LIMITAR UN AMBIENTE.\nEjemplo: MAMPOSTERIAS CON RECUBRIMIENTO DE  CERÁMICA, PORCELANATO, VINYL HASTA UNA ALTURA MÍNIMA DE 1,00 m, EL RESTO DE ALTURA  PUEDE SER ESTUCADA, SELLADA Y PINTADA.  ","SUPERFICIES CON TEXTURA UNIFORME, LISA, IMPERMEABLE, DE FACIL LIMPIEZA Y LAVABLE. ","DEFORMACIONES ESTRUCTURALES EVIDENTES, GRIETAS ESTRUCTURALES, CUARTEAMIENTOS, GRANDES DESPRENDIMIENTOS DE RECUBRIMIENTOS.\nHUMEDAD RECURRENTE CON DETERIORO DE PARED Y/O PISO, CONTAMINACION  EVIDENTE POR HONGOS O SUCIEDAD ACUMULADA.","DEFORMACIONES SUPERFICIALES, GRIETAS Y/O CUARTEAMIENTOS NO ESTRUCTURALES, DESPRENDIMIENTOS LIGEROS DE ESTUCADOS.\nHUMEDAD OCASIONAL."]
[null,"CIELOS RASOS","ADECUADOS, SEGUROS Y RESISTENTES. \nTIPO CONTINUO (ENLUCIDOS, CARTON/YESO- GYPSUM BOARD CON ESTRUCTURA METALICA OCULTA).\nTIPO DESMONTABLE  RETICULADO  (ESTRUCTURA METÁLICA VISTA CON PANELES DE FIBRA MINERAL, YESO, ACERO PINTADO O INOXIDABLE).","TEXTURA UNIFORME, COLOR CLARO, PREFERENTEMENTE BLANCO (PINTURA O COLOR NATURAL EN CASO DE ACERO INOXIDABLE O ALUMINIO ANODIZADO).\n\n ","DEFORMACIONES  ESTRUCTURALES EVIDENTES, GRIETAS Y CUARTEAMIENTOS ESTRUCTURALES, DESPRENDIMIENTOS MAYORES, HUMEDAD RECURRENTE, POR  FILTRACIONES Y GOTERAS, CON DETERIORO DE LOS MATERIALES DEL CIELO FALSO. CONTAMINACION  EVIDENTE POR HONGOS O SUCIEDAD ACUMULADA.\n","DEFORMACIONES MENORES, GRIETAS Y CUARTEAMIENTOS NO ESTRUCTURALES, DESPRENDIMIENTOS MENORES, HUMEDAD OCASIONAL, SUCIEDAD SUPERFICIAL. \n"]
[null,"PUERTAS Y VENTANAS\nIluminación y ventilación debe cumplir con normativa de arquitectura según los espacios.","MARCOS DE PUERTAS: MADERA SÓLIDA O PERFILES METÁLICOS.\nHOJA DE PUERTA: MADERA SÓLIDA O TABLEROS DE PARTÍCULAS DE MADERA. VIDRIO DE SEGURIDAD TEMPLADO/LAMINADO, PANELES DE ACERO Y/O ALUMINIO.\nVENTANAS\nESTRUCTURA: PERFILES DE ALUMINIO/PVC/ACERO INOXIDABLE. \nVIDRIO CON ESPESORES ADECUADOS SEGÚN DISEÑO. \nHERRAJES ADECUADOS A LA FUNCIÓN.","TEXTURA UNIFORME, LISA, IMPERMEABLE Y DE FACIL LIMPIEZA","DEFORMACIONES ESTRUCTURALES EVIDENTES, FISURAS Y ROTURAS ESTRUCTURALES, AUSENCIA PARCIAL O TOTAL, FALLAS ESTRUCTURALES DE FUNCIONAMIENTO EN ACCESORIOS (BISAGRAS, CERRADURAS, SISTEMAS DE CIERRE). CONTAMINACION  EVIDENTE POR HONGOS O SUCIEDAD ACUMULADA.\n \n","PROBLEMAS NO ESTRUCTURALES: DEFORMACIONES LIGERAS, FISURAS, TRIZADURAS, ROTURAS, FALTANTES. CONTAMINACION OCASIONAL \n"]
[null,"PIEZAS SANITARIAS","PORCELANA ESMALTADA/ACERO INOXIDABLE\nGRIFERIA\nBRONCE/ACERO INOXIDABLE/CROMADO","SUPERFICIES CON TEXTURA UNIFORME, LISA, IMPERMEABLE, LAVABLE. \nCOLORES CLAROS, PREFERENTEMENTE BLANCO O NATURAL EN PIEZAS SANITARIAS.\nCOLORES METALICOS/ESMALTADOS EN GRIFERIA ","FALTANTES, DESPORTILLADOS MAYORES, FISURAS ESTRUCTURALES, EROSIONES,\nCONTAMINACION EVIDENTE POR HONGOS O SUCIEDAD ACUMULADA.","SEDIMENTOS, RAYONES, EROSIONES MENORES DEBIDO A DEPOSITOS CALCÁREOS,\n"]
[]
[]
[null,"Áreas especializadas ( Laboratorios, esterilización, salas de procedimientos, Áreas de atención médica )"]
[]
[null,"ESTRUCTURA","MATERIALES","ACABADOS","REVISIÓN"]
[null,null,"USO GENERAL",null,"PUNTOS CRITICOS","PUNTOS NO CRITICOS"]
[null,"PISOS\n","RESISTENTE A TRÁFICO COMERCIAL. \nEjemplo: PORCELANATO, CERÁMICA,  GRANO DE MARMOL FUNDIDO Y PULIDO (MARMETON), VINYL.\nPINTURA EPÓXICA\n","SUPERFICIES CON TEXTURA UNIFORME, LISA,LAVABLE Y DE FACIL LIMPIEZA. \nSUMIDEROS SUFICIENTES Y ADECUADOS.","DEFORMACIONES EVIDENTES, AFLOJAMIENTOS, FALTANTES\nCONTAMINACION EVIDENTE POR HONGOS O SUCIEDAD ACUMULADA.\n","AFLOJAMIENTOS, GRIETAS, EROSIONES MENORES POR DESGASTE DE CIRCULACIÓN\n\n"]
[null,"PAREDES","RESISTENTES, ADECUADOS Y SEGUROS PARA LIMITAR UN AMBIENTE.\nEjemplo: MAMPOSTERIAS CON RECUBRIMIENTO DE  CERÁMICA, PORCELANATO, VINYL HASTA UNA ALTURA MÍNIMA DE 1,20 m, EL RESTO DE ALTURA  PUEDE SER ESTUCADA, SELLADA Y PINTADA.  \nSISTEMAS LIVIANOS PREFABRICADOS  CON TABLEROS SELLADOS CONTRA HUMEDAD.  (MADERA AGLOMERADA-CARTON-YESO)CON ESTRUCTURA VISTA/OCULTA, SISTEMAS DE PUNTO FIJO Y VIDRIO TEMPLADO.","SUPERFICIES CON TEXTURA UNIFORME, LISA, IMPERMEABLE, DE FACIL LIMPIEZA Y LAVABLE. ","DEFORMACIONES ESTRUCTURALES EVIDENTES, GRIETAS ESTRUCTURALES, CUARTEAMIENTOS, GRANDES DESPRENDIMIENTOS DE RECUBRIMIENTOS.\nHUMEDAD RECURRENTE CON DETERIORO DE PARED Y/O PISO, CONTAMINACION  EVIDENTE POR HONGOS O SUCIEDAD ACUMULADA.","DEFORMACIONES SUPERFICIALES, GRIETAS Y/O CUARTEAMIENTOS NO ESTRUCTURALES, DESPRENDIMIENTOS LIGEROS DE ESTUCADOS.\nHUMEDAD OCASIONAL QUE NO PRESENTE HONGOS O SALES MINERALES."]
[null,"CIELOS RASOS","ADECUADOS, SEGUROS Y RESISTENTES. \nTIPO CONTINUO (ENLUCIDOS, CARTON/YESO- GYPSUM BOARD CON ESTRUCTURA METALICA OCULTA).\nTIPO DESMONTABLE  RETICULADO  (ESTRUCTURA METÁLICA VISTA CON PANELES DE FIBRA MINERAL, YESO, ACERO PINTADO O INOXIDABLE).","TEXTURA UNIFORME, COLOR CLARO, PREFERENTEMENTE BLANCO (PINTURA O COLOR NATURAL EN CASO DE ACERO INOXIDABLE O ALUMINIO ANODIZADO).\n\nEN ÁREAS HÚMEDAS DEBE ASEGURARSE ADEMÁS LAS CONDICIONES DE LAVABLE E IMPERMEABLE.\n ","DEFORMACIONES  ESTRUCTURALES EVIDENTES, GRIETAS Y CUARTEAMIENTOS ESTRUCTURALES, DESPRENDIMIENTOS MAYORES, HUMEDAD RECURRENTE, POR  FILTRACIONES Y GOTERAS, CON DETERIORO DE LOS MATERIALES DEL CIELO FALSO. CONTAMINACION  EVIDENTE POR HONGOS O SUCIEDAD ACUMULADA.\n","DEFORMACIONES MENORES, GRIETAS Y CUARTEAMIENTOS NO ESTRUCTURALES, DESPRENDIMIENTOS MENORES, HUMEDAD OCASIONAL, SUCIEDAD SUPERFICIAL. \n"]
[null,"PUERTAS Y VENTANAS\nIluminación y ventilación debe cumplir con normativa de arquitectura según los espacios.","MARCOS DE PUERTAS: MADERA SÓLIDA O PERFILES METÁLICOS.\nHOJA DE PUERTA: MADERA SÓLIDA O TABLEROS DE PARTÍCULAS DE MADERA. VIDRIO DE SEGURIDAD TEMPLADO/LAMINADO, PANELES DE ACERO Y/O ALUMINIO.\nVENTANAS\nESTRUCTURA: PERFILES DE ALUMINIO/PVC/ACERO INOXIDABLE. \nVIDRIO CON ESPESORES ADECUADOS SEGÚN DISEÑO. \nHERRAJES ADECUADOS A LA FUNCIÓN.","TEXTURA UNIFORME, LISA, IMPERMEABLE Y DE FACIL LIMPIEZA","DEFORMACIONES ESTRUCTURALES EVIDENTES, FISURAS Y ROTURAS ESTRUCTURALES, AUSENCIA PARCIAL O TOTAL, FALLAS ESTRUCTURALES DE FUNCIONAMIENTO EN ACCESORIOS (BISAGRAS, CERRADURAS, SISTEMAS DE CIERRE). CONTAMINACION  EVIDENTE POR HONGOS O SUCIEDAD ACUMULADA.\n \n","PROBLEMAS NO ESTRUCTURALES: DEFORMACIONES LIGERAS, FISURAS, TRIZADURAS, ROTURAS, FALTANTES. CONTAMINACION OCASIONAL \n"]
[]
[]
[null,"Areas de servicios generales ( Bodegas, Almacenamiento intermedio y final de desechos)"]
[null,null,null,null,null," "]
[null,"ESTRUCTURA","MATERIALES","ACABADOS","REVISIÓN"]
[null,null,"USO GENERAL",null,"PUNTOS CRITICOS","PUNTOS NO CRITICOS"]
[null,"PISOS\n","RESISTENTE A TRÁFICO COMERCIAL. \nEjemplo: MASILLADO PULIDO CON ENDURECEDOR, RECUBRIMIENTO EPÓXICO, PORCELANATO, VINYL. ","TEXTURA UNIFORME, LISA, IMPERMEABLE, LAVABLE. \nDETALLE DE CONTINUIDAD DE SUPERFICIE PISO - PARED, TIPO CURVA SANITARIA, DESEABLE EN TODOS LOS AMBIENTES, OBLIGATORIO EN ÁREAS CRÍTICAS.","DEFORMACIONES EVIDENTES, AFLOJAMIENTOS, FALTANTES\nCONTAMINACION EVIDENTE POR HONGOS O SUCIEDAD ACUMULADA.\n","AFLOJAMIENTOS, GRIETAS, EROSIONES MENORES POR DESGASTE DE CIRCULACIÓN\n\n"]
[null,"PAREDES","ADECUADOS, SEGUROS Y RESISTENTES  PARA LIMITAR UN AMBIENTE.\nEjemplo: MAMPOSTERIAS VISTAS O ENLUCIDAS Y ESTUCADAS, SELLADAS Y/O PINTADAS, TABLEROS PREFABRICADOS (MADERA AGLOMERADA-CARTON-YESO) EN  SISTEMAS MODULARES CON ESTRUCTURA VISTA/OCULTA.","TEXTURA UNIFORME, LISA, IMPERMEABLE, DE FACIL LIMPIEZA.","DEFORMACIONES ESTRUCTURALES EVIDENTES, GRIETAS ESTRUCTURALES, CUARTEAMIENTOS, GRANDES DESPRENDIMIENTOS DE RECUBRIMIENTOS.\nHUMEDAD RECURRENTE CON DETERIORO DE PARED Y/O PISO, CONTAMINACION  EVIDENTE POR HONGOS O SUCIEDAD ACUMULADA.","DEFORMACIONES SUPERFICIALES, GRIETAS Y/O CUARTEAMIENTOS NO ESTRUCTURALES, DESPRENDIMIENTOS LIGEROS DE ESTUCADOS.\nHUMEDAD OCASIONAL QUE NO PRESENTE HONGOS O SALES MINERALES."]
[null,"CIELOS RASOS","ADECUADOS, SEGUROS Y RESISTENTES. \nCONTINUOS (ENLUCIDOS, CARTON YESO- GYPSUM BOARD CON ESTRUCTURA METALICA OCULTA) O DESMONTABLES  RETICULADOS  (ESTRUCTURA METÁLICA VISTA CON PANELES DE FIBRA MINERAL, YESO, ACERO PINTADO O INOXIDABLE).SI NO HAY CIELOS RASOS LOS AMBIENTES DE BODEGAS DEBEN TENER CONDICIONES PARA EVITAR LA ENTRADA DE POLVO Y VECTORES ANIMALES, ADEMAS DE ASEGURAR CONDICIONES DE TEMPERATURA Y HUMEDAD ADECUADAS. LOS ALMACENAMIENTOS FINALES DE DESECHOS NO TIENEN CIELO RASO","TEXTURA UNIFORME, COLOR CLARO, PREFERENTEMENTE BLANCO (PINTURA O COLORA NATURAL EN CASO DE ACERO INOXIDABLE O ALUMINIO ANODIZADO).\n\n ","DEFORMACIONES  ESTRUCTURALES EVIDENTES, GRIETAS Y CUARTEAMIENTOS ESTRUCTURALES, DESPRENDIMIENTOS MAYORES, HUMEDAD RECURRENTE, POR  FILTRACIONES Y GOTERAS, CON DETERIORO DE LOS MATERIALES DEL CIELO FALSO. CONTAMINACION  EVIDENTE POR HONGOS O SUCIEDAD ACUMULADA.\n","DEFORMACIONES MENORES, GRIETAS Y CUARTEAMIENTOS NO ESTRUCTURALES, DESPRENDIMIENTOS MENORES, HUMEDAD OCASIONAL, SUCIEDAD SUPERFICIAL. \n"]
[null,"PUERTAS Y VENTANAS","MARCOS DE PUERTAS: MADERA SÓLIDA O PERFILES METÁLICOS.\nHOJA DE PUERTA: MADERA SÓLIDA O TABLEROS DE PARTÍCULAS DE MADERA. VIDRIO DE SEGURIDAD TEMPLADO/LAMINADO.\nESTRUCTURA: PERFILES DE ALUMINIO/PVC/ACERO. \nVIDRIO DE SEGURIDAD TEMPLADO/LAMINADO. ESPESORES ADECUADOS SEGÚN DISEÑO. \nHERRAJES ADECUADOS A LA FUNCIÓN.","TEXTURA UNIFORME, LISA, IMPERMEABLE, LAVABLE. \n","DEFORMACIONES ESTRUCTURALES EVIDENTES, FISURAS Y ROTURAS ESTRUCTURALES, AUSENCIA PARCIAL O TOTAL, FALLAS ESTRUCTURALES DE FUNCIONAMIENTO EN ACCESORIOS (BISAGRAS, CERRADURAS, SISTEMAS DE CIERRE). CONTAMINACION  EVIDENTE POR HONGOS O SUCIEDAD ACUMULADA.\n \n","PROBLEMAS NO ESTRUCTURALES: DEFORMACIONES LIGERAS, FISURAS, TRIZADURAS, ROTURAS, FALTANTES. CONTAMINACION OCASIONAL \n"]
[]
[null,"Áreas Especializadas (Áreas donde se emita radiación)"]
[]
[null,"ESTRUCTURA","MATERIALES","ACABADOS","REVISIÓN"]
[null,null,null,null,"PUNTOS CRITICOS","PUNTOS NO CRITICOS"]
[null,"PISOS","RESISTENTE A TRÁFICO PESADO. \nEjemplo: VINYL, PLACAS DE PIEDRA NATURAL PULIDA (GRANITO, MARMOL), PORCELANATO, CERÁMICA,  GRANO DE MARMOL FUNDIDO Y PULIDO (MARMETON). ","TEXTURA UNIFORME, LISA, IMPERMEABLE, LAVABLE. DETALLE DE CONTINUIDAD DE SUPERFICIE PISO - PARED, TIPO CURVA SANITARIA, DESEABLE EN TODOS LOS AMBIENTES.","DEFORMACIONES EVIDENTES, AFLOJAMIENTOS, GRIETAS, EROSIONES, FALTANTES\nCONTAMINACION EVIDENTE POR HONGOS O SUCIEDAD ACUMULADA.\n","AFLOJAMIENTOS, GRIETAS, EROSIONES MENORES POR DESGASTE DE CIRCULACIÓN\n\n"]
[null,"PAREDES","ADECUADOS, SEGUROS Y RESISTENTES  PARA EVITAR LA PROPAGACIÓN DE RADIACIONES EMITIDAS POR LOS EQUIPOS.\nHORMIGÓN ARMADO DE ALTA RESISTENCIA Y MAMPOSTERIAS, CON UN ESPESOR DE PARED CALCULADO SEGÙN LA CANTIDAD DE RADIACIÓN EMITIDA EN EL AMBIENTE.\nMAMPOSTERÍA LIVIANA O TABLEROS PREFABRICADOS RECUBIERTOS DE LÀMINAS DE PLOMO DE ESPESOR (min 2mm) DETERMINADO SEGÚN CÁLCULOS TÉCNICOS RELACIONADOS CON LA RADIACION EMITIDA.  \nEjemplo: LADRILLO, (Espesor>30cm), HORMIGÓN (Espesor>20cm), TERMINADO SUPERFICIAL ENLUCIDO/ ESTUCADO/PINTURA","TEXTURA UNIFORME PREFERENTEMENTE LISA, IMPERMEABLE, LAVABLE.\n","DEFORMACIONES EVIDENTES, GRIETAS, CUARTEAMIENTOS, DESPRENDIMIENTOS.\nHUMEDAD, CONTAMINACION  EVIDENTE POR HONGOS O SUCIEDAD ACUMULADA.\nVERIFICAR POSIBLES FUGAS DE RADIACIONES","DEFORMACIONES SUPERFICIALES, GRIETAS Y/O CUARTEAMIENTOS NO ESTRUCTURALES, DESPRENDIMIENTOS LIGEROS DE ESTUCADOS.\nHUMEDAD OCASIONAL QUE NO PRESENTE HONGOS O SALES MINERALES."]
[null,"CIELOS RASOS","ADECUADOS, SEGUROS Y RESISTENTES.\nCONTINUOS (ENLUCIDOS, CARTON YESO- GYPSUM BOARD (CON LÁMINAS DE PLOMO DE ESPESOR DETERMINADO SEGÚN CÁLCULOS TÉCNICOS RELACIONADOS CON LA RADIACION EMITIDA) SOBRE ESTRUCTURA METALICA OCULTA O DESMONTABLES  RETICULADOS  (ESTRUCTURA METÁLICA VISTA CON PANELES DE FIBRA MINERAL). LA CUBIERTA DEL ESPACIO DEBE SER DE HORMIGÓN ARMADO CON ESPESOR ADECUADO PARA EVITAR EL PASO DE RADIACIONES.\nRECUBIERTOS DE LÀMINAS DE PLOMO DE ESPESOR DETERMINADO SEGÚN CÁLCULOS TÉCNICOS RELACIONADOS CON LA RADIACIÓN EMITIDA.","TEXTURA UNIFORME, COLOR CLARO, PREFERENTEMENTE BLANCO. \n ","DEFORMACIONES EVIDENTES, GRIETAS, CUARTEAMIENTOS, DESPRENDIMIENTOS, HUMEDAD POR FILTRACIONES, GOTERAS, CONTAMINACION  EVIDENTE POR HONGOS O SUCIEDAD ACUMULADA.\n","DEFORMACIONES MENORES, GRIETAS Y CUARTEAMIENTOS NO ESTRUCTURALES, DESPRENDIMIENTOS MENORES, HUMEDAD OCASIONAL, SUCIEDAD SUPERFICIAL. \n"]
[null,"PUERTAS Y VENTANAS","PUERTAS DE MADERA TRATADA MACIZA CON AISLAMIENTO DE LÁMINA DE PLOMO DE 3MM EN FORMA DE REVESTIMIENTO O EMBUTIDAS EN FORMA DE SANDUCHE ENTRE TABLEROS DE MADERA.\nACCESORIOS PARA USO PESADO, MARCO METÁLICO PREFORMADO RELLENO DE HORMIGÓN.\nVIDRIO EMPLOMADO SIN MARCO EXTERIOR, FIJACIÓN DIRECTA A LA MAMPOSTERÍA. \nNO SE RECOMIENDAN VENTANAS HACIA EL EXTERIOR\n","TEXTURA UNIFORME, LISA, IMPERMEABLE, LAVABLE. \n","DEFORMACIONES EVIDENTES,FISURAS, ROTURAS, FALLAS DE FUNCIONAMIENTO EN LA PUERTA Y LOS ACCESORIOS (BISAGRAS, CERRADURAS, SISTEMAS DE CIERRE AUTOMÁTICO). CONTAMINACION  EVIDENTE POR HONGOS O SUCIEDAD ACUMULADA.\n","PROBLEMAS NO ESTRUCTURALES: DEFORMACIONES LIGERAS, FISURAS, TRIZADURAS, ROTURAS, FALTANTES. CONTAMINACION OCASIONAL \n"]

{"sheet":"IG-01","index":11,"n_rows":17,"n_cols":5,"rows_kept":17,"cut":false,"hidden":false,"merged":[[4,0,4,4],[6,3,6,4],[8,0,9,0],[8,1,9,1]]}
[]
[]
[]
[]
["INSTALACIONES GENERALES ( ANEXO Nº IG_01)"]
[]
["INSTALACIONES","MATERIALES","ACABADOS","REVISION"]
[null,"ESTRUCTURA GENERAL","ACCESORIOS FINALES","PUNTOS CRITICOS","PUNTOS NO CRITICOS"]
["ELECTRICAS \n(ILUMINACIÓN Y FUERZA)\n CIRCUITOS DIFERENCIADOS PROTEGIDOS CON INTERRUPTORES TERMOMAGNÉTICOS COLOCADOS EN LOS TABLEROS CORRESPONDIENTES Y ROTULADOS E IDENTIFICADOS CLARAMENTE    ","CONDUCTORES DE COBRE CON RECUBRIMIENTO TERMOPLÁSTICO RESISTENTE\nCALIBRE No.14 PARA ILUMINACION \nCALIBRE No.14- 12 - 10 PARA FUERZA (TOMACORRIENTES)\n\n","LAMPARAS FIJAS O SUSPENDIDAS\nALTURA DE INTERRUPTORES hmin= 1,20 cm\n","LUMINARIAS FALTANTES, QUEMADAS O DE DEFICIENTE FUNCIONAMIENTO.\n","AFLOJAMIENTO DE CONTACTOS\nCONTAMINACION POR ACUMULACION DE SUCIEDAD (POLVO-GRASAS)"]
[null,null,"PLACAS DE TOMACORRIENTES  EN PARED h= 40 cm/h=1,20 m (sobre mesón). \nEN PISO PARA CONEXION DIRECTA DEL SILLÓN. \n","PIEZAS FALTANTES / DAÑADAS POR CORTOCIRCUITOS, CABLES DESCUBIERTOS, \nAFLOJAMIENTO DE CONTACTOS\n"," ROTURAS DE PLACAS, CABLES DESCUBIERTOS, \nAFLOJAMIENTO DE CONTACTOS\nCONTAMINACION POR ACUMULACION DE SUCIEDAD (POLVO-GRASAS)"]
["HIDRAULICAS "," TUBERIA  PVC-HIERRO GALVANIZADO-ACERO INOXIDABLE","LLAVES METÁLICAS  DE CIERRE HERMÉTICO","FALTANTES","AFLOJAMIENTOS, FILTRACIONES,\nCONTAMINACION EVIDENTE POR HONGOS O SARRO"]
["SANITARIAS","TUBERÍA PVC","UNIONES SELLADAS","FALTANTES","REFLUJO, TAPONAMIENTOS\nCONTAMINACION  EVIDENTE POR HONGOS "]
["AIRE ACONDICIONADO/VENTILACION CENTRAL \n(si es que aplica)","DUCTOS METALICOS GALVANIZADOS O DE PVC ","UNIONES SELLADAS,  DUCTOS AISLADOS, ","FALTANTES, TAPONAMIENTOS DE DUCTOS O FILTROS, ROTURAS","DETERIORO POR HUMEDAD, CONTAMINACION EVIDENTE POR HONGOS\n"]
["AIRE ACONDICIONADO/VENTILACIÓN INDIVIDUAL PARA CADA LOCAL \n(si es que aplica)","DUCTOS METALICOS O DE PVC, DESAGUES","UNIONES SELLADAS","FALTANTES, TAPONAMIENTOS DE DUCTOS O FILTROS, ROTURAS","DETERIORO POR HUMEDAD, CONTAMINACION EVIDENTE POR HONGOS\n"]
["AGUA CALIENTE\nPUEDE SER PROVISTA POR SISTEMAS CENTRALIZADOS (CALDEROS) O LOCALIZADOS (CALEFONES-CALENTADORES) ELÉCTRICOS, SOLARES, A GAS, DIESEL,  (Si es que aplica) ","TUBERIAS METALICAS/PVC DE PRESIÓN","UNIONES  SOLDADAS/SELLADAS","FALTANTES, FUGAS","AFLOJAMIENTOS, FILTRACIONES,\nCONTAMINACION DE LOS SISTEMAS DE TUBERÍAS Y LOS ACCESORIOS"]
["REDES DE COMUNICACIÓN (CONEXIONES TELEFÓNICAS E INTERNET)","CABLEADO MULTIPAR, ACCESORIOS ESPECÍFICOS","PUNTOS DE SALIDA EN BUEN ESTADO Y ACCESORIOS ADECUADOS. PLACAS Y CONECTORES ESPECÍFICOS, ROUTERS Y/O MODEMS, SWITCHS TARJETAS CABLEADAS Y /O INALAMBRICAS","FALTANTES,  FUNCIONALIDAD Y ACCESO  EXISTENTE A INTERNET. ","DETERIORO DE PIEZAS "]
["UPS\n(Si es que existe)","EQUIPO ELECTRÓNICO UNIDAD DE PODER","DESEABLE PARA TODOS LOS EQUIPOS ELECTRÓNICOS SENSIBLES Y QUE NO PUEDEN DEJAR DE FUNCIONAR SÚBITAMENTE. SI EL FABRICANTE O LA NECESIDAD FUNCIONAL LO EXIGEN PASA A SER REQUERIDO.","CONEXIONES FLOJAS , CABLES  O UNIONES MAL EJECUTADAS Y SIN PROTECCIÓN (AISLANTE)","DETERIORO DE PIEZAS "]

{"sheet":"EQ_01","index":12,"n_rows":15,"n_cols":4,"rows_kept":15,"cut":false,"hidden":false,"merged":[[0,1,0,2],[8,1,8,3],[5,1,5,3]]}
[]
[null,null," "]
[]
[]
[]
[null,"STOCK DE INSUMOS  ADMINISTRATIVOS"]
[]
[]
[null,"INSUMOS DE CADA STOCK"]
[null,"DESCRIPCION","NUMERO","Observaciones "]
[]
[null,"CALCULADORA",1,"Este items se sustituye si cuenta con la computadora "]
[null,"GRAPADORA ",1]
[null,"PERFORADORA",1]
[null,"SACAGRAPAS",1]

{"sheet":"EQ_02","index":13,"n_rows":18,"n_cols":3,"rows_kept":18,"cut":false,"hidden":false,"merged":[[8,1,8,2],[16,1,16,3],[17,1,17,3]]}
[]
[]
[]
[]
[]
[]
[]
[]
[null,"ELEMENTOS DE CADA EQUIPO"]
[null,"DESCRIPCION","NUMERO"]
[]
[null,"*CPU",1]
[null,"*MONITOR",1]
[null,"TECLADO Y MOUSE",1]
[null,"**IMPRESORA","condición"]
[]
[null,"* Monitor con CPU incorporado sustituye a Items anteriores"]
[null,"** La impresora es una Condición si se encuentra compartida en red y se solicitará solo en los ambientes administrativos y en el Servicio de Farmacia"]

{"sheet":"EQ_03","index":14,"n_rows":13,"n_cols":4,"rows_kept":13,"cut":false,"hidden":false,"merged":[[6,1,6,3],[8,1,8,3]]}
[]
[]
[]
[]
[]
[]
[null,"SISTEMA AUDIOVISUAL DE INFORMACION"]
[]
[null,"ELEMENTOS DE CADA UNO DE LOS EQUIPOS"]
[null,"DESCRIPCION","NUMERO","OBSERVACIONES"]
[]
[null,"PANTALLA DE TV",1]
[null,"DVD","CONDICIÓN","SE SUSTITUYE CUANDO TIENE INCORPORADO WIFI, EN RED (INTERNET) "]

{"sheet":"EQ_05","index":15,"n_rows":17,"n_cols":3,"rows_kept":17,"cut":false,"hidden":false,"merged":[[7,1,7,2]]}
[]
[]
[]
[]
[]
[null,"STOCK DE INSUMOS DE ASEO"]
[]
[null,"INSUMOS DE CADA STOCK"]
[null,"DESCRIPCION","NUMERO"]
[]
[null,"ESCOBAS","CN"]
[null,"TRAPEADORES","CN"]
[null,"LIMPIONES","CN"]
[null,"CEPILLOS ","CN"]
[null,"DETERGENTE/JABON","CN"]
[null,"DESINFECTANTES","CN"]
[null,"CN: CANTIDAD NECESARIA"]

{"sheet":"EQ_07","index":16,"n_rows":17,"n_cols":3,"rows_kept":17,"cut":false,"hidden":false,"merged":[[8,1,8,2],[5,1,6,2],[16,1,16,2]]}
[]
[]
[]
[]
[]
[null,"SET PARA MANEJO DE DESECHOS PELIGROSOS Y NO PELIGROSOS"]
[]
[]
[null,"ELEMENTOS DE CADA SET"]
[null,"DESCRIPCION","NUMERO"]
[]
[null,"RECIPIENTE PARA DESECHOS PELIGROSOS  INFECCIOSOS","CN"]
[null,"RECIPIENTE PARA DESECHOS PELIGROSOS (QUÍMICOS/FARMACÉUTICOS/RADIACTIVOS) DEPENDERÁ DEL ÁREA FUNCIONAL QUE GESTIONE ESTE TIPO DE RESIDUOS","CONDICIÓN"]
[null,"RECIPIENTE PARA DESECHOS NO PELIGROSOS - COMUNES",1]
[null,"RECIPIENTE PARA DESECHOS PELIGROSOS - CORTOPUNZANTES ","CONDICIÓN"]
[null,"CN: Cantidad Necesaria"]
[null,"LA CANTIDAD, TIPO Y CARACTERISTICAS DEPENDEN DE LO ESTABLECIDO EN EL  REGLAMENTO INTERMINISTERIAL DE GESTION INTEGRAL DE DESECHOS SANITARIOS N° 00005186 "]

{"sheet":"EQ_08","index":17,"n_rows":18,"n_cols":3,"rows_kept":18,"cut":false,"hidden":false,"merged":[[5,1,5,2],[7,1,7,2]]}
[]
[]
[]
[]
[]
[null,"INSTRUMENTAL DE COCHE DE CURACIONES"]
[]
[null,"INSTRUMENTAL DE CADA MESA"]
[null,"DESCRIPCION","NUMERO"]
[]
[null,"FRASCOS DE ANTISEPTICOS IDENTIFICADOS Y ROTULADOS",3]
[null,"PORTA TERMOMETROS",1]
[null,"SEMILUNAS",1]
[null,"TAMBOR PARA GASA ",1]
[null,"TERMOMETROS","CN"]
[null,"TORUNDERO",1]
[]
[null,"CN: CANTIDAD NECESARIA"]

{"sheet":"EQ_09","index":18,"n_rows":59,"n_cols":9,"rows_kept":59,"cut":false,"hidden":false,"merged":[[43,1,43,8],[4,1,4,2],[6,1,6,2],[8,1,8,2],[10,1,10,2],[41,1,41,2],[42,1,42,8]]}
[]
[]
[]
[]
[null,"SE SOLICITARÁ EL REGISTRO DE LOS DISPOSITIVOS MEDICOS Y MEDICAMENTOS DE ACUERDO A LA GESTION DEL ÁREA FUNCIONAL DE ASISTENCIAL Y SEGÚN PERFIL EPIDEMIOLOGICO DEL ESTABLECIMIENTO DE SALUD "]
[]
[null,"COCHE DE PARO Y REANIMACIÓN ADULTO, PEDIATRICO Y NEONATAL"]
[]
[null,"ESPECIFICACIONES PARA CADA COCHE DE PARO"]
[null,"DESCRIPCION","NUMERO"]
[null,"VIA RESPIRATORIA"]
[null,"Kit =BOLSA DE REANIMACIÓN  ADULTOS,PEDIATRICO Y NEONATAL CON JUEGO DE MASCARILLAS",1]
[null,"SET LARINGOSCOPIO HOJAS RECTAS PEDIÁTRICO Y NEONATAL",1]
[null,"SET LARINGOSCOPIO HOJAS CURVAS ADULTO Y PEDIÁTRICO",1]
[null," JUEGO CANULAS DE GUEDEL 20  HASTA 60  PEDIATRICO",1]
[null,"JUEGO CANULAS DE GUEDEL 60 HASTA 120 ADULTO",1]
[null,"TUBOS ENDOTRAQUEALES 2.0 HASTA 4.0 SIN BAG NEONATAL","3 DE CADA NUMERO"]
[null,"TUBOS ENDOTRAQUEALES  4.0 HASTA 6.5 CON BAG PEDIATRICO","3 DE CADA NUMERO"]
[null,"TUBOS ENDOTRAQUEALES  5.0 HASTA 8.5 CON BAG ADULTO","3 DE CADA NUMERO"]
[null,"FIJADORES DE TUBO ENDOTRAQUEAL NEO,PEDIA Y ADULTO",3]
[null,"TUBO TORACICO 14 HASTA EL 32  ADULTO Y PEDIATRICO ","2 DE CADA NUMERO"]
[null,"JUEGO MASCARILLA LARINGEA PEDIATRICO Y ADULTO NO DESCARTABLE",2]
[null,"JUEGO CONDUCTORES DE VÍA AEREA/GUIAS DE ENTUBACIÓN 6,8 HASTA 12 PEDIATRICO / ADULTO 12 Y 14",1]
[null,"SONDAS DE SUCCIÓN PEDIATRICAS Y ADULTOS 8 HASTA 16","3 DE CADA NUMERO"]
[null,"SONDAS DE SUCCIÓN NEONATOLOGIA 4,5,6,7,8","3 DE CADA NUMERO"]
[null,"CATETER INTRAVENOSO PERIFERICO(CATLON) 14 A 16  ACCESO VASCULAR ","2 POR CADA COCHE"]
[null,"SONDAS NASOGASTRICAS 4 HASTA 10 NEONATOLOGIA","3 DE CADA NUMERO"]
[null,"SONDAS NASOGASTRICAS ADULTO Y PEDIATRICO DESDE LA 10 HASTA LA 20","3 DE CADA NUMERO"]
[null,"CATETER INTRAVENOSO PERIFERICO(CATLON) 18,20,22,24 ADULTOS Y PEDIATRICO","5 DE CADA NUMERO"]
[null,"CATETER INTRAVENOSO PERIFERICO(CATLON) 18,20,22,24, 26 Y 28NEONATOLOGIA","5 DE CADA NUMERO"]
[null,"AGUJAS INTRAOSEAS CANTIDAD 2","DESEABLE"]
[null,"PERILLA DE SUCCIÓN PARA NEONATOLOGIA",1]
[null,"TRAMPA DE LEE PARA NEONATOLOGIA",1]
[null,"JERINGUILLAS 1,3,5,10CC","5 DE CADA NUMERO"]
[null,"LLAVES DE TRES VIAS",2]
[null,"GUANTES ESTERILES 6,6.5,7.5,8.5","5 DE CADA NUMERO"]
[null,"CAJA GUANTES DE MANEJO ",1]
[null,"ESPARADRAPO",1]
[null,"TIJERA LISTER/BOTON(ANGULADA) PARA CORTAR LA ROPA",1]
[null,"EQUIPO DE PROTECCIÓN UNIVERSAL(BATA, GORRA, MASCARILLA  Y GAFAS)",1]
[null,"MEDICAMENTOS E INSUMOS NECESARIOS"]
[]
[null,"MEDICAMENTOS PARA COCHE DE PARO Y REANIMACIÓN POLIVALENTE"]
[]
[null,"ITEM","CODIGO ATC","DESCRIPCIÓN","FORMA FARMACÉUTICA","CONCENTRACIÓN","NIVEL DE ATENCIÓN","CANTIDAD (unidades)","NEONATOS/RECIEN NACIDOS-CANTIDAD (unidades)"]
[null,5,"A03BA01","Atropina","Líquido parenteral","1 mg/mL","I",5,"N/A"]
[null,6,"B05XA02","Bicarbonato de sodio","Líquido parenteral","1 mEq/mL (8,4%)","I",15,2]
[null,7,"A12AA03","Calcio gluconato","Líquido parenteral","10 %","I",2,2]
[null,9,"B05BA03","Carbohidratos (Dextrosa en agua)","Líquido parenteral",0.05,"I",1,1]
[null,10,"B05CB01","Cloruro de sodio","Líquido parenteral","0.9 %","I",1,1]
[null,11,"N05BA01","Diazepam","Líquido parenteral","5 mg/mL","I",10,"N/A"]
[null,12,"C01CA24","Epinefrina (adrenalina)","Líquido parenteral","1 mg/mL","I",10,4]
[null,14,"N03AA02","Fenobarbital","Líquido parenteral","60 mg/mL","I",5,2]
[null,15,"N01AH01","Fentanilo","Líquido parenteral","0,5 mg/10 mL",null,2,2]
[null,16,"V03AB25","Flumazenil","Líquido parenteral","0.1 mg/mL","I",2,"N/A"]
[null,17,"N01BB02","Lidocaína (sin epinefrina)","Líquido parenteral *","2 %","I",1,"N/A"]
[null,18,"N01BB52","Lidocaína con epinefrina","Líquido parenteral *","2 % + 1:200.000","I",1,"N/A"]
[null,22,"V03AB15","Naloxona","Líquido parenteral","0.4 mg/mL","I",2,2]
[null,25,"B05XA05","Sulfato de magnesio","Líquido parenteral",0.2,"I",24,"N/A"]

{"sheet":"EQ_10","index":19,"n_rows":15,"n_cols":3,"rows_kept":15,"cut":false,"hidden":false,"merged":[[8,1,8,2],[15,1,15,2],[16,1,16,2]]}
[]
[]
[]
[]
[]
[]
[null,"SET DE DIAGNOSTICO "]
[]
[null,"ESPECIFICACIONES DE CADA EQUIPO"]
[null,"DESCRIPCION","NUMERO"]
[]
[null,"ESPEJO LARINGEO",1]
[null,"OFTALMOSCOPIO",1]
[null,"OTOSCOPIO",1]
[null,"ESTUCHE ","CONDICIÓN"]

{"sheet":"EQ_23","index":20,"n_rows":33,"n_cols":3,"rows_kept":33,"cut":false,"hidden":false,"merged":[[6,1,6,2],[9,1,9,2]]}
[]
[]
[]
[]
[]
[]
[null,"EQUIPO DE CIRUGÍA PARA ACCESOS VASCULARES"]
[]
[]
[null,"INSTRUMENTAL DE CADA PAQUETE"]
[null,"DESCRIPCION","NUMERO"]
[]
[null,"CONTENEDOR",1]
[null,"PINZA DE CAMPO",6]
[null,"MANGO DE BISTURÍ N°3",1]
[null,"PINZA ADSON ANATÓMICA 12 CM",1]
[null,"PINZA ADSON QUIRÚRGICA 12 CM",1]
[null,"GANCHO JOSEPH PARA PIEL, DOBLE AGUDO 16 CM",1]
[null,"GANCHO FRAZZIER PARA PIEL SENCILLO Y CON GARFIO",1]
[null,"SEPARADOR SENN PUNTA ROMA 17 CM",1]
[null,"TIJERA IRIS CURVAS 11 CM",1]
[null,"TIJERA WESTCOTT PUNTAS AGUDAS 11 CM",1]
[null,"TIJERA ROMO-AGUDA RECTA 14.5 CM",1]
[null,"PINZA DE RELOJERO RECTA 12 CM",1]
[null,"PINZA ANATÓMICA 11.5 CM",1]
[null,"CÁNULA PARA SUCCIÓN FRAZZIER No. 6 19 CM",1]
[null,"PORTA AGUJAS CASTROVIEJO CURVO 14 CM",1]
[null,"PORTA AGUJAS HALSEY PARA PLASTIA 13 CM",1]
[null,"PINZA BABY-MOSQUITO (HARTMAN) CURVA 10 CM",2]
[null,"PINZA MOSQUITO CURVA 12.5 CM",2]
[null,"PINZA MOSQUITO RECTA 12.5 CM",2]
[null,"TIJERA IRIS RECTA 11 CM",4]
[null,"PINZA DE DISECCIÓN DE BAKEY ",1]

{"sheet":"EQ_30","index":21,"n_rows":30,"n_cols":3,"rows_kept":30,"cut":false,"hidden":false,"merged":[[8,1,8,2],[5,1,5,2]]}
[]
[]
[]
[]
[]
[null,"EQUIPO DE CIRUGÍA GENERAL - CIRUGÍA MAYOR"]
[]
[]
[null,"ESPECIFICACIONES"]
[null,"DESCRIPCIÓN","NÚMERO"]
[]
[null,"CONTENEDOR/BANDEJA/CHAROL ",1]
[null,"PINZAS ANATÓMICAS (1 GRANDE Y 1 MEDIANA)",2]
[null,"PINZAS QUIRÚRGICAS (1 GRANDE Y 1 MEDIANA)",2]
[null,"MANGOS DE BISTURÍ Nº3 Y Nº4",2]
[null,"PICO DE SUCCIÓN   ",1]
[null,"SEPARADORES DE FARABEUF",2]
[null,"PINZAS ARO ( 2 RECTA, 2 CURVAS )",4]
[null,"PINZAS KOCHER RECTAS",2]
[null,"PINZAS KOCHER CURVAS",2]
[null,"PINZAS BABCOCK",2]
[null,"PINZAS ALLYS",4]
[null,"PORTA AGUJAS (1 GRANDE Y 1 PEQUEÑO)",2]
[null,"TIJERAS METZENBAUM CURVA (1 GRANDE Y 1 MEDIANA)",2]
[null,"TIJERAS MAYO RECTAS (1 MEDIANA Y 1 PEQUEÑA)",2]
[null,"PINZAS HEMOSTÁTICAS (MOSQUITO O KELLY) RECTAS MEDIANAS",2]
[null,"PINZAS HEMOSTÁTICAS (MOSQUITO O KELLY) CURVAS MEDIANAS ",4]
[null,"PINZAS HEMOSTÁTICAS (MOSQUITO O KELLY) CURVAS PEQUEÑAS ",4]
[null,"PINZAS DE CAMPO",6]
[null,"TOTAL INSTRUMENTAL:",{"$f":"SUM(C12:C29)","v":46}]

{"sheet":"EQ_44","index":22,"n_rows":29,"n_cols":3,"rows_kept":29,"cut":false,"hidden":false,"merged":[[4,1,4,2],[6,1,6,2],[20,1,20,2]]}
[]
[]
[]
[]
[null,"STOCK DE REACTIVOS DE LABORATORIO"]
[]
[null,"ELEMENTOS DE CADA STOCK"]
[null,"DESCRIPCION","NUMERO"]
[]
[null,"SEROLOGIA, AGLUTINACIONES, ASTO, PCR, LATEX, VDRL"]
[null,"BIOQUIMICA SANGUINEA"]
[null,"PRUEBAS INMUNOLOGICAS (VIH, HBSag, BHCG cualitativa)"]
[null,"PRUEBAS HORMONALES"]
[null,"ELECTROLITOS "]
[null,"GASES ARTERIALES"]
[null,"BACTERIOLOGIA"]
[null,"HEMATOLOGIA BASICA"]
[null,"UROANALISIS"]
[null,"ROTAVIRUS Y SANGRE OCULTA"]
[]
[null,"DETERMINACIONES"]
[null,"GLUCOSA, UREA, CREATININA"]
[null,"PROTEINAS TOTALES, ALBUMINA, GLOBULINAS"]
[null,"COLESTEROL TOTAL, COLESTEROL HDL, COLESTEROL LDL"]
[null,"ACIDO URICO, TRIGLICERIDOS, BILIRRUBINAS, TRANSAMINASAS"]
[null,"BIOMETRIA HEMATICA"]
[null,"PLAQUETAS, RETICULOCITOS"]
[null,"TIPIFICACION SANGUINEA "]
[null,"HEMATOZOARIO"]